{"text_format":"1","workbook":"xlsx","n_sheets":5,"sheets":["PREENCHER","Média 1º, 2º e 3º","Média 2º, 3º e 4º","Média 3º, 4º e 5º","Média 4º, 5º e 6º"],"not_rendered":{"charts":0,"images":0,"macros":1,"external_links":0,"defined_names":7,"comments":0,"pivot_tables":0},"unopened":[],"bounds":{"document_bytes":16777216,"sheet_cells":100000,"rows_first":2000,"rows_last":500,"rows_between":2000,"halvings":0,"cell_chars":16384,"cell_head_chars":4096},"cells_cut":0,"cells_raw":0,"read":"whole","date_system":"1900"}

{"sheet":"PREENCHER","index":0,"n_rows":71,"n_cols":63,"rows_kept":71,"cut":false,"hidden":false,"merged":[[3,0,3,27],[4,0,4,18],[4,20,5,27],[5,0,6,0],[5,1,6,1],[5,2,6,2],[5,3,6,3],[5,4,5,13],[5,14,5,15],[5,16,5,17],[5,18,6,18],[5,31,5,40],[5,42,5,51],[5,53,5,54],[5,58,5,62],[6,58,6,60],[6,61,6,62],[67,0,67,13],[67,14,67,15],[67,16,67,17],[69,0,69,18],[70,0,70,18]]}
[]
[]
[]
["ANEXO III – PLANILHA DE ANÁLISE DE PREÇOS – MÉDIA COMPARATIVA"]
["PREÇOS COMPARATIVOS",null,null,null,null,null,null,null,null,null,null,null,null,null,null,null,null,null,null,null,"ANÁLISE ESTATÍSTICA"]
["ITEM","ESPECIFICAÇÃO","UN","QTDE","VALORES UNITÁRIOS PESQUISADOS (R$)",null,null,null,null,null,null,null,null,null,"MÉDIA DOS VALORES PESQUISADOS (R$)",null,"VALOR CONTRATADO PELA SJMG/TRF6 (R$)",null,"OBSERVAÇÃO",null,null,null,null,null,null,null,null,null,null,null,null,"MENORES PREÇOS",null,null,null,null,null,null,null,null,null,null,"PREÇOS FORMATADO PARA TEXTO",null,null,null,null,null,null,null,null,null,null,"MÉDIA A SER UTILIZADA",null,null,null,null,"OBSERVAÇÕES"]
[null,null,null,null,"PESQUISA 1","PESQUISA 2","PESQUISA 3","PESQUISA 3","PESQUISA 5","PESQUISA 6","PESQUISA 7","PESQUISA 8","PESQUISA 9","PESQUISA 10","UNITÁRIO","TOTAL","UNITÁRIO","TOTAL",null,null,"NÚMERO DE COTAÇÕES AVALIADAS","NÚMERO DE COTAÇÕES UTILIZADAS","MENOR VALOR CONSIDERADO","MAIOR VALOR CONSIDERADO","MÉDIA","MEDIANA","DESVIO PADRÃO","COEFICIENTE DE VARIAÇÃO",null,null,null,"1º","2º","3º","4º","5º","6º","MÉDIA DO 1º, 2º E 3º","MÉDIA DO 2º, 3º E 4º","MÉDIA DO 3º, 4º E 5º","MÉDIA DO 4º, 5º E 6º",null,"PREÇO 1","PREÇO 2","PREÇO 3","PREÇO 4","PREÇO 5","PREÇO 6","PREÇO 7","PREÇO 8","PREÇO 9","PREÇO 10",null,"SEM ARRED","COM ARRED",null,"OBSERVAÇÃO",null,"MENOS DE TRÊS PREÇOS COMPARATIVOS VÁLIDOS",null,null,"PREÇO CONTRATADO É SUPERIOR AO PESQUISADO"]
[1,"PÃO DE QUEIJO CONGELADO","QUILO",462,22.82,19,null,41.65,null,null,null,null,null,null,{"$f":"IF(ISERROR(ROUND(AVERAGE(E8:N8),2)),\"\",ROUND(AVERAGE(E8:N8),2))","v":27.82},{"$f":"IF(ISERROR(ROUND(O8*D8,2)),\"\",ROUND(O8*D8,2))","v":12852.84},null,{"$f":"IF(A8=\"\",\"\",ROUND(Q8*D8,2))","v":0},"Com relação a pesquisa 1 e 3 o valor foi proporcional a 1 kg.",null,{"$f":"IF(ISERROR(COUNTA(E8:N8)),\"\",COUNTA(E8:N8))","v":3},{"$f":"IF(ISERROR(COUNT(E8:N8)),\"\",COUNT(E8:N8))","v":3},{"$f":"IF(ISERROR(MIN(E8:N8)),\"\",MIN(E8:N8))","v":19},{"$f":"IF(ISERROR(MAX(E8:N8)),\"\",MAX(E8:N8))","v":41.65},{"$f":"IF(ISERROR(ROUND(AVERAGE(E8:N8),2)),\"\",ROUND(AVERAGE(E8:N8),2))","v":27.82},{"$f":"IF(ISERROR(MEDIAN(E8:N8)),\"\",MEDIAN(E8:N8))","v":22.82},{"$f":"IF(ISERROR(STDEV(E8:N8)),\"\",STDEV(E8:N8))","v":12.1256188845491},{"$f":"IF(ISERROR(AA8/Y8),\"\",AA8/Y8)","v":0.435859772988824},null,null,null,{"$f":"IF(COUNT(E8:N8)<1,\"\",SMALL(E8:N8,1))","v":19},{"$f":"IF(COUNT(E8:N8)<2,\"\",SMALL(E8:N8,2))","v":22.82},{"$f":"IF(COUNT(E8:N8)<3,\"\",SMALL(E8:N8,3))","v":41.65},{"$f":"IF(COUNT(E8:N8)<4,\"\",SMALL(E8:N8,4))","v":""},{"$f":"IF(COUNT(E8:N8)<5,\"\",SMALL(E8:N8,5))","v":""},{"$f":"IF(COUNT(E8:N8)<6,\"\",SMALL(E8:N8,6))","v":""},{"$f":"IF(COUNT(E8:N8)<3,\"\",AVERAGE(AF8:AH8))","v":27.8233333333333},{"$f":"IF(COUNT(E8:N8)<4,\"\",AVERAGE(AG8:AI8))","v":""},{"$f":"IF(COUNT(E8:N8)<5,\"\",AVERAGE(AH8:AJ8))","v":""},{"$f":"IF(COUNT(E8:N8)<6,\"\",AVERAGE(AI8:AK8))","v":""},null,{"$f":"IF(E8>=1000,TEXT(E8,\"0.000,00\"),TEXT(E8,\"0,00\"))","v":"22,82"},{"$f":"IF(F8>=1000,TEXT(F8,\"0.000,00\"),TEXT(F8,\"0,00\"))","v":"19,00"},{"$f":"IF(G8>=1000,TEXT(G8,\"0.000,00\"),TEXT(G8,\"0,00\"))","v":"0,00"},{"$f":"IF(H8>=1000,TEXT(H8,\"0.000,00\"),TEXT(H8,\"0,00\"))","v":"41,65"},{"$f":"IF(I8>=1000,TEXT(I8,\"0.000,00\"),TEXT(I8,\"0,00\"))","v":"0,00"},{"$f":"IF(J8>=1000,TEXT(J8,\"0.000,00\"),TEXT(J8,\"0,00\"))","v":"0,00"},{"$f":"IF(K8>=1000,TEXT(K8,\"0.000,00\"),TEXT(K8,\"0,00\"))","v":"0,00"},{"$f":"IF(L8>=1000,TEXT(L8,\"0.000,00\"),TEXT(L8,\"0,00\"))","v":"0,00"},{"$f":"IF(M8>=1000,TEXT(M8,\"0.000,00\"),TEXT(M8,\"0,00\"))","v":"0,00"},{"$f":"IF(N8>=1000,TEXT(N8,\"0.000,00\"),TEXT(N8,\"0,00\"))","v":"0,00"},null,{"$f":"IF(PREENCHER!AL8=\"\",#REF!,IF(PREENCHER!AM8=\"\",#REF!,IF(PREENCHER!AN8=\"\",#REF!,IF(STDEV(PREENCHER!$AF8:$AH8)/AVERAGE(PREENCHER!$AF8:$AH8)>#REF!,IF(STDEV(PREENCHER!$AG8:$AI8)/AVERAGE(PREENCHER!$AG8:$AI8)>#REF!,IF(STDEV(PREENCHER!$AH8:$AJ8)/AVERAGE(PREENCHER!$AH8:$AJ8)>#REF!,IF(STDEV(PREENCHER!$AI8:$AK8)/AVERAGE(PREENCHER!$AI8:$AK8)>#REF!,#REF!,AVERAGE(PREENCHER!$AI8:$AK8)),AVERAGE(PREENCHER!$AH8:$AJ8)),AVERAGE(PREENCHER!$AG8:$AI8)),AVERAGE(PREENCHER!$AF8:$AH8)))))","v":{"$error":"#REF!"}},{"$f":"IF(ISERROR(ROUND(BB8,2)),\"\",ROUND(BB8,2))","v":""},null," Valor desconsiderado do cálculo da média comparativa.",null,{"$f":"IF(ISERROR(IF(COUNT(E8:N8)=2,\"Apenas dois preços comparativos válidos. \",\"\")),\"\",IF(COUNT(E8:N8)=2,\"Apenas dois preços comparativos válidos. \",\"\"))","v":""},{"$f":"IF(ISERROR(IF(COUNT(E8:N8)=1,\"Apenas um preço comparativo válido. \",\"\")),\"\",IF(COUNT(E8:N8)=1,\"Apenas um preço comparativo válido. \",\"\"))","v":""},{"$f":"IF(A8=\"\",\"\",IF(ISERROR(IF(COUNT(E8:N8)=0,\"Nenhum preço comparativo válido. \",\"\")),\"\",IF(COUNT(E8:N8)=0,\"Nenhum preço comparativo válido. \",\"\")))","v":""},{"$f":"IF(ISERROR(IF(R8>P8,(R8-P8)/P8,\"\")),\"\",IF(R8>P8,(R8-P8)/P8,\"\"))","v":""},{"$f":"IF(ISERROR(IF(BJ8=\"\",\"\",\"Neste item, o valor contratado pelo TJDFT é \"&TEXT(BJ8,\"0,00%\")&\" superior à média comparativa.\")),\"\",IF(BJ8=\"\",\"\",\"Neste item, o valor contratado pelo TJDFT é \"&TEXT(BJ8,\"0,00%\")&\" superior à média comparativa.\"))","v":""}]
[2,"BOLO CASEIRO","UNIDADE",40,18.37,22.69,null,30,20,38.33,null,null,null,null,{"$f":"IF(ISERROR(ROUND(AVERAGE(E9:N9),2)),\"\",ROUND(AVERAGE(E9:N9),2))","v":25.88},{"$f":"IF(ISERROR(ROUND(O9*D9,2)),\"\",ROUND(O9*D9,2))","v":1035.2},null,{"$f":"IF(A9=\"\",\"\",ROUND(Q9*D9,2))","v":0},{"$f":"IF(A9=\"\",\"\",CONCATENATE($BG9,$BH9,$BI9,$BK9))","v":""},null,{"$f":"IF(ISERROR(COUNTA(E9:N9)),\"\",COUNTA(E9:N9))","v":5},{"$f":"IF(ISERROR(COUNT(E9:N9)),\"\",COUNT(E9:N9))","v":5},{"$f":"IF(ISERROR(MIN(E9:N9)),\"\",MIN(E9:N9))","v":18.37},{"$f":"IF(ISERROR(MAX(E9:N9)),\"\",MAX(E9:N9))","v":38.33},{"$f":"IF(ISERROR(ROUND(AVERAGE(E9:N9),2)),\"\",ROUND(AVERAGE(E9:N9),2))","v":25.88},{"$f":"IF(ISERROR(MEDIAN(E9:N9)),\"\",MEDIAN(E9:N9))","v":22.69},{"$f":"IF(ISERROR(STDEV(E9:N9)),\"\",STDEV(E9:N9))","v":8.26328445595333},{"$f":"IF(ISERROR(AA9/Y9),\"\",AA9/Y9)","v":0.31929228964271},null,null,null,{"$f":"IF(COUNT(E9:N9)<1,\"\",SMALL(E9:N9,1))","v":18.37},{"$f":"IF(COUNT(E9:N9)<2,\"\",SMALL(E9:N9,2))","v":20},{"$f":"IF(COUNT(E9:N9)<3,\"\",SMALL(E9:N9,3))","v":22.69},{"$f":"IF(COUNT(E9:N9)<4,\"\",SMALL(E9:N9,4))","v":30},{"$f":"IF(COUNT(E9:N9)<5,\"\",SMALL(E9:N9,5))","v":38.33},{"$f":"IF(COUNT(E9:N9)<6,\"\",SMALL(E9:N9,6))","v":""},{"$f":"IF(COUNT(E9:N9)<3,\"\",AVERAGE(AF9:AH9))","v":20.3533333333333},{"$f":"IF(COUNT(E9:N9)<4,\"\",AVERAGE(AG9:AI9))","v":24.23},{"$f":"IF(COUNT(E9:N9)<5,\"\",AVERAGE(AH9:AJ9))","v":30.34},{"$f":"IF(COUNT(E9:N9)<6,\"\",AVERAGE(AI9:AK9))","v":""},null,{"$f":"IF(E9>=1000,TEXT(E9,\"0.000,00\"),TEXT(E9,\"0,00\"))","v":"18,37"},{"$f":"IF(F9>=1000,TEXT(F9,\"0.000,00\"),TEXT(F9,\"0,00\"))","v":"22,69"},{"$f":"IF(G9>=1000,TEXT(G9,\"0.000,00\"),TEXT(G9,\"0,00\"))","v":"0,00"},{"$f":"IF(H9>=1000,TEXT(H9,\"0.000,00\"),TEXT(H9,\"0,00\"))","v":"30,00"},{"$f":"IF(I9>=1000,TEXT(I9,\"0.000,00\"),TEXT(I9,\"0,00\"))","v":"20,00"},{"$f":"IF(J9>=1000,TEXT(J9,\"0.000,00\"),TEXT(J9,\"0,00\"))","v":"38,33"},{"$f":"IF(K9>=1000,TEXT(K9,\"0.000,00\"),TEXT(K9,\"0,00\"))","v":"0,00"},{"$f":"IF(L9>=1000,TEXT(L9,\"0.000,00\"),TEXT(L9,\"0,00\"))","v":"0,00"},{"$f":"IF(M9>=1000,TEXT(M9,\"0.000,00\"),TEXT(M9,\"0,00\"))","v":"0,00"},{"$f":"IF(N9>=1000,TEXT(N9,\"0.000,00\"),TEXT(N9,\"0,00\"))","v":"0,00"},null,{"$f":"IF(PREENCHER!AL9=\"\",#REF!,IF(PREENCHER!AM9=\"\",#REF!,IF(PREENCHER!AN9=\"\",#REF!,IF(STDEV(PREENCHER!$AF9:$AH9)/AVERAGE(PREENCHER!$AF9:$AH9)>#REF!,IF(STDEV(PREENCHER!$AG9:$AI9)/AVERAGE(PREENCHER!$AG9:$AI9)>#REF!,IF(STDEV(PREENCHER!$AH9:$AJ9)/AVERAGE(PREENCHER!$AH9:$AJ9)>#REF!,IF(STDEV(PREENCHER!$AI9:$AK9)/AVERAGE(PREENCHER!$AI9:$AK9)>#REF!,#REF!,AVERAGE(PREENCHER!$AI9:$AK9)),AVERAGE(PREENCHER!$AH9:$AJ9)),AVERAGE(PREENCHER!$AG9:$AI9)),AVERAGE(PREENCHER!$AF9:$AH9)))))","v":{"$error":"#REF!"}},{"$f":"IF(ISERROR(ROUND(BB9,2)),\"\",ROUND(BB9,2))","v":""},null,null,null,{"$f":"IF(ISERROR(IF(COUNT(E9:N9)=2,\"Apenas dois preços comparativos válidos. \",\"\")),\"\",IF(COUNT(E9:N9)=2,\"Apenas dois preços comparativos válidos. \",\"\"))","v":""},{"$f":"IF(ISERROR(IF(COUNT(E9:N9)=1,\"Apenas um preço comparativo válido. \",\"\")),\"\",IF(COUNT(E9:N9)=1,\"Apenas um preço comparativo válido. \",\"\"))","v":""},{"$f":"IF(A9=\"\",\"\",IF(ISERROR(IF(COUNT(E9:N9)=0,\"Nenhum preço comparativo válido. \",\"\")),\"\",IF(COUNT(E9:N9)=0,\"Nenhum preço comparativo válido. \",\"\")))","v":""},{"$f":"IF(ISERROR(IF(R9>P9,(R9-P9)/P9,\"\")),\"\",IF(R9>P9,(R9-P9)/P9,\"\"))","v":""},{"$f":"IF(ISERROR(IF(BJ9=\"\",\"\",\"Neste item, o valor contratado pelo TJDFT é \"&TEXT(BJ9,\"0,00%\")&\" superior à média comparativa.\")),\"\",IF(BJ9=\"\",\"\",\"Neste item, o valor contratado pelo TJDFT é \"&TEXT(BJ9,\"0,00%\")&\" superior à média comparativa.\"))","v":""}]
[3,"SANDUÍCHE NATURAL","UNIDADE",800,8.1,10.9,null,3.56,null,null,null,null,null,null,{"$f":"IF(ISERROR(ROUND(AVERAGE(E10:N10),2)),\"\",ROUND(AVERAGE(E10:N10),2))","v":7.52},{"$f":"IF(ISERROR(ROUND(O10*D10,2)),\"\",ROUND(O10*D10,2))","v":6016},null,{"$f":"IF(A10=\"\",\"\",ROUND(Q10*D10,2))","v":0},{"$f":"IF(A10=\"\",\"\",CONCATENATE($BG10,$BH10,$BI10,$BK10))","v":""},null,{"$f":"IF(ISERROR(COUNTA(E10:N10)),\"\",COUNTA(E10:N10))","v":3},{"$f":"IF(ISERROR(COUNT(E10:N10)),\"\",COUNT(E10:N10))","v":3},{"$f":"IF(ISERROR(MIN(E10:N10)),\"\",MIN(E10:N10))","v":3.56},{"$f":"IF(ISERROR(MAX(E10:N10)),\"\",MAX(E10:N10))","v":10.9},{"$f":"IF(ISERROR(ROUND(AVERAGE(E10:N10),2)),\"\",ROUND(AVERAGE(E10:N10),2))","v":7.52},{"$f":"IF(ISERROR(MEDIAN(E10:N10)),\"\",MEDIAN(E10:N10))","v":8.1},{"$f":"IF(ISERROR(STDEV(E10:N10)),\"\",STDEV(E10:N10))","v":3.70421381672279},{"$f":"IF(ISERROR(AA10/Y10),\"\",AA10/Y10)","v":0.492581624564201},null,null,null,{"$f":"IF(COUNT(E10:N10)<1,\"\",SMALL(E10:N10,1))","v":3.56},{"$f":"IF(COUNT(E10:N10)<2,\"\",SMALL(E10:N10,2))","v":8.1},{"$f":"IF(COUNT(E10:N10)<3,\"\",SMALL(E10:N10,3))","v":10.9},{"$f":"IF(COUNT(E10:N10)<4,\"\",SMALL(E10:N10,4))","v":""},{"$f":"IF(COUNT(E10:N10)<5,\"\",SMALL(E10:N10,5))","v":""},{"$f":"IF(COUNT(E10:N10)<6,\"\",SMALL(E10:N10,6))","v":""},{"$f":"IF(COUNT(E10:N10)<3,\"\",AVERAGE(AF10:AH10))","v":7.52},{"$f":"IF(COUNT(E10:N10)<4,\"\",AVERAGE(AG10:AI10))","v":""},{"$f":"IF(COUNT(E10:N10)<5,\"\",AVERAGE(AH10:AJ10))","v":""},{"$f":"IF(COUNT(E10:N10)<6,\"\",AVERAGE(AI10:AK10))","v":""},null,{"$f":"IF(E10>=1000,TEXT(E10,\"0.000,00\"),TEXT(E10,\"0,00\"))","v":"8,10"},{"$f":"IF(F10>=1000,TEXT(F10,\"0.000,00\"),TEXT(F10,\"0,00\"))","v":"10,90"},{"$f":"IF(G10>=1000,TEXT(G10,\"0.000,00\"),TEXT(G10,\"0,00\"))","v":"0,00"},{"$f":"IF(H10>=1000,TEXT(H10,\"0.000,00\"),TEXT(H10,\"0,00\"))","v":"3,56"},{"$f":"IF(I10>=1000,TEXT(I10,\"0.000,00\"),TEXT(I10,\"0,00\"))","v":"0,00"},{"$f":"IF(J10>=1000,TEXT(J10,\"0.000,00\"),TEXT(J10,\"0,00\"))","v":"0,00"},{"$f":"IF(K10>=1000,TEXT(K10,\"0.000,00\"),TEXT(K10,\"0,00\"))","v":"0,00"},{"$f":"IF(L10>=1000,TEXT(L10,\"0.000,00\"),TEXT(L10,\"0,00\"))","v":"0,00"},{"$f":"IF(M10>=1000,TEXT(M10,\"0.000,00\"),TEXT(M10,\"0,00\"))","v":"0,00"},{"$f":"IF(N10>=1000,TEXT(N10,\"0.000,00\"),TEXT(N10,\"0,00\"))","v":"0,00"},null,{"$f":"IF(PREENCHER!AL10=\"\",#REF!,IF(PREENCHER!AM10=\"\",#REF!,IF(PREENCHER!AN10=\"\",#REF!,IF(STDEV(PREENCHER!$AF10:$AH10)/AVERAGE(PREENCHER!$AF10:$AH10)>#REF!,IF(STDEV(PREENCHER!$AG10:$AI10)/AVERAGE(PREENCHER!$AG10:$AI10)>#REF!,IF(STDEV(PREENCHER!$AH10:$AJ10)/AVERAGE(PREENCHER!$AH10:$AJ10)>#REF!,IF(STDEV(PREENCHER!$AI10:$AK10)/AVERAGE(PREENCHER!$AI10:$AK10)>#REF!,#REF!,AVERAGE(PREENCHER!$AI10:$AK10)),AVERAGE(PREENCHER!$AH10:$AJ10)),AVERAGE(PREENCHER!$AG10:$AI10)),AVERAGE(PREENCHER!$AF10:$AH10)))))","v":{"$error":"#REF!"}},{"$f":"IF(ISERROR(ROUND(BB10,2)),\"\",ROUND(BB10,2))","v":""},null,null,null,{"$f":"IF(ISERROR(IF(COUNT(E10:N10)=2,\"Apenas dois preços comparativos válidos. \",\"\")),\"\",IF(COUNT(E10:N10)=2,\"Apenas dois preços comparativos válidos. \",\"\"))","v":""},{"$f":"IF(ISERROR(IF(COUNT(E10:N10)=1,\"Apenas um preço comparativo válido. \",\"\")),\"\",IF(COUNT(E10:N10)=1,\"Apenas um preço comparativo válido. \",\"\"))","v":""},{"$f":"IF(A10=\"\",\"\",IF(ISERROR(IF(COUNT(E10:N10)=0,\"Nenhum preço comparativo válido. \",\"\")),\"\",IF(COUNT(E10:N10)=0,\"Nenhum preço comparativo válido. \",\"\")))","v":""},{"$f":"IF(ISERROR(IF(R10>P10,(R10-P10)/P10,\"\")),\"\",IF(R10>P10,(R10-P10)/P10,\"\"))","v":""},{"$f":"IF(ISERROR(IF(BJ10=\"\",\"\",\"Neste item, o valor contratado pelo TJDFT é \"&TEXT(BJ10,\"0,00%\")&\" superior à média comparativa.\")),\"\",IF(BJ10=\"\",\"\",\"Neste item, o valor contratado pelo TJDFT é \"&TEXT(BJ10,\"0,00%\")&\" superior à média comparativa.\"))","v":""}]
[4,"EMPADA DE FRANGO","CENTENA",52,106,52.23,null,65,null,null,null,null,null,null,{"$f":"IF(ISERROR(ROUND(AVERAGE(E11:N11),2)),\"\",ROUND(AVERAGE(E11:N11),2))","v":74.41},{"$f":"IF(ISERROR(ROUND(O11*D11,2)),\"\",ROUND(O11*D11,2))","v":3869.32},null,{"$f":"IF(A11=\"\",\"\",ROUND(Q11*D11,2))","v":0},"Com relação a pesquisa   converteu-se de quilo para centena, utilizando a média do peso por unidade e adequando o valor a essa nova métrica. ",null,{"$f":"IF(ISERROR(COUNTA(E11:N11)),\"\",COUNTA(E11:N11))","v":3},{"$f":"IF(ISERROR(COUNT(E11:N11)),\"\",COUNT(E11:N11))","v":3},{"$f":"IF(ISERROR(MIN(E11:N11)),\"\",MIN(E11:N11))","v":52.23},{"$f":"IF(ISERROR(MAX(E11:N11)),\"\",MAX(E11:N11))","v":106},{"$f":"IF(ISERROR(ROUND(AVERAGE(E11:N11),2)),\"\",ROUND(AVERAGE(E11:N11),2))","v":74.41},{"$f":"IF(ISERROR(MEDIAN(E11:N11)),\"\",MEDIAN(E11:N11))","v":65},{"$f":"IF(ISERROR(STDEV(E11:N11)),\"\",STDEV(E11:N11))","v":28.0929581924012},{"$f":"IF(ISERROR(AA11/Y11),\"\",AA11/Y11)","v":0.377542779094223},null,null,null,{"$f":"IF(COUNT(E11:N11)<1,\"\",SMALL(E11:N11,1))","v":52.23},{"$f":"IF(COUNT(E11:N11)<2,\"\",SMALL(E11:N11,2))","v":65},{"$f":"IF(COUNT(E11:N11)<3,\"\",SMALL(E11:N11,3))","v":106},{"$f":"IF(COUNT(E11:N11)<4,\"\",SMALL(E11:N11,4))","v":""},{"$f":"IF(COUNT(E11:N11)<5,\"\",SMALL(E11:N11,5))","v":""},{"$f":"IF(COUNT(E11:N11)<6,\"\",SMALL(E11:N11,6))","v":""},{"$f":"IF(COUNT(E11:N11)<3,\"\",AVERAGE(AF11:AH11))","v":74.41},{"$f":"IF(COUNT(E11:N11)<4,\"\",AVERAGE(AG11:AI11))","v":""},{"$f":"IF(COUNT(E11:N11)<5,\"\",AVERAGE(AH11:AJ11))","v":""},{"$f":"IF(COUNT(E11:N11)<6,\"\",AVERAGE(AI11:AK11))","v":""},null,{"$f":"IF(E11>=1000,TEXT(E11,\"0.000,00\"),TEXT(E11,\"0,00\"))","v":"106,00"},{"$f":"IF(F11>=1000,TEXT(F11,\"0.000,00\"),TEXT(F11,\"0,00\"))","v":"52,23"},{"$f":"IF(G11>=1000,TEXT(G11,\"0.000,00\"),TEXT(G11,\"0,00\"))","v":"0,00"},{"$f":"IF(H11>=1000,TEXT(H11,\"0.000,00\"),TEXT(H11,\"0,00\"))","v":"65,00"},{"$f":"IF(I11>=1000,TEXT(I11,\"0.000,00\"),TEXT(I11,\"0,00\"))","v":"0,00"},{"$f":"IF(J11>=1000,TEXT(J11,\"0.000,00\"),TEXT(J11,\"0,00\"))","v":"0,00"},{"$f":"IF(K11>=1000,TEXT(K11,\"0.000,00\"),TEXT(K11,\"0,00\"))","v":"0,00"},{"$f":"IF(L11>=1000,TEXT(L11,\"0.000,00\"),TEXT(L11,\"0,00\"))","v":"0,00"},{"$f":"IF(M11>=1000,TEXT(M11,\"0.000,00\"),TEXT(M11,\"0,00\"))","v":"0,00"},{"$f":"IF(N11>=1000,TEXT(N11,\"0.000,00\"),TEXT(N11,\"0,00\"))","v":"0,00"},null,{"$f":"IF(PREENCHER!AL11=\"\",#REF!,IF(PREENCHER!AM11=\"\",#REF!,IF(PREENCHER!AN11=\"\",#REF!,IF(STDEV(PREENCHER!$AF11:$AH11)/AVERAGE(PREENCHER!$AF11:$AH11)>#REF!,IF(STDEV(PREENCHER!$AG11:$AI11)/AVERAGE(PREENCHER!$AG11:$AI11)>#REF!,IF(STDEV(PREENCHER!$AH11:$AJ11)/AVERAGE(PREENCHER!$AH11:$AJ11)>#REF!,IF(STDEV(PREENCHER!$AI11:$AK11)/AVERAGE(PREENCHER!$AI11:$AK11)>#REF!,#REF!,AVERAGE(PREENCHER!$AI11:$AK11)),AVERAGE(PREENCHER!$AH11:$AJ11)),AVERAGE(PREENCHER!$AG11:$AI11)),AVERAGE(PREENCHER!$AF11:$AH11)))))","v":{"$error":"#REF!"}},{"$f":"IF(ISERROR(ROUND(BB11,2)),\"\",ROUND(BB11,2))","v":""},null,null,null,{"$f":"IF(ISERROR(IF(COUNT(E11:N11)=2,\"Apenas dois preços comparativos válidos. \",\"\")),\"\",IF(COUNT(E11:N11)=2,\"Apenas dois preços comparativos válidos. \",\"\"))","v":""},{"$f":"IF(ISERROR(IF(COUNT(E11:N11)=1,\"Apenas um preço comparativo válido. \",\"\")),\"\",IF(COUNT(E11:N11)=1,\"Apenas um preço comparativo válido. \",\"\"))","v":""},{"$f":"IF(A11=\"\",\"\",IF(ISERROR(IF(COUNT(E11:N11)=0,\"Nenhum preço comparativo válido. \",\"\")),\"\",IF(COUNT(E11:N11)=0,\"Nenhum preço comparativo válido. \",\"\")))","v":""},{"$f":"IF(ISERROR(IF(R11>P11,(R11-P11)/P11,\"\")),\"\",IF(R11>P11,(R11-P11)/P11,\"\"))","v":""},{"$f":"IF(ISERROR(IF(BJ11=\"\",\"\",\"Neste item, o valor contratado pelo TJDFT é \"&TEXT(BJ11,\"0,00%\")&\" superior à média comparativa.\")),\"\",IF(BJ11=\"\",\"\",\"Neste item, o valor contratado pelo TJDFT é \"&TEXT(BJ11,\"0,00%\")&\" superior à média comparativa.\"))","v":""}]
[5,"BROINHA DE MILHO","QUILO",6,17.06,24,null,32.99,null,null,null,null,null,null,{"$f":"IF(ISERROR(ROUND(AVERAGE(E12:N12),2)),\"\",ROUND(AVERAGE(E12:N12),2))","v":24.68},{"$f":"IF(ISERROR(ROUND(O12*D12,2)),\"\",ROUND(O12*D12,2))","v":148.08},null,{"$f":"IF(A12=\"\",\"\",ROUND(Q12*D12,2))","v":0},"Com relação a pesquisa 1  converteu-se de unidade para quilo, utilizando a média do peso por unidade e adequando o valor a essa nova métrica. ",null,{"$f":"IF(ISERROR(COUNTA(E12:N12)),\"\",COUNTA(E12:N12))","v":3},{"$f":"IF(ISERROR(COUNT(E12:N12)),\"\",COUNT(E12:N12))","v":3},{"$f":"IF(ISERROR(MIN(E12:N12)),\"\",MIN(E12:N12))","v":17.06},{"$f":"IF(ISERROR(MAX(E12:N12)),\"\",MAX(E12:N12))","v":32.99},{"$f":"IF(ISERROR(ROUND(AVERAGE(E12:N12),2)),\"\",ROUND(AVERAGE(E12:N12),2))","v":24.68},{"$f":"IF(ISERROR(MEDIAN(E12:N12)),\"\",MEDIAN(E12:N12))","v":24},{"$f":"IF(ISERROR(STDEV(E12:N12)),\"\",STDEV(E12:N12))","v":7.9869539458628},{"$f":"IF(ISERROR(AA12/Y12),\"\",AA12/Y12)","v":0.323620500237553},null,null,null,{"$f":"IF(COUNT(E12:N12)<1,\"\",SMALL(E12:N12,1))","v":17.06},{"$f":"IF(COUNT(E12:N12)<2,\"\",SMALL(E12:N12,2))","v":24},{"$f":"IF(COUNT(E12:N12)<3,\"\",SMALL(E12:N12,3))","v":32.99},{"$f":"IF(COUNT(E12:N12)<4,\"\",SMALL(E12:N12,4))","v":""},{"$f":"IF(COUNT(E12:N12)<5,\"\",SMALL(E12:N12,5))","v":""},{"$f":"IF(COUNT(E12:N12)<6,\"\",SMALL(E12:N12,6))","v":""},{"$f":"IF(COUNT(E12:N12)<3,\"\",AVERAGE(AF12:AH12))","v":24.6833333333333},{"$f":"IF(COUNT(E12:N12)<4,\"\",AVERAGE(AG12:AI12))","v":""},{"$f":"IF(COUNT(E12:N12)<5,\"\",AVERAGE(AH12:AJ12))","v":""},{"$f":"IF(COUNT(E12:N12)<6,\"\",AVERAGE(AI12:AK12))","v":""},null,{"$f":"IF(E12>=1000,TEXT(E12,\"0.000,00\"),TEXT(E12,\"0,00\"))","v":"17,06"},{"$f":"IF(F12>=1000,TEXT(F12,\"0.000,00\"),TEXT(F12,\"0,00\"))","v":"24,00"},{"$f":"IF(G12>=1000,TEXT(G12,\"0.000,00\"),TEXT(G12,\"0,00\"))","v":"0,00"},{"$f":"IF(H12>=1000,TEXT(H12,\"0.000,00\"),TEXT(H12,\"0,00\"))","v":"32,99"},{"$f":"IF(I12>=1000,TEXT(I12,\"0.000,00\"),TEXT(I12,\"0,00\"))","v":"0,00"},{"$f":"IF(J12>=1000,TEXT(J12,\"0.000,00\"),TEXT(J12,\"0,00\"))","v":"0,00"},{"$f":"IF(K12>=1000,TEXT(K12,\"0.000,00\"),TEXT(K12,\"0,00\"))","v":"0,00"},{"$f":"IF(L12>=1000,TEXT(L12,\"0.000,00\"),TEXT(L12,\"0,00\"))","v":"0,00"},{"$f":"IF(M12>=1000,TEXT(M12,\"0.000,00\"),TEXT(M12,\"0,00\"))","v":"0,00"},{"$f":"IF(N12>=1000,TEXT(N12,\"0.000,00\"),TEXT(N12,\"0,00\"))","v":"0,00"},null,{"$f":"IF(PREENCHER!AL12=\"\",#REF!,IF(PREENCHER!AM12=\"\",#REF!,IF(PREENCHER!AN12=\"\",#REF!,IF(STDEV(PREENCHER!$AF12:$AH12)/AVERAGE(PREENCHER!$AF12:$AH12)>#REF!,IF(STDEV(PREENCHER!$AG12:$AI12)/AVERAGE(PREENCHER!$AG12:$AI12)>#REF!,IF(STDEV(PREENCHER!$AH12:$AJ12)/AVERAGE(PREENCHER!$AH12:$AJ12)>#REF!,IF(STDEV(PREENCHER!$AI12:$AK12)/AVERAGE(PREENCHER!$AI12:$AK12)>#REF!,#REF!,AVERAGE(PREENCHER!$AI12:$AK12)),AVERAGE(PREENCHER!$AH12:$AJ12)),AVERAGE(PREENCHER!$AG12:$AI12)),AVERAGE(PREENCHER!$AF12:$AH12)))))","v":{"$error":"#REF!"}},{"$f":"IF(ISERROR(ROUND(BB12,2)),\"\",ROUND(BB12,2))","v":""},null,null,null,{"$f":"IF(ISERROR(IF(COUNT(E12:N12)=2,\"Apenas dois preços comparativos válidos. \",\"\")),\"\",IF(COUNT(E12:N12)=2,\"Apenas dois preços comparativos válidos. \",\"\"))","v":""},{"$f":"IF(ISERROR(IF(COUNT(E12:N12)=1,\"Apenas um preço comparativo válido. \",\"\")),\"\",IF(COUNT(E12:N12)=1,\"Apenas um preço comparativo válido. \",\"\"))","v":""},{"$f":"IF(A12=\"\",\"\",IF(ISERROR(IF(COUNT(E12:N12)=0,\"Nenhum preço comparativo válido. \",\"\")),\"\",IF(COUNT(E12:N12)=0,\"Nenhum preço comparativo válido. \",\"\")))","v":""},{"$f":"IF(ISERROR(IF(R12>P12,(R12-P12)/P12,\"\")),\"\",IF(R12>P12,(R12-P12)/P12,\"\"))","v":""},{"$f":"IF(ISERROR(IF(BJ12=\"\",\"\",\"Neste item, o valor contratado pelo TJDFT é \"&TEXT(BJ12,\"0,00%\")&\" superior à média comparativa.\")),\"\",IF(BJ12=\"\",\"\",\"Neste item, o valor contratado pelo TJDFT é \"&TEXT(BJ12,\"0,00%\")&\" superior à média comparativa.\"))","v":""}]
[6,"BOLINHO RECHEADO","UNIDADE",1580,2.61,2.7,null,2.4,null,null,null,null,null,null,{"$f":"IF(ISERROR(ROUND(AVERAGE(E13:N13),2)),\"\",ROUND(AVERAGE(E13:N13),2))","v":2.57},{"$f":"IF(ISERROR(ROUND(O13*D13,2)),\"\",ROUND(O13*D13,2))","v":4060.6},null,{"$f":"IF(A13=\"\",\"\",ROUND(Q13*D13,2))","v":0},{"$f":"IF(A13=\"\",\"\",CONCATENATE($BG13,$BH13,$BI13,$BK13))","v":""},null,{"$f":"IF(ISERROR(COUNTA(E13:N13)),\"\",COUNTA(E13:N13))","v":3},{"$f":"IF(ISERROR(COUNT(E13:N13)),\"\",COUNT(E13:N13))","v":3},{"$f":"IF(ISERROR(MIN(E13:N13)),\"\",MIN(E13:N13))","v":2.4},{"$f":"IF(ISERROR(MAX(E13:N13)),\"\",MAX(E13:N13))","v":2.7},{"$f":"IF(ISERROR(ROUND(AVERAGE(E13:N13),2)),\"\",ROUND(AVERAGE(E13:N13),2))","v":2.57},{"$f":"IF(ISERROR(MEDIAN(E13:N13)),\"\",MEDIAN(E13:N13))","v":2.61},{"$f":"IF(ISERROR(STDEV(E13:N13)),\"\",STDEV(E13:N13))","v":0.153948043183407},{"$f":"IF(ISERROR(AA13/Y13),\"\",AA13/Y13)","v":0.0599019623281738},null,null,null,{"$f":"IF(COUNT(E13:N13)<1,\"\",SMALL(E13:N13,1))","v":2.4},{"$f":"IF(COUNT(E13:N13)<2,\"\",SMALL(E13:N13,2))","v":2.61},{"$f":"IF(COUNT(E13:N13)<3,\"\",SMALL(E13:N13,3))","v":2.7},{"$f":"IF(COUNT(E13:N13)<4,\"\",SMALL(E13:N13,4))","v":""},{"$f":"IF(COUNT(E13:N13)<5,\"\",SMALL(E13:N13,5))","v":""},{"$f":"IF(COUNT(E13:N13)<6,\"\",SMALL(E13:N13,6))","v":""},{"$f":"IF(COUNT(E13:N13)<3,\"\",AVERAGE(AF13:AH13))","v":2.57},{"$f":"IF(COUNT(E13:N13)<4,\"\",AVERAGE(AG13:AI13))","v":""},{"$f":"IF(COUNT(E13:N13)<5,\"\",AVERAGE(AH13:AJ13))","v":""},{"$f":"IF(COUNT(E13:N13)<6,\"\",AVERAGE(AI13:AK13))","v":""},null,{"$f":"IF(E13>=1000,TEXT(E13,\"0.000,00\"),TEXT(E13,\"0,00\"))","v":"2,61"},{"$f":"IF(F13>=1000,TEXT(F13,\"0.000,00\"),TEXT(F13,\"0,00\"))","v":"2,70"},{"$f":"IF(G13>=1000,TEXT(G13,\"0.000,00\"),TEXT(G13,\"0,00\"))","v":"0,00"},{"$f":"IF(H13>=1000,TEXT(H13,\"0.000,00\"),TEXT(H13,\"0,00\"))","v":"2,40"},{"$f":"IF(I13>=1000,TEXT(I13,\"0.000,00\"),TEXT(I13,\"0,00\"))","v":"0,00"},{"$f":"IF(J13>=1000,TEXT(J13,\"0.000,00\"),TEXT(J13,\"0,00\"))","v":"0,00"},{"$f":"IF(K13>=1000,TEXT(K13,\"0.000,00\"),TEXT(K13,\"0,00\"))","v":"0,00"},{"$f":"IF(L13>=1000,TEXT(L13,\"0.000,00\"),TEXT(L13,\"0,00\"))","v":"0,00"},{"$f":"IF(M13>=1000,TEXT(M13,\"0.000,00\"),TEXT(M13,\"0,00\"))","v":"0,00"},{"$f":"IF(N13>=1000,TEXT(N13,\"0.000,00\"),TEXT(N13,\"0,00\"))","v":"0,00"},null,{"$f":"IF(PREENCHER!AL13=\"\",#REF!,IF(PREENCHER!AM13=\"\",#REF!,IF(PREENCHER!AN13=\"\",#REF!,IF(STDEV(PREENCHER!$AF13:$AH13)/AVERAGE(PREENCHER!$AF13:$AH13)>#REF!,IF(STDEV(PREENCHER!$AG13:$AI13)/AVERAGE(PREENCHER!$AG13:$AI13)>#REF!,IF(STDEV(PREENCHER!$AH13:$AJ13)/AVERAGE(PREENCHER!$AH13:$AJ13)>#REF!,IF(STDEV(PREENCHER!$AI13:$AK13)/AVERAGE(PREENCHER!$AI13:$AK13)>#REF!,#REF!,AVERAGE(PREENCHER!$AI13:$AK13)),AVERAGE(PREENCHER!$AH13:$AJ13)),AVERAGE(PREENCHER!$AG13:$AI13)),AVERAGE(PREENCHER!$AF13:$AH13)))))","v":{"$error":"#REF!"}},{"$f":"IF(ISERROR(ROUND(BB13,2)),\"\",ROUND(BB13,2))","v":""},null,null,null,{"$f":"IF(ISERROR(IF(COUNT(E13:N13)=2,\"Apenas dois preços comparativos válidos. \",\"\")),\"\",IF(COUNT(E13:N13)=2,\"Apenas dois preços comparativos válidos. \",\"\"))","v":""},{"$f":"IF(ISERROR(IF(COUNT(E13:N13)=1,\"Apenas um preço comparativo válido. \",\"\")),\"\",IF(COUNT(E13:N13)=1,\"Apenas um preço comparativo válido. \",\"\"))","v":""},{"$f":"IF(A13=\"\",\"\",IF(ISERROR(IF(COUNT(E13:N13)=0,\"Nenhum preço comparativo válido. \",\"\")),\"\",IF(COUNT(E13:N13)=0,\"Nenhum preço comparativo válido. \",\"\")))","v":""},{"$f":"IF(ISERROR(IF(R13>P13,(R13-P13)/P13,\"\")),\"\",IF(R13>P13,(R13-P13)/P13,\"\"))","v":""},{"$f":"IF(ISERROR(IF(BJ13=\"\",\"\",\"Neste item, o valor contratado pelo TJDFT é \"&TEXT(BJ13,\"0,00%\")&\" superior à média comparativa.\")),\"\",IF(BJ13=\"\",\"\",\"Neste item, o valor contratado pelo TJDFT é \"&TEXT(BJ13,\"0,00%\")&\" superior à média comparativa.\"))","v":""}]
[7,"ESFIRRA DE CARNE","CENTENA",7,100,94,null,69.36,null,null,null,null,null,null,{"$f":"IF(ISERROR(ROUND(AVERAGE(E14:N14),2)),\"\",ROUND(AVERAGE(E14:N14),2))","v":87.77},{"$f":"IF(ISERROR(ROUND(O14*D14,2)),\"\",ROUND(O14*D14,2))","v":614.39},null,{"$f":"IF(A14=\"\",\"\",ROUND(Q14*D14,2))","v":0},"Com relação a pesquisa 2,  converteu-se de quilo para centena, utilizando a média do peso por unidade e adequando o valor a essa nova métrica. ",null,{"$f":"IF(ISERROR(COUNTA(E14:N14)),\"\",COUNTA(E14:N14))","v":3},{"$f":"IF(ISERROR(COUNT(E14:N14)),\"\",COUNT(E14:N14))","v":3},{"$f":"IF(ISERROR(MIN(E14:N14)),\"\",MIN(E14:N14))","v":69.36},{"$f":"IF(ISERROR(MAX(E14:N14)),\"\",MAX(E14:N14))","v":100},{"$f":"IF(ISERROR(ROUND(AVERAGE(E14:N14),2)),\"\",ROUND(AVERAGE(E14:N14),2))","v":87.79},{"$f":"IF(ISERROR(MEDIAN(E14:N14)),\"\",MEDIAN(E14:N14))","v":94},{"$f":"IF(ISERROR(STDEV(E14:N14)),\"\",STDEV(E14:N14))","v":16.2375039132661},{"$f":"IF(ISERROR(AA14/Y14),\"\",AA14/Y14)","v":0.184958468085957},null,null,null,{"$f":"IF(COUNT(E14:N14)<1,\"\",SMALL(E14:N14,1))","v":69.36},{"$f":"IF(COUNT(E14:N14)<2,\"\",SMALL(E14:N14,2))","v":94},{"$f":"IF(COUNT(E14:N14)<3,\"\",SMALL(E14:N14,3))","v":100},{"$f":"IF(COUNT(E14:N14)<4,\"\",SMALL(E14:N14,4))","v":""},{"$f":"IF(COUNT(E14:N14)<5,\"\",SMALL(E14:N14,5))","v":""},{"$f":"IF(COUNT(E14:N14)<6,\"\",SMALL(E14:N14,6))","v":""},{"$f":"IF(COUNT(E14:N14)<3,\"\",AVERAGE(AF14:AH14))","v":87.7866666666667},{"$f":"IF(COUNT(E14:N14)<4,\"\",AVERAGE(AG14:AI14))","v":""},{"$f":"IF(COUNT(E14:N14)<5,\"\",AVERAGE(AH14:AJ14))","v":""},{"$f":"IF(COUNT(E14:N14)<6,\"\",AVERAGE(AI14:AK14))","v":""},null,{"$f":"IF(E14>=1000,TEXT(E14,\"0.000,00\"),TEXT(E14,\"0,00\"))","v":"100,00"},{"$f":"IF(F14>=1000,TEXT(F14,\"0.000,00\"),TEXT(F14,\"0,00\"))","v":"94,00"},{"$f":"IF(G14>=1000,TEXT(G14,\"0.000,00\"),TEXT(G14,\"0,00\"))","v":"0,00"},{"$f":"IF(H14>=1000,TEXT(H14,\"0.000,00\"),TEXT(H14,\"0,00\"))","v":"69,36"},{"$f":"IF(I14>=1000,TEXT(I14,\"0.000,00\"),TEXT(I14,\"0,00\"))","v":"0,00"},{"$f":"IF(J14>=1000,TEXT(J14,\"0.000,00\"),TEXT(J14,\"0,00\"))","v":"0,00"},{"$f":"IF(K14>=1000,TEXT(K14,\"0.000,00\"),TEXT(K14,\"0,00\"))","v":"0,00"},{"$f":"IF(L14>=1000,TEXT(L14,\"0.000,00\"),TEXT(L14,\"0,00\"))","v":"0,00"},{"$f":"IF(M14>=1000,TEXT(M14,\"0.000,00\"),TEXT(M14,\"0,00\"))","v":"0,00"},{"$f":"IF(N14>=1000,TEXT(N14,\"0.000,00\"),TEXT(N14,\"0,00\"))","v":"0,00"},null,{"$f":"IF(PREENCHER!AL14=\"\",#REF!,IF(PREENCHER!AM14=\"\",#REF!,IF(PREENCHER!AN14=\"\",#REF!,IF(STDEV(PREENCHER!$AF14:$AH14)/AVERAGE(PREENCHER!$AF14:$AH14)>#REF!,IF(STDEV(PREENCHER!$AG14:$AI14)/AVERAGE(PREENCHER!$AG14:$AI14)>#REF!,IF(STDEV(PREENCHER!$AH14:$AJ14)/AVERAGE(PREENCHER!$AH14:$AJ14)>#REF!,IF(STDEV(PREENCHER!$AI14:$AK14)/AVERAGE(PREENCHER!$AI14:$AK14)>#REF!,#REF!,AVERAGE(PREENCHER!$AI14:$AK14)),AVERAGE(PREENCHER!$AH14:$AJ14)),AVERAGE(PREENCHER!$AG14:$AI14)),AVERAGE(PREENCHER!$AF14:$AH14)))))","v":{"$error":"#REF!"}},{"$f":"IF(ISERROR(ROUND(BB14,2)),\"\",ROUND(BB14,2))","v":""},null,null,null,{"$f":"IF(ISERROR(IF(COUNT(E14:N14)=2,\"Apenas dois preços comparativos válidos. \",\"\")),\"\",IF(COUNT(E14:N14)=2,\"Apenas dois preços comparativos válidos. \",\"\"))","v":""},{"$f":"IF(ISERROR(IF(COUNT(E14:N14)=1,\"Apenas um preço comparativo válido. \",\"\")),\"\",IF(COUNT(E14:N14)=1,\"Apenas um preço comparativo válido. \",\"\"))","v":""},{"$f":"IF(A14=\"\",\"\",IF(ISERROR(IF(COUNT(E14:N14)=0,\"Nenhum preço comparativo válido. \",\"\")),\"\",IF(COUNT(E14:N14)=0,\"Nenhum preço comparativo válido. \",\"\")))","v":""},{"$f":"IF(ISERROR(IF(R14>P14,(R14-P14)/P14,\"\")),\"\",IF(R14>P14,(R14-P14)/P14,\"\"))","v":""},{"$f":"IF(ISERROR(IF(BJ14=\"\",\"\",\"Neste item, o valor contratado pelo TJDFT é \"&TEXT(BJ14,\"0,00%\")&\" superior à média comparativa.\")),\"\",IF(BJ14=\"\",\"\",\"Neste item, o valor contratado pelo TJDFT é \"&TEXT(BJ14,\"0,00%\")&\" superior à média comparativa.\"))","v":""}]
[8,"BISCOITO CASEIRO","QUILO",23,40,31.89,null,22.25,null,null,null,null,null,null,{"$f":"IF(ISERROR(ROUND(AVERAGE(E15:N15),2)),\"\",ROUND(AVERAGE(E15:N15),2))","v":31.38},{"$f":"IF(ISERROR(ROUND(O15*D15,2)),\"\",ROUND(O15*D15,2))","v":721.74},null,{"$f":"IF(A15=\"\",\"\",ROUND(Q15*D15,2))","v":0},{"$f":"IF(A15=\"\",\"\",CONCATENATE($BG15,$BH15,$BI15,$BK15))","v":""},null,{"$f":"IF(ISERROR(COUNTA(E15:N15)),\"\",COUNTA(E15:N15))","v":3},{"$f":"IF(ISERROR(COUNT(E15:N15)),\"\",COUNT(E15:N15))","v":3},{"$f":"IF(ISERROR(MIN(E15:N15)),\"\",MIN(E15:N15))","v":22.25},{"$f":"IF(ISERROR(MAX(E15:N15)),\"\",MAX(E15:N15))","v":40},{"$f":"IF(ISERROR(ROUND(AVERAGE(E15:N15),2)),\"\",ROUND(AVERAGE(E15:N15),2))","v":31.38},{"$f":"IF(ISERROR(MEDIAN(E15:N15)),\"\",MEDIAN(E15:N15))","v":31.89},{"$f":"IF(ISERROR(STDEV(E15:N15)),\"\",STDEV(E15:N15))","v":8.88598334457138},{"$f":"IF(ISERROR(AA15/Y15),\"\",AA15/Y15)","v":0.283173465410178},null,null,null,{"$f":"IF(COUNT(E15:N15)<1,\"\",SMALL(E15:N15,1))","v":22.25},{"$f":"IF(COUNT(E15:N15)<2,\"\",SMALL(E15:N15,2))","v":31.89},{"$f":"IF(COUNT(E15:N15)<3,\"\",SMALL(E15:N15,3))","v":40},{"$f":"IF(COUNT(E15:N15)<4,\"\",SMALL(E15:N15,4))","v":""},{"$f":"IF(COUNT(E15:N15)<5,\"\",SMALL(E15:N15,5))","v":""},{"$f":"IF(COUNT(E15:N15)<6,\"\",SMALL(E15:N15,6))","v":""},{"$f":"IF(COUNT(E15:N15)<3,\"\",AVERAGE(AF15:AH15))","v":31.38},{"$f":"IF(COUNT(E15:N15)<4,\"\",AVERAGE(AG15:AI15))","v":""},{"$f":"IF(COUNT(E15:N15)<5,\"\",AVERAGE(AH15:AJ15))","v":""},{"$f":"IF(COUNT(E15:N15)<6,\"\",AVERAGE(AI15:AK15))","v":""},null,{"$f":"IF(E15>=1000,TEXT(E15,\"0.000,00\"),TEXT(E15,\"0,00\"))","v":"40,00"},{"$f":"IF(F15>=1000,TEXT(F15,\"0.000,00\"),TEXT(F15,\"0,00\"))","v":"31,89"},{"$f":"IF(G15>=1000,TEXT(G15,\"0.000,00\"),TEXT(G15,\"0,00\"))","v":"0,00"},{"$f":"IF(H15>=1000,TEXT(H15,\"0.000,00\"),TEXT(H15,\"0,00\"))","v":"22,25"},{"$f":"IF(I15>=1000,TEXT(I15,\"0.000,00\"),TEXT(I15,\"0,00\"))","v":"0,00"},{"$f":"IF(J15>=1000,TEXT(J15,\"0.000,00\"),TEXT(J15,\"0,00\"))","v":"0,00"},{"$f":"IF(K15>=1000,TEXT(K15,\"0.000,00\"),TEXT(K15,\"0,00\"))","v":"0,00"},{"$f":"IF(L15>=1000,TEXT(L15,\"0.000,00\"),TEXT(L15,\"0,00\"))","v":"0,00"},{"$f":"IF(M15>=1000,TEXT(M15,\"0.000,00\"),TEXT(M15,\"0,00\"))","v":"0,00"},{"$f":"IF(N15>=1000,TEXT(N15,\"0.000,00\"),TEXT(N15,\"0,00\"))","v":"0,00"},null,{"$f":"IF(PREENCHER!AL15=\"\",#REF!,IF(PREENCHER!AM15=\"\",#REF!,IF(PREENCHER!AN15=\"\",#REF!,IF(STDEV(PREENCHER!$AF15:$AH15)/AVERAGE(PREENCHER!$AF15:$AH15)>#REF!,IF(STDEV(PREENCHER!$AG15:$AI15)/AVERAGE(PREENCHER!$AG15:$AI15)>#REF!,IF(STDEV(PREENCHER!$AH15:$AJ15)/AVERAGE(PREENCHER!$AH15:$AJ15)>#REF!,IF(STDEV(PREENCHER!$AI15:$AK15)/AVERAGE(PREENCHER!$AI15:$AK15)>#REF!,#REF!,AVERAGE(PREENCHER!$AI15:$AK15)),AVERAGE(PREENCHER!$AH15:$AJ15)),AVERAGE(PREENCHER!$AG15:$AI15)),AVERAGE(PREENCHER!$AF15:$AH15)))))","v":{"$error":"#REF!"}},{"$f":"IF(ISERROR(ROUND(BB15,2)),\"\",ROUND(BB15,2))","v":""},null,null,null,{"$f":"IF(ISERROR(IF(COUNT(E15:N15)=2,\"Apenas dois preços comparativos válidos. \",\"\")),\"\",IF(COUNT(E15:N15)=2,\"Apenas dois preços comparativos válidos. \",\"\"))","v":""},{"$f":"IF(ISERROR(IF(COUNT(E15:N15)=1,\"Apenas um preço comparativo válido. \",\"\")),\"\",IF(COUNT(E15:N15)=1,\"Apenas um preço comparativo válido. \",\"\"))","v":""},{"$f":"IF(A15=\"\",\"\",IF(ISERROR(IF(COUNT(E15:N15)=0,\"Nenhum preço comparativo válido. \",\"\")),\"\",IF(COUNT(E15:N15)=0,\"Nenhum preço comparativo válido. \",\"\")))","v":""},{"$f":"IF(ISERROR(IF(R15>P15,(R15-P15)/P15,\"\")),\"\",IF(R15>P15,(R15-P15)/P15,\"\"))","v":""},{"$f":"IF(ISERROR(IF(BJ15=\"\",\"\",\"Neste item, o valor contratado pelo TJDFT é \"&TEXT(BJ15,\"0,00%\")&\" superior à média comparativa.\")),\"\",IF(BJ15=\"\",\"\",\"Neste item, o valor contratado pelo TJDFT é \"&TEXT(BJ15,\"0,00%\")&\" superior à média comparativa.\"))","v":""}]
[9,"SUCO DE FRUTAS","LITRO",364,6,8.53,null,10.3,null,null,null,null,null,null,{"$f":"IF(ISERROR(ROUND(AVERAGE(E16:N16),2)),\"\",ROUND(AVERAGE(E16:N16),2))","v":8.28},{"$f":"IF(ISERROR(ROUND(O16*D16,2)),\"\",ROUND(O16*D16,2))","v":3013.92},null,{"$f":"IF(A16=\"\",\"\",ROUND(Q16*D16,2))","v":0},null,null,{"$f":"IF(ISERROR(COUNTA(E16:N16)),\"\",COUNTA(E16:N16))","v":3},{"$f":"IF(ISERROR(COUNT(E16:N16)),\"\",COUNT(E16:N16))","v":3},{"$f":"IF(ISERROR(MIN(E16:N16)),\"\",MIN(E16:N16))","v":6},{"$f":"IF(ISERROR(MAX(E16:N16)),\"\",MAX(E16:N16))","v":10.3},{"$f":"IF(ISERROR(ROUND(AVERAGE(E16:N16),2)),\"\",ROUND(AVERAGE(E16:N16),2))","v":8.28},{"$f":"IF(ISERROR(MEDIAN(E16:N16)),\"\",MEDIAN(E16:N16))","v":8.53},{"$f":"IF(ISERROR(STDEV(E16:N16)),\"\",STDEV(E16:N16))","v":2.16116480938714},{"$f":"IF(ISERROR(AA16/Y16),\"\",AA16/Y16)","v":0.261010242679606},null,null,null,{"$f":"IF(COUNT(E16:N16)<1,\"\",SMALL(E16:N16,1))","v":6},{"$f":"IF(COUNT(E16:N16)<2,\"\",SMALL(E16:N16,2))","v":8.53},{"$f":"IF(COUNT(E16:N16)<3,\"\",SMALL(E16:N16,3))","v":10.3},{"$f":"IF(COUNT(E16:N16)<4,\"\",SMALL(E16:N16,4))","v":""},{"$f":"IF(COUNT(E16:N16)<5,\"\",SMALL(E16:N16,5))","v":""},{"$f":"IF(COUNT(E16:N16)<6,\"\",SMALL(E16:N16,6))","v":""},{"$f":"IF(COUNT(E16:N16)<3,\"\",AVERAGE(AF16:AH16))","v":8.27666666666667},{"$f":"IF(COUNT(E16:N16)<4,\"\",AVERAGE(AG16:AI16))","v":""},{"$f":"IF(COUNT(E16:N16)<5,\"\",AVERAGE(AH16:AJ16))","v":""},{"$f":"IF(COUNT(E16:N16)<6,\"\",AVERAGE(AI16:AK16))","v":""},null,{"$f":"IF(E16>=1000,TEXT(E16,\"0.000,00\"),TEXT(E16,\"0,00\"))","v":"6,00"},{"$f":"IF(F16>=1000,TEXT(F16,\"0.000,00\"),TEXT(F16,\"0,00\"))","v":"8,53"},{"$f":"IF(G16>=1000,TEXT(G16,\"0.000,00\"),TEXT(G16,\"0,00\"))","v":"0,00"},{"$f":"IF(H16>=1000,TEXT(H16,\"0.000,00\"),TEXT(H16,\"0,00\"))","v":"10,30"},{"$f":"IF(I16>=1000,TEXT(I16,\"0.000,00\"),TEXT(I16,\"0,00\"))","v":"0,00"},{"$f":"IF(J16>=1000,TEXT(J16,\"0.000,00\"),TEXT(J16,\"0,00\"))","v":"0,00"},{"$f":"IF(K16>=1000,TEXT(K16,\"0.000,00\"),TEXT(K16,\"0,00\"))","v":"0,00"},{"$f":"IF(L16>=1000,TEXT(L16,\"0.000,00\"),TEXT(L16,\"0,00\"))","v":"0,00"},{"$f":"IF(M16>=1000,TEXT(M16,\"0.000,00\"),TEXT(M16,\"0,00\"))","v":"0,00"},{"$f":"IF(N16>=1000,TEXT(N16,\"0.000,00\"),TEXT(N16,\"0,00\"))","v":"0,00"},null,{"$f":"IF(PREENCHER!AL16=\"\",#REF!,IF(PREENCHER!AM16=\"\",#REF!,IF(PREENCHER!AN16=\"\",#REF!,IF(STDEV(PREENCHER!$AF16:$AH16)/AVERAGE(PREENCHER!$AF16:$AH16)>#REF!,IF(STDEV(PREENCHER!$AG16:$AI16)/AVERAGE(PREENCHER!$AG16:$AI16)>#REF!,IF(STDEV(PREENCHER!$AH16:$AJ16)/AVERAGE(PREENCHER!$AH16:$AJ16)>#REF!,IF(STDEV(PREENCHER!$AI16:$AK16)/AVERAGE(PREENCHER!$AI16:$AK16)>#REF!,#REF!,AVERAGE(PREENCHER!$AI16:$AK16)),AVERAGE(PREENCHER!$AH16:$AJ16)),AVERAGE(PREENCHER!$AG16:$AI16)),AVERAGE(PREENCHER!$AF16:$AH16)))))","v":{"$error":"#REF!"}},{"$f":"IF(ISERROR(ROUND(BB16,2)),\"\",ROUND(BB16,2))","v":""},null,null,null,{"$f":"IF(ISERROR(IF(COUNT(E16:N16)=2,\"Apenas dois preços comparativos válidos. \",\"\")),\"\",IF(COUNT(E16:N16)=2,\"Apenas dois preços comparativos válidos. \",\"\"))","v":""},{"$f":"IF(ISERROR(IF(COUNT(E16:N16)=1,\"Apenas um preço comparativo válido. \",\"\")),\"\",IF(COUNT(E16:N16)=1,\"Apenas um preço comparativo válido. \",\"\"))","v":""},{"$f":"IF(A16=\"\",\"\",IF(ISERROR(IF(COUNT(E16:N16)=0,\"Nenhum preço comparativo válido. \",\"\")),\"\",IF(COUNT(E16:N16)=0,\"Nenhum preço comparativo válido. \",\"\")))","v":""},{"$f":"IF(ISERROR(IF(R16>P16,(R16-P16)/P16,\"\")),\"\",IF(R16>P16,(R16-P16)/P16,\"\"))","v":""},{"$f":"IF(ISERROR(IF(BJ16=\"\",\"\",\"Neste item, o valor contratado pelo TJDFT é \"&TEXT(BJ16,\"0,00%\")&\" superior à média comparativa.\")),\"\",IF(BJ16=\"\",\"\",\"Neste item, o valor contratado pelo TJDFT é \"&TEXT(BJ16,\"0,00%\")&\" superior à média comparativa.\"))","v":""}]
[10,"SALADA DE FRUTAS","UNIDADE (150 GRAMAS)",400,5,7.7,null,4.49,null,null,null,null,null,null,{"$f":"IF(ISERROR(ROUND(AVERAGE(E17:N17),2)),\"\",ROUND(AVERAGE(E17:N17),2))","v":5.73},{"$f":"IF(ISERROR(ROUND(O17*D17,2)),\"\",ROUND(O17*D17,2))","v":2292},null,{"$f":"IF(A17=\"\",\"\",ROUND(Q17*D17,2))","v":0},"Com relação a pesquisa 1 e 3 o valor foi proporcional a 150g.",null,{"$f":"IF(ISERROR(COUNTA(E17:N17)),\"\",COUNTA(E17:N17))","v":3},{"$f":"IF(ISERROR(COUNT(E17:N17)),\"\",COUNT(E17:N17))","v":3},{"$f":"IF(ISERROR(MIN(E17:N17)),\"\",MIN(E17:N17))","v":4.49},{"$f":"IF(ISERROR(MAX(E17:N17)),\"\",MAX(E17:N17))","v":7.7},{"$f":"IF(ISERROR(ROUND(AVERAGE(E17:N17),2)),\"\",ROUND(AVERAGE(E17:N17),2))","v":5.73},{"$f":"IF(ISERROR(MEDIAN(E17:N17)),\"\",MEDIAN(E17:N17))","v":5},{"$f":"IF(ISERROR(STDEV(E17:N17)),\"\",STDEV(E17:N17))","v":1.72502173899345},{"$f":"IF(ISERROR(AA17/Y17),\"\",AA17/Y17)","v":0.301050914309503},null,null,null,{"$f":"IF(COUNT(E17:N17)<1,\"\",SMALL(E17:N17,1))","v":4.49},{"$f":"IF(COUNT(E17:N17)<2,\"\",SMALL(E17:N17,2))","v":5},{"$f":"IF(COUNT(E17:N17)<3,\"\",SMALL(E17:N17,3))","v":7.7},{"$f":"IF(COUNT(E17:N17)<4,\"\",SMALL(E17:N17,4))","v":""},{"$f":"IF(COUNT(E17:N17)<5,\"\",SMALL(E17:N17,5))","v":""},{"$f":"IF(COUNT(E17:N17)<6,\"\",SMALL(E17:N17,6))","v":""},{"$f":"IF(COUNT(E17:N17)<3,\"\",AVERAGE(AF17:AH17))","v":5.73},{"$f":"IF(COUNT(E17:N17)<4,\"\",AVERAGE(AG17:AI17))","v":""},{"$f":"IF(COUNT(E17:N17)<5,\"\",AVERAGE(AH17:AJ17))","v":""},{"$f":"IF(COUNT(E17:N17)<6,\"\",AVERAGE(AI17:AK17))","v":""},null,{"$f":"IF(E17>=1000,TEXT(E17,\"0.000,00\"),TEXT(E17,\"0,00\"))","v":"5,00"},{"$f":"IF(F17>=1000,TEXT(F17,\"0.000,00\"),TEXT(F17,\"0,00\"))","v":"7,70"},{"$f":"IF(G17>=1000,TEXT(G17,\"0.000,00\"),TEXT(G17,\"0,00\"))","v":"0,00"},{"$f":"IF(H17>=1000,TEXT(H17,\"0.000,00\"),TEXT(H17,\"0,00\"))","v":"4,49"},{"$f":"IF(I17>=1000,TEXT(I17,\"0.000,00\"),TEXT(I17,\"0,00\"))","v":"0,00"},{"$f":"IF(J17>=1000,TEXT(J17,\"0.000,00\"),TEXT(J17,\"0,00\"))","v":"0,00"},{"$f":"IF(K17>=1000,TEXT(K17,\"0.000,00\"),TEXT(K17,\"0,00\"))","v":"0,00"},{"$f":"IF(L17>=1000,TEXT(L17,\"0.000,00\"),TEXT(L17,\"0,00\"))","v":"0,00"},{"$f":"IF(M17>=1000,TEXT(M17,\"0.000,00\"),TEXT(M17,\"0,00\"))","v":"0,00"},{"$f":"IF(N17>=1000,TEXT(N17,\"0.000,00\"),TEXT(N17,\"0,00\"))","v":"0,00"},null,{"$f":"IF(PREENCHER!AL17=\"\",#REF!,IF(PREENCHER!AM17=\"\",#REF!,IF(PREENCHER!AN17=\"\",#REF!,IF(STDEV(PREENCHER!$AF17:$AH17)/AVERAGE(PREENCHER!$AF17:$AH17)>#REF!,IF(STDEV(PREENCHER!$AG17:$AI17)/AVERAGE(PREENCHER!$AG17:$AI17)>#REF!,IF(STDEV(PREENCHER!$AH17:$AJ17)/AVERAGE(PREENCHER!$AH17:$AJ17)>#REF!,IF(STDEV(PREENCHER!$AI17:$AK17)/AVERAGE(PREENCHER!$AI17:$AK17)>#REF!,#REF!,AVERAGE(PREENCHER!$AI17:$AK17)),AVERAGE(PREENCHER!$AH17:$AJ17)),AVERAGE(PREENCHER!$AG17:$AI17)),AVERAGE(PREENCHER!$AF17:$AH17)))))","v":{"$error":"#REF!"}},{"$f":"IF(ISERROR(ROUND(BB17,2)),\"\",ROUND(BB17,2))","v":""},null,null,null,{"$f":"IF(ISERROR(IF(COUNT(E17:N17)=2,\"Apenas dois preços comparativos válidos. \",\"\")),\"\",IF(COUNT(E17:N17)=2,\"Apenas dois preços comparativos válidos. \",\"\"))","v":""},{"$f":"IF(ISERROR(IF(COUNT(E17:N17)=1,\"Apenas um preço comparativo válido. \",\"\")),\"\",IF(COUNT(E17:N17)=1,\"Apenas um preço comparativo válido. \",\"\"))","v":""},{"$f":"IF(A17=\"\",\"\",IF(ISERROR(IF(COUNT(E17:N17)=0,\"Nenhum preço comparativo válido. \",\"\")),\"\",IF(COUNT(E17:N17)=0,\"Nenhum preço comparativo válido. \",\"\")))","v":""},{"$f":"IF(ISERROR(IF(R17>P17,(R17-P17)/P17,\"\")),\"\",IF(R17>P17,(R17-P17)/P17,\"\"))","v":""},{"$f":"IF(ISERROR(IF(BJ17=\"\",\"\",\"Neste item, o valor contratado pelo TJDFT é \"&TEXT(BJ17,\"0,00%\")&\" superior à média comparativa.\")),\"\",IF(BJ17=\"\",\"\",\"Neste item, o valor contratado pelo TJDFT é \"&TEXT(BJ17,\"0,00%\")&\" superior à média comparativa.\"))","v":""}]
[11,"ENTREGAS","UNIDADE",30,9.9,19,null,7.5,null,null,null,null,null,null,{"$f":"IF(ISERROR(ROUND(AVERAGE(E18:N18),2)),\"\",ROUND(AVERAGE(E18:N18),2))","v":12.13},{"$f":"IF(ISERROR(ROUND(O18*D18,2)),\"\",ROUND(O18*D18,2))","v":363.9},null,{"$f":"IF(A18=\"\",\"\",ROUND(Q18*D18,2))","v":0},"Só foi encontrada entrega via motoboy",null,{"$f":"IF(ISERROR(COUNTA(E18:N18)),\"\",COUNTA(E18:N18))","v":3},{"$f":"IF(ISERROR(COUNT(E18:N18)),\"\",COUNT(E18:N18))","v":3},{"$f":"IF(ISERROR(MIN(E18:N18)),\"\",MIN(E18:N18))","v":7.5},{"$f":"IF(ISERROR(MAX(E18:N18)),\"\",MAX(E18:N18))","v":19},{"$f":"IF(ISERROR(ROUND(AVERAGE(E18:N18),2)),\"\",ROUND(AVERAGE(E18:N18),2))","v":12.13},{"$f":"IF(ISERROR(MEDIAN(E18:N18)),\"\",MEDIAN(E18:N18))","v":9.9},{"$f":"IF(ISERROR(STDEV(E18:N18)),\"\",STDEV(E18:N18))","v":6.06657509088393},{"$f":"IF(ISERROR(AA18/Y18),\"\",AA18/Y18)","v":0.500129850856053},null,null,null,{"$f":"IF(COUNT(E18:N18)<1,\"\",SMALL(E18:N18,1))","v":7.5},{"$f":"IF(COUNT(E18:N18)<2,\"\",SMALL(E18:N18,2))","v":9.9},{"$f":"IF(COUNT(E18:N18)<3,\"\",SMALL(E18:N18,3))","v":19},{"$f":"IF(COUNT(E18:N18)<4,\"\",SMALL(E18:N18,4))","v":""},{"$f":"IF(COUNT(E18:N18)<5,\"\",SMALL(E18:N18,5))","v":""},{"$f":"IF(COUNT(E18:N18)<6,\"\",SMALL(E18:N18,6))","v":""},{"$f":"IF(COUNT(E18:N18)<3,\"\",AVERAGE(AF18:AH18))","v":12.1333333333333},{"$f":"IF(COUNT(E18:N18)<4,\"\",AVERAGE(AG18:AI18))","v":""},{"$f":"IF(COUNT(E18:N18)<5,\"\",AVERAGE(AH18:AJ18))","v":""},{"$f":"IF(COUNT(E18:N18)<6,\"\",AVERAGE(AI18:AK18))","v":""},null,{"$f":"IF(E18>=1000,TEXT(E18,\"0.000,00\"),TEXT(E18,\"0,00\"))","v":"9,90"},{"$f":"IF(F18>=1000,TEXT(F18,\"0.000,00\"),TEXT(F18,\"0,00\"))","v":"19,00"},{"$f":"IF(G18>=1000,TEXT(G18,\"0.000,00\"),TEXT(G18,\"0,00\"))","v":"0,00"},{"$f":"IF(H18>=1000,TEXT(H18,\"0.000,00\"),TEXT(H18,\"0,00\"))","v":"7,50"},{"$f":"IF(I18>=1000,TEXT(I18,\"0.000,00\"),TEXT(I18,\"0,00\"))","v":"0,00"},{"$f":"IF(J18>=1000,TEXT(J18,\"0.000,00\"),TEXT(J18,\"0,00\"))","v":"0,00"},{"$f":"IF(K18>=1000,TEXT(K18,\"0.000,00\"),TEXT(K18,\"0,00\"))","v":"0,00"},{"$f":"IF(L18>=1000,TEXT(L18,\"0.000,00\"),TEXT(L18,\"0,00\"))","v":"0,00"},{"$f":"IF(M18>=1000,TEXT(M18,\"0.000,00\"),TEXT(M18,\"0,00\"))","v":"0,00"},{"$f":"IF(N18>=1000,TEXT(N18,\"0.000,00\"),TEXT(N18,\"0,00\"))","v":"0,00"},null,{"$f":"IF(PREENCHER!AL18=\"\",#REF!,IF(PREENCHER!AM18=\"\",#REF!,IF(PREENCHER!AN18=\"\",#REF!,IF(STDEV(PREENCHER!$AF18:$AH18)/AVERAGE(PREENCHER!$AF18:$AH18)>#REF!,IF(STDEV(PREENCHER!$AG18:$AI18)/AVERAGE(PREENCHER!$AG18:$AI18)>#REF!,IF(STDEV(PREENCHER!$AH18:$AJ18)/AVERAGE(PREENCHER!$AH18:$AJ18)>#REF!,IF(STDEV(PREENCHER!$AI18:$AK18)/AVERAGE(PREENCHER!$AI18:$AK18)>#REF!,#REF!,AVERAGE(PREENCHER!$AI18:$AK18)),AVERAGE(PREENCHER!$AH18:$AJ18)),AVERAGE(PREENCHER!$AG18:$AI18)),AVERAGE(PREENCHER!$AF18:$AH18)))))","v":{"$error":"#REF!"}},{"$f":"IF(ISERROR(ROUND(BB18,2)),\"\",ROUND(BB18,2))","v":""},null,null,null,{"$f":"IF(ISERROR(IF(COUNT(E18:N18)=2,\"Apenas dois preços comparativos válidos. \",\"\")),\"\",IF(COUNT(E18:N18)=2,\"Apenas dois preços comparativos válidos. \",\"\"))","v":""},{"$f":"IF(ISERROR(IF(COUNT(E18:N18)=1,\"Apenas um preço comparativo válido. \",\"\")),\"\",IF(COUNT(E18:N18)=1,\"Apenas um preço comparativo válido. \",\"\"))","v":""},{"$f":"IF(A18=\"\",\"\",IF(ISERROR(IF(COUNT(E18:N18)=0,\"Nenhum preço comparativo válido. \",\"\")),\"\",IF(COUNT(E18:N18)=0,\"Nenhum preço comparativo válido. \",\"\")))","v":""},{"$f":"IF(ISERROR(IF(R18>P18,(R18-P18)/P18,\"\")),\"\",IF(R18>P18,(R18-P18)/P18,\"\"))","v":""},{"$f":"IF(ISERROR(IF(BJ18=\"\",\"\",\"Neste item, o valor contratado pelo TJDFT é \"&TEXT(BJ18,\"0,00%\")&\" superior à média comparativa.\")),\"\",IF(BJ18=\"\",\"\",\"Neste item, o valor contratado pelo TJDFT é \"&TEXT(BJ18,\"0,00%\")&\" superior à média comparativa.\"))","v":""}]
[null,null,null,null,null,null,null,null,null,null,null,null,null,null,null,null,null,{"$f":"IF(A19=\"\",\"\",ROUND(Q19*D19,2))","v":""},{"$f":"IF(A19=\"\",\"\",CONCATENATE($BG19,$BH19,$BI19,$BK19))","v":""},null,{"$f":"IF(ISERROR(COUNTA(E19:N19)),\"\",COUNTA(E19:N19))","v":0},{"$f":"IF(ISERROR(COUNT(E19:N19)),\"\",COUNT(E19:N19))","v":0},{"$f":"IF(ISERROR(MIN(E19:N19)),\"\",MIN(E19:N19))","v":0},{"$f":"IF(ISERROR(MAX(E19:N19)),\"\",MAX(E19:N19))","v":0},{"$f":"IF(ISERROR(ROUND(AVERAGE(E19:N19),2)),\"\",ROUND(AVERAGE(E19:N19),2))","v":""},{"$f":"IF(ISERROR(MEDIAN(E19:N19)),\"\",MEDIAN(E19:N19))","v":""},{"$f":"IF(ISERROR(STDEV(E19:N19)),\"\",STDEV(E19:N19))","v":""},{"$f":"IF(ISERROR(AA19/Y19),\"\",AA19/Y19)","v":""},null,null,null,{"$f":"IF(COUNT(E19:N19)<1,\"\",SMALL(E19:N19,1))","v":""},{"$f":"IF(COUNT(E19:N19)<2,\"\",SMALL(E19:N19,2))","v":""},{"$f":"IF(COUNT(E19:N19)<3,\"\",SMALL(E19:N19,3))","v":""},{"$f":"IF(COUNT(E19:N19)<4,\"\",SMALL(E19:N19,4))","v":""},{"$f":"IF(COUNT(E19:N19)<5,\"\",SMALL(E19:N19,5))","v":""},{"$f":"IF(COUNT(E19:N19)<6,\"\",SMALL(E19:N19,6))","v":""},{"$f":"IF(COUNT(E19:N19)<3,\"\",AVERAGE(AF19:AH19))","v":""},{"$f":"IF(COUNT(E19:N19)<4,\"\",AVERAGE(AG19:AI19))","v":""},{"$f":"IF(COUNT(E19:N19)<5,\"\",AVERAGE(AH19:AJ19))","v":""},{"$f":"IF(COUNT(E19:N19)<6,\"\",AVERAGE(AI19:AK19))","v":""},null,{"$f":"IF(E19>=1000,TEXT(E19,\"0.000,00\"),TEXT(E19,\"0,00\"))","v":"0,00"},{"$f":"IF(F19>=1000,TEXT(F19,\"0.000,00\"),TEXT(F19,\"0,00\"))","v":"0,00"},{"$f":"IF(G19>=1000,TEXT(G19,\"0.000,00\"),TEXT(G19,\"0,00\"))","v":"0,00"},{"$f":"IF(H19>=1000,TEXT(H19,\"0.000,00\"),TEXT(H19,\"0,00\"))","v":"0,00"},{"$f":"IF(I19>=1000,TEXT(I19,\"0.000,00\"),TEXT(I19,\"0,00\"))","v":"0,00"},{"$f":"IF(J19>=1000,TEXT(J19,\"0.000,00\"),TEXT(J19,\"0,00\"))","v":"0,00"},{"$f":"IF(K19>=1000,TEXT(K19,\"0.000,00\"),TEXT(K19,\"0,00\"))","v":"0,00"},{"$f":"IF(L19>=1000,TEXT(L19,\"0.000,00\"),TEXT(L19,\"0,00\"))","v":"0,00"},{"$f":"IF(M19>=1000,TEXT(M19,\"0.000,00\"),TEXT(M19,\"0,00\"))","v":"0,00"},{"$f":"IF(N19>=1000,TEXT(N19,\"0.000,00\"),TEXT(N19,\"0,00\"))","v":"0,00"},null,{"$f":"IF(PREENCHER!AL19=\"\",#REF!,IF(PREENCHER!AM19=\"\",#REF!,IF(PREENCHER!AN19=\"\",#REF!,IF(STDEV(PREENCHER!$AF19:$AH19)/AVERAGE(PREENCHER!$AF19:$AH19)>#REF!,IF(STDEV(PREENCHER!$AG19:$AI19)/AVERAGE(PREENCHER!$AG19:$AI19)>#REF!,IF(STDEV(PREENCHER!$AH19:$AJ19)/AVERAGE(PREENCHER!$AH19:$AJ19)>#REF!,IF(STDEV(PREENCHER!$AI19:$AK19)/AVERAGE(PREENCHER!$AI19:$AK19)>#REF!,#REF!,AVERAGE(PREENCHER!$AI19:$AK19)),AVERAGE(PREENCHER!$AH19:$AJ19)),AVERAGE(PREENCHER!$AG19:$AI19)),AVERAGE(PREENCHER!$AF19:$AH19)))))","v":{"$error":"#REF!"}},{"$f":"IF(ISERROR(ROUND(BB19,2)),\"\",ROUND(BB19,2))","v":""},null,null,null,{"$f":"IF(ISERROR(IF(COUNT(E19:N19)=2,\"Apenas dois preços comparativos válidos. \",\"\")),\"\",IF(COUNT(E19:N19)=2,\"Apenas dois preços comparativos válidos. \",\"\"))","v":""},{"$f":"IF(ISERROR(IF(COUNT(E19:N19)=1,\"Apenas um preço comparativo válido. \",\"\")),\"\",IF(COUNT(E19:N19)=1,\"Apenas um preço comparativo válido. \",\"\"))","v":""},{"$f":"IF(A19=\"\",\"\",IF(ISERROR(IF(COUNT(E19:N19)=0,\"Nenhum preço comparativo válido. \",\"\")),\"\",IF(COUNT(E19:N19)=0,\"Nenhum preço comparativo válido. \",\"\")))","v":""},{"$f":"IF(ISERROR(IF(R19>P19,(R19-P19)/P19,\"\")),\"\",IF(R19>P19,(R19-P19)/P19,\"\"))","v":""},{"$f":"IF(ISERROR(IF(BJ19=\"\",\"\",\"Neste item, o valor contratado pelo TJDFT é \"&TEXT(BJ19,\"0,00%\")&\" superior à média comparativa.\")),\"\",IF(BJ19=\"\",\"\",\"Neste item, o valor contratado pelo TJDFT é \"&TEXT(BJ19,\"0,00%\")&\" superior à média comparativa.\"))","v":""}]
[null,null,null,null,null,null,null,null,null,null,null,null,null,null,{"$f":"IF(ISERROR(ROUND(AVERAGE(E20:N20),2)),\"\",ROUND(AVERAGE(E20:N20),2))","v":""},{"$f":"IF(ISERROR(ROUND(O20*D20,2)),\"\",ROUND(O20*D20,2))","v":""},null,{"$f":"IF(A20=\"\",\"\",ROUND(Q20*D20,2))","v":""},{"$f":"IF(A20=\"\",\"\",CONCATENATE($BG20,$BH20,$BI20,$BK20))","v":""},null,{"$f":"IF(ISERROR(COUNTA(E20:N20)),\"\",COUNTA(E20:N20))","v":0},{"$f":"IF(ISERROR(COUNT(E20:N20)),\"\",COUNT(E20:N20))","v":0},{"$f":"IF(ISERROR(MIN(E20:N20)),\"\",MIN(E20:N20))","v":0},{"$f":"IF(ISERROR(MAX(E20:N20)),\"\",MAX(E20:N20))","v":0},{"$f":"IF(ISERROR(ROUND(AVERAGE(E20:N20),2)),\"\",ROUND(AVERAGE(E20:N20),2))","v":""},{"$f":"IF(ISERROR(MEDIAN(E20:N20)),\"\",MEDIAN(E20:N20))","v":""},{"$f":"IF(ISERROR(STDEV(E20:N20)),\"\",STDEV(E20:N20))","v":""},{"$f":"IF(ISERROR(AA20/Y20),\"\",AA20/Y20)","v":""},null,null,null,{"$f":"IF(COUNT(E20:N20)<1,\"\",SMALL(E20:N20,1))","v":""},{"$f":"IF(COUNT(E20:N20)<2,\"\",SMALL(E20:N20,2))","v":""},{"$f":"IF(COUNT(E20:N20)<3,\"\",SMALL(E20:N20,3))","v":""},{"$f":"IF(COUNT(E20:N20)<4,\"\",SMALL(E20:N20,4))","v":""},{"$f":"IF(COUNT(E20:N20)<5,\"\",SMALL(E20:N20,5))","v":""},{"$f":"IF(COUNT(E20:N20)<6,\"\",SMALL(E20:N20,6))","v":""},{"$f":"IF(COUNT(E20:N20)<3,\"\",AVERAGE(AF20:AH20))","v":""},{"$f":"IF(COUNT(E20:N20)<4,\"\",AVERAGE(AG20:AI20))","v":""},{"$f":"IF(COUNT(E20:N20)<5,\"\",AVERAGE(AH20:AJ20))","v":""},{"$f":"IF(COUNT(E20:N20)<6,\"\",AVERAGE(AI20:AK20))","v":""},null,{"$f":"IF(E20>=1000,TEXT(E20,\"0.000,00\"),TEXT(E20,\"0,00\"))","v":"0,00"},{"$f":"IF(F20>=1000,TEXT(F20,\"0.000,00\"),TEXT(F20,\"0,00\"))","v":"0,00"},{"$f":"IF(G20>=1000,TEXT(G20,\"0.000,00\"),TEXT(G20,\"0,00\"))","v":"0,00"},{"$f":"IF(H20>=1000,TEXT(H20,\"0.000,00\"),TEXT(H20,\"0,00\"))","v":"0,00"},{"$f":"IF(I20>=1000,TEXT(I20,\"0.000,00\"),TEXT(I20,\"0,00\"))","v":"0,00"},{"$f":"IF(J20>=1000,TEXT(J20,\"0.000,00\"),TEXT(J20,\"0,00\"))","v":"0,00"},{"$f":"IF(K20>=1000,TEXT(K20,\"0.000,00\"),TEXT(K20,\"0,00\"))","v":"0,00"},{"$f":"IF(L20>=1000,TEXT(L20,\"0.000,00\"),TEXT(L20,\"0,00\"))","v":"0,00"},{"$f":"IF(M20>=1000,TEXT(M20,\"0.000,00\"),TEXT(M20,\"0,00\"))","v":"0,00"},{"$f":"IF(N20>=1000,TEXT(N20,\"0.000,00\"),TEXT(N20,\"0,00\"))","v":"0,00"},null,{"$f":"IF(PREENCHER!AL20=\"\",#REF!,IF(PREENCHER!AM20=\"\",#REF!,IF(PREENCHER!AN20=\"\",#REF!,IF(STDEV(PREENCHER!$AF20:$AH20)/AVERAGE(PREENCHER!$AF20:$AH20)>#REF!,IF(STDEV(PREENCHER!$AG20:$AI20)/AVERAGE(PREENCHER!$AG20:$AI20)>#REF!,IF(STDEV(PREENCHER!$AH20:$AJ20)/AVERAGE(PREENCHER!$AH20:$AJ20)>#REF!,IF(STDEV(PREENCHER!$AI20:$AK20)/AVERAGE(PREENCHER!$AI20:$AK20)>#REF!,#REF!,AVERAGE(PREENCHER!$AI20:$AK20)),AVERAGE(PREENCHER!$AH20:$AJ20)),AVERAGE(PREENCHER!$AG20:$AI20)),AVERAGE(PREENCHER!$AF20:$AH20)))))","v":{"$error":"#REF!"}},{"$f":"IF(ISERROR(ROUND(BB20,2)),\"\",ROUND(BB20,2))","v":""},null,null,null,{"$f":"IF(ISERROR(IF(COUNT(E20:N20)=2,\"Apenas dois preços comparativos válidos. \",\"\")),\"\",IF(COUNT(E20:N20)=2,\"Apenas dois preços comparativos válidos. \",\"\"))","v":""},{"$f":"IF(ISERROR(IF(COUNT(E20:N20)=1,\"Apenas um preço comparativo válido. \",\"\")),\"\",IF(COUNT(E20:N20)=1,\"Apenas um preço comparativo válido. \",\"\"))","v":""},{"$f":"IF(A20=\"\",\"\",IF(ISERROR(IF(COUNT(E20:N20)=0,\"Nenhum preço comparativo válido. \",\"\")),\"\",IF(COUNT(E20:N20)=0,\"Nenhum preço comparativo válido. \",\"\")))","v":""},{"$f":"IF(ISERROR(IF(R20>P20,(R20-P20)/P20,\"\")),\"\",IF(R20>P20,(R20-P20)/P20,\"\"))","v":""},{"$f":"IF(ISERROR(IF(BJ20=\"\",\"\",\"Neste item, o valor contratado pelo TJDFT é \"&TEXT(BJ20,\"0,00%\")&\" superior à média comparativa.\")),\"\",IF(BJ20=\"\",\"\",\"Neste item, o valor contratado pelo TJDFT é \"&TEXT(BJ20,\"0,00%\")&\" superior à média comparativa.\"))","v":""}]
[null,null,null,null,null,null,null,null,null,null,null,null,null,null,{"$f":"IF(ISERROR(ROUND(AVERAGE(E21:N21),2)),\"\",ROUND(AVERAGE(E21:N21),2))","v":""},{"$f":"IF(ISERROR(ROUND(O21*D21,2)),\"\",ROUND(O21*D21,2))","v":""},null,{"$f":"IF(A21=\"\",\"\",ROUND(Q21*D21,2))","v":""},{"$f":"IF(A21=\"\",\"\",CONCATENATE($BG21,$BH21,$BI21,$BK21))","v":""},null,{"$f":"IF(ISERROR(COUNTA(E21:N21)),\"\",COUNTA(E21:N21))","v":0},{"$f":"IF(ISERROR(COUNT(E21:N21)),\"\",COUNT(E21:N21))","v":0},{"$f":"IF(ISERROR(MIN(E21:N21)),\"\",MIN(E21:N21))","v":0},{"$f":"IF(ISERROR(MAX(E21:N21)),\"\",MAX(E21:N21))","v":0},{"$f":"IF(ISERROR(ROUND(AVERAGE(E21:N21),2)),\"\",ROUND(AVERAGE(E21:N21),2))","v":""},{"$f":"IF(ISERROR(MEDIAN(E21:N21)),\"\",MEDIAN(E21:N21))","v":""},{"$f":"IF(ISERROR(STDEV(E21:N21)),\"\",STDEV(E21:N21))","v":""},{"$f":"IF(ISERROR(AA21/Y21),\"\",AA21/Y21)","v":""},null,null,null,{"$f":"IF(COUNT(E21:N21)<1,\"\",SMALL(E21:N21,1))","v":""},{"$f":"IF(COUNT(E21:N21)<2,\"\",SMALL(E21:N21,2))","v":""},{"$f":"IF(COUNT(E21:N21)<3,\"\",SMALL(E21:N21,3))","v":""},{"$f":"IF(COUNT(E21:N21)<4,\"\",SMALL(E21:N21,4))","v":""},{"$f":"IF(COUNT(E21:N21)<5,\"\",SMALL(E21:N21,5))","v":""},{"$f":"IF(COUNT(E21:N21)<6,\"\",SMALL(E21:N21,6))","v":""},{"$f":"IF(COUNT(E21:N21)<3,\"\",AVERAGE(AF21:AH21))","v":""},{"$f":"IF(COUNT(E21:N21)<4,\"\",AVERAGE(AG21:AI21))","v":""},{"$f":"IF(COUNT(E21:N21)<5,\"\",AVERAGE(AH21:AJ21))","v":""},{"$f":"IF(COUNT(E21:N21)<6,\"\",AVERAGE(AI21:AK21))","v":""},null,{"$f":"IF(E21>=1000,TEXT(E21,\"0.000,00\"),TEXT(E21,\"0,00\"))","v":"0,00"},{"$f":"IF(F21>=1000,TEXT(F21,\"0.000,00\"),TEXT(F21,\"0,00\"))","v":"0,00"},{"$f":"IF(G21>=1000,TEXT(G21,\"0.000,00\"),TEXT(G21,\"0,00\"))","v":"0,00"},{"$f":"IF(H21>=1000,TEXT(H21,\"0.000,00\"),TEXT(H21,\"0,00\"))","v":"0,00"},{"$f":"IF(I21>=1000,TEXT(I21,\"0.000,00\"),TEXT(I21,\"0,00\"))","v":"0,00"},{"$f":"IF(J21>=1000,TEXT(J21,\"0.000,00\"),TEXT(J21,\"0,00\"))","v":"0,00"},{"$f":"IF(K21>=1000,TEXT(K21,\"0.000,00\"),TEXT(K21,\"0,00\"))","v":"0,00"},{"$f":"IF(L21>=1000,TEXT(L21,\"0.000,00\"),TEXT(L21,\"0,00\"))","v":"0,00"},{"$f":"IF(M21>=1000,TEXT(M21,\"0.000,00\"),TEXT(M21,\"0,00\"))","v":"0,00"},{"$f":"IF(N21>=1000,TEXT(N21,\"0.000,00\"),TEXT(N21,\"0,00\"))","v":"0,00"},null,{"$f":"IF(PREENCHER!AL21=\"\",#REF!,IF(PREENCHER!AM21=\"\",#REF!,IF(PREENCHER!AN21=\"\",#REF!,IF(STDEV(PREENCHER!$AF21:$AH21)/AVERAGE(PREENCHER!$AF21:$AH21)>#REF!,IF(STDEV(PREENCHER!$AG21:$AI21)/AVERAGE(PREENCHER!$AG21:$AI21)>#REF!,IF(STDEV(PREENCHER!$AH21:$AJ21)/AVERAGE(PREENCHER!$AH21:$AJ21)>#REF!,IF(STDEV(PREENCHER!$AI21:$AK21)/AVERAGE(PREENCHER!$AI21:$AK21)>#REF!,#REF!,AVERAGE(PREENCHER!$AI21:$AK21)),AVERAGE(PREENCHER!$AH21:$AJ21)),AVERAGE(PREENCHER!$AG21:$AI21)),AVERAGE(PREENCHER!$AF21:$AH21)))))","v":{"$error":"#REF!"}},{"$f":"IF(ISERROR(ROUND(BB21,2)),\"\",ROUND(BB21,2))","v":""},null,null,null,{"$f":"IF(ISERROR(IF(COUNT(E21:N21)=2,\"Apenas dois preços comparativos válidos. \",\"\")),\"\",IF(COUNT(E21:N21)=2,\"Apenas dois preços comparativos válidos. \",\"\"))","v":""},{"$f":"IF(ISERROR(IF(COUNT(E21:N21)=1,\"Apenas um preço comparativo válido. \",\"\")),\"\",IF(COUNT(E21:N21)=1,\"Apenas um preço comparativo válido. \",\"\"))","v":""},{"$f":"IF(A21=\"\",\"\",IF(ISERROR(IF(COUNT(E21:N21)=0,\"Nenhum preço comparativo válido. \",\"\")),\"\",IF(COUNT(E21:N21)=0,\"Nenhum preço comparativo válido. \",\"\")))","v":""},{"$f":"IF(ISERROR(IF(R21>P21,(R21-P21)/P21,\"\")),\"\",IF(R21>P21,(R21-P21)/P21,\"\"))","v":""},{"$f":"IF(ISERROR(IF(BJ21=\"\",\"\",\"Neste item, o valor contratado pelo TJDFT é \"&TEXT(BJ21,\"0,00%\")&\" superior à média comparativa.\")),\"\",IF(BJ21=\"\",\"\",\"Neste item, o valor contratado pelo TJDFT é \"&TEXT(BJ21,\"0,00%\")&\" superior à média comparativa.\"))","v":""}]
[null,null,null,null,null,null,null,null,null,null,null,null,null,null,{"$f":"IF(ISERROR(ROUND(AVERAGE(E22:N22),2)),\"\",ROUND(AVERAGE(E22:N22),2))","v":""},{"$f":"IF(ISERROR(ROUND(O22*D22,2)),\"\",ROUND(O22*D22,2))","v":""},null,{"$f":"IF(A22=\"\",\"\",ROUND(Q22*D22,2))","v":""},{"$f":"IF(A22=\"\",\"\",CONCATENATE($BG22,$BH22,$BI22,$BK22))","v":""},null,{"$f":"IF(ISERROR(COUNTA(E22:N22)),\"\",COUNTA(E22:N22))","v":0},{"$f":"IF(ISERROR(COUNT(E22:N22)),\"\",COUNT(E22:N22))","v":0},{"$f":"IF(ISERROR(MIN(E22:N22)),\"\",MIN(E22:N22))","v":0},{"$f":"IF(ISERROR(MAX(E22:N22)),\"\",MAX(E22:N22))","v":0},{"$f":"IF(ISERROR(ROUND(AVERAGE(E22:N22),2)),\"\",ROUND(AVERAGE(E22:N22),2))","v":""},{"$f":"IF(ISERROR(MEDIAN(E22:N22)),\"\",MEDIAN(E22:N22))","v":""},{"$f":"IF(ISERROR(STDEV(E22:N22)),\"\",STDEV(E22:N22))","v":""},{"$f":"IF(ISERROR(AA22/Y22),\"\",AA22/Y22)","v":""},null,null,null,{"$f":"IF(COUNT(E22:N22)<1,\"\",SMALL(E22:N22,1))","v":""},{"$f":"IF(COUNT(E22:N22)<2,\"\",SMALL(E22:N22,2))","v":""},{"$f":"IF(COUNT(E22:N22)<3,\"\",SMALL(E22:N22,3))","v":""},{"$f":"IF(COUNT(E22:N22)<4,\"\",SMALL(E22:N22,4))","v":""},{"$f":"IF(COUNT(E22:N22)<5,\"\",SMALL(E22:N22,5))","v":""},{"$f":"IF(COUNT(E22:N22)<6,\"\",SMALL(E22:N22,6))","v":""},{"$f":"IF(COUNT(E22:N22)<3,\"\",AVERAGE(AF22:AH22))","v":""},{"$f":"IF(COUNT(E22:N22)<4,\"\",AVERAGE(AG22:AI22))","v":""},{"$f":"IF(COUNT(E22:N22)<5,\"\",AVERAGE(AH22:AJ22))","v":""},{"$f":"IF(COUNT(E22:N22)<6,\"\",AVERAGE(AI22:AK22))","v":""},null,{"$f":"IF(E22>=1000,TEXT(E22,\"0.000,00\"),TEXT(E22,\"0,00\"))","v":"0,00"},{"$f":"IF(F22>=1000,TEXT(F22,\"0.000,00\"),TEXT(F22,\"0,00\"))","v":"0,00"},{"$f":"IF(G22>=1000,TEXT(G22,\"0.000,00\"),TEXT(G22,\"0,00\"))","v":"0,00"},{"$f":"IF(H22>=1000,TEXT(H22,\"0.000,00\"),TEXT(H22,\"0,00\"))","v":"0,00"},{"$f":"IF(I22>=1000,TEXT(I22,\"0.000,00\"),TEXT(I22,\"0,00\"))","v":"0,00"},{"$f":"IF(J22>=1000,TEXT(J22,\"0.000,00\"),TEXT(J22,\"0,00\"))","v":"0,00"},{"$f":"IF(K22>=1000,TEXT(K22,\"0.000,00\"),TEXT(K22,\"0,00\"))","v":"0,00"},{"$f":"IF(L22>=1000,TEXT(L22,\"0.000,00\"),TEXT(L22,\"0,00\"))","v":"0,00"},{"$f":"IF(M22>=1000,TEXT(M22,\"0.000,00\"),TEXT(M22,\"0,00\"))","v":"0,00"},{"$f":"IF(N22>=1000,TEXT(N22,\"0.000,00\"),TEXT(N22,\"0,00\"))","v":"0,00"},null,{"$f":"IF(PREENCHER!AL22=\"\",#REF!,IF(PREENCHER!AM22=\"\",#REF!,IF(PREENCHER!AN22=\"\",#REF!,IF(STDEV(PREENCHER!$AF22:$AH22)/AVERAGE(PREENCHER!$AF22:$AH22)>#REF!,IF(STDEV(PREENCHER!$AG22:$AI22)/AVERAGE(PREENCHER!$AG22:$AI22)>#REF!,IF(STDEV(PREENCHER!$AH22:$AJ22)/AVERAGE(PREENCHER!$AH22:$AJ22)>#REF!,IF(STDEV(PREENCHER!$AI22:$AK22)/AVERAGE(PREENCHER!$AI22:$AK22)>#REF!,#REF!,AVERAGE(PREENCHER!$AI22:$AK22)),AVERAGE(PREENCHER!$AH22:$AJ22)),AVERAGE(PREENCHER!$AG22:$AI22)),AVERAGE(PREENCHER!$AF22:$AH22)))))","v":{"$error":"#REF!"}},{"$f":"IF(ISERROR(ROUND(BB22,2)),\"\",ROUND(BB22,2))","v":""},null,null,null,{"$f":"IF(ISERROR(IF(COUNT(E22:N22)=2,\"Apenas dois preços comparativos válidos. \",\"\")),\"\",IF(COUNT(E22:N22)=2,\"Apenas dois preços comparativos válidos. \",\"\"))","v":""},{"$f":"IF(ISERROR(IF(COUNT(E22:N22)=1,\"Apenas um preço comparativo válido. \",\"\")),\"\",IF(COUNT(E22:N22)=1,\"Apenas um preço comparativo válido. \",\"\"))","v":""},{"$f":"IF(A22=\"\",\"\",IF(ISERROR(IF(COUNT(E22:N22)=0,\"Nenhum preço comparativo válido. \",\"\")),\"\",IF(COUNT(E22:N22)=0,\"Nenhum preço comparativo válido. \",\"\")))","v":""},{"$f":"IF(ISERROR(IF(R22>P22,(R22-P22)/P22,\"\")),\"\",IF(R22>P22,(R22-P22)/P22,\"\"))","v":""},{"$f":"IF(ISERROR(IF(BJ22=\"\",\"\",\"Neste item, o valor contratado pelo TJDFT é \"&TEXT(BJ22,\"0,00%\")&\" superior à média comparativa.\")),\"\",IF(BJ22=\"\",\"\",\"Neste item, o valor contratado pelo TJDFT é \"&TEXT(BJ22,\"0,00%\")&\" superior à média comparativa.\"))","v":""}]
[null,null,null,null,null,null,null,null,null,null,null,null,null,null,{"$f":"IF(ISERROR(ROUND(AVERAGE(E23:N23),2)),\"\",ROUND(AVERAGE(E23:N23),2))","v":""},{"$f":"IF(ISERROR(ROUND(O23*D23,2)),\"\",ROUND(O23*D23,2))","v":""},null,{"$f":"IF(A23=\"\",\"\",ROUND(Q23*D23,2))","v":""},{"$f":"IF(A23=\"\",\"\",CONCATENATE($BG23,$BH23,$BI23,$BK23))","v":""},null,{"$f":"IF(ISERROR(COUNTA(E23:N23)),\"\",COUNTA(E23:N23))","v":0},{"$f":"IF(ISERROR(COUNT(E23:N23)),\"\",COUNT(E23:N23))","v":0},{"$f":"IF(ISERROR(MIN(E23:N23)),\"\",MIN(E23:N23))","v":0},{"$f":"IF(ISERROR(MAX(E23:N23)),\"\",MAX(E23:N23))","v":0},{"$f":"IF(ISERROR(ROUND(AVERAGE(E23:N23),2)),\"\",ROUND(AVERAGE(E23:N23),2))","v":""},{"$f":"IF(ISERROR(MEDIAN(E23:N23)),\"\",MEDIAN(E23:N23))","v":""},{"$f":"IF(ISERROR(STDEV(E23:N23)),\"\",STDEV(E23:N23))","v":""},{"$f":"IF(ISERROR(AA23/Y23),\"\",AA23/Y23)","v":""},null,null,null,{"$f":"IF(COUNT(E23:N23)<1,\"\",SMALL(E23:N23,1))","v":""},{"$f":"IF(COUNT(E23:N23)<2,\"\",SMALL(E23:N23,2))","v":""},{"$f":"IF(COUNT(E23:N23)<3,\"\",SMALL(E23:N23,3))","v":""},{"$f":"IF(COUNT(E23:N23)<4,\"\",SMALL(E23:N23,4))","v":""},{"$f":"IF(COUNT(E23:N23)<5,\"\",SMALL(E23:N23,5))","v":""},{"$f":"IF(COUNT(E23:N23)<6,\"\",SMALL(E23:N23,6))","v":""},{"$f":"IF(COUNT(E23:N23)<3,\"\",AVERAGE(AF23:AH23))","v":""},{"$f":"IF(COUNT(E23:N23)<4,\"\",AVERAGE(AG23:AI23))","v":""},{"$f":"IF(COUNT(E23:N23)<5,\"\",AVERAGE(AH23:AJ23))","v":""},{"$f":"IF(COUNT(E23:N23)<6,\"\",AVERAGE(AI23:AK23))","v":""},null,{"$f":"IF(E23>=1000,TEXT(E23,\"0.000,00\"),TEXT(E23,\"0,00\"))","v":"0,00"},{"$f":"IF(F23>=1000,TEXT(F23,\"0.000,00\"),TEXT(F23,\"0,00\"))","v":"0,00"},{"$f":"IF(G23>=1000,TEXT(G23,\"0.000,00\"),TEXT(G23,\"0,00\"))","v":"0,00"},{"$f":"IF(H23>=1000,TEXT(H23,\"0.000,00\"),TEXT(H23,\"0,00\"))","v":"0,00"},{"$f":"IF(I23>=1000,TEXT(I23,\"0.000,00\"),TEXT(I23,\"0,00\"))","v":"0,00"},{"$f":"IF(J23>=1000,TEXT(J23,\"0.000,00\"),TEXT(J23,\"0,00\"))","v":"0,00"},{"$f":"IF(K23>=1000,TEXT(K23,\"0.000,00\"),TEXT(K23,\"0,00\"))","v":"0,00"},{"$f":"IF(L23>=1000,TEXT(L23,\"0.000,00\"),TEXT(L23,\"0,00\"))","v":"0,00"},{"$f":"IF(M23>=1000,TEXT(M23,\"0.000,00\"),TEXT(M23,\"0,00\"))","v":"0,00"},{"$f":"IF(N23>=1000,TEXT(N23,\"0.000,00\"),TEXT(N23,\"0,00\"))","v":"0,00"},null,{"$f":"IF(PREENCHER!AL23=\"\",#REF!,IF(PREENCHER!AM23=\"\",#REF!,IF(PREENCHER!AN23=\"\",#REF!,IF(STDEV(PREENCHER!$AF23:$AH23)/AVERAGE(PREENCHER!$AF23:$AH23)>#REF!,IF(STDEV(PREENCHER!$AG23:$AI23)/AVERAGE(PREENCHER!$AG23:$AI23)>#REF!,IF(STDEV(PREENCHER!$AH23:$AJ23)/AVERAGE(PREENCHER!$AH23:$AJ23)>#REF!,IF(STDEV(PREENCHER!$AI23:$AK23)/AVERAGE(PREENCHER!$AI23:$AK23)>#REF!,#REF!,AVERAGE(PREENCHER!$AI23:$AK23)),AVERAGE(PREENCHER!$AH23:$AJ23)),AVERAGE(PREENCHER!$AG23:$AI23)),AVERAGE(PREENCHER!$AF23:$AH23)))))","v":{"$error":"#REF!"}},{"$f":"IF(ISERROR(ROUND(BB23,2)),\"\",ROUND(BB23,2))","v":""},null,null,null,{"$f":"IF(ISERROR(IF(COUNT(E23:N23)=2,\"Apenas dois preços comparativos válidos. \",\"\")),\"\",IF(COUNT(E23:N23)=2,\"Apenas dois preços comparativos válidos. \",\"\"))","v":""},{"$f":"IF(ISERROR(IF(COUNT(E23:N23)=1,\"Apenas um preço comparativo válido. \",\"\")),\"\",IF(COUNT(E23:N23)=1,\"Apenas um preço comparativo válido. \",\"\"))","v":""},{"$f":"IF(A23=\"\",\"\",IF(ISERROR(IF(COUNT(E23:N23)=0,\"Nenhum preço comparativo válido. \",\"\")),\"\",IF(COUNT(E23:N23)=0,\"Nenhum preço comparativo válido. \",\"\")))","v":""},{"$f":"IF(ISERROR(IF(R23>P23,(R23-P23)/P23,\"\")),\"\",IF(R23>P23,(R23-P23)/P23,\"\"))","v":""},{"$f":"IF(ISERROR(IF(BJ23=\"\",\"\",\"Neste item, o valor contratado pelo TJDFT é \"&TEXT(BJ23,\"0,00%\")&\" superior à média comparativa.\")),\"\",IF(BJ23=\"\",\"\",\"Neste item, o valor contratado pelo TJDFT é \"&TEXT(BJ23,\"0,00%\")&\" superior à média comparativa.\"))","v":""}]
[null,null,null,null,null,null,null,null,null,null,null,null,null,null,{"$f":"IF(ISERROR(ROUND(AVERAGE(E24:N24),2)),\"\",ROUND(AVERAGE(E24:N24),2))","v":""},{"$f":"IF(ISERROR(ROUND(O24*D24,2)),\"\",ROUND(O24*D24,2))","v":""},null,{"$f":"IF(A24=\"\",\"\",ROUND(Q24*D24,2))","v":""},{"$f":"IF(A24=\"\",\"\",CONCATENATE($BG24,$BH24,$BI24,$BK24))","v":""},null,{"$f":"IF(ISERROR(COUNTA(E24:N24)),\"\",COUNTA(E24:N24))","v":0},{"$f":"IF(ISERROR(COUNT(E24:N24)),\"\",COUNT(E24:N24))","v":0},{"$f":"IF(ISERROR(MIN(E24:N24)),\"\",MIN(E24:N24))","v":0},{"$f":"IF(ISERROR(MAX(E24:N24)),\"\",MAX(E24:N24))","v":0},{"$f":"IF(ISERROR(ROUND(AVERAGE(E24:N24),2)),\"\",ROUND(AVERAGE(E24:N24),2))","v":""},{"$f":"IF(ISERROR(MEDIAN(E24:N24)),\"\",MEDIAN(E24:N24))","v":""},{"$f":"IF(ISERROR(STDEV(E24:N24)),\"\",STDEV(E24:N24))","v":""},{"$f":"IF(ISERROR(AA24/Y24),\"\",AA24/Y24)","v":""},null,null,null,{"$f":"IF(COUNT(E24:N24)<1,\"\",SMALL(E24:N24,1))","v":""},{"$f":"IF(COUNT(E24:N24)<2,\"\",SMALL(E24:N24,2))","v":""},{"$f":"IF(COUNT(E24:N24)<3,\"\",SMALL(E24:N24,3))","v":""},{"$f":"IF(COUNT(E24:N24)<4,\"\",SMALL(E24:N24,4))","v":""},{"$f":"IF(COUNT(E24:N24)<5,\"\",SMALL(E24:N24,5))","v":""},{"$f":"IF(COUNT(E24:N24)<6,\"\",SMALL(E24:N24,6))","v":""},{"$f":"IF(COUNT(E24:N24)<3,\"\",AVERAGE(AF24:AH24))","v":""},{"$f":"IF(COUNT(E24:N24)<4,\"\",AVERAGE(AG24:AI24))","v":""},{"$f":"IF(COUNT(E24:N24)<5,\"\",AVERAGE(AH24:AJ24))","v":""},{"$f":"IF(COUNT(E24:N24)<6,\"\",AVERAGE(AI24:AK24))","v":""},null,{"$f":"IF(E24>=1000,TEXT(E24,\"0.000,00\"),TEXT(E24,\"0,00\"))","v":"0,00"},{"$f":"IF(F24>=1000,TEXT(F24,\"0.000,00\"),TEXT(F24,\"0,00\"))","v":"0,00"},{"$f":"IF(G24>=1000,TEXT(G24,\"0.000,00\"),TEXT(G24,\"0,00\"))","v":"0,00"},{"$f":"IF(H24>=1000,TEXT(H24,\"0.000,00\"),TEXT(H24,\"0,00\"))","v":"0,00"},{"$f":"IF(I24>=1000,TEXT(I24,\"0.000,00\"),TEXT(I24,\"0,00\"))","v":"0,00"},{"$f":"IF(J24>=1000,TEXT(J24,\"0.000,00\"),TEXT(J24,\"0,00\"))","v":"0,00"},{"$f":"IF(K24>=1000,TEXT(K24,\"0.000,00\"),TEXT(K24,\"0,00\"))","v":"0,00"},{"$f":"IF(L24>=1000,TEXT(L24,\"0.000,00\"),TEXT(L24,\"0,00\"))","v":"0,00"},{"$f":"IF(M24>=1000,TEXT(M24,\"0.000,00\"),TEXT(M24,\"0,00\"))","v":"0,00"},{"$f":"IF(N24>=1000,TEXT(N24,\"0.000,00\"),TEXT(N24,\"0,00\"))","v":"0,00"},null,{"$f":"IF(PREENCHER!AL24=\"\",#REF!,IF(PREENCHER!AM24=\"\",#REF!,IF(PREENCHER!AN24=\"\",#REF!,IF(STDEV(PREENCHER!$AF24:$AH24)/AVERAGE(PREENCHER!$AF24:$AH24)>#REF!,IF(STDEV(PREENCHER!$AG24:$AI24)/AVERAGE(PREENCHER!$AG24:$AI24)>#REF!,IF(STDEV(PREENCHER!$AH24:$AJ24)/AVERAGE(PREENCHER!$AH24:$AJ24)>#REF!,IF(STDEV(PREENCHER!$AI24:$AK24)/AVERAGE(PREENCHER!$AI24:$AK24)>#REF!,#REF!,AVERAGE(PREENCHER!$AI24:$AK24)),AVERAGE(PREENCHER!$AH24:$AJ24)),AVERAGE(PREENCHER!$AG24:$AI24)),AVERAGE(PREENCHER!$AF24:$AH24)))))","v":{"$error":"#REF!"}},{"$f":"IF(ISERROR(ROUND(BB24,2)),\"\",ROUND(BB24,2))","v":""},null,null,null,{"$f":"IF(ISERROR(IF(COUNT(E24:N24)=2,\"Apenas dois preços comparativos válidos. \",\"\")),\"\",IF(COUNT(E24:N24)=2,\"Apenas dois preços comparativos válidos. \",\"\"))","v":""},{"$f":"IF(ISERROR(IF(COUNT(E24:N24)=1,\"Apenas um preço comparativo válido. \",\"\")),\"\",IF(COUNT(E24:N24)=1,\"Apenas um preço comparativo válido. \",\"\"))","v":""},{"$f":"IF(A24=\"\",\"\",IF(ISERROR(IF(COUNT(E24:N24)=0,\"Nenhum preço comparativo válido. \",\"\")),\"\",IF(COUNT(E24:N24)=0,\"Nenhum preço comparativo válido. \",\"\")))","v":""},{"$f":"IF(ISERROR(IF(R24>P24,(R24-P24)/P24,\"\")),\"\",IF(R24>P24,(R24-P24)/P24,\"\"))","v":""},{"$f":"IF(ISERROR(IF(BJ24=\"\",\"\",\"Neste item, o valor contratado pelo TJDFT é \"&TEXT(BJ24,\"0,00%\")&\" superior à média comparativa.\")),\"\",IF(BJ24=\"\",\"\",\"Neste item, o valor contratado pelo TJDFT é \"&TEXT(BJ24,\"0,00%\")&\" superior à média comparativa.\"))","v":""}]
[null,null,null,null,null,null,null,null,null,null,null,null,null,null,{"$f":"IF(ISERROR(ROUND(AVERAGE(E25:N25),2)),\"\",ROUND(AVERAGE(E25:N25),2))","v":""},{"$f":"IF(ISERROR(ROUND(O25*D25,2)),\"\",ROUND(O25*D25,2))","v":""},null,{"$f":"IF(A25=\"\",\"\",ROUND(Q25*D25,2))","v":""},{"$f":"IF(A25=\"\",\"\",CONCATENATE($BG25,$BH25,$BI25,$BK25))","v":""},null,{"$f":"IF(ISERROR(COUNTA(E25:N25)),\"\",COUNTA(E25:N25))","v":0},{"$f":"IF(ISERROR(COUNT(E25:N25)),\"\",COUNT(E25:N25))","v":0},{"$f":"IF(ISERROR(MIN(E25:N25)),\"\",MIN(E25:N25))","v":0},{"$f":"IF(ISERROR(MAX(E25:N25)),\"\",MAX(E25:N25))","v":0},{"$f":"IF(ISERROR(ROUND(AVERAGE(E25:N25),2)),\"\",ROUND(AVERAGE(E25:N25),2))","v":""},{"$f":"IF(ISERROR(MEDIAN(E25:N25)),\"\",MEDIAN(E25:N25))","v":""},{"$f":"IF(ISERROR(STDEV(E25:N25)),\"\",STDEV(E25:N25))","v":""},{"$f":"IF(ISERROR(AA25/Y25),\"\",AA25/Y25)","v":""},null,null,null,{"$f":"IF(COUNT(E25:N25)<1,\"\",SMALL(E25:N25,1))","v":""},{"$f":"IF(COUNT(E25:N25)<2,\"\",SMALL(E25:N25,2))","v":""},{"$f":"IF(COUNT(E25:N25)<3,\"\",SMALL(E25:N25,3))","v":""},{"$f":"IF(COUNT(E25:N25)<4,\"\",SMALL(E25:N25,4))","v":""},{"$f":"IF(COUNT(E25:N25)<5,\"\",SMALL(E25:N25,5))","v":""},{"$f":"IF(COUNT(E25:N25)<6,\"\",SMALL(E25:N25,6))","v":""},{"$f":"IF(COUNT(E25:N25)<3,\"\",AVERAGE(AF25:AH25))","v":""},{"$f":"IF(COUNT(E25:N25)<4,\"\",AVERAGE(AG25:AI25))","v":""},{"$f":"IF(COUNT(E25:N25)<5,\"\",AVERAGE(AH25:AJ25))","v":""},{"$f":"IF(COUNT(E25:N25)<6,\"\",AVERAGE(AI25:AK25))","v":""},null,{"$f":"IF(E25>=1000,TEXT(E25,\"0.000,00\"),TEXT(E25,\"0,00\"))","v":"0,00"},{"$f":"IF(F25>=1000,TEXT(F25,\"0.000,00\"),TEXT(F25,\"0,00\"))","v":"0,00"},{"$f":"IF(G25>=1000,TEXT(G25,\"0.000,00\"),TEXT(G25,\"0,00\"))","v":"0,00"},{"$f":"IF(H25>=1000,TEXT(H25,\"0.000,00\"),TEXT(H25,\"0,00\"))","v":"0,00"},{"$f":"IF(I25>=1000,TEXT(I25,\"0.000,00\"),TEXT(I25,\"0,00\"))","v":"0,00"},{"$f":"IF(J25>=1000,TEXT(J25,\"0.000,00\"),TEXT(J25,\"0,00\"))","v":"0,00"},{"$f":"IF(K25>=1000,TEXT(K25,\"0.000,00\"),TEXT(K25,\"0,00\"))","v":"0,00"},{"$f":"IF(L25>=1000,TEXT(L25,\"0.000,00\"),TEXT(L25,\"0,00\"))","v":"0,00"},{"$f":"IF(M25>=1000,TEXT(M25,\"0.000,00\"),TEXT(M25,\"0,00\"))","v":"0,00"},{"$f":"IF(N25>=1000,TEXT(N25,\"0.000,00\"),TEXT(N25,\"0,00\"))","v":"0,00"},null,{"$f":"IF(PREENCHER!AL25=\"\",#REF!,IF(PREENCHER!AM25=\"\",#REF!,IF(PREENCHER!AN25=\"\",#REF!,IF(STDEV(PREENCHER!$AF25:$AH25)/AVERAGE(PREENCHER!$AF25:$AH25)>#REF!,IF(STDEV(PREENCHER!$AG25:$AI25)/AVERAGE(PREENCHER!$AG25:$AI25)>#REF!,IF(STDEV(PREENCHER!$AH25:$AJ25)/AVERAGE(PREENCHER!$AH25:$AJ25)>#REF!,IF(STDEV(PREENCHER!$AI25:$AK25)/AVERAGE(PREENCHER!$AI25:$AK25)>#REF!,#REF!,AVERAGE(PREENCHER!$AI25:$AK25)),AVERAGE(PREENCHER!$AH25:$AJ25)),AVERAGE(PREENCHER!$AG25:$AI25)),AVERAGE(PREENCHER!$AF25:$AH25)))))","v":{"$error":"#REF!"}},{"$f":"IF(ISERROR(ROUND(BB25,2)),\"\",ROUND(BB25,2))","v":""},null,null,null,{"$f":"IF(ISERROR(IF(COUNT(E25:N25)=2,\"Apenas dois preços comparativos válidos. \",\"\")),\"\",IF(COUNT(E25:N25)=2,\"Apenas dois preços comparativos válidos. \",\"\"))","v":""},{"$f":"IF(ISERROR(IF(COUNT(E25:N25)=1,\"Apenas um preço comparativo válido. \",\"\")),\"\",IF(COUNT(E25:N25)=1,\"Apenas um preço comparativo válido. \",\"\"))","v":""},{"$f":"IF(A25=\"\",\"\",IF(ISERROR(IF(COUNT(E25:N25)=0,\"Nenhum preço comparativo válido. \",\"\")),\"\",IF(COUNT(E25:N25)=0,\"Nenhum preço comparativo válido. \",\"\")))","v":""},{"$f":"IF(ISERROR(IF(R25>P25,(R25-P25)/P25,\"\")),\"\",IF(R25>P25,(R25-P25)/P25,\"\"))","v":""},{"$f":"IF(ISERROR(IF(BJ25=\"\",\"\",\"Neste item, o valor contratado pelo TJDFT é \"&TEXT(BJ25,\"0,00%\")&\" superior à média comparativa.\")),\"\",IF(BJ25=\"\",\"\",\"Neste item, o valor contratado pelo TJDFT é \"&TEXT(BJ25,\"0,00%\")&\" superior à média comparativa.\"))","v":""}]
[null,null,null,null,null,null,null,null,null,null,null,null,null,null,{"$f":"IF(ISERROR(ROUND(AVERAGE(E26:N26),2)),\"\",ROUND(AVERAGE(E26:N26),2))","v":""},{"$f":"IF(ISERROR(ROUND(O26*D26,2)),\"\",ROUND(O26*D26,2))","v":""},null,{"$f":"IF(A26=\"\",\"\",ROUND(Q26*D26,2))","v":""},{"$f":"IF(A26=\"\",\"\",CONCATENATE($BG26,$BH26,$BI26,$BK26))","v":""},null,{"$f":"IF(ISERROR(COUNTA(E26:N26)),\"\",COUNTA(E26:N26))","v":0},{"$f":"IF(ISERROR(COUNT(E26:N26)),\"\",COUNT(E26:N26))","v":0},{"$f":"IF(ISERROR(MIN(E26:N26)),\"\",MIN(E26:N26))","v":0},{"$f":"IF(ISERROR(MAX(E26:N26)),\"\",MAX(E26:N26))","v":0},{"$f":"IF(ISERROR(ROUND(AVERAGE(E26:N26),2)),\"\",ROUND(AVERAGE(E26:N26),2))","v":""},{"$f":"IF(ISERROR(MEDIAN(E26:N26)),\"\",MEDIAN(E26:N26))","v":""},{"$f":"IF(ISERROR(STDEV(E26:N26)),\"\",STDEV(E26:N26))","v":""},{"$f":"IF(ISERROR(AA26/Y26),\"\",AA26/Y26)","v":""},null,null,null,{"$f":"IF(COUNT(E26:N26)<1,\"\",SMALL(E26:N26,1))","v":""},{"$f":"IF(COUNT(E26:N26)<2,\"\",SMALL(E26:N26,2))","v":""},{"$f":"IF(COUNT(E26:N26)<3,\"\",SMALL(E26:N26,3))","v":""},{"$f":"IF(COUNT(E26:N26)<4,\"\",SMALL(E26:N26,4))","v":""},{"$f":"IF(COUNT(E26:N26)<5,\"\",SMALL(E26:N26,5))","v":""},{"$f":"IF(COUNT(E26:N26)<6,\"\",SMALL(E26:N26,6))","v":""},{"$f":"IF(COUNT(E26:N26)<3,\"\",AVERAGE(AF26:AH26))","v":""},{"$f":"IF(COUNT(E26:N26)<4,\"\",AVERAGE(AG26:AI26))","v":""},{"$f":"IF(COUNT(E26:N26)<5,\"\",AVERAGE(AH26:AJ26))","v":""},{"$f":"IF(COUNT(E26:N26)<6,\"\",AVERAGE(AI26:AK26))","v":""},null,{"$f":"IF(E26>=1000,TEXT(E26,\"0.000,00\"),TEXT(E26,\"0,00\"))","v":"0,00"},{"$f":"IF(F26>=1000,TEXT(F26,\"0.000,00\"),TEXT(F26,\"0,00\"))","v":"0,00"},{"$f":"IF(G26>=1000,TEXT(G26,\"0.000,00\"),TEXT(G26,\"0,00\"))","v":"0,00"},{"$f":"IF(H26>=1000,TEXT(H26,\"0.000,00\"),TEXT(H26,\"0,00\"))","v":"0,00"},{"$f":"IF(I26>=1000,TEXT(I26,\"0.000,00\"),TEXT(I26,\"0,00\"))","v":"0,00"},{"$f":"IF(J26>=1000,TEXT(J26,\"0.000,00\"),TEXT(J26,\"0,00\"))","v":"0,00"},{"$f":"IF(K26>=1000,TEXT(K26,\"0.000,00\"),TEXT(K26,\"0,00\"))","v":"0,00"},{"$f":"IF(L26>=1000,TEXT(L26,\"0.000,00\"),TEXT(L26,\"0,00\"))","v":"0,00"},{"$f":"IF(M26>=1000,TEXT(M26,\"0.000,00\"),TEXT(M26,\"0,00\"))","v":"0,00"},{"$f":"IF(N26>=1000,TEXT(N26,\"0.000,00\"),TEXT(N26,\"0,00\"))","v":"0,00"},null,{"$f":"IF(PREENCHER!AL26=\"\",#REF!,IF(PREENCHER!AM26=\"\",#REF!,IF(PREENCHER!AN26=\"\",#REF!,IF(STDEV(PREENCHER!$AF26:$AH26)/AVERAGE(PREENCHER!$AF26:$AH26)>#REF!,IF(STDEV(PREENCHER!$AG26:$AI26)/AVERAGE(PREENCHER!$AG26:$AI26)>#REF!,IF(STDEV(PREENCHER!$AH26:$AJ26)/AVERAGE(PREENCHER!$AH26:$AJ26)>#REF!,IF(STDEV(PREENCHER!$AI26:$AK26)/AVERAGE(PREENCHER!$AI26:$AK26)>#REF!,#REF!,AVERAGE(PREENCHER!$AI26:$AK26)),AVERAGE(PREENCHER!$AH26:$AJ26)),AVERAGE(PREENCHER!$AG26:$AI26)),AVERAGE(PREENCHER!$AF26:$AH26)))))","v":{"$error":"#REF!"}},{"$f":"IF(ISERROR(ROUND(BB26,2)),\"\",ROUND(BB26,2))","v":""},null,null,null,{"$f":"IF(ISERROR(IF(COUNT(E26:N26)=2,\"Apenas dois preços comparativos válidos. \",\"\")),\"\",IF(COUNT(E26:N26)=2,\"Apenas dois preços comparativos válidos. \",\"\"))","v":""},{"$f":"IF(ISERROR(IF(COUNT(E26:N26)=1,\"Apenas um preço comparativo válido. \",\"\")),\"\",IF(COUNT(E26:N26)=1,\"Apenas um preço comparativo válido. \",\"\"))","v":""},{"$f":"IF(A26=\"\",\"\",IF(ISERROR(IF(COUNT(E26:N26)=0,\"Nenhum preço comparativo válido. \",\"\")),\"\",IF(COUNT(E26:N26)=0,\"Nenhum preço comparativo válido. \",\"\")))","v":""},{"$f":"IF(ISERROR(IF(R26>P26,(R26-P26)/P26,\"\")),\"\",IF(R26>P26,(R26-P26)/P26,\"\"))","v":""},{"$f":"IF(ISERROR(IF(BJ26=\"\",\"\",\"Neste item, o valor contratado pelo TJDFT é \"&TEXT(BJ26,\"0,00%\")&\" superior à média comparativa.\")),\"\",IF(BJ26=\"\",\"\",\"Neste item, o valor contratado pelo TJDFT é \"&TEXT(BJ26,\"0,00%\")&\" superior à média comparativa.\"))","v":""}]
[null,null,null,null,null,null,null,null,null,null,null,null,null,null,{"$f":"IF(ISERROR(ROUND(AVERAGE(E27:N27),2)),\"\",ROUND(AVERAGE(E27:N27),2))","v":""},{"$f":"IF(ISERROR(ROUND(O27*D27,2)),\"\",ROUND(O27*D27,2))","v":""},null,{"$f":"IF(A27=\"\",\"\",ROUND(Q27*D27,2))","v":""},{"$f":"IF(A27=\"\",\"\",CONCATENATE($BG27,$BH27,$BI27,$BK27))","v":""},null,{"$f":"IF(ISERROR(COUNTA(E27:N27)),\"\",COUNTA(E27:N27))","v":0},{"$f":"IF(ISERROR(COUNT(E27:N27)),\"\",COUNT(E27:N27))","v":0},{"$f":"IF(ISERROR(MIN(E27:N27)),\"\",MIN(E27:N27))","v":0},{"$f":"IF(ISERROR(MAX(E27:N27)),\"\",MAX(E27:N27))","v":0},{"$f":"IF(ISERROR(ROUND(AVERAGE(E27:N27),2)),\"\",ROUND(AVERAGE(E27:N27),2))","v":""},{"$f":"IF(ISERROR(MEDIAN(E27:N27)),\"\",MEDIAN(E27:N27))","v":""},{"$f":"IF(ISERROR(STDEV(E27:N27)),\"\",STDEV(E27:N27))","v":""},{"$f":"IF(ISERROR(AA27/Y27),\"\",AA27/Y27)","v":""},null,null,null,{"$f":"IF(COUNT(E27:N27)<1,\"\",SMALL(E27:N27,1))","v":""},{"$f":"IF(COUNT(E27:N27)<2,\"\",SMALL(E27:N27,2))","v":""},{"$f":"IF(COUNT(E27:N27)<3,\"\",SMALL(E27:N27,3))","v":""},{"$f":"IF(COUNT(E27:N27)<4,\"\",SMALL(E27:N27,4))","v":""},{"$f":"IF(COUNT(E27:N27)<5,\"\",SMALL(E27:N27,5))","v":""},{"$f":"IF(COUNT(E27:N27)<6,\"\",SMALL(E27:N27,6))","v":""},{"$f":"IF(COUNT(E27:N27)<3,\"\",AVERAGE(AF27:AH27))","v":""},{"$f":"IF(COUNT(E27:N27)<4,\"\",AVERAGE(AG27:AI27))","v":""},{"$f":"IF(COUNT(E27:N27)<5,\"\",AVERAGE(AH27:AJ27))","v":""},{"$f":"IF(COUNT(E27:N27)<6,\"\",AVERAGE(AI27:AK27))","v":""},null,{"$f":"IF(E27>=1000,TEXT(E27,\"0.000,00\"),TEXT(E27,\"0,00\"))","v":"0,00"},{"$f":"IF(F27>=1000,TEXT(F27,\"0.000,00\"),TEXT(F27,\"0,00\"))","v":"0,00"},{"$f":"IF(G27>=1000,TEXT(G27,\"0.000,00\"),TEXT(G27,\"0,00\"))","v":"0,00"},{"$f":"IF(H27>=1000,TEXT(H27,\"0.000,00\"),TEXT(H27,\"0,00\"))","v":"0,00"},{"$f":"IF(I27>=1000,TEXT(I27,\"0.000,00\"),TEXT(I27,\"0,00\"))","v":"0,00"},{"$f":"IF(J27>=1000,TEXT(J27,\"0.000,00\"),TEXT(J27,\"0,00\"))","v":"0,00"},{"$f":"IF(K27>=1000,TEXT(K27,\"0.000,00\"),TEXT(K27,\"0,00\"))","v":"0,00"},{"$f":"IF(L27>=1000,TEXT(L27,\"0.000,00\"),TEXT(L27,\"0,00\"))","v":"0,00"},{"$f":"IF(M27>=1000,TEXT(M27,\"0.000,00\"),TEXT(M27,\"0,00\"))","v":"0,00"},{"$f":"IF(N27>=1000,TEXT(N27,\"0.000,00\"),TEXT(N27,\"0,00\"))","v":"0,00"},null,{"$f":"IF(PREENCHER!AL27=\"\",#REF!,IF(PREENCHER!AM27=\"\",#REF!,IF(PREENCHER!AN27=\"\",#REF!,IF(STDEV(PREENCHER!$AF27:$AH27)/AVERAGE(PREENCHER!$AF27:$AH27)>#REF!,IF(STDEV(PREENCHER!$AG27:$AI27)/AVERAGE(PREENCHER!$AG27:$AI27)>#REF!,IF(STDEV(PREENCHER!$AH27:$AJ27)/AVERAGE(PREENCHER!$AH27:$AJ27)>#REF!,IF(STDEV(PREENCHER!$AI27:$AK27)/AVERAGE(PREENCHER!$AI27:$AK27)>#REF!,#REF!,AVERAGE(PREENCHER!$AI27:$AK27)),AVERAGE(PREENCHER!$AH27:$AJ27)),AVERAGE(PREENCHER!$AG27:$AI27)),AVERAGE(PREENCHER!$AF27:$AH27)))))","v":{"$error":"#REF!"}},{"$f":"IF(ISERROR(ROUND(BB27,2)),\"\",ROUND(BB27,2))","v":""},null,null,null,{"$f":"IF(ISERROR(IF(COUNT(E27:N27)=2,\"Apenas dois preços comparativos válidos. \",\"\")),\"\",IF(COUNT(E27:N27)=2,\"Apenas dois preços comparativos válidos. \",\"\"))","v":""},{"$f":"IF(ISERROR(IF(COUNT(E27:N27)=1,\"Apenas um preço comparativo válido. \",\"\")),\"\",IF(COUNT(E27:N27)=1,\"Apenas um preço comparativo válido. \",\"\"))","v":""},{"$f":"IF(A27=\"\",\"\",IF(ISERROR(IF(COUNT(E27:N27)=0,\"Nenhum preço comparativo válido. \",\"\")),\"\",IF(COUNT(E27:N27)=0,\"Nenhum preço comparativo válido. \",\"\")))","v":""},{"$f":"IF(ISERROR(IF(R27>P27,(R27-P27)/P27,\"\")),\"\",IF(R27>P27,(R27-P27)/P27,\"\"))","v":""},{"$f":"IF(ISERROR(IF(BJ27=\"\",\"\",\"Neste item, o valor contratado pelo TJDFT é \"&TEXT(BJ27,\"0,00%\")&\" superior à média comparativa.\")),\"\",IF(BJ27=\"\",\"\",\"Neste item, o valor contratado pelo TJDFT é \"&TEXT(BJ27,\"0,00%\")&\" superior à média comparativa.\"))","v":""}]
[null,null,null,null,null,null,null,null,null,null,null,null,null,null,{"$f":"IF(ISERROR(ROUND(AVERAGE(E28:N28),2)),\"\",ROUND(AVERAGE(E28:N28),2))","v":""},{"$f":"IF(ISERROR(ROUND(O28*D28,2)),\"\",ROUND(O28*D28,2))","v":""},null,{"$f":"IF(A28=\"\",\"\",ROUND(Q28*D28,2))","v":""},{"$f":"IF(A28=\"\",\"\",CONCATENATE($BG28,$BH28,$BI28,$BK28))","v":""},null,{"$f":"IF(ISERROR(COUNTA(E28:N28)),\"\",COUNTA(E28:N28))","v":0},{"$f":"IF(ISERROR(COUNT(E28:N28)),\"\",COUNT(E28:N28))","v":0},{"$f":"IF(ISERROR(MIN(E28:N28)),\"\",MIN(E28:N28))","v":0},{"$f":"IF(ISERROR(MAX(E28:N28)),\"\",MAX(E28:N28))","v":0},{"$f":"IF(ISERROR(ROUND(AVERAGE(E28:N28),2)),\"\",ROUND(AVERAGE(E28:N28),2))","v":""},{"$f":"IF(ISERROR(MEDIAN(E28:N28)),\"\",MEDIAN(E28:N28))","v":""},{"$f":"IF(ISERROR(STDEV(E28:N28)),\"\",STDEV(E28:N28))","v":""},{"$f":"IF(ISERROR(AA28/Y28),\"\",AA28/Y28)","v":""},null,null,null,{"$f":"IF(COUNT(E28:N28)<1,\"\",SMALL(E28:N28,1))","v":""},{"$f":"IF(COUNT(E28:N28)<2,\"\",SMALL(E28:N28,2))","v":""},{"$f":"IF(COUNT(E28:N28)<3,\"\",SMALL(E28:N28,3))","v":""},{"$f":"IF(COUNT(E28:N28)<4,\"\",SMALL(E28:N28,4))","v":""},{"$f":"IF(COUNT(E28:N28)<5,\"\",SMALL(E28:N28,5))","v":""},{"$f":"IF(COUNT(E28:N28)<6,\"\",SMALL(E28:N28,6))","v":""},{"$f":"IF(COUNT(E28:N28)<3,\"\",AVERAGE(AF28:AH28))","v":""},{"$f":"IF(COUNT(E28:N28)<4,\"\",AVERAGE(AG28:AI28))","v":""},{"$f":"IF(COUNT(E28:N28)<5,\"\",AVERAGE(AH28:AJ28))","v":""},{"$f":"IF(COUNT(E28:N28)<6,\"\",AVERAGE(AI28:AK28))","v":""},null,{"$f":"IF(E28>=1000,TEXT(E28,\"0.000,00\"),TEXT(E28,\"0,00\"))","v":"0,00"},{"$f":"IF(F28>=1000,TEXT(F28,\"0.000,00\"),TEXT(F28,\"0,00\"))","v":"0,00"},{"$f":"IF(G28>=1000,TEXT(G28,\"0.000,00\"),TEXT(G28,\"0,00\"))","v":"0,00"},{"$f":"IF(H28>=1000,TEXT(H28,\"0.000,00\"),TEXT(H28,\"0,00\"))","v":"0,00"},{"$f":"IF(I28>=1000,TEXT(I28,\"0.000,00\"),TEXT(I28,\"0,00\"))","v":"0,00"},{"$f":"IF(J28>=1000,TEXT(J28,\"0.000,00\"),TEXT(J28,\"0,00\"))","v":"0,00"},{"$f":"IF(K28>=1000,TEXT(K28,\"0.000,00\"),TEXT(K28,\"0,00\"))","v":"0,00"},{"$f":"IF(L28>=1000,TEXT(L28,\"0.000,00\"),TEXT(L28,\"0,00\"))","v":"0,00"},{"$f":"IF(M28>=1000,TEXT(M28,\"0.000,00\"),TEXT(M28,\"0,00\"))","v":"0,00"},{"$f":"IF(N28>=1000,TEXT(N28,\"0.000,00\"),TEXT(N28,\"0,00\"))","v":"0,00"},null,{"$f":"IF(PREENCHER!AL28=\"\",#REF!,IF(PREENCHER!AM28=\"\",#REF!,IF(PREENCHER!AN28=\"\",#REF!,IF(STDEV(PREENCHER!$AF28:$AH28)/AVERAGE(PREENCHER!$AF28:$AH28)>#REF!,IF(STDEV(PREENCHER!$AG28:$AI28)/AVERAGE(PREENCHER!$AG28:$AI28)>#REF!,IF(STDEV(PREENCHER!$AH28:$AJ28)/AVERAGE(PREENCHER!$AH28:$AJ28)>#REF!,IF(STDEV(PREENCHER!$AI28:$AK28)/AVERAGE(PREENCHER!$AI28:$AK28)>#REF!,#REF!,AVERAGE(PREENCHER!$AI28:$AK28)),AVERAGE(PREENCHER!$AH28:$AJ28)),AVERAGE(PREENCHER!$AG28:$AI28)),AVERAGE(PREENCHER!$AF28:$AH28)))))","v":{"$error":"#REF!"}},{"$f":"IF(ISERROR(ROUND(BB28,2)),\"\",ROUND(BB28,2))","v":""},null,null,null,{"$f":"IF(ISERROR(IF(COUNT(E28:N28)=2,\"Apenas dois preços comparativos válidos. \",\"\")),\"\",IF(COUNT(E28:N28)=2,\"Apenas dois preços comparativos válidos. \",\"\"))","v":""},{"$f":"IF(ISERROR(IF(COUNT(E28:N28)=1,\"Apenas um preço comparativo válido. \",\"\")),\"\",IF(COUNT(E28:N28)=1,\"Apenas um preço comparativo válido. \",\"\"))","v":""},{"$f":"IF(A28=\"\",\"\",IF(ISERROR(IF(COUNT(E28:N28)=0,\"Nenhum preço comparativo válido. \",\"\")),\"\",IF(COUNT(E28:N28)=0,\"Nenhum preço comparativo válido. \",\"\")))","v":""},{"$f":"IF(ISERROR(IF(R28>P28,(R28-P28)/P28,\"\")),\"\",IF(R28>P28,(R28-P28)/P28,\"\"))","v":""},{"$f":"IF(ISERROR(IF(BJ28=\"\",\"\",\"Neste item, o valor contratado pelo TJDFT é \"&TEXT(BJ28,\"0,00%\")&\" superior à média comparativa.\")),\"\",IF(BJ28=\"\",\"\",\"Neste item, o valor contratado pelo TJDFT é \"&TEXT(BJ28,\"0,00%\")&\" superior à média comparativa.\"))","v":""}]
[null,null,null,null,null,null,null,null,null,null,null,null,null,null,{"$f":"IF(ISERROR(ROUND(AVERAGE(E29:N29),2)),\"\",ROUND(AVERAGE(E29:N29),2))","v":""},{"$f":"IF(ISERROR(ROUND(O29*D29,2)),\"\",ROUND(O29*D29,2))","v":""},null,{"$f":"IF(A29=\"\",\"\",ROUND(Q29*D29,2))","v":""},{"$f":"IF(A29=\"\",\"\",CONCATENATE($BG29,$BH29,$BI29,$BK29))","v":""},null,{"$f":"IF(ISERROR(COUNTA(E29:N29)),\"\",COUNTA(E29:N29))","v":0},{"$f":"IF(ISERROR(COUNT(E29:N29)),\"\",COUNT(E29:N29))","v":0},{"$f":"IF(ISERROR(MIN(E29:N29)),\"\",MIN(E29:N29))","v":0},{"$f":"IF(ISERROR(MAX(E29:N29)),\"\",MAX(E29:N29))","v":0},{"$f":"IF(ISERROR(ROUND(AVERAGE(E29:N29),2)),\"\",ROUND(AVERAGE(E29:N29),2))","v":""},{"$f":"IF(ISERROR(MEDIAN(E29:N29)),\"\",MEDIAN(E29:N29))","v":""},{"$f":"IF(ISERROR(STDEV(E29:N29)),\"\",STDEV(E29:N29))","v":""},{"$f":"IF(ISERROR(AA29/Y29),\"\",AA29/Y29)","v":""},null,null,null,{"$f":"IF(COUNT(E29:N29)<1,\"\",SMALL(E29:N29,1))","v":""},{"$f":"IF(COUNT(E29:N29)<2,\"\",SMALL(E29:N29,2))","v":""},{"$f":"IF(COUNT(E29:N29)<3,\"\",SMALL(E29:N29,3))","v":""},{"$f":"IF(COUNT(E29:N29)<4,\"\",SMALL(E29:N29,4))","v":""},{"$f":"IF(COUNT(E29:N29)<5,\"\",SMALL(E29:N29,5))","v":""},{"$f":"IF(COUNT(E29:N29)<6,\"\",SMALL(E29:N29,6))","v":""},{"$f":"IF(COUNT(E29:N29)<3,\"\",AVERAGE(AF29:AH29))","v":""},{"$f":"IF(COUNT(E29:N29)<4,\"\",AVERAGE(AG29:AI29))","v":""},{"$f":"IF(COUNT(E29:N29)<5,\"\",AVERAGE(AH29:AJ29))","v":""},{"$f":"IF(COUNT(E29:N29)<6,\"\",AVERAGE(AI29:AK29))","v":""},null,{"$f":"IF(E29>=1000,TEXT(E29,\"0.000,00\"),TEXT(E29,\"0,00\"))","v":"0,00"},{"$f":"IF(F29>=1000,TEXT(F29,\"0.000,00\"),TEXT(F29,\"0,00\"))","v":"0,00"},{"$f":"IF(G29>=1000,TEXT(G29,\"0.000,00\"),TEXT(G29,\"0,00\"))","v":"0,00"},{"$f":"IF(H29>=1000,TEXT(H29,\"0.000,00\"),TEXT(H29,\"0,00\"))","v":"0,00"},{"$f":"IF(I29>=1000,TEXT(I29,\"0.000,00\"),TEXT(I29,\"0,00\"))","v":"0,00"},{"$f":"IF(J29>=1000,TEXT(J29,\"0.000,00\"),TEXT(J29,\"0,00\"))","v":"0,00"},{"$f":"IF(K29>=1000,TEXT(K29,\"0.000,00\"),TEXT(K29,\"0,00\"))","v":"0,00"},{"$f":"IF(L29>=1000,TEXT(L29,\"0.000,00\"),TEXT(L29,\"0,00\"))","v":"0,00"},{"$f":"IF(M29>=1000,TEXT(M29,\"0.000,00\"),TEXT(M29,\"0,00\"))","v":"0,00"},{"$f":"IF(N29>=1000,TEXT(N29,\"0.000,00\"),TEXT(N29,\"0,00\"))","v":"0,00"},null,{"$f":"IF(PREENCHER!AL29=\"\",#REF!,IF(PREENCHER!AM29=\"\",#REF!,IF(PREENCHER!AN29=\"\",#REF!,IF(STDEV(PREENCHER!$AF29:$AH29)/AVERAGE(PREENCHER!$AF29:$AH29)>#REF!,IF(STDEV(PREENCHER!$AG29:$AI29)/AVERAGE(PREENCHER!$AG29:$AI29)>#REF!,IF(STDEV(PREENCHER!$AH29:$AJ29)/AVERAGE(PREENCHER!$AH29:$AJ29)>#REF!,IF(STDEV(PREENCHER!$AI29:$AK29)/AVERAGE(PREENCHER!$AI29:$AK29)>#REF!,#REF!,AVERAGE(PREENCHER!$AI29:$AK29)),AVERAGE(PREENCHER!$AH29:$AJ29)),AVERAGE(PREENCHER!$AG29:$AI29)),AVERAGE(PREENCHER!$AF29:$AH29)))))","v":{"$error":"#REF!"}},{"$f":"IF(ISERROR(ROUND(BB29,2)),\"\",ROUND(BB29,2))","v":""},null,null,null,{"$f":"IF(ISERROR(IF(COUNT(E29:N29)=2,\"Apenas dois preços comparativos válidos. \",\"\")),\"\",IF(COUNT(E29:N29)=2,\"Apenas dois preços comparativos válidos. \",\"\"))","v":""},{"$f":"IF(ISERROR(IF(COUNT(E29:N29)=1,\"Apenas um preço comparativo válido. \",\"\")),\"\",IF(COUNT(E29:N29)=1,\"Apenas um preço comparativo válido. \",\"\"))","v":""},{"$f":"IF(A29=\"\",\"\",IF(ISERROR(IF(COUNT(E29:N29)=0,\"Nenhum preço comparativo válido. \",\"\")),\"\",IF(COUNT(E29:N29)=0,\"Nenhum preço comparativo válido. \",\"\")))","v":""},{"$f":"IF(ISERROR(IF(R29>P29,(R29-P29)/P29,\"\")),\"\",IF(R29>P29,(R29-P29)/P29,\"\"))","v":""},{"$f":"IF(ISERROR(IF(BJ29=\"\",\"\",\"Neste item, o valor contratado pelo TJDFT é \"&TEXT(BJ29,\"0,00%\")&\" superior à média comparativa.\")),\"\",IF(BJ29=\"\",\"\",\"Neste item, o valor contratado pelo TJDFT é \"&TEXT(BJ29,\"0,00%\")&\" superior à média comparativa.\"))","v":""}]
[null,null,null,null,null,null,null,null,null,null,null,null,null,null,{"$f":"IF(ISERROR(ROUND(AVERAGE(E30:N30),2)),\"\",ROUND(AVERAGE(E30:N30),2))","v":""},{"$f":"IF(ISERROR(ROUND(O30*D30,2)),\"\",ROUND(O30*D30,2))","v":""},null,{"$f":"IF(A30=\"\",\"\",ROUND(Q30*D30,2))","v":""},{"$f":"IF(A30=\"\",\"\",CONCATENATE($BG30,$BH30,$BI30,$BK30))","v":""},null,{"$f":"IF(ISERROR(COUNTA(E30:N30)),\"\",COUNTA(E30:N30))","v":0},{"$f":"IF(ISERROR(COUNT(E30:N30)),\"\",COUNT(E30:N30))","v":0},{"$f":"IF(ISERROR(MIN(E30:N30)),\"\",MIN(E30:N30))","v":0},{"$f":"IF(ISERROR(MAX(E30:N30)),\"\",MAX(E30:N30))","v":0},{"$f":"IF(ISERROR(ROUND(AVERAGE(E30:N30),2)),\"\",ROUND(AVERAGE(E30:N30),2))","v":""},{"$f":"IF(ISERROR(MEDIAN(E30:N30)),\"\",MEDIAN(E30:N30))","v":""},{"$f":"IF(ISERROR(STDEV(E30:N30)),\"\",STDEV(E30:N30))","v":""},{"$f":"IF(ISERROR(AA30/Y30),\"\",AA30/Y30)","v":""},null,null,null,{"$f":"IF(COUNT(E30:N30)<1,\"\",SMALL(E30:N30,1))","v":""},{"$f":"IF(COUNT(E30:N30)<2,\"\",SMALL(E30:N30,2))","v":""},{"$f":"IF(COUNT(E30:N30)<3,\"\",SMALL(E30:N30,3))","v":""},{"$f":"IF(COUNT(E30:N30)<4,\"\",SMALL(E30:N30,4))","v":""},{"$f":"IF(COUNT(E30:N30)<5,\"\",SMALL(E30:N30,5))","v":""},{"$f":"IF(COUNT(E30:N30)<6,\"\",SMALL(E30:N30,6))","v":""},{"$f":"IF(COUNT(E30:N30)<3,\"\",AVERAGE(AF30:AH30))","v":""},{"$f":"IF(COUNT(E30:N30)<4,\"\",AVERAGE(AG30:AI30))","v":""},{"$f":"IF(COUNT(E30:N30)<5,\"\",AVERAGE(AH30:AJ30))","v":""},{"$f":"IF(COUNT(E30:N30)<6,\"\",AVERAGE(AI30:AK30))","v":""},null,{"$f":"IF(E30>=1000,TEXT(E30,\"0.000,00\"),TEXT(E30,\"0,00\"))","v":"0,00"},{"$f":"IF(F30>=1000,TEXT(F30,\"0.000,00\"),TEXT(F30,\"0,00\"))","v":"0,00"},{"$f":"IF(G30>=1000,TEXT(G30,\"0.000,00\"),TEXT(G30,\"0,00\"))","v":"0,00"},{"$f":"IF(H30>=1000,TEXT(H30,\"0.000,00\"),TEXT(H30,\"0,00\"))","v":"0,00"},{"$f":"IF(I30>=1000,TEXT(I30,\"0.000,00\"),TEXT(I30,\"0,00\"))","v":"0,00"},{"$f":"IF(J30>=1000,TEXT(J30,\"0.000,00\"),TEXT(J30,\"0,00\"))","v":"0,00"},{"$f":"IF(K30>=1000,TEXT(K30,\"0.000,00\"),TEXT(K30,\"0,00\"))","v":"0,00"},{"$f":"IF(L30>=1000,TEXT(L30,\"0.000,00\"),TEXT(L30,\"0,00\"))","v":"0,00"},{"$f":"IF(M30>=1000,TEXT(M30,\"0.000,00\"),TEXT(M30,\"0,00\"))","v":"0,00"},{"$f":"IF(N30>=1000,TEXT(N30,\"0.000,00\"),TEXT(N30,\"0,00\"))","v":"0,00"},null,{"$f":"IF(PREENCHER!AL30=\"\",#REF!,IF(PREENCHER!AM30=\"\",#REF!,IF(PREENCHER!AN30=\"\",#REF!,IF(STDEV(PREENCHER!$AF30:$AH30)/AVERAGE(PREENCHER!$AF30:$AH30)>#REF!,IF(STDEV(PREENCHER!$AG30:$AI30)/AVERAGE(PREENCHER!$AG30:$AI30)>#REF!,IF(STDEV(PREENCHER!$AH30:$AJ30)/AVERAGE(PREENCHER!$AH30:$AJ30)>#REF!,IF(STDEV(PREENCHER!$AI30:$AK30)/AVERAGE(PREENCHER!$AI30:$AK30)>#REF!,#REF!,AVERAGE(PREENCHER!$AI30:$AK30)),AVERAGE(PREENCHER!$AH30:$AJ30)),AVERAGE(PREENCHER!$AG30:$AI30)),AVERAGE(PREENCHER!$AF30:$AH30)))))","v":{"$error":"#REF!"}},{"$f":"IF(ISERROR(ROUND(BB30,2)),\"\",ROUND(BB30,2))","v":""},null,null,null,{"$f":"IF(ISERROR(IF(COUNT(E30:N30)=2,\"Apenas dois preços comparativos válidos. \",\"\")),\"\",IF(COUNT(E30:N30)=2,\"Apenas dois preços comparativos válidos. \",\"\"))","v":""},{"$f":"IF(ISERROR(IF(COUNT(E30:N30)=1,\"Apenas um preço comparativo válido. \",\"\")),\"\",IF(COUNT(E30:N30)=1,\"Apenas um preço comparativo válido. \",\"\"))","v":""},{"$f":"IF(A30=\"\",\"\",IF(ISERROR(IF(COUNT(E30:N30)=0,\"Nenhum preço comparativo válido. \",\"\")),\"\",IF(COUNT(E30:N30)=0,\"Nenhum preço comparativo válido. \",\"\")))","v":""},{"$f":"IF(ISERROR(IF(R30>P30,(R30-P30)/P30,\"\")),\"\",IF(R30>P30,(R30-P30)/P30,\"\"))","v":""},{"$f":"IF(ISERROR(IF(BJ30=\"\",\"\",\"Neste item, o valor contratado pelo TJDFT é \"&TEXT(BJ30,\"0,00%\")&\" superior à média comparativa.\")),\"\",IF(BJ30=\"\",\"\",\"Neste item, o valor contratado pelo TJDFT é \"&TEXT(BJ30,\"0,00%\")&\" superior à média comparativa.\"))","v":""}]
[null,null,null,null,null,null,null,null,null,null,null,null,null,null,{"$f":"IF(ISERROR(ROUND(AVERAGE(E31:N31),2)),\"\",ROUND(AVERAGE(E31:N31),2))","v":""},{"$f":"IF(ISERROR(ROUND(O31*D31,2)),\"\",ROUND(O31*D31,2))","v":""},null,{"$f":"IF(A31=\"\",\"\",ROUND(Q31*D31,2))","v":""},{"$f":"IF(A31=\"\",\"\",CONCATENATE($BG31,$BH31,$BI31,$BK31))","v":""},null,{"$f":"IF(ISERROR(COUNTA(E31:N31)),\"\",COUNTA(E31:N31))","v":0},{"$f":"IF(ISERROR(COUNT(E31:N31)),\"\",COUNT(E31:N31))","v":0},{"$f":"IF(ISERROR(MIN(E31:N31)),\"\",MIN(E31:N31))","v":0},{"$f":"IF(ISERROR(MAX(E31:N31)),\"\",MAX(E31:N31))","v":0},{"$f":"IF(ISERROR(ROUND(AVERAGE(E31:N31),2)),\"\",ROUND(AVERAGE(E31:N31),2))","v":""},{"$f":"IF(ISERROR(MEDIAN(E31:N31)),\"\",MEDIAN(E31:N31))","v":""},{"$f":"IF(ISERROR(STDEV(E31:N31)),\"\",STDEV(E31:N31))","v":""},{"$f":"IF(ISERROR(AA31/Y31),\"\",AA31/Y31)","v":""},null,null,null,{"$f":"IF(COUNT(E31:N31)<1,\"\",SMALL(E31:N31,1))","v":""},{"$f":"IF(COUNT(E31:N31)<2,\"\",SMALL(E31:N31,2))","v":""},{"$f":"IF(COUNT(E31:N31)<3,\"\",SMALL(E31:N31,3))","v":""},{"$f":"IF(COUNT(E31:N31)<4,\"\",SMALL(E31:N31,4))","v":""},{"$f":"IF(COUNT(E31:N31)<5,\"\",SMALL(E31:N31,5))","v":""},{"$f":"IF(COUNT(E31:N31)<6,\"\",SMALL(E31:N31,6))","v":""},{"$f":"IF(COUNT(E31:N31)<3,\"\",AVERAGE(AF31:AH31))","v":""},{"$f":"IF(COUNT(E31:N31)<4,\"\",AVERAGE(AG31:AI31))","v":""},{"$f":"IF(COUNT(E31:N31)<5,\"\",AVERAGE(AH31:AJ31))","v":""},{"$f":"IF(COUNT(E31:N31)<6,\"\",AVERAGE(AI31:AK31))","v":""},null,{"$f":"IF(E31>=1000,TEXT(E31,\"0.000,00\"),TEXT(E31,\"0,00\"))","v":"0,00"},{"$f":"IF(F31>=1000,TEXT(F31,\"0.000,00\"),TEXT(F31,\"0,00\"))","v":"0,00"},{"$f":"IF(G31>=1000,TEXT(G31,\"0.000,00\"),TEXT(G31,\"0,00\"))","v":"0,00"},{"$f":"IF(H31>=1000,TEXT(H31,\"0.000,00\"),TEXT(H31,\"0,00\"))","v":"0,00"},{"$f":"IF(I31>=1000,TEXT(I31,\"0.000,00\"),TEXT(I31,\"0,00\"))","v":"0,00"},{"$f":"IF(J31>=1000,TEXT(J31,\"0.000,00\"),TEXT(J31,\"0,00\"))","v":"0,00"},{"$f":"IF(K31>=1000,TEXT(K31,\"0.000,00\"),TEXT(K31,\"0,00\"))","v":"0,00"},{"$f":"IF(L31>=1000,TEXT(L31,\"0.000,00\"),TEXT(L31,\"0,00\"))","v":"0,00"},{"$f":"IF(M31>=1000,TEXT(M31,\"0.000,00\"),TEXT(M31,\"0,00\"))","v":"0,00"},{"$f":"IF(N31>=1000,TEXT(N31,\"0.000,00\"),TEXT(N31,\"0,00\"))","v":"0,00"},null,{"$f":"IF(PREENCHER!AL31=\"\",#REF!,IF(PREENCHER!AM31=\"\",#REF!,IF(PREENCHER!AN31=\"\",#REF!,IF(STDEV(PREENCHER!$AF31:$AH31)/AVERAGE(PREENCHER!$AF31:$AH31)>#REF!,IF(STDEV(PREENCHER!$AG31:$AI31)/AVERAGE(PREENCHER!$AG31:$AI31)>#REF!,IF(STDEV(PREENCHER!$AH31:$AJ31)/AVERAGE(PREENCHER!$AH31:$AJ31)>#REF!,IF(STDEV(PREENCHER!$AI31:$AK31)/AVERAGE(PREENCHER!$AI31:$AK31)>#REF!,#REF!,AVERAGE(PREENCHER!$AI31:$AK31)),AVERAGE(PREENCHER!$AH31:$AJ31)),AVERAGE(PREENCHER!$AG31:$AI31)),AVERAGE(PREENCHER!$AF31:$AH31)))))","v":{"$error":"#REF!"}},{"$f":"IF(ISERROR(ROUND(BB31,2)),\"\",ROUND(BB31,2))","v":""},null,null,null,{"$f":"IF(ISERROR(IF(COUNT(E31:N31)=2,\"Apenas dois preços comparativos válidos. \",\"\")),\"\",IF(COUNT(E31:N31)=2,\"Apenas dois preços comparativos válidos. \",\"\"))","v":""},{"$f":"IF(ISERROR(IF(COUNT(E31:N31)=1,\"Apenas um preço comparativo válido. \",\"\")),\"\",IF(COUNT(E31:N31)=1,\"Apenas um preço comparativo válido. \",\"\"))","v":""},{"$f":"IF(A31=\"\",\"\",IF(ISERROR(IF(COUNT(E31:N31)=0,\"Nenhum preço comparativo válido. \",\"\")),\"\",IF(COUNT(E31:N31)=0,\"Nenhum preço comparativo válido. \",\"\")))","v":""},{"$f":"IF(ISERROR(IF(R31>P31,(R31-P31)/P31,\"\")),\"\",IF(R31>P31,(R31-P31)/P31,\"\"))","v":""},{"$f":"IF(ISERROR(IF(BJ31=\"\",\"\",\"Neste item, o valor contratado pelo TJDFT é \"&TEXT(BJ31,\"0,00%\")&\" superior à média comparativa.\")),\"\",IF(BJ31=\"\",\"\",\"Neste item, o valor contratado pelo TJDFT é \"&TEXT(BJ31,\"0,00%\")&\" superior à média comparativa.\"))","v":""}]
[null,null,null,null,null,null,null,null,null,null,null,null,null,null,{"$f":"IF(ISERROR(ROUND(AVERAGE(E32:N32),2)),\"\",ROUND(AVERAGE(E32:N32),2))","v":""},{"$f":"IF(ISERROR(ROUND(O32*D32,2)),\"\",ROUND(O32*D32,2))","v":""},null,{"$f":"IF(A32=\"\",\"\",ROUND(Q32*D32,2))","v":""},{"$f":"IF(A32=\"\",\"\",CONCATENATE($BG32,$BH32,$BI32,$BK32))","v":""},null,{"$f":"IF(ISERROR(COUNTA(E32:N32)),\"\",COUNTA(E32:N32))","v":0},{"$f":"IF(ISERROR(COUNT(E32:N32)),\"\",COUNT(E32:N32))","v":0},{"$f":"IF(ISERROR(MIN(E32:N32)),\"\",MIN(E32:N32))","v":0},{"$f":"IF(ISERROR(MAX(E32:N32)),\"\",MAX(E32:N32))","v":0},{"$f":"IF(ISERROR(ROUND(AVERAGE(E32:N32),2)),\"\",ROUND(AVERAGE(E32:N32),2))","v":""},{"$f":"IF(ISERROR(MEDIAN(E32:N32)),\"\",MEDIAN(E32:N32))","v":""},{"$f":"IF(ISERROR(STDEV(E32:N32)),\"\",STDEV(E32:N32))","v":""},{"$f":"IF(ISERROR(AA32/Y32),\"\",AA32/Y32)","v":""},null,null,null,{"$f":"IF(COUNT(E32:N32)<1,\"\",SMALL(E32:N32,1))","v":""},{"$f":"IF(COUNT(E32:N32)<2,\"\",SMALL(E32:N32,2))","v":""},{"$f":"IF(COUNT(E32:N32)<3,\"\",SMALL(E32:N32,3))","v":""},{"$f":"IF(COUNT(E32:N32)<4,\"\",SMALL(E32:N32,4))","v":""},{"$f":"IF(COUNT(E32:N32)<5,\"\",SMALL(E32:N32,5))","v":""},{"$f":"IF(COUNT(E32:N32)<6,\"\",SMALL(E32:N32,6))","v":""},{"$f":"IF(COUNT(E32:N32)<3,\"\",AVERAGE(AF32:AH32))","v":""},{"$f":"IF(COUNT(E32:N32)<4,\"\",AVERAGE(AG32:AI32))","v":""},{"$f":"IF(COUNT(E32:N32)<5,\"\",AVERAGE(AH32:AJ32))","v":""},{"$f":"IF(COUNT(E32:N32)<6,\"\",AVERAGE(AI32:AK32))","v":""},null,{"$f":"IF(E32>=1000,TEXT(E32,\"0.000,00\"),TEXT(E32,\"0,00\"))","v":"0,00"},{"$f":"IF(F32>=1000,TEXT(F32,\"0.000,00\"),TEXT(F32,\"0,00\"))","v":"0,00"},{"$f":"IF(G32>=1000,TEXT(G32,\"0.000,00\"),TEXT(G32,\"0,00\"))","v":"0,00"},{"$f":"IF(H32>=1000,TEXT(H32,\"0.000,00\"),TEXT(H32,\"0,00\"))","v":"0,00"},{"$f":"IF(I32>=1000,TEXT(I32,\"0.000,00\"),TEXT(I32,\"0,00\"))","v":"0,00"},{"$f":"IF(J32>=1000,TEXT(J32,\"0.000,00\"),TEXT(J32,\"0,00\"))","v":"0,00"},{"$f":"IF(K32>=1000,TEXT(K32,\"0.000,00\"),TEXT(K32,\"0,00\"))","v":"0,00"},{"$f":"IF(L32>=1000,TEXT(L32,\"0.000,00\"),TEXT(L32,\"0,00\"))","v":"0,00"},{"$f":"IF(M32>=1000,TEXT(M32,\"0.000,00\"),TEXT(M32,\"0,00\"))","v":"0,00"},{"$f":"IF(N32>=1000,TEXT(N32,\"0.000,00\"),TEXT(N32,\"0,00\"))","v":"0,00"},null,{"$f":"IF(PREENCHER!AL32=\"\",#REF!,IF(PREENCHER!AM32=\"\",#REF!,IF(PREENCHER!AN32=\"\",#REF!,IF(STDEV(PREENCHER!$AF32:$AH32)/AVERAGE(PREENCHER!$AF32:$AH32)>#REF!,IF(STDEV(PREENCHER!$AG32:$AI32)/AVERAGE(PREENCHER!$AG32:$AI32)>#REF!,IF(STDEV(PREENCHER!$AH32:$AJ32)/AVERAGE(PREENCHER!$AH32:$AJ32)>#REF!,IF(STDEV(PREENCHER!$AI32:$AK32)/AVERAGE(PREENCHER!$AI32:$AK32)>#REF!,#REF!,AVERAGE(PREENCHER!$AI32:$AK32)),AVERAGE(PREENCHER!$AH32:$AJ32)),AVERAGE(PREENCHER!$AG32:$AI32)),AVERAGE(PREENCHER!$AF32:$AH32)))))","v":{"$error":"#REF!"}},{"$f":"IF(ISERROR(ROUND(BB32,2)),\"\",ROUND(BB32,2))","v":""},null,null,null,{"$f":"IF(ISERROR(IF(COUNT(E32:N32)=2,\"Apenas dois preços comparativos válidos. \",\"\")),\"\",IF(COUNT(E32:N32)=2,\"Apenas dois preços comparativos válidos. \",\"\"))","v":""},{"$f":"IF(ISERROR(IF(COUNT(E32:N32)=1,\"Apenas um preço comparativo válido. \",\"\")),\"\",IF(COUNT(E32:N32)=1,\"Apenas um preço comparativo válido. \",\"\"))","v":""},{"$f":"IF(A32=\"\",\"\",IF(ISERROR(IF(COUNT(E32:N32)=0,\"Nenhum preço comparativo válido. \",\"\")),\"\",IF(COUNT(E32:N32)=0,\"Nenhum preço comparativo válido. \",\"\")))","v":""},{"$f":"IF(ISERROR(IF(R32>P32,(R32-P32)/P32,\"\")),\"\",IF(R32>P32,(R32-P32)/P32,\"\"))","v":""},{"$f":"IF(ISERROR(IF(BJ32=\"\",\"\",\"Neste item, o valor contratado pelo TJDFT é \"&TEXT(BJ32,\"0,00%\")&\" superior à média comparativa.\")),\"\",IF(BJ32=\"\",\"\",\"Neste item, o valor contratado pelo TJDFT é \"&TEXT(BJ32,\"0,00%\")&\" superior à média comparativa.\"))","v":""}]
[null,null,null,null,null,null,null,null,null,null,null,null,null,null,{"$f":"IF(ISERROR(ROUND(AVERAGE(E33:N33),2)),\"\",ROUND(AVERAGE(E33:N33),2))","v":""},{"$f":"IF(ISERROR(ROUND(O33*D33,2)),\"\",ROUND(O33*D33,2))","v":""},null,{"$f":"IF(A33=\"\",\"\",ROUND(Q33*D33,2))","v":""},{"$f":"IF(A33=\"\",\"\",CONCATENATE($BG33,$BH33,$BI33,$BK33))","v":""},null,{"$f":"IF(ISERROR(COUNTA(E33:N33)),\"\",COUNTA(E33:N33))","v":0},{"$f":"IF(ISERROR(COUNT(E33:N33)),\"\",COUNT(E33:N33))","v":0},{"$f":"IF(ISERROR(MIN(E33:N33)),\"\",MIN(E33:N33))","v":0},{"$f":"IF(ISERROR(MAX(E33:N33)),\"\",MAX(E33:N33))","v":0},{"$f":"IF(ISERROR(ROUND(AVERAGE(E33:N33),2)),\"\",ROUND(AVERAGE(E33:N33),2))","v":""},{"$f":"IF(ISERROR(MEDIAN(E33:N33)),\"\",MEDIAN(E33:N33))","v":""},{"$f":"IF(ISERROR(STDEV(E33:N33)),\"\",STDEV(E33:N33))","v":""},{"$f":"IF(ISERROR(AA33/Y33),\"\",AA33/Y33)","v":""},null,null,null,{"$f":"IF(COUNT(E33:N33)<1,\"\",SMALL(E33:N33,1))","v":""},{"$f":"IF(COUNT(E33:N33)<2,\"\",SMALL(E33:N33,2))","v":""},{"$f":"IF(COUNT(E33:N33)<3,\"\",SMALL(E33:N33,3))","v":""},{"$f":"IF(COUNT(E33:N33)<4,\"\",SMALL(E33:N33,4))","v":""},{"$f":"IF(COUNT(E33:N33)<5,\"\",SMALL(E33:N33,5))","v":""},{"$f":"IF(COUNT(E33:N33)<6,\"\",SMALL(E33:N33,6))","v":""},{"$f":"IF(COUNT(E33:N33)<3,\"\",AVERAGE(AF33:AH33))","v":""},{"$f":"IF(COUNT(E33:N33)<4,\"\",AVERAGE(AG33:AI33))","v":""},{"$f":"IF(COUNT(E33:N33)<5,\"\",AVERAGE(AH33:AJ33))","v":""},{"$f":"IF(COUNT(E33:N33)<6,\"\",AVERAGE(AI33:AK33))","v":""},null,{"$f":"IF(E33>=1000,TEXT(E33,\"0.000,00\"),TEXT(E33,\"0,00\"))","v":"0,00"},{"$f":"IF(F33>=1000,TEXT(F33,\"0.000,00\"),TEXT(F33,\"0,00\"))","v":"0,00"},{"$f":"IF(G33>=1000,TEXT(G33,\"0.000,00\"),TEXT(G33,\"0,00\"))","v":"0,00"},{"$f":"IF(H33>=1000,TEXT(H33,\"0.000,00\"),TEXT(H33,\"0,00\"))","v":"0,00"},{"$f":"IF(I33>=1000,TEXT(I33,\"0.000,00\"),TEXT(I33,\"0,00\"))","v":"0,00"},{"$f":"IF(J33>=1000,TEXT(J33,\"0.000,00\"),TEXT(J33,\"0,00\"))","v":"0,00"},{"$f":"IF(K33>=1000,TEXT(K33,\"0.000,00\"),TEXT(K33,\"0,00\"))","v":"0,00"},{"$f":"IF(L33>=1000,TEXT(L33,\"0.000,00\"),TEXT(L33,\"0,00\"))","v":"0,00"},{"$f":"IF(M33>=1000,TEXT(M33,\"0.000,00\"),TEXT(M33,\"0,00\"))","v":"0,00"},{"$f":"IF(N33>=1000,TEXT(N33,\"0.000,00\"),TEXT(N33,\"0,00\"))","v":"0,00"},null,{"$f":"IF(PREENCHER!AL33=\"\",#REF!,IF(PREENCHER!AM33=\"\",#REF!,IF(PREENCHER!AN33=\"\",#REF!,IF(STDEV(PREENCHER!$AF33:$AH33)/AVERAGE(PREENCHER!$AF33:$AH33)>#REF!,IF(STDEV(PREENCHER!$AG33:$AI33)/AVERAGE(PREENCHER!$AG33:$AI33)>#REF!,IF(STDEV(PREENCHER!$AH33:$AJ33)/AVERAGE(PREENCHER!$AH33:$AJ33)>#REF!,IF(STDEV(PREENCHER!$AI33:$AK33)/AVERAGE(PREENCHER!$AI33:$AK33)>#REF!,#REF!,AVERAGE(PREENCHER!$AI33:$AK33)),AVERAGE(PREENCHER!$AH33:$AJ33)),AVERAGE(PREENCHER!$AG33:$AI33)),AVERAGE(PREENCHER!$AF33:$AH33)))))","v":{"$error":"#REF!"}},{"$f":"IF(ISERROR(ROUND(BB33,2)),\"\",ROUND(BB33,2))","v":""},null,null,null,{"$f":"IF(ISERROR(IF(COUNT(E33:N33)=2,\"Apenas dois preços comparativos válidos. \",\"\")),\"\",IF(COUNT(E33:N33)=2,\"Apenas dois preços comparativos válidos. \",\"\"))","v":""},{"$f":"IF(ISERROR(IF(COUNT(E33:N33)=1,\"Apenas um preço comparativo válido. \",\"\")),\"\",IF(COUNT(E33:N33)=1,\"Apenas um preço comparativo válido. \",\"\"))","v":""},{"$f":"IF(A33=\"\",\"\",IF(ISERROR(IF(COUNT(E33:N33)=0,\"Nenhum preço comparativo válido. \",\"\")),\"\",IF(COUNT(E33:N33)=0,\"Nenhum preço comparativo válido. \",\"\")))","v":""},{"$f":"IF(ISERROR(IF(R33>P33,(R33-P33)/P33,\"\")),\"\",IF(R33>P33,(R33-P33)/P33,\"\"))","v":""},{"$f":"IF(ISERROR(IF(BJ33=\"\",\"\",\"Neste item, o valor contratado pelo TJDFT é \"&TEXT(BJ33,\"0,00%\")&\" superior à média comparativa.\")),\"\",IF(BJ33=\"\",\"\",\"Neste item, o valor contratado pelo TJDFT é \"&TEXT(BJ33,\"0,00%\")&\" superior à média comparativa.\"))","v":""}]
[null,null,null,null,null,null,null,null,null,null,null,null,null,null,{"$f":"IF(ISERROR(ROUND(AVERAGE(E34:N34),2)),\"\",ROUND(AVERAGE(E34:N34),2))","v":""},{"$f":"IF(ISERROR(ROUND(O34*D34,2)),\"\",ROUND(O34*D34,2))","v":""},null,{"$f":"IF(A34=\"\",\"\",ROUND(Q34*D34,2))","v":""},{"$f":"IF(A34=\"\",\"\",CONCATENATE($BG34,$BH34,$BI34,$BK34))","v":""},null,{"$f":"IF(ISERROR(COUNTA(E34:N34)),\"\",COUNTA(E34:N34))","v":0},{"$f":"IF(ISERROR(COUNT(E34:N34)),\"\",COUNT(E34:N34))","v":0},{"$f":"IF(ISERROR(MIN(E34:N34)),\"\",MIN(E34:N34))","v":0},{"$f":"IF(ISERROR(MAX(E34:N34)),\"\",MAX(E34:N34))","v":0},{"$f":"IF(ISERROR(ROUND(AVERAGE(E34:N34),2)),\"\",ROUND(AVERAGE(E34:N34),2))","v":""},{"$f":"IF(ISERROR(MEDIAN(E34:N34)),\"\",MEDIAN(E34:N34))","v":""},{"$f":"IF(ISERROR(STDEV(E34:N34)),\"\",STDEV(E34:N34))","v":""},{"$f":"IF(ISERROR(AA34/Y34),\"\",AA34/Y34)","v":""},null,null,null,{"$f":"IF(COUNT(E34:N34)<1,\"\",SMALL(E34:N34,1))","v":""},{"$f":"IF(COUNT(E34:N34)<2,\"\",SMALL(E34:N34,2))","v":""},{"$f":"IF(COUNT(E34:N34)<3,\"\",SMALL(E34:N34,3))","v":""},{"$f":"IF(COUNT(E34:N34)<4,\"\",SMALL(E34:N34,4))","v":""},{"$f":"IF(COUNT(E34:N34)<5,\"\",SMALL(E34:N34,5))","v":""},{"$f":"IF(COUNT(E34:N34)<6,\"\",SMALL(E34:N34,6))","v":""},{"$f":"IF(COUNT(E34:N34)<3,\"\",AVERAGE(AF34:AH34))","v":""},{"$f":"IF(COUNT(E34:N34)<4,\"\",AVERAGE(AG34:AI34))","v":""},{"$f":"IF(COUNT(E34:N34)<5,\"\",AVERAGE(AH34:AJ34))","v":""},{"$f":"IF(COUNT(E34:N34)<6,\"\",AVERAGE(AI34:AK34))","v":""},null,{"$f":"IF(E34>=1000,TEXT(E34,\"0.000,00\"),TEXT(E34,\"0,00\"))","v":"0,00"},{"$f":"IF(F34>=1000,TEXT(F34,\"0.000,00\"),TEXT(F34,\"0,00\"))","v":"0,00"},{"$f":"IF(G34>=1000,TEXT(G34,\"0.000,00\"),TEXT(G34,\"0,00\"))","v":"0,00"},{"$f":"IF(H34>=1000,TEXT(H34,\"0.000,00\"),TEXT(H34,\"0,00\"))","v":"0,00"},{"$f":"IF(I34>=1000,TEXT(I34,\"0.000,00\"),TEXT(I34,\"0,00\"))","v":"0,00"},{"$f":"IF(J34>=1000,TEXT(J34,\"0.000,00\"),TEXT(J34,\"0,00\"))","v":"0,00"},{"$f":"IF(K34>=1000,TEXT(K34,\"0.000,00\"),TEXT(K34,\"0,00\"))","v":"0,00"},{"$f":"IF(L34>=1000,TEXT(L34,\"0.000,00\"),TEXT(L34,\"0,00\"))","v":"0,00"},{"$f":"IF(M34>=1000,TEXT(M34,\"0.000,00\"),TEXT(M34,\"0,00\"))","v":"0,00"},{"$f":"IF(N34>=1000,TEXT(N34,\"0.000,00\"),TEXT(N34,\"0,00\"))","v":"0,00"},null,{"$f":"IF(PREENCHER!AL34=\"\",#REF!,IF(PREENCHER!AM34=\"\",#REF!,IF(PREENCHER!AN34=\"\",#REF!,IF(STDEV(PREENCHER!$AF34:$AH34)/AVERAGE(PREENCHER!$AF34:$AH34)>#REF!,IF(STDEV(PREENCHER!$AG34:$AI34)/AVERAGE(PREENCHER!$AG34:$AI34)>#REF!,IF(STDEV(PREENCHER!$AH34:$AJ34)/AVERAGE(PREENCHER!$AH34:$AJ34)>#REF!,IF(STDEV(PREENCHER!$AI34:$AK34)/AVERAGE(PREENCHER!$AI34:$AK34)>#REF!,#REF!,AVERAGE(PREENCHER!$AI34:$AK34)),AVERAGE(PREENCHER!$AH34:$AJ34)),AVERAGE(PREENCHER!$AG34:$AI34)),AVERAGE(PREENCHER!$AF34:$AH34)))))","v":{"$error":"#REF!"}},{"$f":"IF(ISERROR(ROUND(BB34,2)),\"\",ROUND(BB34,2))","v":""},null,null,null,{"$f":"IF(ISERROR(IF(COUNT(E34:N34)=2,\"Apenas dois preços comparativos válidos. \",\"\")),\"\",IF(COUNT(E34:N34)=2,\"Apenas dois preços comparativos válidos. \",\"\"))","v":""},{"$f":"IF(ISERROR(IF(COUNT(E34:N34)=1,\"Apenas um preço comparativo válido. \",\"\")),\"\",IF(COUNT(E34:N34)=1,\"Apenas um preço comparativo válido. \",\"\"))","v":""},{"$f":"IF(A34=\"\",\"\",IF(ISERROR(IF(COUNT(E34:N34)=0,\"Nenhum preço comparativo válido. \",\"\")),\"\",IF(COUNT(E34:N34)=0,\"Nenhum preço comparativo válido. \",\"\")))","v":""},{"$f":"IF(ISERROR(IF(R34>P34,(R34-P34)/P34,\"\")),\"\",IF(R34>P34,(R34-P34)/P34,\"\"))","v":""},{"$f":"IF(ISERROR(IF(BJ34=\"\",\"\",\"Neste item, o valor contratado pelo TJDFT é \"&TEXT(BJ34,\"0,00%\")&\" superior à média comparativa.\")),\"\",IF(BJ34=\"\",\"\",\"Neste item, o valor contratado pelo TJDFT é \"&TEXT(BJ34,\"0,00%\")&\" superior à média comparativa.\"))","v":""}]
[null,null,null,null,null,null,null,null,null,null,null,null,null,null,{"$f":"IF(ISERROR(ROUND(AVERAGE(E35:N35),2)),\"\",ROUND(AVERAGE(E35:N35),2))","v":""},{"$f":"IF(ISERROR(ROUND(O35*D35,2)),\"\",ROUND(O35*D35,2))","v":""},null,{"$f":"IF(A35=\"\",\"\",ROUND(Q35*D35,2))","v":""},{"$f":"IF(A35=\"\",\"\",CONCATENATE($BG35,$BH35,$BI35,$BK35))","v":""},null,{"$f":"IF(ISERROR(COUNTA(E35:N35)),\"\",COUNTA(E35:N35))","v":0},{"$f":"IF(ISERROR(COUNT(E35:N35)),\"\",COUNT(E35:N35))","v":0},{"$f":"IF(ISERROR(MIN(E35:N35)),\"\",MIN(E35:N35))","v":0},{"$f":"IF(ISERROR(MAX(E35:N35)),\"\",MAX(E35:N35))","v":0},{"$f":"IF(ISERROR(ROUND(AVERAGE(E35:N35),2)),\"\",ROUND(AVERAGE(E35:N35),2))","v":""},{"$f":"IF(ISERROR(MEDIAN(E35:N35)),\"\",MEDIAN(E35:N35))","v":""},{"$f":"IF(ISERROR(STDEV(E35:N35)),\"\",STDEV(E35:N35))","v":""},{"$f":"IF(ISERROR(AA35/Y35),\"\",AA35/Y35)","v":""},null,null,null,{"$f":"IF(COUNT(E35:N35)<1,\"\",SMALL(E35:N35,1))","v":""},{"$f":"IF(COUNT(E35:N35)<2,\"\",SMALL(E35:N35,2))","v":""},{"$f":"IF(COUNT(E35:N35)<3,\"\",SMALL(E35:N35,3))","v":""},{"$f":"IF(COUNT(E35:N35)<4,\"\",SMALL(E35:N35,4))","v":""},{"$f":"IF(COUNT(E35:N35)<5,\"\",SMALL(E35:N35,5))","v":""},{"$f":"IF(COUNT(E35:N35)<6,\"\",SMALL(E35:N35,6))","v":""},{"$f":"IF(COUNT(E35:N35)<3,\"\",AVERAGE(AF35:AH35))","v":""},{"$f":"IF(COUNT(E35:N35)<4,\"\",AVERAGE(AG35:AI35))","v":""},{"$f":"IF(COUNT(E35:N35)<5,\"\",AVERAGE(AH35:AJ35))","v":""},{"$f":"IF(COUNT(E35:N35)<6,\"\",AVERAGE(AI35:AK35))","v":""},null,{"$f":"IF(E35>=1000,TEXT(E35,\"0.000,00\"),TEXT(E35,\"0,00\"))","v":"0,00"},{"$f":"IF(F35>=1000,TEXT(F35,\"0.000,00\"),TEXT(F35,\"0,00\"))","v":"0,00"},{"$f":"IF(G35>=1000,TEXT(G35,\"0.000,00\"),TEXT(G35,\"0,00\"))","v":"0,00"},{"$f":"IF(H35>=1000,TEXT(H35,\"0.000,00\"),TEXT(H35,\"0,00\"))","v":"0,00"},{"$f":"IF(I35>=1000,TEXT(I35,\"0.000,00\"),TEXT(I35,\"0,00\"))","v":"0,00"},{"$f":"IF(J35>=1000,TEXT(J35,\"0.000,00\"),TEXT(J35,\"0,00\"))","v":"0,00"},{"$f":"IF(K35>=1000,TEXT(K35,\"0.000,00\"),TEXT(K35,\"0,00\"))","v":"0,00"},{"$f":"IF(L35>=1000,TEXT(L35,\"0.000,00\"),TEXT(L35,\"0,00\"))","v":"0,00"},{"$f":"IF(M35>=1000,TEXT(M35,\"0.000,00\"),TEXT(M35,\"0,00\"))","v":"0,00"},{"$f":"IF(N35>=1000,TEXT(N35,\"0.000,00\"),TEXT(N35,\"0,00\"))","v":"0,00"},null,{"$f":"IF(PREENCHER!AL35=\"\",#REF!,IF(PREENCHER!AM35=\"\",#REF!,IF(PREENCHER!AN35=\"\",#REF!,IF(STDEV(PREENCHER!$AF35:$AH35)/AVERAGE(PREENCHER!$AF35:$AH35)>#REF!,IF(STDEV(PREENCHER!$AG35:$AI35)/AVERAGE(PREENCHER!$AG35:$AI35)>#REF!,IF(STDEV(PREENCHER!$AH35:$AJ35)/AVERAGE(PREENCHER!$AH35:$AJ35)>#REF!,IF(STDEV(PREENCHER!$AI35:$AK35)/AVERAGE(PREENCHER!$AI35:$AK35)>#REF!,#REF!,AVERAGE(PREENCHER!$AI35:$AK35)),AVERAGE(PREENCHER!$AH35:$AJ35)),AVERAGE(PREENCHER!$AG35:$AI35)),AVERAGE(PREENCHER!$AF35:$AH35)))))","v":{"$error":"#REF!"}},{"$f":"IF(ISERROR(ROUND(BB35,2)),\"\",ROUND(BB35,2))","v":""},null,null,null,{"$f":"IF(ISERROR(IF(COUNT(E35:N35)=2,\"Apenas dois preços comparativos válidos. \",\"\")),\"\",IF(COUNT(E35:N35)=2,\"Apenas dois preços comparativos válidos. \",\"\"))","v":""},{"$f":"IF(ISERROR(IF(COUNT(E35:N35)=1,\"Apenas um preço comparativo válido. \",\"\")),\"\",IF(COUNT(E35:N35)=1,\"Apenas um preço comparativo válido. \",\"\"))","v":""},{"$f":"IF(A35=\"\",\"\",IF(ISERROR(IF(COUNT(E35:N35)=0,\"Nenhum preço comparativo válido. \",\"\")),\"\",IF(COUNT(E35:N35)=0,\"Nenhum preço comparativo válido. \",\"\")))","v":""},{"$f":"IF(ISERROR(IF(R35>P35,(R35-P35)/P35,\"\")),\"\",IF(R35>P35,(R35-P35)/P35,\"\"))","v":""},{"$f":"IF(ISERROR(IF(BJ35=\"\",\"\",\"Neste item, o valor contratado pelo TJDFT é \"&TEXT(BJ35,\"0,00%\")&\" superior à média comparativa.\")),\"\",IF(BJ35=\"\",\"\",\"Neste item, o valor contratado pelo TJDFT é \"&TEXT(BJ35,\"0,00%\")&\" superior à média comparativa.\"))","v":""}]
[null,null,null,null,null,null,null,null,null,null,null,null,null,null,{"$f":"IF(ISERROR(ROUND(AVERAGE(E36:N36),2)),\"\",ROUND(AVERAGE(E36:N36),2))","v":""},{"$f":"IF(ISERROR(ROUND(O36*D36,2)),\"\",ROUND(O36*D36,2))","v":""},null,{"$f":"IF(A36=\"\",\"\",ROUND(Q36*D36,2))","v":""},{"$f":"IF(A36=\"\",\"\",CONCATENATE($BG36,$BH36,$BI36,$BK36))","v":""},null,{"$f":"IF(ISERROR(COUNTA(E36:N36)),\"\",COUNTA(E36:N36))","v":0},{"$f":"IF(ISERROR(COUNT(E36:N36)),\"\",COUNT(E36:N36))","v":0},{"$f":"IF(ISERROR(MIN(E36:N36)),\"\",MIN(E36:N36))","v":0},{"$f":"IF(ISERROR(MAX(E36:N36)),\"\",MAX(E36:N36))","v":0},{"$f":"IF(ISERROR(ROUND(AVERAGE(E36:N36),2)),\"\",ROUND(AVERAGE(E36:N36),2))","v":""},{"$f":"IF(ISERROR(MEDIAN(E36:N36)),\"\",MEDIAN(E36:N36))","v":""},{"$f":"IF(ISERROR(STDEV(E36:N36)),\"\",STDEV(E36:N36))","v":""},{"$f":"IF(ISERROR(AA36/Y36),\"\",AA36/Y36)","v":""},null,null,null,{"$f":"IF(COUNT(E36:N36)<1,\"\",SMALL(E36:N36,1))","v":""},{"$f":"IF(COUNT(E36:N36)<2,\"\",SMALL(E36:N36,2))","v":""},{"$f":"IF(COUNT(E36:N36)<3,\"\",SMALL(E36:N36,3))","v":""},{"$f":"IF(COUNT(E36:N36)<4,\"\",SMALL(E36:N36,4))","v":""},{"$f":"IF(COUNT(E36:N36)<5,\"\",SMALL(E36:N36,5))","v":""},{"$f":"IF(COUNT(E36:N36)<6,\"\",SMALL(E36:N36,6))","v":""},{"$f":"IF(COUNT(E36:N36)<3,\"\",AVERAGE(AF36:AH36))","v":""},{"$f":"IF(COUNT(E36:N36)<4,\"\",AVERAGE(AG36:AI36))","v":""},{"$f":"IF(COUNT(E36:N36)<5,\"\",AVERAGE(AH36:AJ36))","v":""},{"$f":"IF(COUNT(E36:N36)<6,\"\",AVERAGE(AI36:AK36))","v":""},null,{"$f":"IF(E36>=1000,TEXT(E36,\"0.000,00\"),TEXT(E36,\"0,00\"))","v":"0,00"},{"$f":"IF(F36>=1000,TEXT(F36,\"0.000,00\"),TEXT(F36,\"0,00\"))","v":"0,00"},{"$f":"IF(G36>=1000,TEXT(G36,\"0.000,00\"),TEXT(G36,\"0,00\"))","v":"0,00"},{"$f":"IF(H36>=1000,TEXT(H36,\"0.000,00\"),TEXT(H36,\"0,00\"))","v":"0,00"},{"$f":"IF(I36>=1000,TEXT(I36,\"0.000,00\"),TEXT(I36,\"0,00\"))","v":"0,00"},{"$f":"IF(J36>=1000,TEXT(J36,\"0.000,00\"),TEXT(J36,\"0,00\"))","v":"0,00"},{"$f":"IF(K36>=1000,TEXT(K36,\"0.000,00\"),TEXT(K36,\"0,00\"))","v":"0,00"},{"$f":"IF(L36>=1000,TEXT(L36,\"0.000,00\"),TEXT(L36,\"0,00\"))","v":"0,00"},{"$f":"IF(M36>=1000,TEXT(M36,\"0.000,00\"),TEXT(M36,\"0,00\"))","v":"0,00"},{"$f":"IF(N36>=1000,TEXT(N36,\"0.000,00\"),TEXT(N36,\"0,00\"))","v":"0,00"},null,{"$f":"IF(PREENCHER!AL36=\"\",#REF!,IF(PREENCHER!AM36=\"\",#REF!,IF(PREENCHER!AN36=\"\",#REF!,IF(STDEV(PREENCHER!$AF36:$AH36)/AVERAGE(PREENCHER!$AF36:$AH36)>#REF!,IF(STDEV(PREENCHER!$AG36:$AI36)/AVERAGE(PREENCHER!$AG36:$AI36)>#REF!,IF(STDEV(PREENCHER!$AH36:$AJ36)/AVERAGE(PREENCHER!$AH36:$AJ36)>#REF!,IF(STDEV(PREENCHER!$AI36:$AK36)/AVERAGE(PREENCHER!$AI36:$AK36)>#REF!,#REF!,AVERAGE(PREENCHER!$AI36:$AK36)),AVERAGE(PREENCHER!$AH36:$AJ36)),AVERAGE(PREENCHER!$AG36:$AI36)),AVERAGE(PREENCHER!$AF36:$AH36)))))","v":{"$error":"#REF!"}},{"$f":"IF(ISERROR(ROUND(BB36,2)),\"\",ROUND(BB36,2))","v":""},null,null,null,{"$f":"IF(ISERROR(IF(COUNT(E36:N36)=2,\"Apenas dois preços comparativos válidos. \",\"\")),\"\",IF(COUNT(E36:N36)=2,\"Apenas dois preços comparativos válidos. \",\"\"))","v":""},{"$f":"IF(ISERROR(IF(COUNT(E36:N36)=1,\"Apenas um preço comparativo válido. \",\"\")),\"\",IF(COUNT(E36:N36)=1,\"Apenas um preço comparativo válido. \",\"\"))","v":""},{"$f":"IF(A36=\"\",\"\",IF(ISERROR(IF(COUNT(E36:N36)=0,\"Nenhum preço comparativo válido. \",\"\")),\"\",IF(COUNT(E36:N36)=0,\"Nenhum preço comparativo válido. \",\"\")))","v":""},{"$f":"IF(ISERROR(IF(R36>P36,(R36-P36)/P36,\"\")),\"\",IF(R36>P36,(R36-P36)/P36,\"\"))","v":""},{"$f":"IF(ISERROR(IF(BJ36=\"\",\"\",\"Neste item, o valor contratado pelo TJDFT é \"&TEXT(BJ36,\"0,00%\")&\" superior à média comparativa.\")),\"\",IF(BJ36=\"\",\"\",\"Neste item, o valor contratado pelo TJDFT é \"&TEXT(BJ36,\"0,00%\")&\" superior à média comparativa.\"))","v":""}]
[null,null,null,null,null,null,null,null,null,null,null,null,null,null,{"$f":"IF(ISERROR(ROUND(AVERAGE(E37:N37),2)),\"\",ROUND(AVERAGE(E37:N37),2))","v":""},{"$f":"IF(ISERROR(ROUND(O37*D37,2)),\"\",ROUND(O37*D37,2))","v":""},null,{"$f":"IF(A37=\"\",\"\",ROUND(Q37*D37,2))","v":""},{"$f":"IF(A37=\"\",\"\",CONCATENATE($BG37,$BH37,$BI37,$BK37))","v":""},null,{"$f":"IF(ISERROR(COUNTA(E37:N37)),\"\",COUNTA(E37:N37))","v":0},{"$f":"IF(ISERROR(COUNT(E37:N37)),\"\",COUNT(E37:N37))","v":0},{"$f":"IF(ISERROR(MIN(E37:N37)),\"\",MIN(E37:N37))","v":0},{"$f":"IF(ISERROR(MAX(E37:N37)),\"\",MAX(E37:N37))","v":0},{"$f":"IF(ISERROR(ROUND(AVERAGE(E37:N37),2)),\"\",ROUND(AVERAGE(E37:N37),2))","v":""},{"$f":"IF(ISERROR(MEDIAN(E37:N37)),\"\",MEDIAN(E37:N37))","v":""},{"$f":"IF(ISERROR(STDEV(E37:N37)),\"\",STDEV(E37:N37))","v":""},{"$f":"IF(ISERROR(AA37/Y37),\"\",AA37/Y37)","v":""},null,null,null,{"$f":"IF(COUNT(E37:N37)<1,\"\",SMALL(E37:N37,1))","v":""},{"$f":"IF(COUNT(E37:N37)<2,\"\",SMALL(E37:N37,2))","v":""},{"$f":"IF(COUNT(E37:N37)<3,\"\",SMALL(E37:N37,3))","v":""},{"$f":"IF(COUNT(E37:N37)<4,\"\",SMALL(E37:N37,4))","v":""},{"$f":"IF(COUNT(E37:N37)<5,\"\",SMALL(E37:N37,5))","v":""},{"$f":"IF(COUNT(E37:N37)<6,\"\",SMALL(E37:N37,6))","v":""},{"$f":"IF(COUNT(E37:N37)<3,\"\",AVERAGE(AF37:AH37))","v":""},{"$f":"IF(COUNT(E37:N37)<4,\"\",AVERAGE(AG37:AI37))","v":""},{"$f":"IF(COUNT(E37:N37)<5,\"\",AVERAGE(AH37:AJ37))","v":""},{"$f":"IF(COUNT(E37:N37)<6,\"\",AVERAGE(AI37:AK37))","v":""},null,{"$f":"IF(E37>=1000,TEXT(E37,\"0.000,00\"),TEXT(E37,\"0,00\"))","v":"0,00"},{"$f":"IF(F37>=1000,TEXT(F37,\"0.000,00\"),TEXT(F37,\"0,00\"))","v":"0,00"},{"$f":"IF(G37>=1000,TEXT(G37,\"0.000,00\"),TEXT(G37,\"0,00\"))","v":"0,00"},{"$f":"IF(H37>=1000,TEXT(H37,\"0.000,00\"),TEXT(H37,\"0,00\"))","v":"0,00"},{"$f":"IF(I37>=1000,TEXT(I37,\"0.000,00\"),TEXT(I37,\"0,00\"))","v":"0,00"},{"$f":"IF(J37>=1000,TEXT(J37,\"0.000,00\"),TEXT(J37,\"0,00\"))","v":"0,00"},{"$f":"IF(K37>=1000,TEXT(K37,\"0.000,00\"),TEXT(K37,\"0,00\"))","v":"0,00"},{"$f":"IF(L37>=1000,TEXT(L37,\"0.000,00\"),TEXT(L37,\"0,00\"))","v":"0,00"},{"$f":"IF(M37>=1000,TEXT(M37,\"0.000,00\"),TEXT(M37,\"0,00\"))","v":"0,00"},{"$f":"IF(N37>=1000,TEXT(N37,\"0.000,00\"),TEXT(N37,\"0,00\"))","v":"0,00"},null,{"$f":"IF(PREENCHER!AL37=\"\",#REF!,IF(PREENCHER!AM37=\"\",#REF!,IF(PREENCHER!AN37=\"\",#REF!,IF(STDEV(PREENCHER!$AF37:$AH37)/AVERAGE(PREENCHER!$AF37:$AH37)>#REF!,IF(STDEV(PREENCHER!$AG37:$AI37)/AVERAGE(PREENCHER!$AG37:$AI37)>#REF!,IF(STDEV(PREENCHER!$AH37:$AJ37)/AVERAGE(PREENCHER!$AH37:$AJ37)>#REF!,IF(STDEV(PREENCHER!$AI37:$AK37)/AVERAGE(PREENCHER!$AI37:$AK37)>#REF!,#REF!,AVERAGE(PREENCHER!$AI37:$AK37)),AVERAGE(PREENCHER!$AH37:$AJ37)),AVERAGE(PREENCHER!$AG37:$AI37)),AVERAGE(PREENCHER!$AF37:$AH37)))))","v":{"$error":"#REF!"}},{"$f":"IF(ISERROR(ROUND(BB37,2)),\"\",ROUND(BB37,2))","v":""},null,null,null,{"$f":"IF(ISERROR(IF(COUNT(E37:N37)=2,\"Apenas dois preços comparativos válidos. \",\"\")),\"\",IF(COUNT(E37:N37)=2,\"Apenas dois preços comparativos válidos. \",\"\"))","v":""},{"$f":"IF(ISERROR(IF(COUNT(E37:N37)=1,\"Apenas um preço comparativo válido. \",\"\")),\"\",IF(COUNT(E37:N37)=1,\"Apenas um preço comparativo válido. \",\"\"))","v":""},{"$f":"IF(A37=\"\",\"\",IF(ISERROR(IF(COUNT(E37:N37)=0,\"Nenhum preço comparativo válido. \",\"\")),\"\",IF(COUNT(E37:N37)=0,\"Nenhum preço comparativo válido. \",\"\")))","v":""},{"$f":"IF(ISERROR(IF(R37>P37,(R37-P37)/P37,\"\")),\"\",IF(R37>P37,(R37-P37)/P37,\"\"))","v":""},{"$f":"IF(ISERROR(IF(BJ37=\"\",\"\",\"Neste item, o valor contratado pelo TJDFT é \"&TEXT(BJ37,\"0,00%\")&\" superior à média comparativa.\")),\"\",IF(BJ37=\"\",\"\",\"Neste item, o valor contratado pelo TJDFT é \"&TEXT(BJ37,\"0,00%\")&\" superior à média comparativa.\"))","v":""}]
[null,null,null,null,null,null,null,null,null,null,null,null,null,null,{"$f":"IF(ISERROR(ROUND(AVERAGE(E38:N38),2)),\"\",ROUND(AVERAGE(E38:N38),2))","v":""},{"$f":"IF(ISERROR(ROUND(O38*D38,2)),\"\",ROUND(O38*D38,2))","v":""},null,{"$f":"IF(A38=\"\",\"\",ROUND(Q38*D38,2))","v":""},{"$f":"IF(A38=\"\",\"\",CONCATENATE($BG38,$BH38,$BI38,$BK38))","v":""},null,{"$f":"IF(ISERROR(COUNTA(E38:N38)),\"\",COUNTA(E38:N38))","v":0},{"$f":"IF(ISERROR(COUNT(E38:N38)),\"\",COUNT(E38:N38))","v":0},{"$f":"IF(ISERROR(MIN(E38:N38)),\"\",MIN(E38:N38))","v":0},{"$f":"IF(ISERROR(MAX(E38:N38)),\"\",MAX(E38:N38))","v":0},{"$f":"IF(ISERROR(ROUND(AVERAGE(E38:N38),2)),\"\",ROUND(AVERAGE(E38:N38),2))","v":""},{"$f":"IF(ISERROR(MEDIAN(E38:N38)),\"\",MEDIAN(E38:N38))","v":""},{"$f":"IF(ISERROR(STDEV(E38:N38)),\"\",STDEV(E38:N38))","v":""},{"$f":"IF(ISERROR(AA38/Y38),\"\",AA38/Y38)","v":""},null,null,null,{"$f":"IF(COUNT(E38:N38)<1,\"\",SMALL(E38:N38,1))","v":""},{"$f":"IF(COUNT(E38:N38)<2,\"\",SMALL(E38:N38,2))","v":""},{"$f":"IF(COUNT(E38:N38)<3,\"\",SMALL(E38:N38,3))","v":""},{"$f":"IF(COUNT(E38:N38)<4,\"\",SMALL(E38:N38,4))","v":""},{"$f":"IF(COUNT(E38:N38)<5,\"\",SMALL(E38:N38,5))","v":""},{"$f":"IF(COUNT(E38:N38)<6,\"\",SMALL(E38:N38,6))","v":""},{"$f":"IF(COUNT(E38:N38)<3,\"\",AVERAGE(AF38:AH38))","v":""},{"$f":"IF(COUNT(E38:N38)<4,\"\",AVERAGE(AG38:AI38))","v":""},{"$f":"IF(COUNT(E38:N38)<5,\"\",AVERAGE(AH38:AJ38))","v":""},{"$f":"IF(COUNT(E38:N38)<6,\"\",AVERAGE(AI38:AK38))","v":""},null,{"$f":"IF(E38>=1000,TEXT(E38,\"0.000,00\"),TEXT(E38,\"0,00\"))","v":"0,00"},{"$f":"IF(F38>=1000,TEXT(F38,\"0.000,00\"),TEXT(F38,\"0,00\"))","v":"0,00"},{"$f":"IF(G38>=1000,TEXT(G38,\"0.000,00\"),TEXT(G38,\"0,00\"))","v":"0,00"},{"$f":"IF(H38>=1000,TEXT(H38,\"0.000,00\"),TEXT(H38,\"0,00\"))","v":"0,00"},{"$f":"IF(I38>=1000,TEXT(I38,\"0.000,00\"),TEXT(I38,\"0,00\"))","v":"0,00"},{"$f":"IF(J38>=1000,TEXT(J38,\"0.000,00\"),TEXT(J38,\"0,00\"))","v":"0,00"},{"$f":"IF(K38>=1000,TEXT(K38,\"0.000,00\"),TEXT(K38,\"0,00\"))","v":"0,00"},{"$f":"IF(L38>=1000,TEXT(L38,\"0.000,00\"),TEXT(L38,\"0,00\"))","v":"0,00"},{"$f":"IF(M38>=1000,TEXT(M38,\"0.000,00\"),TEXT(M38,\"0,00\"))","v":"0,00"},{"$f":"IF(N38>=1000,TEXT(N38,\"0.000,00\"),TEXT(N38,\"0,00\"))","v":"0,00"},null,{"$f":"IF(PREENCHER!AL38=\"\",#REF!,IF(PREENCHER!AM38=\"\",#REF!,IF(PREENCHER!AN38=\"\",#REF!,IF(STDEV(PREENCHER!$AF38:$AH38)/AVERAGE(PREENCHER!$AF38:$AH38)>#REF!,IF(STDEV(PREENCHER!$AG38:$AI38)/AVERAGE(PREENCHER!$AG38:$AI38)>#REF!,IF(STDEV(PREENCHER!$AH38:$AJ38)/AVERAGE(PREENCHER!$AH38:$AJ38)>#REF!,IF(STDEV(PREENCHER!$AI38:$AK38)/AVERAGE(PREENCHER!$AI38:$AK38)>#REF!,#REF!,AVERAGE(PREENCHER!$AI38:$AK38)),AVERAGE(PREENCHER!$AH38:$AJ38)),AVERAGE(PREENCHER!$AG38:$AI38)),AVERAGE(PREENCHER!$AF38:$AH38)))))","v":{"$error":"#REF!"}},{"$f":"IF(ISERROR(ROUND(BB38,2)),\"\",ROUND(BB38,2))","v":""},null,null,null,{"$f":"IF(ISERROR(IF(COUNT(E38:N38)=2,\"Apenas dois preços comparativos válidos. \",\"\")),\"\",IF(COUNT(E38:N38)=2,\"Apenas dois preços comparativos válidos. \",\"\"))","v":""},{"$f":"IF(ISERROR(IF(COUNT(E38:N38)=1,\"Apenas um preço comparativo válido. \",\"\")),\"\",IF(COUNT(E38:N38)=1,\"Apenas um preço comparativo válido. \",\"\"))","v":""},{"$f":"IF(A38=\"\",\"\",IF(ISERROR(IF(COUNT(E38:N38)=0,\"Nenhum preço comparativo válido. \",\"\")),\"\",IF(COUNT(E38:N38)=0,\"Nenhum preço comparativo válido. \",\"\")))","v":""},{"$f":"IF(ISERROR(IF(R38>P38,(R38-P38)/P38,\"\")),\"\",IF(R38>P38,(R38-P38)/P38,\"\"))","v":""},{"$f":"IF(ISERROR(IF(BJ38=\"\",\"\",\"Neste item, o valor contratado pelo TJDFT é \"&TEXT(BJ38,\"0,00%\")&\" superior à média comparativa.\")),\"\",IF(BJ38=\"\",\"\",\"Neste item, o valor contratado pelo TJDFT é \"&TEXT(BJ38,\"0,00%\")&\" superior à média comparativa.\"))","v":""}]
[null,null,null,null,null,null,null,null,null,null,null,null,null,null,{"$f":"IF(ISERROR(ROUND(AVERAGE(E39:N39),2)),\"\",ROUND(AVERAGE(E39:N39),2))","v":""},{"$f":"IF(ISERROR(ROUND(O39*D39,2)),\"\",ROUND(O39*D39,2))","v":""},null,{"$f":"IF(A39=\"\",\"\",ROUND(Q39*D39,2))","v":""},{"$f":"IF(A39=\"\",\"\",CONCATENATE($BG39,$BH39,$BI39,$BK39))","v":""},null,{"$f":"IF(ISERROR(COUNTA(E39:N39)),\"\",COUNTA(E39:N39))","v":0},{"$f":"IF(ISERROR(COUNT(E39:N39)),\"\",COUNT(E39:N39))","v":0},{"$f":"IF(ISERROR(MIN(E39:N39)),\"\",MIN(E39:N39))","v":0},{"$f":"IF(ISERROR(MAX(E39:N39)),\"\",MAX(E39:N39))","v":0},{"$f":"IF(ISERROR(ROUND(AVERAGE(E39:N39),2)),\"\",ROUND(AVERAGE(E39:N39),2))","v":""},{"$f":"IF(ISERROR(MEDIAN(E39:N39)),\"\",MEDIAN(E39:N39))","v":""},{"$f":"IF(ISERROR(STDEV(E39:N39)),\"\",STDEV(E39:N39))","v":""},{"$f":"IF(ISERROR(AA39/Y39),\"\",AA39/Y39)","v":""},null,null,null,{"$f":"IF(COUNT(E39:N39)<1,\"\",SMALL(E39:N39,1))","v":""},{"$f":"IF(COUNT(E39:N39)<2,\"\",SMALL(E39:N39,2))","v":""},{"$f":"IF(COUNT(E39:N39)<3,\"\",SMALL(E39:N39,3))","v":""},{"$f":"IF(COUNT(E39:N39)<4,\"\",SMALL(E39:N39,4))","v":""},{"$f":"IF(COUNT(E39:N39)<5,\"\",SMALL(E39:N39,5))","v":""},{"$f":"IF(COUNT(E39:N39)<6,\"\",SMALL(E39:N39,6))","v":""},{"$f":"IF(COUNT(E39:N39)<3,\"\",AVERAGE(AF39:AH39))","v":""},{"$f":"IF(COUNT(E39:N39)<4,\"\",AVERAGE(AG39:AI39))","v":""},{"$f":"IF(COUNT(E39:N39)<5,\"\",AVERAGE(AH39:AJ39))","v":""},{"$f":"IF(COUNT(E39:N39)<6,\"\",AVERAGE(AI39:AK39))","v":""},null,{"$f":"IF(E39>=1000,TEXT(E39,\"0.000,00\"),TEXT(E39,\"0,00\"))","v":"0,00"},{"$f":"IF(F39>=1000,TEXT(F39,\"0.000,00\"),TEXT(F39,\"0,00\"))","v":"0,00"},{"$f":"IF(G39>=1000,TEXT(G39,\"0.000,00\"),TEXT(G39,\"0,00\"))","v":"0,00"},{"$f":"IF(H39>=1000,TEXT(H39,\"0.000,00\"),TEXT(H39,\"0,00\"))","v":"0,00"},{"$f":"IF(I39>=1000,TEXT(I39,\"0.000,00\"),TEXT(I39,\"0,00\"))","v":"0,00"},{"$f":"IF(J39>=1000,TEXT(J39,\"0.000,00\"),TEXT(J39,\"0,00\"))","v":"0,00"},{"$f":"IF(K39>=1000,TEXT(K39,\"0.000,00\"),TEXT(K39,\"0,00\"))","v":"0,00"},{"$f":"IF(L39>=1000,TEXT(L39,\"0.000,00\"),TEXT(L39,\"0,00\"))","v":"0,00"},{"$f":"IF(M39>=1000,TEXT(M39,\"0.000,00\"),TEXT(M39,\"0,00\"))","v":"0,00"},{"$f":"IF(N39>=1000,TEXT(N39,\"0.000,00\"),TEXT(N39,\"0,00\"))","v":"0,00"},null,{"$f":"IF(PREENCHER!AL39=\"\",#REF!,IF(PREENCHER!AM39=\"\",#REF!,IF(PREENCHER!AN39=\"\",#REF!,IF(STDEV(PREENCHER!$AF39:$AH39)/AVERAGE(PREENCHER!$AF39:$AH39)>#REF!,IF(STDEV(PREENCHER!$AG39:$AI39)/AVERAGE(PREENCHER!$AG39:$AI39)>#REF!,IF(STDEV(PREENCHER!$AH39:$AJ39)/AVERAGE(PREENCHER!$AH39:$AJ39)>#REF!,IF(STDEV(PREENCHER!$AI39:$AK39)/AVERAGE(PREENCHER!$AI39:$AK39)>#REF!,#REF!,AVERAGE(PREENCHER!$AI39:$AK39)),AVERAGE(PREENCHER!$AH39:$AJ39)),AVERAGE(PREENCHER!$AG39:$AI39)),AVERAGE(PREENCHER!$AF39:$AH39)))))","v":{"$error":"#REF!"}},{"$f":"IF(ISERROR(ROUND(BB39,2)),\"\",ROUND(BB39,2))","v":""},null,null,null,{"$f":"IF(ISERROR(IF(COUNT(E39:N39)=2,\"Apenas dois preços comparativos válidos. \",\"\")),\"\",IF(COUNT(E39:N39)=2,\"Apenas dois preços comparativos válidos. \",\"\"))","v":""},{"$f":"IF(ISERROR(IF(COUNT(E39:N39)=1,\"Apenas um preço comparativo válido. \",\"\")),\"\",IF(COUNT(E39:N39)=1,\"Apenas um preço comparativo válido. \",\"\"))","v":""},{"$f":"IF(A39=\"\",\"\",IF(ISERROR(IF(COUNT(E39:N39)=0,\"Nenhum preço comparativo válido. \",\"\")),\"\",IF(COUNT(E39:N39)=0,\"Nenhum preço comparativo válido. \",\"\")))","v":""},{"$f":"IF(ISERROR(IF(R39>P39,(R39-P39)/P39,\"\")),\"\",IF(R39>P39,(R39-P39)/P39,\"\"))","v":""},{"$f":"IF(ISERROR(IF(BJ39=\"\",\"\",\"Neste item, o valor contratado pelo TJDFT é \"&TEXT(BJ39,\"0,00%\")&\" superior à média comparativa.\")),\"\",IF(BJ39=\"\",\"\",\"Neste item, o valor contratado pelo TJDFT é \"&TEXT(BJ39,\"0,00%\")&\" superior à média comparativa.\"))","v":""}]
[null,null,null,null,null,null,null,null,null,null,null,null,null,null,{"$f":"IF(ISERROR(ROUND(AVERAGE(E40:N40),2)),\"\",ROUND(AVERAGE(E40:N40),2))","v":""},{"$f":"IF(ISERROR(ROUND(O40*D40,2)),\"\",ROUND(O40*D40,2))","v":""},null,{"$f":"IF(A40=\"\",\"\",ROUND(Q40*D40,2))","v":""},{"$f":"IF(A40=\"\",\"\",CONCATENATE($BG40,$BH40,$BI40,$BK40))","v":""},null,{"$f":"IF(ISERROR(COUNTA(E40:N40)),\"\",COUNTA(E40:N40))","v":0},{"$f":"IF(ISERROR(COUNT(E40:N40)),\"\",COUNT(E40:N40))","v":0},{"$f":"IF(ISERROR(MIN(E40:N40)),\"\",MIN(E40:N40))","v":0},{"$f":"IF(ISERROR(MAX(E40:N40)),\"\",MAX(E40:N40))","v":0},{"$f":"IF(ISERROR(ROUND(AVERAGE(E40:N40),2)),\"\",ROUND(AVERAGE(E40:N40),2))","v":""},{"$f":"IF(ISERROR(MEDIAN(E40:N40)),\"\",MEDIAN(E40:N40))","v":""},{"$f":"IF(ISERROR(STDEV(E40:N40)),\"\",STDEV(E40:N40))","v":""},{"$f":"IF(ISERROR(AA40/Y40),\"\",AA40/Y40)","v":""},null,null,null,{"$f":"IF(COUNT(E40:N40)<1,\"\",SMALL(E40:N40,1))","v":""},{"$f":"IF(COUNT(E40:N40)<2,\"\",SMALL(E40:N40,2))","v":""},{"$f":"IF(COUNT(E40:N40)<3,\"\",SMALL(E40:N40,3))","v":""},{"$f":"IF(COUNT(E40:N40)<4,\"\",SMALL(E40:N40,4))","v":""},{"$f":"IF(COUNT(E40:N40)<5,\"\",SMALL(E40:N40,5))","v":""},{"$f":"IF(COUNT(E40:N40)<6,\"\",SMALL(E40:N40,6))","v":""},{"$f":"IF(COUNT(E40:N40)<3,\"\",AVERAGE(AF40:AH40))","v":""},{"$f":"IF(COUNT(E40:N40)<4,\"\",AVERAGE(AG40:AI40))","v":""},{"$f":"IF(COUNT(E40:N40)<5,\"\",AVERAGE(AH40:AJ40))","v":""},{"$f":"IF(COUNT(E40:N40)<6,\"\",AVERAGE(AI40:AK40))","v":""},null,{"$f":"IF(E40>=1000,TEXT(E40,\"0.000,00\"),TEXT(E40,\"0,00\"))","v":"0,00"},{"$f":"IF(F40>=1000,TEXT(F40,\"0.000,00\"),TEXT(F40,\"0,00\"))","v":"0,00"},{"$f":"IF(G40>=1000,TEXT(G40,\"0.000,00\"),TEXT(G40,\"0,00\"))","v":"0,00"},{"$f":"IF(H40>=1000,TEXT(H40,\"0.000,00\"),TEXT(H40,\"0,00\"))","v":"0,00"},{"$f":"IF(I40>=1000,TEXT(I40,\"0.000,00\"),TEXT(I40,\"0,00\"))","v":"0,00"},{"$f":"IF(J40>=1000,TEXT(J40,\"0.000,00\"),TEXT(J40,\"0,00\"))","v":"0,00"},{"$f":"IF(K40>=1000,TEXT(K40,\"0.000,00\"),TEXT(K40,\"0,00\"))","v":"0,00"},{"$f":"IF(L40>=1000,TEXT(L40,\"0.000,00\"),TEXT(L40,\"0,00\"))","v":"0,00"},{"$f":"IF(M40>=1000,TEXT(M40,\"0.000,00\"),TEXT(M40,\"0,00\"))","v":"0,00"},{"$f":"IF(N40>=1000,TEXT(N40,\"0.000,00\"),TEXT(N40,\"0,00\"))","v":"0,00"},null,{"$f":"IF(PREENCHER!AL40=\"\",#REF!,IF(PREENCHER!AM40=\"\",#REF!,IF(PREENCHER!AN40=\"\",#REF!,IF(STDEV(PREENCHER!$AF40:$AH40)/AVERAGE(PREENCHER!$AF40:$AH40)>#REF!,IF(STDEV(PREENCHER!$AG40:$AI40)/AVERAGE(PREENCHER!$AG40:$AI40)>#REF!,IF(STDEV(PREENCHER!$AH40:$AJ40)/AVERAGE(PREENCHER!$AH40:$AJ40)>#REF!,IF(STDEV(PREENCHER!$AI40:$AK40)/AVERAGE(PREENCHER!$AI40:$AK40)>#REF!,#REF!,AVERAGE(PREENCHER!$AI40:$AK40)),AVERAGE(PREENCHER!$AH40:$AJ40)),AVERAGE(PREENCHER!$AG40:$AI40)),AVERAGE(PREENCHER!$AF40:$AH40)))))","v":{"$error":"#REF!"}},{"$f":"IF(ISERROR(ROUND(BB40,2)),\"\",ROUND(BB40,2))","v":""},null,null,null,{"$f":"IF(ISERROR(IF(COUNT(E40:N40)=2,\"Apenas dois preços comparativos válidos. \",\"\")),\"\",IF(COUNT(E40:N40)=2,\"Apenas dois preços comparativos válidos. \",\"\"))","v":""},{"$f":"IF(ISERROR(IF(COUNT(E40:N40)=1,\"Apenas um preço comparativo válido. \",\"\")),\"\",IF(COUNT(E40:N40)=1,\"Apenas um preço comparativo válido. \",\"\"))","v":""},{"$f":"IF(A40=\"\",\"\",IF(ISERROR(IF(COUNT(E40:N40)=0,\"Nenhum preço comparativo válido. \",\"\")),\"\",IF(COUNT(E40:N40)=0,\"Nenhum preço comparativo válido. \",\"\")))","v":""},{"$f":"IF(ISERROR(IF(R40>P40,(R40-P40)/P40,\"\")),\"\",IF(R40>P40,(R40-P40)/P40,\"\"))","v":""},{"$f":"IF(ISERROR(IF(BJ40=\"\",\"\",\"Neste item, o valor contratado pelo TJDFT é \"&TEXT(BJ40,\"0,00%\")&\" superior à média comparativa.\")),\"\",IF(BJ40=\"\",\"\",\"Neste item, o valor contratado pelo TJDFT é \"&TEXT(BJ40,\"0,00%\")&\" superior à média comparativa.\"))","v":""}]
[null,null,null,null,null,null,null,null,null,null,null,null,null,null,{"$f":"IF(ISERROR(ROUND(AVERAGE(E41:N41),2)),\"\",ROUND(AVERAGE(E41:N41),2))","v":""},{"$f":"IF(ISERROR(ROUND(O41*D41,2)),\"\",ROUND(O41*D41,2))","v":""},null,{"$f":"IF(A41=\"\",\"\",ROUND(Q41*D41,2))","v":""},{"$f":"IF(A41=\"\",\"\",CONCATENATE($BG41,$BH41,$BI41,$BK41))","v":""},null,{"$f":"IF(ISERROR(COUNTA(E41:N41)),\"\",COUNTA(E41:N41))","v":0},{"$f":"IF(ISERROR(COUNT(E41:N41)),\"\",COUNT(E41:N41))","v":0},{"$f":"IF(ISERROR(MIN(E41:N41)),\"\",MIN(E41:N41))","v":0},{"$f":"IF(ISERROR(MAX(E41:N41)),\"\",MAX(E41:N41))","v":0},{"$f":"IF(ISERROR(ROUND(AVERAGE(E41:N41),2)),\"\",ROUND(AVERAGE(E41:N41),2))","v":""},{"$f":"IF(ISERROR(MEDIAN(E41:N41)),\"\",MEDIAN(E41:N41))","v":""},{"$f":"IF(ISERROR(STDEV(E41:N41)),\"\",STDEV(E41:N41))","v":""},{"$f":"IF(ISERROR(AA41/Y41),\"\",AA41/Y41)","v":""},null,null,null,{"$f":"IF(COUNT(E41:N41)<1,\"\",SMALL(E41:N41,1))","v":""},{"$f":"IF(COUNT(E41:N41)<2,\"\",SMALL(E41:N41,2))","v":""},{"$f":"IF(COUNT(E41:N41)<3,\"\",SMALL(E41:N41,3))","v":""},{"$f":"IF(COUNT(E41:N41)<4,\"\",SMALL(E41:N41,4))","v":""},{"$f":"IF(COUNT(E41:N41)<5,\"\",SMALL(E41:N41,5))","v":""},{"$f":"IF(COUNT(E41:N41)<6,\"\",SMALL(E41:N41,6))","v":""},{"$f":"IF(COUNT(E41:N41)<3,\"\",AVERAGE(AF41:AH41))","v":""},{"$f":"IF(COUNT(E41:N41)<4,\"\",AVERAGE(AG41:AI41))","v":""},{"$f":"IF(COUNT(E41:N41)<5,\"\",AVERAGE(AH41:AJ41))","v":""},{"$f":"IF(COUNT(E41:N41)<6,\"\",AVERAGE(AI41:AK41))","v":""},null,{"$f":"IF(E41>=1000,TEXT(E41,\"0.000,00\"),TEXT(E41,\"0,00\"))","v":"0,00"},{"$f":"IF(F41>=1000,TEXT(F41,\"0.000,00\"),TEXT(F41,\"0,00\"))","v":"0,00"},{"$f":"IF(G41>=1000,TEXT(G41,\"0.000,00\"),TEXT(G41,\"0,00\"))","v":"0,00"},{"$f":"IF(H41>=1000,TEXT(H41,\"0.000,00\"),TEXT(H41,\"0,00\"))","v":"0,00"},{"$f":"IF(I41>=1000,TEXT(I41,\"0.000,00\"),TEXT(I41,\"0,00\"))","v":"0,00"},{"$f":"IF(J41>=1000,TEXT(J41,\"0.000,00\"),TEXT(J41,\"0,00\"))","v":"0,00"},{"$f":"IF(K41>=1000,TEXT(K41,\"0.000,00\"),TEXT(K41,\"0,00\"))","v":"0,00"},{"$f":"IF(L41>=1000,TEXT(L41,\"0.000,00\"),TEXT(L41,\"0,00\"))","v":"0,00"},{"$f":"IF(M41>=1000,TEXT(M41,\"0.000,00\"),TEXT(M41,\"0,00\"))","v":"0,00"},{"$f":"IF(N41>=1000,TEXT(N41,\"0.000,00\"),TEXT(N41,\"0,00\"))","v":"0,00"},null,{"$f":"IF(PREENCHER!AL41=\"\",#REF!,IF(PREENCHER!AM41=\"\",#REF!,IF(PREENCHER!AN41=\"\",#REF!,IF(STDEV(PREENCHER!$AF41:$AH41)/AVERAGE(PREENCHER!$AF41:$AH41)>#REF!,IF(STDEV(PREENCHER!$AG41:$AI41)/AVERAGE(PREENCHER!$AG41:$AI41)>#REF!,IF(STDEV(PREENCHER!$AH41:$AJ41)/AVERAGE(PREENCHER!$AH41:$AJ41)>#REF!,IF(STDEV(PREENCHER!$AI41:$AK41)/AVERAGE(PREENCHER!$AI41:$AK41)>#REF!,#REF!,AVERAGE(PREENCHER!$AI41:$AK41)),AVERAGE(PREENCHER!$AH41:$AJ41)),AVERAGE(PREENCHER!$AG41:$AI41)),AVERAGE(PREENCHER!$AF41:$AH41)))))","v":{"$error":"#REF!"}},{"$f":"IF(ISERROR(ROUND(BB41,2)),\"\",ROUND(BB41,2))","v":""},null,null,null,{"$f":"IF(ISERROR(IF(COUNT(E41:N41)=2,\"Apenas dois preços comparativos válidos. \",\"\")),\"\",IF(COUNT(E41:N41)=2,\"Apenas dois preços comparativos válidos. \",\"\"))","v":""},{"$f":"IF(ISERROR(IF(COUNT(E41:N41)=1,\"Apenas um preço comparativo válido. \",\"\")),\"\",IF(COUNT(E41:N41)=1,\"Apenas um preço comparativo válido. \",\"\"))","v":""},{"$f":"IF(A41=\"\",\"\",IF(ISERROR(IF(COUNT(E41:N41)=0,\"Nenhum preço comparativo válido. \",\"\")),\"\",IF(COUNT(E41:N41)=0,\"Nenhum preço comparativo válido. \",\"\")))","v":""},{"$f":"IF(ISERROR(IF(R41>P41,(R41-P41)/P41,\"\")),\"\",IF(R41>P41,(R41-P41)/P41,\"\"))","v":""},{"$f":"IF(ISERROR(IF(BJ41=\"\",\"\",\"Neste item, o valor contratado pelo TJDFT é \"&TEXT(BJ41,\"0,00%\")&\" superior à média comparativa.\")),\"\",IF(BJ41=\"\",\"\",\"Neste item, o valor contratado pelo TJDFT é \"&TEXT(BJ41,\"0,00%\")&\" superior à média comparativa.\"))","v":""}]
[null,null,null,null,null,null,null,null,null,null,null,null,null,null,{"$f":"IF(ISERROR(ROUND(AVERAGE(E42:N42),2)),\"\",ROUND(AVERAGE(E42:N42),2))","v":""},{"$f":"IF(ISERROR(ROUND(O42*D42,2)),\"\",ROUND(O42*D42,2))","v":""},null,{"$f":"IF(A42=\"\",\"\",ROUND(Q42*D42,2))","v":""},{"$f":"IF(A42=\"\",\"\",CONCATENATE($BG42,$BH42,$BI42,$BK42))","v":""},null,{"$f":"IF(ISERROR(COUNTA(E42:N42)),\"\",COUNTA(E42:N42))","v":0},{"$f":"IF(ISERROR(COUNT(E42:N42)),\"\",COUNT(E42:N42))","v":0},{"$f":"IF(ISERROR(MIN(E42:N42)),\"\",MIN(E42:N42))","v":0},{"$f":"IF(ISERROR(MAX(E42:N42)),\"\",MAX(E42:N42))","v":0},{"$f":"IF(ISERROR(ROUND(AVERAGE(E42:N42),2)),\"\",ROUND(AVERAGE(E42:N42),2))","v":""},{"$f":"IF(ISERROR(MEDIAN(E42:N42)),\"\",MEDIAN(E42:N42))","v":""},{"$f":"IF(ISERROR(STDEV(E42:N42)),\"\",STDEV(E42:N42))","v":""},{"$f":"IF(ISERROR(AA42/Y42),\"\",AA42/Y42)","v":""},null,null,null,{"$f":"IF(COUNT(E42:N42)<1,\"\",SMALL(E42:N42,1))","v":""},{"$f":"IF(COUNT(E42:N42)<2,\"\",SMALL(E42:N42,2))","v":""},{"$f":"IF(COUNT(E42:N42)<3,\"\",SMALL(E42:N42,3))","v":""},{"$f":"IF(COUNT(E42:N42)<4,\"\",SMALL(E42:N42,4))","v":""},{"$f":"IF(COUNT(E42:N42)<5,\"\",SMALL(E42:N42,5))","v":""},{"$f":"IF(COUNT(E42:N42)<6,\"\",SMALL(E42:N42,6))","v":""},{"$f":"IF(COUNT(E42:N42)<3,\"\",AVERAGE(AF42:AH42))","v":""},{"$f":"IF(COUNT(E42:N42)<4,\"\",AVERAGE(AG42:AI42))","v":""},{"$f":"IF(COUNT(E42:N42)<5,\"\",AVERAGE(AH42:AJ42))","v":""},{"$f":"IF(COUNT(E42:N42)<6,\"\",AVERAGE(AI42:AK42))","v":""},null,{"$f":"IF(E42>=1000,TEXT(E42,\"0.000,00\"),TEXT(E42,\"0,00\"))","v":"0,00"},{"$f":"IF(F42>=1000,TEXT(F42,\"0.000,00\"),TEXT(F42,\"0,00\"))","v":"0,00"},{"$f":"IF(G42>=1000,TEXT(G42,\"0.000,00\"),TEXT(G42,\"0,00\"))","v":"0,00"},{"$f":"IF(H42>=1000,TEXT(H42,\"0.000,00\"),TEXT(H42,\"0,00\"))","v":"0,00"},{"$f":"IF(I42>=1000,TEXT(I42,\"0.000,00\"),TEXT(I42,\"0,00\"))","v":"0,00"},{"$f":"IF(J42>=1000,TEXT(J42,\"0.000,00\"),TEXT(J42,\"0,00\"))","v":"0,00"},{"$f":"IF(K42>=1000,TEXT(K42,\"0.000,00\"),TEXT(K42,\"0,00\"))","v":"0,00"},{"$f":"IF(L42>=1000,TEXT(L42,\"0.000,00\"),TEXT(L42,\"0,00\"))","v":"0,00"},{"$f":"IF(M42>=1000,TEXT(M42,\"0.000,00\"),TEXT(M42,\"0,00\"))","v":"0,00"},{"$f":"IF(N42>=1000,TEXT(N42,\"0.000,00\"),TEXT(N42,\"0,00\"))","v":"0,00"},null,{"$f":"IF(PREENCHER!AL42=\"\",#REF!,IF(PREENCHER!AM42=\"\",#REF!,IF(PREENCHER!AN42=\"\",#REF!,IF(STDEV(PREENCHER!$AF42:$AH42)/AVERAGE(PREENCHER!$AF42:$AH42)>#REF!,IF(STDEV(PREENCHER!$AG42:$AI42)/AVERAGE(PREENCHER!$AG42:$AI42)>#REF!,IF(STDEV(PREENCHER!$AH42:$AJ42)/AVERAGE(PREENCHER!$AH42:$AJ42)>#REF!,IF(STDEV(PREENCHER!$AI42:$AK42)/AVERAGE(PREENCHER!$AI42:$AK42)>#REF!,#REF!,AVERAGE(PREENCHER!$AI42:$AK42)),AVERAGE(PREENCHER!$AH42:$AJ42)),AVERAGE(PREENCHER!$AG42:$AI42)),AVERAGE(PREENCHER!$AF42:$AH42)))))","v":{"$error":"#REF!"}},{"$f":"IF(ISERROR(ROUND(BB42,2)),\"\",ROUND(BB42,2))","v":""},null,null,null,{"$f":"IF(ISERROR(IF(COUNT(E42:N42)=2,\"Apenas dois preços comparativos válidos. \",\"\")),\"\",IF(COUNT(E42:N42)=2,\"Apenas dois preços comparativos válidos. \",\"\"))","v":""},{"$f":"IF(ISERROR(IF(COUNT(E42:N42)=1,\"Apenas um preço comparativo válido. \",\"\")),\"\",IF(COUNT(E42:N42)=1,\"Apenas um preço comparativo válido. \",\"\"))","v":""},{"$f":"IF(A42=\"\",\"\",IF(ISERROR(IF(COUNT(E42:N42)=0,\"Nenhum preço comparativo válido. \",\"\")),\"\",IF(COUNT(E42:N42)=0,\"Nenhum preço comparativo válido. \",\"\")))","v":""},{"$f":"IF(ISERROR(IF(R42>P42,(R42-P42)/P42,\"\")),\"\",IF(R42>P42,(R42-P42)/P42,\"\"))","v":""},{"$f":"IF(ISERROR(IF(BJ42=\"\",\"\",\"Neste item, o valor contratado pelo TJDFT é \"&TEXT(BJ42,\"0,00%\")&\" superior à média comparativa.\")),\"\",IF(BJ42=\"\",\"\",\"Neste item, o valor contratado pelo TJDFT é \"&TEXT(BJ42,\"0,00%\")&\" superior à média comparativa.\"))","v":""}]
[null,null,null,null,null,null,null,null,null,null,null,null,null,null,{"$f":"IF(ISERROR(ROUND(AVERAGE(E43:N43),2)),\"\",ROUND(AVERAGE(E43:N43),2))","v":""},{"$f":"IF(ISERROR(ROUND(O43*D43,2)),\"\",ROUND(O43*D43,2))","v":""},null,{"$f":"IF(A43=\"\",\"\",ROUND(Q43*D43,2))","v":""},{"$f":"IF(A43=\"\",\"\",CONCATENATE($BG43,$BH43,$BI43,$BK43))","v":""},null,{"$f":"IF(ISERROR(COUNTA(E43:N43)),\"\",COUNTA(E43:N43))","v":0},{"$f":"IF(ISERROR(COUNT(E43:N43)),\"\",COUNT(E43:N43))","v":0},{"$f":"IF(ISERROR(MIN(E43:N43)),\"\",MIN(E43:N43))","v":0},{"$f":"IF(ISERROR(MAX(E43:N43)),\"\",MAX(E43:N43))","v":0},{"$f":"IF(ISERROR(ROUND(AVERAGE(E43:N43),2)),\"\",ROUND(AVERAGE(E43:N43),2))","v":""},{"$f":"IF(ISERROR(MEDIAN(E43:N43)),\"\",MEDIAN(E43:N43))","v":""},{"$f":"IF(ISERROR(STDEV(E43:N43)),\"\",STDEV(E43:N43))","v":""},{"$f":"IF(ISERROR(AA43/Y43),\"\",AA43/Y43)","v":""},null,null,null,{"$f":"IF(COUNT(E43:N43)<1,\"\",SMALL(E43:N43,1))","v":""},{"$f":"IF(COUNT(E43:N43)<2,\"\",SMALL(E43:N43,2))","v":""},{"$f":"IF(COUNT(E43:N43)<3,\"\",SMALL(E43:N43,3))","v":""},{"$f":"IF(COUNT(E43:N43)<4,\"\",SMALL(E43:N43,4))","v":""},{"$f":"IF(COUNT(E43:N43)<5,\"\",SMALL(E43:N43,5))","v":""},{"$f":"IF(COUNT(E43:N43)<6,\"\",SMALL(E43:N43,6))","v":""},{"$f":"IF(COUNT(E43:N43)<3,\"\",AVERAGE(AF43:AH43))","v":""},{"$f":"IF(COUNT(E43:N43)<4,\"\",AVERAGE(AG43:AI43))","v":""},{"$f":"IF(COUNT(E43:N43)<5,\"\",AVERAGE(AH43:AJ43))","v":""},{"$f":"IF(COUNT(E43:N43)<6,\"\",AVERAGE(AI43:AK43))","v":""},null,{"$f":"IF(E43>=1000,TEXT(E43,\"0.000,00\"),TEXT(E43,\"0,00\"))","v":"0,00"},{"$f":"IF(F43>=1000,TEXT(F43,\"0.000,00\"),TEXT(F43,\"0,00\"))","v":"0,00"},{"$f":"IF(G43>=1000,TEXT(G43,\"0.000,00\"),TEXT(G43,\"0,00\"))","v":"0,00"},{"$f":"IF(H43>=1000,TEXT(H43,\"0.000,00\"),TEXT(H43,\"0,00\"))","v":"0,00"},{"$f":"IF(I43>=1000,TEXT(I43,\"0.000,00\"),TEXT(I43,\"0,00\"))","v":"0,00"},{"$f":"IF(J43>=1000,TEXT(J43,\"0.000,00\"),TEXT(J43,\"0,00\"))","v":"0,00"},{"$f":"IF(K43>=1000,TEXT(K43,\"0.000,00\"),TEXT(K43,\"0,00\"))","v":"0,00"},{"$f":"IF(L43>=1000,TEXT(L43,\"0.000,00\"),TEXT(L43,\"0,00\"))","v":"0,00"},{"$f":"IF(M43>=1000,TEXT(M43,\"0.000,00\"),TEXT(M43,\"0,00\"))","v":"0,00"},{"$f":"IF(N43>=1000,TEXT(N43,\"0.000,00\"),TEXT(N43,\"0,00\"))","v":"0,00"},null,{"$f":"IF(PREENCHER!AL43=\"\",#REF!,IF(PREENCHER!AM43=\"\",#REF!,IF(PREENCHER!AN43=\"\",#REF!,IF(STDEV(PREENCHER!$AF43:$AH43)/AVERAGE(PREENCHER!$AF43:$AH43)>#REF!,IF(STDEV(PREENCHER!$AG43:$AI43)/AVERAGE(PREENCHER!$AG43:$AI43)>#REF!,IF(STDEV(PREENCHER!$AH43:$AJ43)/AVERAGE(PREENCHER!$AH43:$AJ43)>#REF!,IF(STDEV(PREENCHER!$AI43:$AK43)/AVERAGE(PREENCHER!$AI43:$AK43)>#REF!,#REF!,AVERAGE(PREENCHER!$AI43:$AK43)),AVERAGE(PREENCHER!$AH43:$AJ43)),AVERAGE(PREENCHER!$AG43:$AI43)),AVERAGE(PREENCHER!$AF43:$AH43)))))","v":{"$error":"#REF!"}},{"$f":"IF(ISERROR(ROUND(BB43,2)),\"\",ROUND(BB43,2))","v":""},null,null,null,{"$f":"IF(ISERROR(IF(COUNT(E43:N43)=2,\"Apenas dois preços comparativos válidos. \",\"\")),\"\",IF(COUNT(E43:N43)=2,\"Apenas dois preços comparativos válidos. \",\"\"))","v":""},{"$f":"IF(ISERROR(IF(COUNT(E43:N43)=1,\"Apenas um preço comparativo válido. \",\"\")),\"\",IF(COUNT(E43:N43)=1,\"Apenas um preço comparativo válido. \",\"\"))","v":""},{"$f":"IF(A43=\"\",\"\",IF(ISERROR(IF(COUNT(E43:N43)=0,\"Nenhum preço comparativo válido. \",\"\")),\"\",IF(COUNT(E43:N43)=0,\"Nenhum preço comparativo válido. \",\"\")))","v":""},{"$f":"IF(ISERROR(IF(R43>P43,(R43-P43)/P43,\"\")),\"\",IF(R43>P43,(R43-P43)/P43,\"\"))","v":""},{"$f":"IF(ISERROR(IF(BJ43=\"\",\"\",\"Neste item, o valor contratado pelo TJDFT é \"&TEXT(BJ43,\"0,00%\")&\" superior à média comparativa.\")),\"\",IF(BJ43=\"\",\"\",\"Neste item, o valor contratado pelo TJDFT é \"&TEXT(BJ43,\"0,00%\")&\" superior à média comparativa.\"))","v":""}]
[null,null,null,null,null,null,null,null,null,null,null,null,null,null,{"$f":"IF(ISERROR(ROUND(AVERAGE(E44:N44),2)),\"\",ROUND(AVERAGE(E44:N44),2))","v":""},{"$f":"IF(ISERROR(ROUND(O44*D44,2)),\"\",ROUND(O44*D44,2))","v":""},null,{"$f":"IF(A44=\"\",\"\",ROUND(Q44*D44,2))","v":""},{"$f":"IF(A44=\"\",\"\",CONCATENATE($BG44,$BH44,$BI44,$BK44))","v":""},null,{"$f":"IF(ISERROR(COUNTA(E44:N44)),\"\",COUNTA(E44:N44))","v":0},{"$f":"IF(ISERROR(COUNT(E44:N44)),\"\",COUNT(E44:N44))","v":0},{"$f":"IF(ISERROR(MIN(E44:N44)),\"\",MIN(E44:N44))","v":0},{"$f":"IF(ISERROR(MAX(E44:N44)),\"\",MAX(E44:N44))","v":0},{"$f":"IF(ISERROR(ROUND(AVERAGE(E44:N44),2)),\"\",ROUND(AVERAGE(E44:N44),2))","v":""},{"$f":"IF(ISERROR(MEDIAN(E44:N44)),\"\",MEDIAN(E44:N44))","v":""},{"$f":"IF(ISERROR(STDEV(E44:N44)),\"\",STDEV(E44:N44))","v":""},{"$f":"IF(ISERROR(AA44/Y44),\"\",AA44/Y44)","v":""},null,null,null,{"$f":"IF(COUNT(E44:N44)<1,\"\",SMALL(E44:N44,1))","v":""},{"$f":"IF(COUNT(E44:N44)<2,\"\",SMALL(E44:N44,2))","v":""},{"$f":"IF(COUNT(E44:N44)<3,\"\",SMALL(E44:N44,3))","v":""},{"$f":"IF(COUNT(E44:N44)<4,\"\",SMALL(E44:N44,4))","v":""},{"$f":"IF(COUNT(E44:N44)<5,\"\",SMALL(E44:N44,5))","v":""},{"$f":"IF(COUNT(E44:N44)<6,\"\",SMALL(E44:N44,6))","v":""},{"$f":"IF(COUNT(E44:N44)<3,\"\",AVERAGE(AF44:AH44))","v":""},{"$f":"IF(COUNT(E44:N44)<4,\"\",AVERAGE(AG44:AI44))","v":""},{"$f":"IF(COUNT(E44:N44)<5,\"\",AVERAGE(AH44:AJ44))","v":""},{"$f":"IF(COUNT(E44:N44)<6,\"\",AVERAGE(AI44:AK44))","v":""},null,{"$f":"IF(E44>=1000,TEXT(E44,\"0.000,00\"),TEXT(E44,\"0,00\"))","v":"0,00"},{"$f":"IF(F44>=1000,TEXT(F44,\"0.000,00\"),TEXT(F44,\"0,00\"))","v":"0,00"},{"$f":"IF(G44>=1000,TEXT(G44,\"0.000,00\"),TEXT(G44,\"0,00\"))","v":"0,00"},{"$f":"IF(H44>=1000,TEXT(H44,\"0.000,00\"),TEXT(H44,\"0,00\"))","v":"0,00"},{"$f":"IF(I44>=1000,TEXT(I44,\"0.000,00\"),TEXT(I44,\"0,00\"))","v":"0,00"},{"$f":"IF(J44>=1000,TEXT(J44,\"0.000,00\"),TEXT(J44,\"0,00\"))","v":"0,00"},{"$f":"IF(K44>=1000,TEXT(K44,\"0.000,00\"),TEXT(K44,\"0,00\"))","v":"0,00"},{"$f":"IF(L44>=1000,TEXT(L44,\"0.000,00\"),TEXT(L44,\"0,00\"))","v":"0,00"},{"$f":"IF(M44>=1000,TEXT(M44,\"0.000,00\"),TEXT(M44,\"0,00\"))","v":"0,00"},{"$f":"IF(N44>=1000,TEXT(N44,\"0.000,00\"),TEXT(N44,\"0,00\"))","v":"0,00"},null,{"$f":"IF(PREENCHER!AL44=\"\",#REF!,IF(PREENCHER!AM44=\"\",#REF!,IF(PREENCHER!AN44=\"\",#REF!,IF(STDEV(PREENCHER!$AF44:$AH44)/AVERAGE(PREENCHER!$AF44:$AH44)>#REF!,IF(STDEV(PREENCHER!$AG44:$AI44)/AVERAGE(PREENCHER!$AG44:$AI44)>#REF!,IF(STDEV(PREENCHER!$AH44:$AJ44)/AVERAGE(PREENCHER!$AH44:$AJ44)>#REF!,IF(STDEV(PREENCHER!$AI44:$AK44)/AVERAGE(PREENCHER!$AI44:$AK44)>#REF!,#REF!,AVERAGE(PREENCHER!$AI44:$AK44)),AVERAGE(PREENCHER!$AH44:$AJ44)),AVERAGE(PREENCHER!$AG44:$AI44)),AVERAGE(PREENCHER!$AF44:$AH44)))))","v":{"$error":"#REF!"}},{"$f":"IF(ISERROR(ROUND(BB44,2)),\"\",ROUND(BB44,2))","v":""},null,null,null,{"$f":"IF(ISERROR(IF(COUNT(E44:N44)=2,\"Apenas dois preços comparativos válidos. \",\"\")),\"\",IF(COUNT(E44:N44)=2,\"Apenas dois preços comparativos válidos. \",\"\"))","v":""},{"$f":"IF(ISERROR(IF(COUNT(E44:N44)=1,\"Apenas um preço comparativo válido. \",\"\")),\"\",IF(COUNT(E44:N44)=1,\"Apenas um preço comparativo válido. \",\"\"))","v":""},{"$f":"IF(A44=\"\",\"\",IF(ISERROR(IF(COUNT(E44:N44)=0,\"Nenhum preço comparativo válido. \",\"\")),\"\",IF(COUNT(E44:N44)=0,\"Nenhum preço comparativo válido. \",\"\")))","v":""},{"$f":"IF(ISERROR(IF(R44>P44,(R44-P44)/P44,\"\")),\"\",IF(R44>P44,(R44-P44)/P44,\"\"))","v":""},{"$f":"IF(ISERROR(IF(BJ44=\"\",\"\",\"Neste item, o valor contratado pelo TJDFT é \"&TEXT(BJ44,\"0,00%\")&\" superior à média comparativa.\")),\"\",IF(BJ44=\"\",\"\",\"Neste item, o valor contratado pelo TJDFT é \"&TEXT(BJ44,\"0,00%\")&\" superior à média comparativa.\"))","v":""}]
[null,null,null,null,null,null,null,null,null,null,null,null,null,null,{"$f":"IF(ISERROR(ROUND(AVERAGE(E45:N45),2)),\"\",ROUND(AVERAGE(E45:N45),2))","v":""},{"$f":"IF(ISERROR(ROUND(O45*D45,2)),\"\",ROUND(O45*D45,2))","v":""},null,{"$f":"IF(A45=\"\",\"\",ROUND(Q45*D45,2))","v":""},{"$f":"IF(A45=\"\",\"\",CONCATENATE($BG45,$BH45,$BI45,$BK45))","v":""},null,{"$f":"IF(ISERROR(COUNTA(E45:N45)),\"\",COUNTA(E45:N45))","v":0},{"$f":"IF(ISERROR(COUNT(E45:N45)),\"\",COUNT(E45:N45))","v":0},{"$f":"IF(ISERROR(MIN(E45:N45)),\"\",MIN(E45:N45))","v":0},{"$f":"IF(ISERROR(MAX(E45:N45)),\"\",MAX(E45:N45))","v":0},{"$f":"IF(ISERROR(ROUND(AVERAGE(E45:N45),2)),\"\",ROUND(AVERAGE(E45:N45),2))","v":""},{"$f":"IF(ISERROR(MEDIAN(E45:N45)),\"\",MEDIAN(E45:N45))","v":""},{"$f":"IF(ISERROR(STDEV(E45:N45)),\"\",STDEV(E45:N45))","v":""},{"$f":"IF(ISERROR(AA45/Y45),\"\",AA45/Y45)","v":""},null,null,null,{"$f":"IF(COUNT(E45:N45)<1,\"\",SMALL(E45:N45,1))","v":""},{"$f":"IF(COUNT(E45:N45)<2,\"\",SMALL(E45:N45,2))","v":""},{"$f":"IF(COUNT(E45:N45)<3,\"\",SMALL(E45:N45,3))","v":""},{"$f":"IF(COUNT(E45:N45)<4,\"\",SMALL(E45:N45,4))","v":""},{"$f":"IF(COUNT(E45:N45)<5,\"\",SMALL(E45:N45,5))","v":""},{"$f":"IF(COUNT(E45:N45)<6,\"\",SMALL(E45:N45,6))","v":""},{"$f":"IF(COUNT(E45:N45)<3,\"\",AVERAGE(AF45:AH45))","v":""},{"$f":"IF(COUNT(E45:N45)<4,\"\",AVERAGE(AG45:AI45))","v":""},{"$f":"IF(COUNT(E45:N45)<5,\"\",AVERAGE(AH45:AJ45))","v":""},{"$f":"IF(COUNT(E45:N45)<6,\"\",AVERAGE(AI45:AK45))","v":""},null,{"$f":"IF(E45>=1000,TEXT(E45,\"0.000,00\"),TEXT(E45,\"0,00\"))","v":"0,00"},{"$f":"IF(F45>=1000,TEXT(F45,\"0.000,00\"),TEXT(F45,\"0,00\"))","v":"0,00"},{"$f":"IF(G45>=1000,TEXT(G45,\"0.000,00\"),TEXT(G45,\"0,00\"))","v":"0,00"},{"$f":"IF(H45>=1000,TEXT(H45,\"0.000,00\"),TEXT(H45,\"0,00\"))","v":"0,00"},{"$f":"IF(I45>=1000,TEXT(I45,\"0.000,00\"),TEXT(I45,\"0,00\"))","v":"0,00"},{"$f":"IF(J45>=1000,TEXT(J45,\"0.000,00\"),TEXT(J45,\"0,00\"))","v":"0,00"},{"$f":"IF(K45>=1000,TEXT(K45,\"0.000,00\"),TEXT(K45,\"0,00\"))","v":"0,00"},{"$f":"IF(L45>=1000,TEXT(L45,\"0.000,00\"),TEXT(L45,\"0,00\"))","v":"0,00"},{"$f":"IF(M45>=1000,TEXT(M45,\"0.000,00\"),TEXT(M45,\"0,00\"))","v":"0,00"},{"$f":"IF(N45>=1000,TEXT(N45,\"0.000,00\"),TEXT(N45,\"0,00\"))","v":"0,00"},null,{"$f":"IF(PREENCHER!AL45=\"\",#REF!,IF(PREENCHER!AM45=\"\",#REF!,IF(PREENCHER!AN45=\"\",#REF!,IF(STDEV(PREENCHER!$AF45:$AH45)/AVERAGE(PREENCHER!$AF45:$AH45)>#REF!,IF(STDEV(PREENCHER!$AG45:$AI45)/AVERAGE(PREENCHER!$AG45:$AI45)>#REF!,IF(STDEV(PREENCHER!$AH45:$AJ45)/AVERAGE(PREENCHER!$AH45:$AJ45)>#REF!,IF(STDEV(PREENCHER!$AI45:$AK45)/AVERAGE(PREENCHER!$AI45:$AK45)>#REF!,#REF!,AVERAGE(PREENCHER!$AI45:$AK45)),AVERAGE(PREENCHER!$AH45:$AJ45)),AVERAGE(PREENCHER!$AG45:$AI45)),AVERAGE(PREENCHER!$AF45:$AH45)))))","v":{"$error":"#REF!"}},{"$f":"IF(ISERROR(ROUND(BB45,2)),\"\",ROUND(BB45,2))","v":""},null,null,null,{"$f":"IF(ISERROR(IF(COUNT(E45:N45)=2,\"Apenas dois preços comparativos válidos. \",\"\")),\"\",IF(COUNT(E45:N45)=2,\"Apenas dois preços comparativos válidos. \",\"\"))","v":""},{"$f":"IF(ISERROR(IF(COUNT(E45:N45)=1,\"Apenas um preço comparativo válido. \",\"\")),\"\",IF(COUNT(E45:N45)=1,\"Apenas um preço comparativo válido. \",\"\"))","v":""},{"$f":"IF(A45=\"\",\"\",IF(ISERROR(IF(COUNT(E45:N45)=0,\"Nenhum preço comparativo válido. \",\"\")),\"\",IF(COUNT(E45:N45)=0,\"Nenhum preço comparativo válido. \",\"\")))","v":""},{"$f":"IF(ISERROR(IF(R45>P45,(R45-P45)/P45,\"\")),\"\",IF(R45>P45,(R45-P45)/P45,\"\"))","v":""},{"$f":"IF(ISERROR(IF(BJ45=\"\",\"\",\"Neste item, o valor contratado pelo TJDFT é \"&TEXT(BJ45,\"0,00%\")&\" superior à média comparativa.\")),\"\",IF(BJ45=\"\",\"\",\"Neste item, o valor contratado pelo TJDFT é \"&TEXT(BJ45,\"0,00%\")&\" superior à média comparativa.\"))","v":""}]
[null,null,null,null,null,null,null,null,null,null,null,null,null,null,{"$f":"IF(ISERROR(ROUND(AVERAGE(E46:N46),2)),\"\",ROUND(AVERAGE(E46:N46),2))","v":""},{"$f":"IF(ISERROR(ROUND(O46*D46,2)),\"\",ROUND(O46*D46,2))","v":""},null,{"$f":"IF(A46=\"\",\"\",ROUND(Q46*D46,2))","v":""},{"$f":"IF(A46=\"\",\"\",CONCATENATE($BG46,$BH46,$BI46,$BK46))","v":""},null,{"$f":"IF(ISERROR(COUNTA(E46:N46)),\"\",COUNTA(E46:N46))","v":0},{"$f":"IF(ISERROR(COUNT(E46:N46)),\"\",COUNT(E46:N46))","v":0},{"$f":"IF(ISERROR(MIN(E46:N46)),\"\",MIN(E46:N46))","v":0},{"$f":"IF(ISERROR(MAX(E46:N46)),\"\",MAX(E46:N46))","v":0},{"$f":"IF(ISERROR(ROUND(AVERAGE(E46:N46),2)),\"\",ROUND(AVERAGE(E46:N46),2))","v":""},{"$f":"IF(ISERROR(MEDIAN(E46:N46)),\"\",MEDIAN(E46:N46))","v":""},{"$f":"IF(ISERROR(STDEV(E46:N46)),\"\",STDEV(E46:N46))","v":""},{"$f":"IF(ISERROR(AA46/Y46),\"\",AA46/Y46)","v":""},null,null,null,{"$f":"IF(COUNT(E46:N46)<1,\"\",SMALL(E46:N46,1))","v":""},{"$f":"IF(COUNT(E46:N46)<2,\"\",SMALL(E46:N46,2))","v":""},{"$f":"IF(COUNT(E46:N46)<3,\"\",SMALL(E46:N46,3))","v":""},{"$f":"IF(COUNT(E46:N46)<4,\"\",SMALL(E46:N46,4))","v":""},{"$f":"IF(COUNT(E46:N46)<5,\"\",SMALL(E46:N46,5))","v":""},{"$f":"IF(COUNT(E46:N46)<6,\"\",SMALL(E46:N46,6))","v":""},{"$f":"IF(COUNT(E46:N46)<3,\"\",AVERAGE(AF46:AH46))","v":""},{"$f":"IF(COUNT(E46:N46)<4,\"\",AVERAGE(AG46:AI46))","v":""},{"$f":"IF(COUNT(E46:N46)<5,\"\",AVERAGE(AH46:AJ46))","v":""},{"$f":"IF(COUNT(E46:N46)<6,\"\",AVERAGE(AI46:AK46))","v":""},null,{"$f":"IF(E46>=1000,TEXT(E46,\"0.000,00\"),TEXT(E46,\"0,00\"))","v":"0,00"},{"$f":"IF(F46>=1000,TEXT(F46,\"0.000,00\"),TEXT(F46,\"0,00\"))","v":"0,00"},{"$f":"IF(G46>=1000,TEXT(G46,\"0.000,00\"),TEXT(G46,\"0,00\"))","v":"0,00"},{"$f":"IF(H46>=1000,TEXT(H46,\"0.000,00\"),TEXT(H46,\"0,00\"))","v":"0,00"},{"$f":"IF(I46>=1000,TEXT(I46,\"0.000,00\"),TEXT(I46,\"0,00\"))","v":"0,00"},{"$f":"IF(J46>=1000,TEXT(J46,\"0.000,00\"),TEXT(J46,\"0,00\"))","v":"0,00"},{"$f":"IF(K46>=1000,TEXT(K46,\"0.000,00\"),TEXT(K46,\"0,00\"))","v":"0,00"},{"$f":"IF(L46>=1000,TEXT(L46,\"0.000,00\"),TEXT(L46,\"0,00\"))","v":"0,00"},{"$f":"IF(M46>=1000,TEXT(M46,\"0.000,00\"),TEXT(M46,\"0,00\"))","v":"0,00"},{"$f":"IF(N46>=1000,TEXT(N46,\"0.000,00\"),TEXT(N46,\"0,00\"))","v":"0,00"},null,{"$f":"IF(PREENCHER!AL46=\"\",#REF!,IF(PREENCHER!AM46=\"\",#REF!,IF(PREENCHER!AN46=\"\",#REF!,IF(STDEV(PREENCHER!$AF46:$AH46)/AVERAGE(PREENCHER!$AF46:$AH46)>#REF!,IF(STDEV(PREENCHER!$AG46:$AI46)/AVERAGE(PREENCHER!$AG46:$AI46)>#REF!,IF(STDEV(PREENCHER!$AH46:$AJ46)/AVERAGE(PREENCHER!$AH46:$AJ46)>#REF!,IF(STDEV(PREENCHER!$AI46:$AK46)/AVERAGE(PREENCHER!$AI46:$AK46)>#REF!,#REF!,AVERAGE(PREENCHER!$AI46:$AK46)),AVERAGE(PREENCHER!$AH46:$AJ46)),AVERAGE(PREENCHER!$AG46:$AI46)),AVERAGE(PREENCHER!$AF46:$AH46)))))","v":{"$error":"#REF!"}},{"$f":"IF(ISERROR(ROUND(BB46,2)),\"\",ROUND(BB46,2))","v":""},null,null,null,{"$f":"IF(ISERROR(IF(COUNT(E46:N46)=2,\"Apenas dois preços comparativos válidos. \",\"\")),\"\",IF(COUNT(E46:N46)=2,\"Apenas dois preços comparativos válidos. \",\"\"))","v":""},{"$f":"IF(ISERROR(IF(COUNT(E46:N46)=1,\"Apenas um preço comparativo válido. \",\"\")),\"\",IF(COUNT(E46:N46)=1,\"Apenas um preço comparativo válido. \",\"\"))","v":""},{"$f":"IF(A46=\"\",\"\",IF(ISERROR(IF(COUNT(E46:N46)=0,\"Nenhum preço comparativo válido. \",\"\")),\"\",IF(COUNT(E46:N46)=0,\"Nenhum preço comparativo válido. \",\"\")))","v":""},{"$f":"IF(ISERROR(IF(R46>P46,(R46-P46)/P46,\"\")),\"\",IF(R46>P46,(R46-P46)/P46,\"\"))","v":""},{"$f":"IF(ISERROR(IF(BJ46=\"\",\"\",\"Neste item, o valor contratado pelo TJDFT é \"&TEXT(BJ46,\"0,00%\")&\" superior à média comparativa.\")),\"\",IF(BJ46=\"\",\"\",\"Neste item, o valor contratado pelo TJDFT é \"&TEXT(BJ46,\"0,00%\")&\" superior à média comparativa.\"))","v":""}]
[null,null,null,null,null,null,null,null,null,null,null,null,null,null,{"$f":"IF(ISERROR(ROUND(AVERAGE(E47:N47),2)),\"\",ROUND(AVERAGE(E47:N47),2))","v":""},{"$f":"IF(ISERROR(ROUND(O47*D47,2)),\"\",ROUND(O47*D47,2))","v":""},null,{"$f":"IF(A47=\"\",\"\",ROUND(Q47*D47,2))","v":""},{"$f":"IF(A47=\"\",\"\",CONCATENATE($BG47,$BH47,$BI47,$BK47))","v":""},null,{"$f":"IF(ISERROR(COUNTA(E47:N47)),\"\",COUNTA(E47:N47))","v":0},{"$f":"IF(ISERROR(COUNT(E47:N47)),\"\",COUNT(E47:N47))","v":0},{"$f":"IF(ISERROR(MIN(E47:N47)),\"\",MIN(E47:N47))","v":0},{"$f":"IF(ISERROR(MAX(E47:N47)),\"\",MAX(E47:N47))","v":0},{"$f":"IF(ISERROR(ROUND(AVERAGE(E47:N47),2)),\"\",ROUND(AVERAGE(E47:N47),2))","v":""},{"$f":"IF(ISERROR(MEDIAN(E47:N47)),\"\",MEDIAN(E47:N47))","v":""},{"$f":"IF(ISERROR(STDEV(E47:N47)),\"\",STDEV(E47:N47))","v":""},{"$f":"IF(ISERROR(AA47/Y47),\"\",AA47/Y47)","v":""},null,null,null,{"$f":"IF(COUNT(E47:N47)<1,\"\",SMALL(E47:N47,1))","v":""},{"$f":"IF(COUNT(E47:N47)<2,\"\",SMALL(E47:N47,2))","v":""},{"$f":"IF(COUNT(E47:N47)<3,\"\",SMALL(E47:N47,3))","v":""},{"$f":"IF(COUNT(E47:N47)<4,\"\",SMALL(E47:N47,4))","v":""},{"$f":"IF(COUNT(E47:N47)<5,\"\",SMALL(E47:N47,5))","v":""},{"$f":"IF(COUNT(E47:N47)<6,\"\",SMALL(E47:N47,6))","v":""},{"$f":"IF(COUNT(E47:N47)<3,\"\",AVERAGE(AF47:AH47))","v":""},{"$f":"IF(COUNT(E47:N47)<4,\"\",AVERAGE(AG47:AI47))","v":""},{"$f":"IF(COUNT(E47:N47)<5,\"\",AVERAGE(AH47:AJ47))","v":""},{"$f":"IF(COUNT(E47:N47)<6,\"\",AVERAGE(AI47:AK47))","v":""},null,{"$f":"IF(E47>=1000,TEXT(E47,\"0.000,00\"),TEXT(E47,\"0,00\"))","v":"0,00"},{"$f":"IF(F47>=1000,TEXT(F47,\"0.000,00\"),TEXT(F47,\"0,00\"))","v":"0,00"},{"$f":"IF(G47>=1000,TEXT(G47,\"0.000,00\"),TEXT(G47,\"0,00\"))","v":"0,00"},{"$f":"IF(H47>=1000,TEXT(H47,\"0.000,00\"),TEXT(H47,\"0,00\"))","v":"0,00"},{"$f":"IF(I47>=1000,TEXT(I47,\"0.000,00\"),TEXT(I47,\"0,00\"))","v":"0,00"},{"$f":"IF(J47>=1000,TEXT(J47,\"0.000,00\"),TEXT(J47,\"0,00\"))","v":"0,00"},{"$f":"IF(K47>=1000,TEXT(K47,\"0.000,00\"),TEXT(K47,\"0,00\"))","v":"0,00"},{"$f":"IF(L47>=1000,TEXT(L47,\"0.000,00\"),TEXT(L47,\"0,00\"))","v":"0,00"},{"$f":"IF(M47>=1000,TEXT(M47,\"0.000,00\"),TEXT(M47,\"0,00\"))","v":"0,00"},{"$f":"IF(N47>=1000,TEXT(N47,\"0.000,00\"),TEXT(N47,\"0,00\"))","v":"0,00"},null,{"$f":"IF(PREENCHER!AL47=\"\",#REF!,IF(PREENCHER!AM47=\"\",#REF!,IF(PREENCHER!AN47=\"\",#REF!,IF(STDEV(PREENCHER!$AF47:$AH47)/AVERAGE(PREENCHER!$AF47:$AH47)>#REF!,IF(STDEV(PREENCHER!$AG47:$AI47)/AVERAGE(PREENCHER!$AG47:$AI47)>#REF!,IF(STDEV(PREENCHER!$AH47:$AJ47)/AVERAGE(PREENCHER!$AH47:$AJ47)>#REF!,IF(STDEV(PREENCHER!$AI47:$AK47)/AVERAGE(PREENCHER!$AI47:$AK47)>#REF!,#REF!,AVERAGE(PREENCHER!$AI47:$AK47)),AVERAGE(PREENCHER!$AH47:$AJ47)),AVERAGE(PREENCHER!$AG47:$AI47)),AVERAGE(PREENCHER!$AF47:$AH47)))))","v":{"$error":"#REF!"}},{"$f":"IF(ISERROR(ROUND(BB47,2)),\"\",ROUND(BB47,2))","v":""},null,null,null,{"$f":"IF(ISERROR(IF(COUNT(E47:N47)=2,\"Apenas dois preços comparativos válidos. \",\"\")),\"\",IF(COUNT(E47:N47)=2,\"Apenas dois preços comparativos válidos. \",\"\"))","v":""},{"$f":"IF(ISERROR(IF(COUNT(E47:N47)=1,\"Apenas um preço comparativo válido. \",\"\")),\"\",IF(COUNT(E47:N47)=1,\"Apenas um preço comparativo válido. \",\"\"))","v":""},{"$f":"IF(A47=\"\",\"\",IF(ISERROR(IF(COUNT(E47:N47)=0,\"Nenhum preço comparativo válido. \",\"\")),\"\",IF(COUNT(E47:N47)=0,\"Nenhum preço comparativo válido. \",\"\")))","v":""},{"$f":"IF(ISERROR(IF(R47>P47,(R47-P47)/P47,\"\")),\"\",IF(R47>P47,(R47-P47)/P47,\"\"))","v":""},{"$f":"IF(ISERROR(IF(BJ47=\"\",\"\",\"Neste item, o valor contratado pelo TJDFT é \"&TEXT(BJ47,\"0,00%\")&\" superior à média comparativa.\")),\"\",IF(BJ47=\"\",\"\",\"Neste item, o valor contratado pelo TJDFT é \"&TEXT(BJ47,\"0,00%\")&\" superior à média comparativa.\"))","v":""}]
[null,null,null,null,null,null,null,null,null,null,null,null,null,null,{"$f":"IF(ISERROR(ROUND(AVERAGE(E48:N48),2)),\"\",ROUND(AVERAGE(E48:N48),2))","v":""},{"$f":"IF(ISERROR(ROUND(O48*D48,2)),\"\",ROUND(O48*D48,2))","v":""},null,{"$f":"IF(A48=\"\",\"\",ROUND(Q48*D48,2))","v":""},{"$f":"IF(A48=\"\",\"\",CONCATENATE($BG48,$BH48,$BI48,$BK48))","v":""},null,{"$f":"IF(ISERROR(COUNTA(E48:N48)),\"\",COUNTA(E48:N48))","v":0},{"$f":"IF(ISERROR(COUNT(E48:N48)),\"\",COUNT(E48:N48))","v":0},{"$f":"IF(ISERROR(MIN(E48:N48)),\"\",MIN(E48:N48))","v":0},{"$f":"IF(ISERROR(MAX(E48:N48)),\"\",MAX(E48:N48))","v":0},{"$f":"IF(ISERROR(ROUND(AVERAGE(E48:N48),2)),\"\",ROUND(AVERAGE(E48:N48),2))","v":""},{"$f":"IF(ISERROR(MEDIAN(E48:N48)),\"\",MEDIAN(E48:N48))","v":""},{"$f":"IF(ISERROR(STDEV(E48:N48)),\"\",STDEV(E48:N48))","v":""},{"$f":"IF(ISERROR(AA48/Y48),\"\",AA48/Y48)","v":""},null,null,null,{"$f":"IF(COUNT(E48:N48)<1,\"\",SMALL(E48:N48,1))","v":""},{"$f":"IF(COUNT(E48:N48)<2,\"\",SMALL(E48:N48,2))","v":""},{"$f":"IF(COUNT(E48:N48)<3,\"\",SMALL(E48:N48,3))","v":""},{"$f":"IF(COUNT(E48:N48)<4,\"\",SMALL(E48:N48,4))","v":""},{"$f":"IF(COUNT(E48:N48)<5,\"\",SMALL(E48:N48,5))","v":""},{"$f":"IF(COUNT(E48:N48)<6,\"\",SMALL(E48:N48,6))","v":""},{"$f":"IF(COUNT(E48:N48)<3,\"\",AVERAGE(AF48:AH48))","v":""},{"$f":"IF(COUNT(E48:N48)<4,\"\",AVERAGE(AG48:AI48))","v":""},{"$f":"IF(COUNT(E48:N48)<5,\"\",AVERAGE(AH48:AJ48))","v":""},{"$f":"IF(COUNT(E48:N48)<6,\"\",AVERAGE(AI48:AK48))","v":""},null,{"$f":"IF(E48>=1000,TEXT(E48,\"0.000,00\"),TEXT(E48,\"0,00\"))","v":"0,00"},{"$f":"IF(F48>=1000,TEXT(F48,\"0.000,00\"),TEXT(F48,\"0,00\"))","v":"0,00"},{"$f":"IF(G48>=1000,TEXT(G48,\"0.000,00\"),TEXT(G48,\"0,00\"))","v":"0,00"},{"$f":"IF(H48>=1000,TEXT(H48,\"0.000,00\"),TEXT(H48,\"0,00\"))","v":"0,00"},{"$f":"IF(I48>=1000,TEXT(I48,\"0.000,00\"),TEXT(I48,\"0,00\"))","v":"0,00"},{"$f":"IF(J48>=1000,TEXT(J48,\"0.000,00\"),TEXT(J48,\"0,00\"))","v":"0,00"},{"$f":"IF(K48>=1000,TEXT(K48,\"0.000,00\"),TEXT(K48,\"0,00\"))","v":"0,00"},{"$f":"IF(L48>=1000,TEXT(L48,\"0.000,00\"),TEXT(L48,\"0,00\"))","v":"0,00"},{"$f":"IF(M48>=1000,TEXT(M48,\"0.000,00\"),TEXT(M48,\"0,00\"))","v":"0,00"},{"$f":"IF(N48>=1000,TEXT(N48,\"0.000,00\"),TEXT(N48,\"0,00\"))","v":"0,00"},null,{"$f":"IF(PREENCHER!AL48=\"\",#REF!,IF(PREENCHER!AM48=\"\",#REF!,IF(PREENCHER!AN48=\"\",#REF!,IF(STDEV(PREENCHER!$AF48:$AH48)/AVERAGE(PREENCHER!$AF48:$AH48)>#REF!,IF(STDEV(PREENCHER!$AG48:$AI48)/AVERAGE(PREENCHER!$AG48:$AI48)>#REF!,IF(STDEV(PREENCHER!$AH48:$AJ48)/AVERAGE(PREENCHER!$AH48:$AJ48)>#REF!,IF(STDEV(PREENCHER!$AI48:$AK48)/AVERAGE(PREENCHER!$AI48:$AK48)>#REF!,#REF!,AVERAGE(PREENCHER!$AI48:$AK48)),AVERAGE(PREENCHER!$AH48:$AJ48)),AVERAGE(PREENCHER!$AG48:$AI48)),AVERAGE(PREENCHER!$AF48:$AH48)))))","v":{"$error":"#REF!"}},{"$f":"IF(ISERROR(ROUND(BB48,2)),\"\",ROUND(BB48,2))","v":""},null,null,null,{"$f":"IF(ISERROR(IF(COUNT(E48:N48)=2,\"Apenas dois preços comparativos válidos. \",\"\")),\"\",IF(COUNT(E48:N48)=2,\"Apenas dois preços comparativos válidos. \",\"\"))","v":""},{"$f":"IF(ISERROR(IF(COUNT(E48:N48)=1,\"Apenas um preço comparativo válido. \",\"\")),\"\",IF(COUNT(E48:N48)=1,\"Apenas um preço comparativo válido. \",\"\"))","v":""},{"$f":"IF(A48=\"\",\"\",IF(ISERROR(IF(COUNT(E48:N48)=0,\"Nenhum preço comparativo válido. \",\"\")),\"\",IF(COUNT(E48:N48)=0,\"Nenhum preço comparativo válido. \",\"\")))","v":""},{"$f":"IF(ISERROR(IF(R48>P48,(R48-P48)/P48,\"\")),\"\",IF(R48>P48,(R48-P48)/P48,\"\"))","v":""},{"$f":"IF(ISERROR(IF(BJ48=\"\",\"\",\"Neste item, o valor contratado pelo TJDFT é \"&TEXT(BJ48,\"0,00%\")&\" superior à média comparativa.\")),\"\",IF(BJ48=\"\",\"\",\"Neste item, o valor contratado pelo TJDFT é \"&TEXT(BJ48,\"0,00%\")&\" superior à média comparativa.\"))","v":""}]
[null,null,null,null,null,null,null,null,null,null,null,null,null,null,{"$f":"IF(ISERROR(ROUND(AVERAGE(E49:N49),2)),\"\",ROUND(AVERAGE(E49:N49),2))","v":""},{"$f":"IF(ISERROR(ROUND(O49*D49,2)),\"\",ROUND(O49*D49,2))","v":""},null,{"$f":"IF(A49=\"\",\"\",ROUND(Q49*D49,2))","v":""},{"$f":"IF(A49=\"\",\"\",CONCATENATE($BG49,$BH49,$BI49,$BK49))","v":""},null,{"$f":"IF(ISERROR(COUNTA(E49:N49)),\"\",COUNTA(E49:N49))","v":0},{"$f":"IF(ISERROR(COUNT(E49:N49)),\"\",COUNT(E49:N49))","v":0},{"$f":"IF(ISERROR(MIN(E49:N49)),\"\",MIN(E49:N49))","v":0},{"$f":"IF(ISERROR(MAX(E49:N49)),\"\",MAX(E49:N49))","v":0},{"$f":"IF(ISERROR(ROUND(AVERAGE(E49:N49),2)),\"\",ROUND(AVERAGE(E49:N49),2))","v":""},{"$f":"IF(ISERROR(MEDIAN(E49:N49)),\"\",MEDIAN(E49:N49))","v":""},{"$f":"IF(ISERROR(STDEV(E49:N49)),\"\",STDEV(E49:N49))","v":""},{"$f":"IF(ISERROR(AA49/Y49),\"\",AA49/Y49)","v":""},null,null,null,{"$f":"IF(COUNT(E49:N49)<1,\"\",SMALL(E49:N49,1))","v":""},{"$f":"IF(COUNT(E49:N49)<2,\"\",SMALL(E49:N49,2))","v":""},{"$f":"IF(COUNT(E49:N49)<3,\"\",SMALL(E49:N49,3))","v":""},{"$f":"IF(COUNT(E49:N49)<4,\"\",SMALL(E49:N49,4))","v":""},{"$f":"IF(COUNT(E49:N49)<5,\"\",SMALL(E49:N49,5))","v":""},{"$f":"IF(COUNT(E49:N49)<6,\"\",SMALL(E49:N49,6))","v":""},{"$f":"IF(COUNT(E49:N49)<3,\"\",AVERAGE(AF49:AH49))","v":""},{"$f":"IF(COUNT(E49:N49)<4,\"\",AVERAGE(AG49:AI49))","v":""},{"$f":"IF(COUNT(E49:N49)<5,\"\",AVERAGE(AH49:AJ49))","v":""},{"$f":"IF(COUNT(E49:N49)<6,\"\",AVERAGE(AI49:AK49))","v":""},null,{"$f":"IF(E49>=1000,TEXT(E49,\"0.000,00\"),TEXT(E49,\"0,00\"))","v":"0,00"},{"$f":"IF(F49>=1000,TEXT(F49,\"0.000,00\"),TEXT(F49,\"0,00\"))","v":"0,00"},{"$f":"IF(G49>=1000,TEXT(G49,\"0.000,00\"),TEXT(G49,\"0,00\"))","v":"0,00"},{"$f":"IF(H49>=1000,TEXT(H49,\"0.000,00\"),TEXT(H49,\"0,00\"))","v":"0,00"},{"$f":"IF(I49>=1000,TEXT(I49,\"0.000,00\"),TEXT(I49,\"0,00\"))","v":"0,00"},{"$f":"IF(J49>=1000,TEXT(J49,\"0.000,00\"),TEXT(J49,\"0,00\"))","v":"0,00"},{"$f":"IF(K49>=1000,TEXT(K49,\"0.000,00\"),TEXT(K49,\"0,00\"))","v":"0,00"},{"$f":"IF(L49>=1000,TEXT(L49,\"0.000,00\"),TEXT(L49,\"0,00\"))","v":"0,00"},{"$f":"IF(M49>=1000,TEXT(M49,\"0.000,00\"),TEXT(M49,\"0,00\"))","v":"0,00"},{"$f":"IF(N49>=1000,TEXT(N49,\"0.000,00\"),TEXT(N49,\"0,00\"))","v":"0,00"},null,{"$f":"IF(PREENCHER!AL49=\"\",#REF!,IF(PREENCHER!AM49=\"\",#REF!,IF(PREENCHER!AN49=\"\",#REF!,IF(STDEV(PREENCHER!$AF49:$AH49)/AVERAGE(PREENCHER!$AF49:$AH49)>#REF!,IF(STDEV(PREENCHER!$AG49:$AI49)/AVERAGE(PREENCHER!$AG49:$AI49)>#REF!,IF(STDEV(PREENCHER!$AH49:$AJ49)/AVERAGE(PREENCHER!$AH49:$AJ49)>#REF!,IF(STDEV(PREENCHER!$AI49:$AK49)/AVERAGE(PREENCHER!$AI49:$AK49)>#REF!,#REF!,AVERAGE(PREENCHER!$AI49:$AK49)),AVERAGE(PREENCHER!$AH49:$AJ49)),AVERAGE(PREENCHER!$AG49:$AI49)),AVERAGE(PREENCHER!$AF49:$AH49)))))","v":{"$error":"#REF!"}},{"$f":"IF(ISERROR(ROUND(BB49,2)),\"\",ROUND(BB49,2))","v":""},null,null,null,{"$f":"IF(ISERROR(IF(COUNT(E49:N49)=2,\"Apenas dois preços comparativos válidos. \",\"\")),\"\",IF(COUNT(E49:N49)=2,\"Apenas dois preços comparativos válidos. \",\"\"))","v":""},{"$f":"IF(ISERROR(IF(COUNT(E49:N49)=1,\"Apenas um preço comparativo válido. \",\"\")),\"\",IF(COUNT(E49:N49)=1,\"Apenas um preço comparativo válido. \",\"\"))","v":""},{"$f":"IF(A49=\"\",\"\",IF(ISERROR(IF(COUNT(E49:N49)=0,\"Nenhum preço comparativo válido. \",\"\")),\"\",IF(COUNT(E49:N49)=0,\"Nenhum preço comparativo válido. \",\"\")))","v":""},{"$f":"IF(ISERROR(IF(R49>P49,(R49-P49)/P49,\"\")),\"\",IF(R49>P49,(R49-P49)/P49,\"\"))","v":""},{"$f":"IF(ISERROR(IF(BJ49=\"\",\"\",\"Neste item, o valor contratado pelo TJDFT é \"&TEXT(BJ49,\"0,00%\")&\" superior à média comparativa.\")),\"\",IF(BJ49=\"\",\"\",\"Neste item, o valor contratado pelo TJDFT é \"&TEXT(BJ49,\"0,00%\")&\" superior à média comparativa.\"))","v":""}]
[null,null,null,null,null,null,null,null,null,null,null,null,null,null,{"$f":"IF(ISERROR(ROUND(AVERAGE(E50:N50),2)),\"\",ROUND(AVERAGE(E50:N50),2))","v":""},{"$f":"IF(ISERROR(ROUND(O50*D50,2)),\"\",ROUND(O50*D50,2))","v":""},null,{"$f":"IF(A50=\"\",\"\",ROUND(Q50*D50,2))","v":""},{"$f":"IF(A50=\"\",\"\",CONCATENATE($BG50,$BH50,$BI50,$BK50))","v":""},null,{"$f":"IF(ISERROR(COUNTA(E50:N50)),\"\",COUNTA(E50:N50))","v":0},{"$f":"IF(ISERROR(COUNT(E50:N50)),\"\",COUNT(E50:N50))","v":0},{"$f":"IF(ISERROR(MIN(E50:N50)),\"\",MIN(E50:N50))","v":0},{"$f":"IF(ISERROR(MAX(E50:N50)),\"\",MAX(E50:N50))","v":0},{"$f":"IF(ISERROR(ROUND(AVERAGE(E50:N50),2)),\"\",ROUND(AVERAGE(E50:N50),2))","v":""},{"$f":"IF(ISERROR(MEDIAN(E50:N50)),\"\",MEDIAN(E50:N50))","v":""},{"$f":"IF(ISERROR(STDEV(E50:N50)),\"\",STDEV(E50:N50))","v":""},{"$f":"IF(ISERROR(AA50/Y50),\"\",AA50/Y50)","v":""},null,null,null,{"$f":"IF(COUNT(E50:N50)<1,\"\",SMALL(E50:N50,1))","v":""},{"$f":"IF(COUNT(E50:N50)<2,\"\",SMALL(E50:N50,2))","v":""},{"$f":"IF(COUNT(E50:N50)<3,\"\",SMALL(E50:N50,3))","v":""},{"$f":"IF(COUNT(E50:N50)<4,\"\",SMALL(E50:N50,4))","v":""},{"$f":"IF(COUNT(E50:N50)<5,\"\",SMALL(E50:N50,5))","v":""},{"$f":"IF(COUNT(E50:N50)<6,\"\",SMALL(E50:N50,6))","v":""},{"$f":"IF(COUNT(E50:N50)<3,\"\",AVERAGE(AF50:AH50))","v":""},{"$f":"IF(COUNT(E50:N50)<4,\"\",AVERAGE(AG50:AI50))","v":""},{"$f":"IF(COUNT(E50:N50)<5,\"\",AVERAGE(AH50:AJ50))","v":""},{"$f":"IF(COUNT(E50:N50)<6,\"\",AVERAGE(AI50:AK50))","v":""},null,{"$f":"IF(E50>=1000,TEXT(E50,\"0.000,00\"),TEXT(E50,\"0,00\"))","v":"0,00"},{"$f":"IF(F50>=1000,TEXT(F50,\"0.000,00\"),TEXT(F50,\"0,00\"))","v":"0,00"},{"$f":"IF(G50>=1000,TEXT(G50,\"0.000,00\"),TEXT(G50,\"0,00\"))","v":"0,00"},{"$f":"IF(H50>=1000,TEXT(H50,\"0.000,00\"),TEXT(H50,\"0,00\"))","v":"0,00"},{"$f":"IF(I50>=1000,TEXT(I50,\"0.000,00\"),TEXT(I50,\"0,00\"))","v":"0,00"},{"$f":"IF(J50>=1000,TEXT(J50,\"0.000,00\"),TEXT(J50,\"0,00\"))","v":"0,00"},{"$f":"IF(K50>=1000,TEXT(K50,\"0.000,00\"),TEXT(K50,\"0,00\"))","v":"0,00"},{"$f":"IF(L50>=1000,TEXT(L50,\"0.000,00\"),TEXT(L50,\"0,00\"))","v":"0,00"},{"$f":"IF(M50>=1000,TEXT(M50,\"0.000,00\"),TEXT(M50,\"0,00\"))","v":"0,00"},{"$f":"IF(N50>=1000,TEXT(N50,\"0.000,00\"),TEXT(N50,\"0,00\"))","v":"0,00"},null,{"$f":"IF(PREENCHER!AL50=\"\",#REF!,IF(PREENCHER!AM50=\"\",#REF!,IF(PREENCHER!AN50=\"\",#REF!,IF(STDEV(PREENCHER!$AF50:$AH50)/AVERAGE(PREENCHER!$AF50:$AH50)>#REF!,IF(STDEV(PREENCHER!$AG50:$AI50)/AVERAGE(PREENCHER!$AG50:$AI50)>#REF!,IF(STDEV(PREENCHER!$AH50:$AJ50)/AVERAGE(PREENCHER!$AH50:$AJ50)>#REF!,IF(STDEV(PREENCHER!$AI50:$AK50)/AVERAGE(PREENCHER!$AI50:$AK50)>#REF!,#REF!,AVERAGE(PREENCHER!$AI50:$AK50)),AVERAGE(PREENCHER!$AH50:$AJ50)),AVERAGE(PREENCHER!$AG50:$AI50)),AVERAGE(PREENCHER!$AF50:$AH50)))))","v":{"$error":"#REF!"}},{"$f":"IF(ISERROR(ROUND(BB50,2)),\"\",ROUND(BB50,2))","v":""},null,null,null,{"$f":"IF(ISERROR(IF(COUNT(E50:N50)=2,\"Apenas dois preços comparativos válidos. \",\"\")),\"\",IF(COUNT(E50:N50)=2,\"Apenas dois preços comparativos válidos. \",\"\"))","v":""},{"$f":"IF(ISERROR(IF(COUNT(E50:N50)=1,\"Apenas um preço comparativo válido. \",\"\")),\"\",IF(COUNT(E50:N50)=1,\"Apenas um preço comparativo válido. \",\"\"))","v":""},{"$f":"IF(A50=\"\",\"\",IF(ISERROR(IF(COUNT(E50:N50)=0,\"Nenhum preço comparativo válido. \",\"\")),\"\",IF(COUNT(E50:N50)=0,\"Nenhum preço comparativo válido. \",\"\")))","v":""},{"$f":"IF(ISERROR(IF(R50>P50,(R50-P50)/P50,\"\")),\"\",IF(R50>P50,(R50-P50)/P50,\"\"))","v":""},{"$f":"IF(ISERROR(IF(BJ50=\"\",\"\",\"Neste item, o valor contratado pelo TJDFT é \"&TEXT(BJ50,\"0,00%\")&\" superior à média comparativa.\")),\"\",IF(BJ50=\"\",\"\",\"Neste item, o valor contratado pelo TJDFT é \"&TEXT(BJ50,\"0,00%\")&\" superior à média comparativa.\"))","v":""}]
[null,null,null,null,null,null,null,null,null,null,null,null,null,null,{"$f":"IF(ISERROR(ROUND(AVERAGE(E51:N51),2)),\"\",ROUND(AVERAGE(E51:N51),2))","v":""},{"$f":"IF(ISERROR(ROUND(O51*D51,2)),\"\",ROUND(O51*D51,2))","v":""},null,{"$f":"IF(A51=\"\",\"\",ROUND(Q51*D51,2))","v":""},{"$f":"IF(A51=\"\",\"\",CONCATENATE($BG51,$BH51,$BI51,$BK51))","v":""},null,{"$f":"IF(ISERROR(COUNTA(E51:N51)),\"\",COUNTA(E51:N51))","v":0},{"$f":"IF(ISERROR(COUNT(E51:N51)),\"\",COUNT(E51:N51))","v":0},{"$f":"IF(ISERROR(MIN(E51:N51)),\"\",MIN(E51:N51))","v":0},{"$f":"IF(ISERROR(MAX(E51:N51)),\"\",MAX(E51:N51))","v":0},{"$f":"IF(ISERROR(ROUND(AVERAGE(E51:N51),2)),\"\",ROUND(AVERAGE(E51:N51),2))","v":""},{"$f":"IF(ISERROR(MEDIAN(E51:N51)),\"\",MEDIAN(E51:N51))","v":""},{"$f":"IF(ISERROR(STDEV(E51:N51)),\"\",STDEV(E51:N51))","v":""},{"$f":"IF(ISERROR(AA51/Y51),\"\",AA51/Y51)","v":""},null,null,null,{"$f":"IF(COUNT(E51:N51)<1,\"\",SMALL(E51:N51,1))","v":""},{"$f":"IF(COUNT(E51:N51)<2,\"\",SMALL(E51:N51,2))","v":""},{"$f":"IF(COUNT(E51:N51)<3,\"\",SMALL(E51:N51,3))","v":""},{"$f":"IF(COUNT(E51:N51)<4,\"\",SMALL(E51:N51,4))","v":""},{"$f":"IF(COUNT(E51:N51)<5,\"\",SMALL(E51:N51,5))","v":""},{"$f":"IF(COUNT(E51:N51)<6,\"\",SMALL(E51:N51,6))","v":""},{"$f":"IF(COUNT(E51:N51)<3,\"\",AVERAGE(AF51:AH51))","v":""},{"$f":"IF(COUNT(E51:N51)<4,\"\",AVERAGE(AG51:AI51))","v":""},{"$f":"IF(COUNT(E51:N51)<5,\"\",AVERAGE(AH51:AJ51))","v":""},{"$f":"IF(COUNT(E51:N51)<6,\"\",AVERAGE(AI51:AK51))","v":""},null,{"$f":"IF(E51>=1000,TEXT(E51,\"0.000,00\"),TEXT(E51,\"0,00\"))","v":"0,00"},{"$f":"IF(F51>=1000,TEXT(F51,\"0.000,00\"),TEXT(F51,\"0,00\"))","v":"0,00"},{"$f":"IF(G51>=1000,TEXT(G51,\"0.000,00\"),TEXT(G51,\"0,00\"))","v":"0,00"},{"$f":"IF(H51>=1000,TEXT(H51,\"0.000,00\"),TEXT(H51,\"0,00\"))","v":"0,00"},{"$f":"IF(I51>=1000,TEXT(I51,\"0.000,00\"),TEXT(I51,\"0,00\"))","v":"0,00"},{"$f":"IF(J51>=1000,TEXT(J51,\"0.000,00\"),TEXT(J51,\"0,00\"))","v":"0,00"},{"$f":"IF(K51>=1000,TEXT(K51,\"0.000,00\"),TEXT(K51,\"0,00\"))","v":"0,00"},{"$f":"IF(L51>=1000,TEXT(L51,\"0.000,00\"),TEXT(L51,\"0,00\"))","v":"0,00"},{"$f":"IF(M51>=1000,TEXT(M51,\"0.000,00\"),TEXT(M51,\"0,00\"))","v":"0,00"},{"$f":"IF(N51>=1000,TEXT(N51,\"0.000,00\"),TEXT(N51,\"0,00\"))","v":"0,00"},null,{"$f":"IF(PREENCHER!AL51=\"\",#REF!,IF(PREENCHER!AM51=\"\",#REF!,IF(PREENCHER!AN51=\"\",#REF!,IF(STDEV(PREENCHER!$AF51:$AH51)/AVERAGE(PREENCHER!$AF51:$AH51)>#REF!,IF(STDEV(PREENCHER!$AG51:$AI51)/AVERAGE(PREENCHER!$AG51:$AI51)>#REF!,IF(STDEV(PREENCHER!$AH51:$AJ51)/AVERAGE(PREENCHER!$AH51:$AJ51)>#REF!,IF(STDEV(PREENCHER!$AI51:$AK51)/AVERAGE(PREENCHER!$AI51:$AK51)>#REF!,#REF!,AVERAGE(PREENCHER!$AI51:$AK51)),AVERAGE(PREENCHER!$AH51:$AJ51)),AVERAGE(PREENCHER!$AG51:$AI51)),AVERAGE(PREENCHER!$AF51:$AH51)))))","v":{"$error":"#REF!"}},{"$f":"IF(ISERROR(ROUND(BB51,2)),\"\",ROUND(BB51,2))","v":""},null,null,null,{"$f":"IF(ISERROR(IF(COUNT(E51:N51)=2,\"Apenas dois preços comparativos válidos. \",\"\")),\"\",IF(COUNT(E51:N51)=2,\"Apenas dois preços comparativos válidos. \",\"\"))","v":""},{"$f":"IF(ISERROR(IF(COUNT(E51:N51)=1,\"Apenas um preço comparativo válido. \",\"\")),\"\",IF(COUNT(E51:N51)=1,\"Apenas um preço comparativo válido. \",\"\"))","v":""},{"$f":"IF(A51=\"\",\"\",IF(ISERROR(IF(COUNT(E51:N51)=0,\"Nenhum preço comparativo válido. \",\"\")),\"\",IF(COUNT(E51:N51)=0,\"Nenhum preço comparativo válido. \",\"\")))","v":""},{"$f":"IF(ISERROR(IF(R51>P51,(R51-P51)/P51,\"\")),\"\",IF(R51>P51,(R51-P51)/P51,\"\"))","v":""},{"$f":"IF(ISERROR(IF(BJ51=\"\",\"\",\"Neste item, o valor contratado pelo TJDFT é \"&TEXT(BJ51,\"0,00%\")&\" superior à média comparativa.\")),\"\",IF(BJ51=\"\",\"\",\"Neste item, o valor contratado pelo TJDFT é \"&TEXT(BJ51,\"0,00%\")&\" superior à média comparativa.\"))","v":""}]
[null,null,null,null,null,null,null,null,null,null,null,null,null,null,{"$f":"IF(ISERROR(ROUND(AVERAGE(E52:N52),2)),\"\",ROUND(AVERAGE(E52:N52),2))","v":""},{"$f":"IF(ISERROR(ROUND(O52*D52,2)),\"\",ROUND(O52*D52,2))","v":""},null,{"$f":"IF(A52=\"\",\"\",ROUND(Q52*D52,2))","v":""},{"$f":"IF(A52=\"\",\"\",CONCATENATE($BG52,$BH52,$BI52,$BK52))","v":""},null,{"$f":"IF(ISERROR(COUNTA(E52:N52)),\"\",COUNTA(E52:N52))","v":0},{"$f":"IF(ISERROR(COUNT(E52:N52)),\"\",COUNT(E52:N52))","v":0},{"$f":"IF(ISERROR(MIN(E52:N52)),\"\",MIN(E52:N52))","v":0},{"$f":"IF(ISERROR(MAX(E52:N52)),\"\",MAX(E52:N52))","v":0},{"$f":"IF(ISERROR(ROUND(AVERAGE(E52:N52),2)),\"\",ROUND(AVERAGE(E52:N52),2))","v":""},{"$f":"IF(ISERROR(MEDIAN(E52:N52)),\"\",MEDIAN(E52:N52))","v":""},{"$f":"IF(ISERROR(STDEV(E52:N52)),\"\",STDEV(E52:N52))","v":""},{"$f":"IF(ISERROR(AA52/Y52),\"\",AA52/Y52)","v":""},null,null,null,{"$f":"IF(COUNT(E52:N52)<1,\"\",SMALL(E52:N52,1))","v":""},{"$f":"IF(COUNT(E52:N52)<2,\"\",SMALL(E52:N52,2))","v":""},{"$f":"IF(COUNT(E52:N52)<3,\"\",SMALL(E52:N52,3))","v":""},{"$f":"IF(COUNT(E52:N52)<4,\"\",SMALL(E52:N52,4))","v":""},{"$f":"IF(COUNT(E52:N52)<5,\"\",SMALL(E52:N52,5))","v":""},{"$f":"IF(COUNT(E52:N52)<6,\"\",SMALL(E52:N52,6))","v":""},{"$f":"IF(COUNT(E52:N52)<3,\"\",AVERAGE(AF52:AH52))","v":""},{"$f":"IF(COUNT(E52:N52)<4,\"\",AVERAGE(AG52:AI52))","v":""},{"$f":"IF(COUNT(E52:N52)<5,\"\",AVERAGE(AH52:AJ52))","v":""},{"$f":"IF(COUNT(E52:N52)<6,\"\",AVERAGE(AI52:AK52))","v":""},null,{"$f":"IF(E52>=1000,TEXT(E52,\"0.000,00\"),TEXT(E52,\"0,00\"))","v":"0,00"},{"$f":"IF(F52>=1000,TEXT(F52,\"0.000,00\"),TEXT(F52,\"0,00\"))","v":"0,00"},{"$f":"IF(G52>=1000,TEXT(G52,\"0.000,00\"),TEXT(G52,\"0,00\"))","v":"0,00"},{"$f":"IF(H52>=1000,TEXT(H52,\"0.000,00\"),TEXT(H52,\"0,00\"))","v":"0,00"},{"$f":"IF(I52>=1000,TEXT(I52,\"0.000,00\"),TEXT(I52,\"0,00\"))","v":"0,00"},{"$f":"IF(J52>=1000,TEXT(J52,\"0.000,00\"),TEXT(J52,\"0,00\"))","v":"0,00"},{"$f":"IF(K52>=1000,TEXT(K52,\"0.000,00\"),TEXT(K52,\"0,00\"))","v":"0,00"},{"$f":"IF(L52>=1000,TEXT(L52,\"0.000,00\"),TEXT(L52,\"0,00\"))","v":"0,00"},{"$f":"IF(M52>=1000,TEXT(M52,\"0.000,00\"),TEXT(M52,\"0,00\"))","v":"0,00"},{"$f":"IF(N52>=1000,TEXT(N52,\"0.000,00\"),TEXT(N52,\"0,00\"))","v":"0,00"},null,{"$f":"IF(PREENCHER!AL52=\"\",#REF!,IF(PREENCHER!AM52=\"\",#REF!,IF(PREENCHER!AN52=\"\",#REF!,IF(STDEV(PREENCHER!$AF52:$AH52)/AVERAGE(PREENCHER!$AF52:$AH52)>#REF!,IF(STDEV(PREENCHER!$AG52:$AI52)/AVERAGE(PREENCHER!$AG52:$AI52)>#REF!,IF(STDEV(PREENCHER!$AH52:$AJ52)/AVERAGE(PREENCHER!$AH52:$AJ52)>#REF!,IF(STDEV(PREENCHER!$AI52:$AK52)/AVERAGE(PREENCHER!$AI52:$AK52)>#REF!,#REF!,AVERAGE(PREENCHER!$AI52:$AK52)),AVERAGE(PREENCHER!$AH52:$AJ52)),AVERAGE(PREENCHER!$AG52:$AI52)),AVERAGE(PREENCHER!$AF52:$AH52)))))","v":{"$error":"#REF!"}},{"$f":"IF(ISERROR(ROUND(BB52,2)),\"\",ROUND(BB52,2))","v":""},null,null,null,{"$f":"IF(ISERROR(IF(COUNT(E52:N52)=2,\"Apenas dois preços comparativos válidos. \",\"\")),\"\",IF(COUNT(E52:N52)=2,\"Apenas dois preços comparativos válidos. \",\"\"))","v":""},{"$f":"IF(ISERROR(IF(COUNT(E52:N52)=1,\"Apenas um preço comparativo válido. \",\"\")),\"\",IF(COUNT(E52:N52)=1,\"Apenas um preço comparativo válido. \",\"\"))","v":""},{"$f":"IF(A52=\"\",\"\",IF(ISERROR(IF(COUNT(E52:N52)=0,\"Nenhum preço comparativo válido. \",\"\")),\"\",IF(COUNT(E52:N52)=0,\"Nenhum preço comparativo válido. \",\"\")))","v":""},{"$f":"IF(ISERROR(IF(R52>P52,(R52-P52)/P52,\"\")),\"\",IF(R52>P52,(R52-P52)/P52,\"\"))","v":""},{"$f":"IF(ISERROR(IF(BJ52=\"\",\"\",\"Neste item, o valor contratado pelo TJDFT é \"&TEXT(BJ52,\"0,00%\")&\" superior à média comparativa.\")),\"\",IF(BJ52=\"\",\"\",\"Neste item, o valor contratado pelo TJDFT é \"&TEXT(BJ52,\"0,00%\")&\" superior à média comparativa.\"))","v":""}]
[null,null,null,null,null,null,null,null,null,null,null,null,null,null,{"$f":"IF(ISERROR(ROUND(AVERAGE(E53:N53),2)),\"\",ROUND(AVERAGE(E53:N53),2))","v":""},{"$f":"IF(ISERROR(ROUND(O53*D53,2)),\"\",ROUND(O53*D53,2))","v":""},null,{"$f":"IF(A53=\"\",\"\",ROUND(Q53*D53,2))","v":""},{"$f":"IF(A53=\"\",\"\",CONCATENATE($BG53,$BH53,$BI53,$BK53))","v":""},null,{"$f":"IF(ISERROR(COUNTA(E53:N53)),\"\",COUNTA(E53:N53))","v":0},{"$f":"IF(ISERROR(COUNT(E53:N53)),\"\",COUNT(E53:N53))","v":0},{"$f":"IF(ISERROR(MIN(E53:N53)),\"\",MIN(E53:N53))","v":0},{"$f":"IF(ISERROR(MAX(E53:N53)),\"\",MAX(E53:N53))","v":0},{"$f":"IF(ISERROR(ROUND(AVERAGE(E53:N53),2)),\"\",ROUND(AVERAGE(E53:N53),2))","v":""},{"$f":"IF(ISERROR(MEDIAN(E53:N53)),\"\",MEDIAN(E53:N53))","v":""},{"$f":"IF(ISERROR(STDEV(E53:N53)),\"\",STDEV(E53:N53))","v":""},{"$f":"IF(ISERROR(AA53/Y53),\"\",AA53/Y53)","v":""},null,null,null,{"$f":"IF(COUNT(E53:N53)<1,\"\",SMALL(E53:N53,1))","v":""},{"$f":"IF(COUNT(E53:N53)<2,\"\",SMALL(E53:N53,2))","v":""},{"$f":"IF(COUNT(E53:N53)<3,\"\",SMALL(E53:N53,3))","v":""},{"$f":"IF(COUNT(E53:N53)<4,\"\",SMALL(E53:N53,4))","v":""},{"$f":"IF(COUNT(E53:N53)<5,\"\",SMALL(E53:N53,5))","v":""},{"$f":"IF(COUNT(E53:N53)<6,\"\",SMALL(E53:N53,6))","v":""},{"$f":"IF(COUNT(E53:N53)<3,\"\",AVERAGE(AF53:AH53))","v":""},{"$f":"IF(COUNT(E53:N53)<4,\"\",AVERAGE(AG53:AI53))","v":""},{"$f":"IF(COUNT(E53:N53)<5,\"\",AVERAGE(AH53:AJ53))","v":""},{"$f":"IF(COUNT(E53:N53)<6,\"\",AVERAGE(AI53:AK53))","v":""},null,{"$f":"IF(E53>=1000,TEXT(E53,\"0.000,00\"),TEXT(E53,\"0,00\"))","v":"0,00"},{"$f":"IF(F53>=1000,TEXT(F53,\"0.000,00\"),TEXT(F53,\"0,00\"))","v":"0,00"},{"$f":"IF(G53>=1000,TEXT(G53,\"0.000,00\"),TEXT(G53,\"0,00\"))","v":"0,00"},{"$f":"IF(H53>=1000,TEXT(H53,\"0.000,00\"),TEXT(H53,\"0,00\"))","v":"0,00"},{"$f":"IF(I53>=1000,TEXT(I53,\"0.000,00\"),TEXT(I53,\"0,00\"))","v":"0,00"},{"$f":"IF(J53>=1000,TEXT(J53,\"0.000,00\"),TEXT(J53,\"0,00\"))","v":"0,00"},{"$f":"IF(K53>=1000,TEXT(K53,\"0.000,00\"),TEXT(K53,\"0,00\"))","v":"0,00"},{"$f":"IF(L53>=1000,TEXT(L53,\"0.000,00\"),TEXT(L53,\"0,00\"))","v":"0,00"},{"$f":"IF(M53>=1000,TEXT(M53,\"0.000,00\"),TEXT(M53,\"0,00\"))","v":"0,00"},{"$f":"IF(N53>=1000,TEXT(N53,\"0.000,00\"),TEXT(N53,\"0,00\"))","v":"0,00"},null,{"$f":"IF(PREENCHER!AL53=\"\",#REF!,IF(PREENCHER!AM53=\"\",#REF!,IF(PREENCHER!AN53=\"\",#REF!,IF(STDEV(PREENCHER!$AF53:$AH53)/AVERAGE(PREENCHER!$AF53:$AH53)>#REF!,IF(STDEV(PREENCHER!$AG53:$AI53)/AVERAGE(PREENCHER!$AG53:$AI53)>#REF!,IF(STDEV(PREENCHER!$AH53:$AJ53)/AVERAGE(PREENCHER!$AH53:$AJ53)>#REF!,IF(STDEV(PREENCHER!$AI53:$AK53)/AVERAGE(PREENCHER!$AI53:$AK53)>#REF!,#REF!,AVERAGE(PREENCHER!$AI53:$AK53)),AVERAGE(PREENCHER!$AH53:$AJ53)),AVERAGE(PREENCHER!$AG53:$AI53)),AVERAGE(PREENCHER!$AF53:$AH53)))))","v":{"$error":"#REF!"}},{"$f":"IF(ISERROR(ROUND(BB53,2)),\"\",ROUND(BB53,2))","v":""},null,null,null,{"$f":"IF(ISERROR(IF(COUNT(E53:N53)=2,\"Apenas dois preços comparativos válidos. \",\"\")),\"\",IF(COUNT(E53:N53)=2,\"Apenas dois preços comparativos válidos. \",\"\"))","v":""},{"$f":"IF(ISERROR(IF(COUNT(E53:N53)=1,\"Apenas um preço comparativo válido. \",\"\")),\"\",IF(COUNT(E53:N53)=1,\"Apenas um preço comparativo válido. \",\"\"))","v":""},{"$f":"IF(A53=\"\",\"\",IF(ISERROR(IF(COUNT(E53:N53)=0,\"Nenhum preço comparativo válido. \",\"\")),\"\",IF(COUNT(E53:N53)=0,\"Nenhum preço comparativo válido. \",\"\")))","v":""},{"$f":"IF(ISERROR(IF(R53>P53,(R53-P53)/P53,\"\")),\"\",IF(R53>P53,(R53-P53)/P53,\"\"))","v":""},{"$f":"IF(ISERROR(IF(BJ53=\"\",\"\",\"Neste item, o valor contratado pelo TJDFT é \"&TEXT(BJ53,\"0,00%\")&\" superior à média comparativa.\")),\"\",IF(BJ53=\"\",\"\",\"Neste item, o valor contratado pelo TJDFT é \"&TEXT(BJ53,\"0,00%\")&\" superior à média comparativa.\"))","v":""}]
[null,null,null,null,null,null,null,null,null,null,null,null,null,null,{"$f":"IF(ISERROR(ROUND(AVERAGE(E54:N54),2)),\"\",ROUND(AVERAGE(E54:N54),2))","v":""},{"$f":"IF(ISERROR(ROUND(O54*D54,2)),\"\",ROUND(O54*D54,2))","v":""},null,{"$f":"IF(A54=\"\",\"\",ROUND(Q54*D54,2))","v":""},{"$f":"IF(A54=\"\",\"\",CONCATENATE($BG54,$BH54,$BI54,$BK54))","v":""},null,{"$f":"IF(ISERROR(COUNTA(E54:N54)),\"\",COUNTA(E54:N54))","v":0},{"$f":"IF(ISERROR(COUNT(E54:N54)),\"\",COUNT(E54:N54))","v":0},{"$f":"IF(ISERROR(MIN(E54:N54)),\"\",MIN(E54:N54))","v":0},{"$f":"IF(ISERROR(MAX(E54:N54)),\"\",MAX(E54:N54))","v":0},{"$f":"IF(ISERROR(ROUND(AVERAGE(E54:N54),2)),\"\",ROUND(AVERAGE(E54:N54),2))","v":""},{"$f":"IF(ISERROR(MEDIAN(E54:N54)),\"\",MEDIAN(E54:N54))","v":""},{"$f":"IF(ISERROR(STDEV(E54:N54)),\"\",STDEV(E54:N54))","v":""},{"$f":"IF(ISERROR(AA54/Y54),\"\",AA54/Y54)","v":""},null,null,null,{"$f":"IF(COUNT(E54:N54)<1,\"\",SMALL(E54:N54,1))","v":""},{"$f":"IF(COUNT(E54:N54)<2,\"\",SMALL(E54:N54,2))","v":""},{"$f":"IF(COUNT(E54:N54)<3,\"\",SMALL(E54:N54,3))","v":""},{"$f":"IF(COUNT(E54:N54)<4,\"\",SMALL(E54:N54,4))","v":""},{"$f":"IF(COUNT(E54:N54)<5,\"\",SMALL(E54:N54,5))","v":""},{"$f":"IF(COUNT(E54:N54)<6,\"\",SMALL(E54:N54,6))","v":""},{"$f":"IF(COUNT(E54:N54)<3,\"\",AVERAGE(AF54:AH54))","v":""},{"$f":"IF(COUNT(E54:N54)<4,\"\",AVERAGE(AG54:AI54))","v":""},{"$f":"IF(COUNT(E54:N54)<5,\"\",AVERAGE(AH54:AJ54))","v":""},{"$f":"IF(COUNT(E54:N54)<6,\"\",AVERAGE(AI54:AK54))","v":""},null,{"$f":"IF(E54>=1000,TEXT(E54,\"0.000,00\"),TEXT(E54,\"0,00\"))","v":"0,00"},{"$f":"IF(F54>=1000,TEXT(F54,\"0.000,00\"),TEXT(F54,\"0,00\"))","v":"0,00"},{"$f":"IF(G54>=1000,TEXT(G54,\"0.000,00\"),TEXT(G54,\"0,00\"))","v":"0,00"},{"$f":"IF(H54>=1000,TEXT(H54,\"0.000,00\"),TEXT(H54,\"0,00\"))","v":"0,00"},{"$f":"IF(I54>=1000,TEXT(I54,\"0.000,00\"),TEXT(I54,\"0,00\"))","v":"0,00"},{"$f":"IF(J54>=1000,TEXT(J54,\"0.000,00\"),TEXT(J54,\"0,00\"))","v":"0,00"},{"$f":"IF(K54>=1000,TEXT(K54,\"0.000,00\"),TEXT(K54,\"0,00\"))","v":"0,00"},{"$f":"IF(L54>=1000,TEXT(L54,\"0.000,00\"),TEXT(L54,\"0,00\"))","v":"0,00"},{"$f":"IF(M54>=1000,TEXT(M54,\"0.000,00\"),TEXT(M54,\"0,00\"))","v":"0,00"},{"$f":"IF(N54>=1000,TEXT(N54,\"0.000,00\"),TEXT(N54,\"0,00\"))","v":"0,00"},null,{"$f":"IF(PREENCHER!AL54=\"\",#REF!,IF(PREENCHER!AM54=\"\",#REF!,IF(PREENCHER!AN54=\"\",#REF!,IF(STDEV(PREENCHER!$AF54:$AH54)/AVERAGE(PREENCHER!$AF54:$AH54)>#REF!,IF(STDEV(PREENCHER!$AG54:$AI54)/AVERAGE(PREENCHER!$AG54:$AI54)>#REF!,IF(STDEV(PREENCHER!$AH54:$AJ54)/AVERAGE(PREENCHER!$AH54:$AJ54)>#REF!,IF(STDEV(PREENCHER!$AI54:$AK54)/AVERAGE(PREENCHER!$AI54:$AK54)>#REF!,#REF!,AVERAGE(PREENCHER!$AI54:$AK54)),AVERAGE(PREENCHER!$AH54:$AJ54)),AVERAGE(PREENCHER!$AG54:$AI54)),AVERAGE(PREENCHER!$AF54:$AH54)))))","v":{"$error":"#REF!"}},{"$f":"IF(ISERROR(ROUND(BB54,2)),\"\",ROUND(BB54,2))","v":""},null,null,null,{"$f":"IF(ISERROR(IF(COUNT(E54:N54)=2,\"Apenas dois preços comparativos válidos. \",\"\")),\"\",IF(COUNT(E54:N54)=2,\"Apenas dois preços comparativos válidos. \",\"\"))","v":""},{"$f":"IF(ISERROR(IF(COUNT(E54:N54)=1,\"Apenas um preço comparativo válido. \",\"\")),\"\",IF(COUNT(E54:N54)=1,\"Apenas um preço comparativo válido. \",\"\"))","v":""},{"$f":"IF(A54=\"\",\"\",IF(ISERROR(IF(COUNT(E54:N54)=0,\"Nenhum preço comparativo válido. \",\"\")),\"\",IF(COUNT(E54:N54)=0,\"Nenhum preço comparativo válido. \",\"\")))","v":""},{"$f":"IF(ISERROR(IF(R54>P54,(R54-P54)/P54,\"\")),\"\",IF(R54>P54,(R54-P54)/P54,\"\"))","v":""},{"$f":"IF(ISERROR(IF(BJ54=\"\",\"\",\"Neste item, o valor contratado pelo TJDFT é \"&TEXT(BJ54,\"0,00%\")&\" superior à média comparativa.\")),\"\",IF(BJ54=\"\",\"\",\"Neste item, o valor contratado pelo TJDFT é \"&TEXT(BJ54,\"0,00%\")&\" superior à média comparativa.\"))","v":""}]
[null,null,null,null,null,null,null,null,null,null,null,null,null,null,{"$f":"IF(ISERROR(ROUND(AVERAGE(E55:N55),2)),\"\",ROUND(AVERAGE(E55:N55),2))","v":""},{"$f":"IF(ISERROR(ROUND(O55*D55,2)),\"\",ROUND(O55*D55,2))","v":""},null,{"$f":"IF(A55=\"\",\"\",ROUND(Q55*D55,2))","v":""},{"$f":"IF(A55=\"\",\"\",CONCATENATE($BG55,$BH55,$BI55,$BK55))","v":""},null,{"$f":"IF(ISERROR(COUNTA(E55:N55)),\"\",COUNTA(E55:N55))","v":0},{"$f":"IF(ISERROR(COUNT(E55:N55)),\"\",COUNT(E55:N55))","v":0},{"$f":"IF(ISERROR(MIN(E55:N55)),\"\",MIN(E55:N55))","v":0},{"$f":"IF(ISERROR(MAX(E55:N55)),\"\",MAX(E55:N55))","v":0},{"$f":"IF(ISERROR(ROUND(AVERAGE(E55:N55),2)),\"\",ROUND(AVERAGE(E55:N55),2))","v":""},{"$f":"IF(ISERROR(MEDIAN(E55:N55)),\"\",MEDIAN(E55:N55))","v":""},{"$f":"IF(ISERROR(STDEV(E55:N55)),\"\",STDEV(E55:N55))","v":""},{"$f":"IF(ISERROR(AA55/Y55),\"\",AA55/Y55)","v":""},null,null,null,{"$f":"IF(COUNT(E55:N55)<1,\"\",SMALL(E55:N55,1))","v":""},{"$f":"IF(COUNT(E55:N55)<2,\"\",SMALL(E55:N55,2))","v":""},{"$f":"IF(COUNT(E55:N55)<3,\"\",SMALL(E55:N55,3))","v":""},{"$f":"IF(COUNT(E55:N55)<4,\"\",SMALL(E55:N55,4))","v":""},{"$f":"IF(COUNT(E55:N55)<5,\"\",SMALL(E55:N55,5))","v":""},{"$f":"IF(COUNT(E55:N55)<6,\"\",SMALL(E55:N55,6))","v":""},{"$f":"IF(COUNT(E55:N55)<3,\"\",AVERAGE(AF55:AH55))","v":""},{"$f":"IF(COUNT(E55:N55)<4,\"\",AVERAGE(AG55:AI55))","v":""},{"$f":"IF(COUNT(E55:N55)<5,\"\",AVERAGE(AH55:AJ55))","v":""},{"$f":"IF(COUNT(E55:N55)<6,\"\",AVERAGE(AI55:AK55))","v":""},null,{"$f":"IF(E55>=1000,TEXT(E55,\"0.000,00\"),TEXT(E55,\"0,00\"))","v":"0,00"},{"$f":"IF(F55>=1000,TEXT(F55,\"0.000,00\"),TEXT(F55,\"0,00\"))","v":"0,00"},{"$f":"IF(G55>=1000,TEXT(G55,\"0.000,00\"),TEXT(G55,\"0,00\"))","v":"0,00"},{"$f":"IF(H55>=1000,TEXT(H55,\"0.000,00\"),TEXT(H55,\"0,00\"))","v":"0,00"},{"$f":"IF(I55>=1000,TEXT(I55,\"0.000,00\"),TEXT(I55,\"0,00\"))","v":"0,00"},{"$f":"IF(J55>=1000,TEXT(J55,\"0.000,00\"),TEXT(J55,\"0,00\"))","v":"0,00"},{"$f":"IF(K55>=1000,TEXT(K55,\"0.000,00\"),TEXT(K55,\"0,00\"))","v":"0,00"},{"$f":"IF(L55>=1000,TEXT(L55,\"0.000,00\"),TEXT(L55,\"0,00\"))","v":"0,00"},{"$f":"IF(M55>=1000,TEXT(M55,\"0.000,00\"),TEXT(M55,\"0,00\"))","v":"0,00"},{"$f":"IF(N55>=1000,TEXT(N55,\"0.000,00\"),TEXT(N55,\"0,00\"))","v":"0,00"},null,{"$f":"IF(PREENCHER!AL55=\"\",#REF!,IF(PREENCHER!AM55=\"\",#REF!,IF(PREENCHER!AN55=\"\",#REF!,IF(STDEV(PREENCHER!$AF55:$AH55)/AVERAGE(PREENCHER!$AF55:$AH55)>#REF!,IF(STDEV(PREENCHER!$AG55:$AI55)/AVERAGE(PREENCHER!$AG55:$AI55)>#REF!,IF(STDEV(PREENCHER!$AH55:$AJ55)/AVERAGE(PREENCHER!$AH55:$AJ55)>#REF!,IF(STDEV(PREENCHER!$AI55:$AK55)/AVERAGE(PREENCHER!$AI55:$AK55)>#REF!,#REF!,AVERAGE(PREENCHER!$AI55:$AK55)),AVERAGE(PREENCHER!$AH55:$AJ55)),AVERAGE(PREENCHER!$AG55:$AI55)),AVERAGE(PREENCHER!$AF55:$AH55)))))","v":{"$error":"#REF!"}},{"$f":"IF(ISERROR(ROUND(BB55,2)),\"\",ROUND(BB55,2))","v":""},null,null,null,{"$f":"IF(ISERROR(IF(COUNT(E55:N55)=2,\"Apenas dois preços comparativos válidos. \",\"\")),\"\",IF(COUNT(E55:N55)=2,\"Apenas dois preços comparativos válidos. \",\"\"))","v":""},{"$f":"IF(ISERROR(IF(COUNT(E55:N55)=1,\"Apenas um preço comparativo válido. \",\"\")),\"\",IF(COUNT(E55:N55)=1,\"Apenas um preço comparativo válido. \",\"\"))","v":""},{"$f":"IF(A55=\"\",\"\",IF(ISERROR(IF(COUNT(E55:N55)=0,\"Nenhum preço comparativo válido. \",\"\")),\"\",IF(COUNT(E55:N55)=0,\"Nenhum preço comparativo válido. \",\"\")))","v":""},{"$f":"IF(ISERROR(IF(R55>P55,(R55-P55)/P55,\"\")),\"\",IF(R55>P55,(R55-P55)/P55,\"\"))","v":""},{"$f":"IF(ISERROR(IF(BJ55=\"\",\"\",\"Neste item, o valor contratado pelo TJDFT é \"&TEXT(BJ55,\"0,00%\")&\" superior à média comparativa.\")),\"\",IF(BJ55=\"\",\"\",\"Neste item, o valor contratado pelo TJDFT é \"&TEXT(BJ55,\"0,00%\")&\" superior à média comparativa.\"))","v":""}]
[null,null,null,null,null,null,null,null,null,null,null,null,null,null,{"$f":"IF(ISERROR(ROUND(AVERAGE(E56:N56),2)),\"\",ROUND(AVERAGE(E56:N56),2))","v":""},{"$f":"IF(ISERROR(ROUND(O56*D56,2)),\"\",ROUND(O56*D56,2))","v":""},null,{"$f":"IF(A56=\"\",\"\",ROUND(Q56*D56,2))","v":""},{"$f":"IF(A56=\"\",\"\",CONCATENATE($BG56,$BH56,$BI56,$BK56))","v":""},null,{"$f":"IF(ISERROR(COUNTA(E56:N56)),\"\",COUNTA(E56:N56))","v":0},{"$f":"IF(ISERROR(COUNT(E56:N56)),\"\",COUNT(E56:N56))","v":0},{"$f":"IF(ISERROR(MIN(E56:N56)),\"\",MIN(E56:N56))","v":0},{"$f":"IF(ISERROR(MAX(E56:N56)),\"\",MAX(E56:N56))","v":0},{"$f":"IF(ISERROR(ROUND(AVERAGE(E56:N56),2)),\"\",ROUND(AVERAGE(E56:N56),2))","v":""},{"$f":"IF(ISERROR(MEDIAN(E56:N56)),\"\",MEDIAN(E56:N56))","v":""},{"$f":"IF(ISERROR(STDEV(E56:N56)),\"\",STDEV(E56:N56))","v":""},{"$f":"IF(ISERROR(AA56/Y56),\"\",AA56/Y56)","v":""},null,null,null,{"$f":"IF(COUNT(E56:N56)<1,\"\",SMALL(E56:N56,1))","v":""},{"$f":"IF(COUNT(E56:N56)<2,\"\",SMALL(E56:N56,2))","v":""},{"$f":"IF(COUNT(E56:N56)<3,\"\",SMALL(E56:N56,3))","v":""},{"$f":"IF(COUNT(E56:N56)<4,\"\",SMALL(E56:N56,4))","v":""},{"$f":"IF(COUNT(E56:N56)<5,\"\",SMALL(E56:N56,5))","v":""},{"$f":"IF(COUNT(E56:N56)<6,\"\",SMALL(E56:N56,6))","v":""},{"$f":"IF(COUNT(E56:N56)<3,\"\",AVERAGE(AF56:AH56))","v":""},{"$f":"IF(COUNT(E56:N56)<4,\"\",AVERAGE(AG56:AI56))","v":""},{"$f":"IF(COUNT(E56:N56)<5,\"\",AVERAGE(AH56:AJ56))","v":""},{"$f":"IF(COUNT(E56:N56)<6,\"\",AVERAGE(AI56:AK56))","v":""},null,{"$f":"IF(E56>=1000,TEXT(E56,\"0.000,00\"),TEXT(E56,\"0,00\"))","v":"0,00"},{"$f":"IF(F56>=1000,TEXT(F56,\"0.000,00\"),TEXT(F56,\"0,00\"))","v":"0,00"},{"$f":"IF(G56>=1000,TEXT(G56,\"0.000,00\"),TEXT(G56,\"0,00\"))","v":"0,00"},{"$f":"IF(H56>=1000,TEXT(H56,\"0.000,00\"),TEXT(H56,\"0,00\"))","v":"0,00"},{"$f":"IF(I56>=1000,TEXT(I56,\"0.000,00\"),TEXT(I56,\"0,00\"))","v":"0,00"},{"$f":"IF(J56>=1000,TEXT(J56,\"0.000,00\"),TEXT(J56,\"0,00\"))","v":"0,00"},{"$f":"IF(K56>=1000,TEXT(K56,\"0.000,00\"),TEXT(K56,\"0,00\"))","v":"0,00"},{"$f":"IF(L56>=1000,TEXT(L56,\"0.000,00\"),TEXT(L56,\"0,00\"))","v":"0,00"},{"$f":"IF(M56>=1000,TEXT(M56,\"0.000,00\"),TEXT(M56,\"0,00\"))","v":"0,00"},{"$f":"IF(N56>=1000,TEXT(N56,\"0.000,00\"),TEXT(N56,\"0,00\"))","v":"0,00"},null,{"$f":"IF(PREENCHER!AL56=\"\",#REF!,IF(PREENCHER!AM56=\"\",#REF!,IF(PREENCHER!AN56=\"\",#REF!,IF(STDEV(PREENCHER!$AF56:$AH56)/AVERAGE(PREENCHER!$AF56:$AH56)>#REF!,IF(STDEV(PREENCHER!$AG56:$AI56)/AVERAGE(PREENCHER!$AG56:$AI56)>#REF!,IF(STDEV(PREENCHER!$AH56:$AJ56)/AVERAGE(PREENCHER!$AH56:$AJ56)>#REF!,IF(STDEV(PREENCHER!$AI56:$AK56)/AVERAGE(PREENCHER!$AI56:$AK56)>#REF!,#REF!,AVERAGE(PREENCHER!$AI56:$AK56)),AVERAGE(PREENCHER!$AH56:$AJ56)),AVERAGE(PREENCHER!$AG56:$AI56)),AVERAGE(PREENCHER!$AF56:$AH56)))))","v":{"$error":"#REF!"}},{"$f":"IF(ISERROR(ROUND(BB56,2)),\"\",ROUND(BB56,2))","v":""},null,null,null,{"$f":"IF(ISERROR(IF(COUNT(E56:N56)=2,\"Apenas dois preços comparativos válidos. \",\"\")),\"\",IF(COUNT(E56:N56)=2,\"Apenas dois preços comparativos válidos. \",\"\"))","v":""},{"$f":"IF(ISERROR(IF(COUNT(E56:N56)=1,\"Apenas um preço comparativo válido. \",\"\")),\"\",IF(COUNT(E56:N56)=1,\"Apenas um preço comparativo válido. \",\"\"))","v":""},{"$f":"IF(A56=\"\",\"\",IF(ISERROR(IF(COUNT(E56:N56)=0,\"Nenhum preço comparativo válido. \",\"\")),\"\",IF(COUNT(E56:N56)=0,\"Nenhum preço comparativo válido. \",\"\")))","v":""},{"$f":"IF(ISERROR(IF(R56>P56,(R56-P56)/P56,\"\")),\"\",IF(R56>P56,(R56-P56)/P56,\"\"))","v":""},{"$f":"IF(ISERROR(IF(BJ56=\"\",\"\",\"Neste item, o valor contratado pelo TJDFT é \"&TEXT(BJ56,\"0,00%\")&\" superior à média comparativa.\")),\"\",IF(BJ56=\"\",\"\",\"Neste item, o valor contratado pelo TJDFT é \"&TEXT(BJ56,\"0,00%\")&\" superior à média comparativa.\"))","v":""}]
[null,null,null,null,null,null,null,null,null,null,null,null,null,null,{"$f":"IF(ISERROR(ROUND(AVERAGE(E57:N57),2)),\"\",ROUND(AVERAGE(E57:N57),2))","v":""},{"$f":"IF(ISERROR(ROUND(O57*D57,2)),\"\",ROUND(O57*D57,2))","v":""},null,{"$f":"IF(A57=\"\",\"\",ROUND(Q57*D57,2))","v":""},{"$f":"IF(A57=\"\",\"\",CONCATENATE($BG57,$BH57,$BI57,$BK57))","v":""},null,{"$f":"IF(ISERROR(COUNTA(E57:N57)),\"\",COUNTA(E57:N57))","v":0},{"$f":"IF(ISERROR(COUNT(E57:N57)),\"\",COUNT(E57:N57))","v":0},{"$f":"IF(ISERROR(MIN(E57:N57)),\"\",MIN(E57:N57))","v":0},{"$f":"IF(ISERROR(MAX(E57:N57)),\"\",MAX(E57:N57))","v":0},{"$f":"IF(ISERROR(ROUND(AVERAGE(E57:N57),2)),\"\",ROUND(AVERAGE(E57:N57),2))","v":""},{"$f":"IF(ISERROR(MEDIAN(E57:N57)),\"\",MEDIAN(E57:N57))","v":""},{"$f":"IF(ISERROR(STDEV(E57:N57)),\"\",STDEV(E57:N57))","v":""},{"$f":"IF(ISERROR(AA57/Y57),\"\",AA57/Y57)","v":""},null,null,null,{"$f":"IF(COUNT(E57:N57)<1,\"\",SMALL(E57:N57,1))","v":""},{"$f":"IF(COUNT(E57:N57)<2,\"\",SMALL(E57:N57,2))","v":""},{"$f":"IF(COUNT(E57:N57)<3,\"\",SMALL(E57:N57,3))","v":""},{"$f":"IF(COUNT(E57:N57)<4,\"\",SMALL(E57:N57,4))","v":""},{"$f":"IF(COUNT(E57:N57)<5,\"\",SMALL(E57:N57,5))","v":""},{"$f":"IF(COUNT(E57:N57)<6,\"\",SMALL(E57:N57,6))","v":""},{"$f":"IF(COUNT(E57:N57)<3,\"\",AVERAGE(AF57:AH57))","v":""},{"$f":"IF(COUNT(E57:N57)<4,\"\",AVERAGE(AG57:AI57))","v":""},{"$f":"IF(COUNT(E57:N57)<5,\"\",AVERAGE(AH57:AJ57))","v":""},{"$f":"IF(COUNT(E57:N57)<6,\"\",AVERAGE(AI57:AK57))","v":""},null,{"$f":"IF(E57>=1000,TEXT(E57,\"0.000,00\"),TEXT(E57,\"0,00\"))","v":"0,00"},{"$f":"IF(F57>=1000,TEXT(F57,\"0.000,00\"),TEXT(F57,\"0,00\"))","v":"0,00"},{"$f":"IF(G57>=1000,TEXT(G57,\"0.000,00\"),TEXT(G57,\"0,00\"))","v":"0,00"},{"$f":"IF(H57>=1000,TEXT(H57,\"0.000,00\"),TEXT(H57,\"0,00\"))","v":"0,00"},{"$f":"IF(I57>=1000,TEXT(I57,\"0.000,00\"),TEXT(I57,\"0,00\"))","v":"0,00"},{"$f":"IF(J57>=1000,TEXT(J57,\"0.000,00\"),TEXT(J57,\"0,00\"))","v":"0,00"},{"$f":"IF(K57>=1000,TEXT(K57,\"0.000,00\"),TEXT(K57,\"0,00\"))","v":"0,00"},{"$f":"IF(L57>=1000,TEXT(L57,\"0.000,00\"),TEXT(L57,\"0,00\"))","v":"0,00"},{"$f":"IF(M57>=1000,TEXT(M57,\"0.000,00\"),TEXT(M57,\"0,00\"))","v":"0,00"},{"$f":"IF(N57>=1000,TEXT(N57,\"0.000,00\"),TEXT(N57,\"0,00\"))","v":"0,00"},null,{"$f":"IF(PREENCHER!AL57=\"\",#REF!,IF(PREENCHER!AM57=\"\",#REF!,IF(PREENCHER!AN57=\"\",#REF!,IF(STDEV(PREENCHER!$AF57:$AH57)/AVERAGE(PREENCHER!$AF57:$AH57)>#REF!,IF(STDEV(PREENCHER!$AG57:$AI57)/AVERAGE(PREENCHER!$AG57:$AI57)>#REF!,IF(STDEV(PREENCHER!$AH57:$AJ57)/AVERAGE(PREENCHER!$AH57:$AJ57)>#REF!,IF(STDEV(PREENCHER!$AI57:$AK57)/AVERAGE(PREENCHER!$AI57:$AK57)>#REF!,#REF!,AVERAGE(PREENCHER!$AI57:$AK57)),AVERAGE(PREENCHER!$AH57:$AJ57)),AVERAGE(PREENCHER!$AG57:$AI57)),AVERAGE(PREENCHER!$AF57:$AH57)))))","v":{"$error":"#REF!"}},{"$f":"IF(ISERROR(ROUND(BB57,2)),\"\",ROUND(BB57,2))","v":""},null,null,null,{"$f":"IF(ISERROR(IF(COUNT(E57:N57)=2,\"Apenas dois preços comparativos válidos. \",\"\")),\"\",IF(COUNT(E57:N57)=2,\"Apenas dois preços comparativos válidos. \",\"\"))","v":""},{"$f":"IF(ISERROR(IF(COUNT(E57:N57)=1,\"Apenas um preço comparativo válido. \",\"\")),\"\",IF(COUNT(E57:N57)=1,\"Apenas um preço comparativo válido. \",\"\"))","v":""},{"$f":"IF(A57=\"\",\"\",IF(ISERROR(IF(COUNT(E57:N57)=0,\"Nenhum preço comparativo válido. \",\"\")),\"\",IF(COUNT(E57:N57)=0,\"Nenhum preço comparativo válido. \",\"\")))","v":""},{"$f":"IF(ISERROR(IF(R57>P57,(R57-P57)/P57,\"\")),\"\",IF(R57>P57,(R57-P57)/P57,\"\"))","v":""},{"$f":"IF(ISERROR(IF(BJ57=\"\",\"\",\"Neste item, o valor contratado pelo TJDFT é \"&TEXT(BJ57,\"0,00%\")&\" superior à média comparativa.\")),\"\",IF(BJ57=\"\",\"\",\"Neste item, o valor contratado pelo TJDFT é \"&TEXT(BJ57,\"0,00%\")&\" superior à média comparativa.\"))","v":""}]
[null,null,null,null,null,null,null,null,null,null,null,null,null,null,{"$f":"IF(ISERROR(ROUND(AVERAGE(E58:N58),2)),\"\",ROUND(AVERAGE(E58:N58),2))","v":""},{"$f":"IF(ISERROR(ROUND(O58*D58,2)),\"\",ROUND(O58*D58,2))","v":""},null,{"$f":"IF(A58=\"\",\"\",ROUND(Q58*D58,2))","v":""},{"$f":"IF(A58=\"\",\"\",CONCATENATE($BG58,$BH58,$BI58,$BK58))","v":""},null,{"$f":"IF(ISERROR(COUNTA(E58:N58)),\"\",COUNTA(E58:N58))","v":0},{"$f":"IF(ISERROR(COUNT(E58:N58)),\"\",COUNT(E58:N58))","v":0},{"$f":"IF(ISERROR(MIN(E58:N58)),\"\",MIN(E58:N58))","v":0},{"$f":"IF(ISERROR(MAX(E58:N58)),\"\",MAX(E58:N58))","v":0},{"$f":"IF(ISERROR(ROUND(AVERAGE(E58:N58),2)),\"\",ROUND(AVERAGE(E58:N58),2))","v":""},{"$f":"IF(ISERROR(MEDIAN(E58:N58)),\"\",MEDIAN(E58:N58))","v":""},{"$f":"IF(ISERROR(STDEV(E58:N58)),\"\",STDEV(E58:N58))","v":""},{"$f":"IF(ISERROR(AA58/Y58),\"\",AA58/Y58)","v":""},null,null,null,{"$f":"IF(COUNT(E58:N58)<1,\"\",SMALL(E58:N58,1))","v":""},{"$f":"IF(COUNT(E58:N58)<2,\"\",SMALL(E58:N58,2))","v":""},{"$f":"IF(COUNT(E58:N58)<3,\"\",SMALL(E58:N58,3))","v":""},{"$f":"IF(COUNT(E58:N58)<4,\"\",SMALL(E58:N58,4))","v":""},{"$f":"IF(COUNT(E58:N58)<5,\"\",SMALL(E58:N58,5))","v":""},{"$f":"IF(COUNT(E58:N58)<6,\"\",SMALL(E58:N58,6))","v":""},{"$f":"IF(COUNT(E58:N58)<3,\"\",AVERAGE(AF58:AH58))","v":""},{"$f":"IF(COUNT(E58:N58)<4,\"\",AVERAGE(AG58:AI58))","v":""},{"$f":"IF(COUNT(E58:N58)<5,\"\",AVERAGE(AH58:AJ58))","v":""},{"$f":"IF(COUNT(E58:N58)<6,\"\",AVERAGE(AI58:AK58))","v":""},null,{"$f":"IF(E58>=1000,TEXT(E58,\"0.000,00\"),TEXT(E58,\"0,00\"))","v":"0,00"},{"$f":"IF(F58>=1000,TEXT(F58,\"0.000,00\"),TEXT(F58,\"0,00\"))","v":"0,00"},{"$f":"IF(G58>=1000,TEXT(G58,\"0.000,00\"),TEXT(G58,\"0,00\"))","v":"0,00"},{"$f":"IF(H58>=1000,TEXT(H58,\"0.000,00\"),TEXT(H58,\"0,00\"))","v":"0,00"},{"$f":"IF(I58>=1000,TEXT(I58,\"0.000,00\"),TEXT(I58,\"0,00\"))","v":"0,00"},{"$f":"IF(J58>=1000,TEXT(J58,\"0.000,00\"),TEXT(J58,\"0,00\"))","v":"0,00"},{"$f":"IF(K58>=1000,TEXT(K58,\"0.000,00\"),TEXT(K58,\"0,00\"))","v":"0,00"},{"$f":"IF(L58>=1000,TEXT(L58,\"0.000,00\"),TEXT(L58,\"0,00\"))","v":"0,00"},{"$f":"IF(M58>=1000,TEXT(M58,\"0.000,00\"),TEXT(M58,\"0,00\"))","v":"0,00"},{"$f":"IF(N58>=1000,TEXT(N58,\"0.000,00\"),TEXT(N58,\"0,00\"))","v":"0,00"},null,{"$f":"IF(PREENCHER!AL58=\"\",#REF!,IF(PREENCHER!AM58=\"\",#REF!,IF(PREENCHER!AN58=\"\",#REF!,IF(STDEV(PREENCHER!$AF58:$AH58)/AVERAGE(PREENCHER!$AF58:$AH58)>#REF!,IF(STDEV(PREENCHER!$AG58:$AI58)/AVERAGE(PREENCHER!$AG58:$AI58)>#REF!,IF(STDEV(PREENCHER!$AH58:$AJ58)/AVERAGE(PREENCHER!$AH58:$AJ58)>#REF!,IF(STDEV(PREENCHER!$AI58:$AK58)/AVERAGE(PREENCHER!$AI58:$AK58)>#REF!,#REF!,AVERAGE(PREENCHER!$AI58:$AK58)),AVERAGE(PREENCHER!$AH58:$AJ58)),AVERAGE(PREENCHER!$AG58:$AI58)),AVERAGE(PREENCHER!$AF58:$AH58)))))","v":{"$error":"#REF!"}},{"$f":"IF(ISERROR(ROUND(BB58,2)),\"\",ROUND(BB58,2))","v":""},null,null,null,{"$f":"IF(ISERROR(IF(COUNT(E58:N58)=2,\"Apenas dois preços comparativos válidos. \",\"\")),\"\",IF(COUNT(E58:N58)=2,\"Apenas dois preços comparativos válidos. \",\"\"))","v":""},{"$f":"IF(ISERROR(IF(COUNT(E58:N58)=1,\"Apenas um preço comparativo válido. \",\"\")),\"\",IF(COUNT(E58:N58)=1,\"Apenas um preço comparativo válido. \",\"\"))","v":""},{"$f":"IF(A58=\"\",\"\",IF(ISERROR(IF(COUNT(E58:N58)=0,\"Nenhum preço comparativo válido. \",\"\")),\"\",IF(COUNT(E58:N58)=0,\"Nenhum preço comparativo válido. \",\"\")))","v":""},{"$f":"IF(ISERROR(IF(R58>P58,(R58-P58)/P58,\"\")),\"\",IF(R58>P58,(R58-P58)/P58,\"\"))","v":""},{"$f":"IF(ISERROR(IF(BJ58=\"\",\"\",\"Neste item, o valor contratado pelo TJDFT é \"&TEXT(BJ58,\"0,00%\")&\" superior à média comparativa.\")),\"\",IF(BJ58=\"\",\"\",\"Neste item, o valor contratado pelo TJDFT é \"&TEXT(BJ58,\"0,00%\")&\" superior à média comparativa.\"))","v":""}]
[null,null,null,null,null,null,null,null,null,null,null,null,null,null,{"$f":"IF(ISERROR(ROUND(AVERAGE(E59:N59),2)),\"\",ROUND(AVERAGE(E59:N59),2))","v":""},{"$f":"IF(ISERROR(ROUND(O59*D59,2)),\"\",ROUND(O59*D59,2))","v":""},null,{"$f":"IF(A59=\"\",\"\",ROUND(Q59*D59,2))","v":""},{"$f":"IF(A59=\"\",\"\",CONCATENATE($BG59,$BH59,$BI59,$BK59))","v":""},null,{"$f":"IF(ISERROR(COUNTA(E59:N59)),\"\",COUNTA(E59:N59))","v":0},{"$f":"IF(ISERROR(COUNT(E59:N59)),\"\",COUNT(E59:N59))","v":0},{"$f":"IF(ISERROR(MIN(E59:N59)),\"\",MIN(E59:N59))","v":0},{"$f":"IF(ISERROR(MAX(E59:N59)),\"\",MAX(E59:N59))","v":0},{"$f":"IF(ISERROR(ROUND(AVERAGE(E59:N59),2)),\"\",ROUND(AVERAGE(E59:N59),2))","v":""},{"$f":"IF(ISERROR(MEDIAN(E59:N59)),\"\",MEDIAN(E59:N59))","v":""},{"$f":"IF(ISERROR(STDEV(E59:N59)),\"\",STDEV(E59:N59))","v":""},{"$f":"IF(ISERROR(AA59/Y59),\"\",AA59/Y59)","v":""},null,null,null,{"$f":"IF(COUNT(E59:N59)<1,\"\",SMALL(E59:N59,1))","v":""},{"$f":"IF(COUNT(E59:N59)<2,\"\",SMALL(E59:N59,2))","v":""},{"$f":"IF(COUNT(E59:N59)<3,\"\",SMALL(E59:N59,3))","v":""},{"$f":"IF(COUNT(E59:N59)<4,\"\",SMALL(E59:N59,4))","v":""},{"$f":"IF(COUNT(E59:N59)<5,\"\",SMALL(E59:N59,5))","v":""},{"$f":"IF(COUNT(E59:N59)<6,\"\",SMALL(E59:N59,6))","v":""},{"$f":"IF(COUNT(E59:N59)<3,\"\",AVERAGE(AF59:AH59))","v":""},{"$f":"IF(COUNT(E59:N59)<4,\"\",AVERAGE(AG59:AI59))","v":""},{"$f":"IF(COUNT(E59:N59)<5,\"\",AVERAGE(AH59:AJ59))","v":""},{"$f":"IF(COUNT(E59:N59)<6,\"\",AVERAGE(AI59:AK59))","v":""},null,{"$f":"IF(E59>=1000,TEXT(E59,\"0.000,00\"),TEXT(E59,\"0,00\"))","v":"0,00"},{"$f":"IF(F59>=1000,TEXT(F59,\"0.000,00\"),TEXT(F59,\"0,00\"))","v":"0,00"},{"$f":"IF(G59>=1000,TEXT(G59,\"0.000,00\"),TEXT(G59,\"0,00\"))","v":"0,00"},{"$f":"IF(H59>=1000,TEXT(H59,\"0.000,00\"),TEXT(H59,\"0,00\"))","v":"0,00"},{"$f":"IF(I59>=1000,TEXT(I59,\"0.000,00\"),TEXT(I59,\"0,00\"))","v":"0,00"},{"$f":"IF(J59>=1000,TEXT(J59,\"0.000,00\"),TEXT(J59,\"0,00\"))","v":"0,00"},{"$f":"IF(K59>=1000,TEXT(K59,\"0.000,00\"),TEXT(K59,\"0,00\"))","v":"0,00"},{"$f":"IF(L59>=1000,TEXT(L59,\"0.000,00\"),TEXT(L59,\"0,00\"))","v":"0,00"},{"$f":"IF(M59>=1000,TEXT(M59,\"0.000,00\"),TEXT(M59,\"0,00\"))","v":"0,00"},{"$f":"IF(N59>=1000,TEXT(N59,\"0.000,00\"),TEXT(N59,\"0,00\"))","v":"0,00"},null,{"$f":"IF(PREENCHER!AL59=\"\",#REF!,IF(PREENCHER!AM59=\"\",#REF!,IF(PREENCHER!AN59=\"\",#REF!,IF(STDEV(PREENCHER!$AF59:$AH59)/AVERAGE(PREENCHER!$AF59:$AH59)>#REF!,IF(STDEV(PREENCHER!$AG59:$AI59)/AVERAGE(PREENCHER!$AG59:$AI59)>#REF!,IF(STDEV(PREENCHER!$AH59:$AJ59)/AVERAGE(PREENCHER!$AH59:$AJ59)>#REF!,IF(STDEV(PREENCHER!$AI59:$AK59)/AVERAGE(PREENCHER!$AI59:$AK59)>#REF!,#REF!,AVERAGE(PREENCHER!$AI59:$AK59)),AVERAGE(PREENCHER!$AH59:$AJ59)),AVERAGE(PREENCHER!$AG59:$AI59)),AVERAGE(PREENCHER!$AF59:$AH59)))))","v":{"$error":"#REF!"}},{"$f":"IF(ISERROR(ROUND(BB59,2)),\"\",ROUND(BB59,2))","v":""},null,null,null,{"$f":"IF(ISERROR(IF(COUNT(E59:N59)=2,\"Apenas dois preços comparativos válidos. \",\"\")),\"\",IF(COUNT(E59:N59)=2,\"Apenas dois preços comparativos válidos. \",\"\"))","v":""},{"$f":"IF(ISERROR(IF(COUNT(E59:N59)=1,\"Apenas um preço comparativo válido. \",\"\")),\"\",IF(COUNT(E59:N59)=1,\"Apenas um preço comparativo válido. \",\"\"))","v":""},{"$f":"IF(A59=\"\",\"\",IF(ISERROR(IF(COUNT(E59:N59)=0,\"Nenhum preço comparativo válido. \",\"\")),\"\",IF(COUNT(E59:N59)=0,\"Nenhum preço comparativo válido. \",\"\")))","v":""},{"$f":"IF(ISERROR(IF(R59>P59,(R59-P59)/P59,\"\")),\"\",IF(R59>P59,(R59-P59)/P59,\"\"))","v":""},{"$f":"IF(ISERROR(IF(BJ59=\"\",\"\",\"Neste item, o valor contratado pelo TJDFT é \"&TEXT(BJ59,\"0,00%\")&\" superior à média comparativa.\")),\"\",IF(BJ59=\"\",\"\",\"Neste item, o valor contratado pelo TJDFT é \"&TEXT(BJ59,\"0,00%\")&\" superior à média comparativa.\"))","v":""}]
[null,null,null,null,null,null,null,null,null,null,null,null,null,null,{"$f":"IF(ISERROR(ROUND(AVERAGE(E60:N60),2)),\"\",ROUND(AVERAGE(E60:N60),2))","v":""},{"$f":"IF(ISERROR(ROUND(O60*D60,2)),\"\",ROUND(O60*D60,2))","v":""},null,{"$f":"IF(A60=\"\",\"\",ROUND(Q60*D60,2))","v":""},{"$f":"IF(A60=\"\",\"\",CONCATENATE($BG60,$BH60,$BI60,$BK60))","v":""},null,{"$f":"IF(ISERROR(COUNTA(E60:N60)),\"\",COUNTA(E60:N60))","v":0},{"$f":"IF(ISERROR(COUNT(E60:N60)),\"\",COUNT(E60:N60))","v":0},{"$f":"IF(ISERROR(MIN(E60:N60)),\"\",MIN(E60:N60))","v":0},{"$f":"IF(ISERROR(MAX(E60:N60)),\"\",MAX(E60:N60))","v":0},{"$f":"IF(ISERROR(ROUND(AVERAGE(E60:N60),2)),\"\",ROUND(AVERAGE(E60:N60),2))","v":""},{"$f":"IF(ISERROR(MEDIAN(E60:N60)),\"\",MEDIAN(E60:N60))","v":""},{"$f":"IF(ISERROR(STDEV(E60:N60)),\"\",STDEV(E60:N60))","v":""},{"$f":"IF(ISERROR(AA60/Y60),\"\",AA60/Y60)","v":""},null,null,null,{"$f":"IF(COUNT(E60:N60)<1,\"\",SMALL(E60:N60,1))","v":""},{"$f":"IF(COUNT(E60:N60)<2,\"\",SMALL(E60:N60,2))","v":""},{"$f":"IF(COUNT(E60:N60)<3,\"\",SMALL(E60:N60,3))","v":""},{"$f":"IF(COUNT(E60:N60)<4,\"\",SMALL(E60:N60,4))","v":""},{"$f":"IF(COUNT(E60:N60)<5,\"\",SMALL(E60:N60,5))","v":""},{"$f":"IF(COUNT(E60:N60)<6,\"\",SMALL(E60:N60,6))","v":""},{"$f":"IF(COUNT(E60:N60)<3,\"\",AVERAGE(AF60:AH60))","v":""},{"$f":"IF(COUNT(E60:N60)<4,\"\",AVERAGE(AG60:AI60))","v":""},{"$f":"IF(COUNT(E60:N60)<5,\"\",AVERAGE(AH60:AJ60))","v":""},{"$f":"IF(COUNT(E60:N60)<6,\"\",AVERAGE(AI60:AK60))","v":""},null,{"$f":"IF(E60>=1000,TEXT(E60,\"0.000,00\"),TEXT(E60,\"0,00\"))","v":"0,00"},{"$f":"IF(F60>=1000,TEXT(F60,\"0.000,00\"),TEXT(F60,\"0,00\"))","v":"0,00"},{"$f":"IF(G60>=1000,TEXT(G60,\"0.000,00\"),TEXT(G60,\"0,00\"))","v":"0,00"},{"$f":"IF(H60>=1000,TEXT(H60,\"0.000,00\"),TEXT(H60,\"0,00\"))","v":"0,00"},{"$f":"IF(I60>=1000,TEXT(I60,\"0.000,00\"),TEXT(I60,\"0,00\"))","v":"0,00"},{"$f":"IF(J60>=1000,TEXT(J60,\"0.000,00\"),TEXT(J60,\"0,00\"))","v":"0,00"},{"$f":"IF(K60>=1000,TEXT(K60,\"0.000,00\"),TEXT(K60,\"0,00\"))","v":"0,00"},{"$f":"IF(L60>=1000,TEXT(L60,\"0.000,00\"),TEXT(L60,\"0,00\"))","v":"0,00"},{"$f":"IF(M60>=1000,TEXT(M60,\"0.000,00\"),TEXT(M60,\"0,00\"))","v":"0,00"},{"$f":"IF(N60>=1000,TEXT(N60,\"0.000,00\"),TEXT(N60,\"0,00\"))","v":"0,00"},null,{"$f":"IF(PREENCHER!AL60=\"\",#REF!,IF(PREENCHER!AM60=\"\",#REF!,IF(PREENCHER!AN60=\"\",#REF!,IF(STDEV(PREENCHER!$AF60:$AH60)/AVERAGE(PREENCHER!$AF60:$AH60)>#REF!,IF(STDEV(PREENCHER!$AG60:$AI60)/AVERAGE(PREENCHER!$AG60:$AI60)>#REF!,IF(STDEV(PREENCHER!$AH60:$AJ60)/AVERAGE(PREENCHER!$AH60:$AJ60)>#REF!,IF(STDEV(PREENCHER!$AI60:$AK60)/AVERAGE(PREENCHER!$AI60:$AK60)>#REF!,#REF!,AVERAGE(PREENCHER!$AI60:$AK60)),AVERAGE(PREENCHER!$AH60:$AJ60)),AVERAGE(PREENCHER!$AG60:$AI60)),AVERAGE(PREENCHER!$AF60:$AH60)))))","v":{"$error":"#REF!"}},{"$f":"IF(ISERROR(ROUND(BB60,2)),\"\",ROUND(BB60,2))","v":""},null,null,null,{"$f":"IF(ISERROR(IF(COUNT(E60:N60)=2,\"Apenas dois preços comparativos válidos. \",\"\")),\"\",IF(COUNT(E60:N60)=2,\"Apenas dois preços comparativos válidos. \",\"\"))","v":""},{"$f":"IF(ISERROR(IF(COUNT(E60:N60)=1,\"Apenas um preço comparativo válido. \",\"\")),\"\",IF(COUNT(E60:N60)=1,\"Apenas um preço comparativo válido. \",\"\"))","v":""},{"$f":"IF(A60=\"\",\"\",IF(ISERROR(IF(COUNT(E60:N60)=0,\"Nenhum preço comparativo válido. \",\"\")),\"\",IF(COUNT(E60:N60)=0,\"Nenhum preço comparativo válido. \",\"\")))","v":""},{"$f":"IF(ISERROR(IF(R60>P60,(R60-P60)/P60,\"\")),\"\",IF(R60>P60,(R60-P60)/P60,\"\"))","v":""},{"$f":"IF(ISERROR(IF(BJ60=\"\",\"\",\"Neste item, o valor contratado pelo TJDFT é \"&TEXT(BJ60,\"0,00%\")&\" superior à média comparativa.\")),\"\",IF(BJ60=\"\",\"\",\"Neste item, o valor contratado pelo TJDFT é \"&TEXT(BJ60,\"0,00%\")&\" superior à média comparativa.\"))","v":""}]
[null,null,null,null,null,null,null,null,null,null,null,null,null,null,{"$f":"IF(ISERROR(ROUND(AVERAGE(E61:N61),2)),\"\",ROUND(AVERAGE(E61:N61),2))","v":""},{"$f":"IF(ISERROR(ROUND(O61*D61,2)),\"\",ROUND(O61*D61,2))","v":""},null,{"$f":"IF(A61=\"\",\"\",ROUND(Q61*D61,2))","v":""},{"$f":"IF(A61=\"\",\"\",CONCATENATE($BG61,$BH61,$BI61,$BK61))","v":""},null,{"$f":"IF(ISERROR(COUNTA(E61:N61)),\"\",COUNTA(E61:N61))","v":0},{"$f":"IF(ISERROR(COUNT(E61:N61)),\"\",COUNT(E61:N61))","v":0},{"$f":"IF(ISERROR(MIN(E61:N61)),\"\",MIN(E61:N61))","v":0},{"$f":"IF(ISERROR(MAX(E61:N61)),\"\",MAX(E61:N61))","v":0},{"$f":"IF(ISERROR(ROUND(AVERAGE(E61:N61),2)),\"\",ROUND(AVERAGE(E61:N61),2))","v":""},{"$f":"IF(ISERROR(MEDIAN(E61:N61)),\"\",MEDIAN(E61:N61))","v":""},{"$f":"IF(ISERROR(STDEV(E61:N61)),\"\",STDEV(E61:N61))","v":""},{"$f":"IF(ISERROR(AA61/Y61),\"\",AA61/Y61)","v":""},null,null,null,{"$f":"IF(COUNT(E61:N61)<1,\"\",SMALL(E61:N61,1))","v":""},{"$f":"IF(COUNT(E61:N61)<2,\"\",SMALL(E61:N61,2))","v":""},{"$f":"IF(COUNT(E61:N61)<3,\"\",SMALL(E61:N61,3))","v":""},{"$f":"IF(COUNT(E61:N61)<4,\"\",SMALL(E61:N61,4))","v":""},{"$f":"IF(COUNT(E61:N61)<5,\"\",SMALL(E61:N61,5))","v":""},{"$f":"IF(COUNT(E61:N61)<6,\"\",SMALL(E61:N61,6))","v":""},{"$f":"IF(COUNT(E61:N61)<3,\"\",AVERAGE(AF61:AH61))","v":""},{"$f":"IF(COUNT(E61:N61)<4,\"\",AVERAGE(AG61:AI61))","v":""},{"$f":"IF(COUNT(E61:N61)<5,\"\",AVERAGE(AH61:AJ61))","v":""},{"$f":"IF(COUNT(E61:N61)<6,\"\",AVERAGE(AI61:AK61))","v":""},null,{"$f":"IF(E61>=1000,TEXT(E61,\"0.000,00\"),TEXT(E61,\"0,00\"))","v":"0,00"},{"$f":"IF(F61>=1000,TEXT(F61,\"0.000,00\"),TEXT(F61,\"0,00\"))","v":"0,00"},{"$f":"IF(G61>=1000,TEXT(G61,\"0.000,00\"),TEXT(G61,\"0,00\"))","v":"0,00"},{"$f":"IF(H61>=1000,TEXT(H61,\"0.000,00\"),TEXT(H61,\"0,00\"))","v":"0,00"},{"$f":"IF(I61>=1000,TEXT(I61,\"0.000,00\"),TEXT(I61,\"0,00\"))","v":"0,00"},{"$f":"IF(J61>=1000,TEXT(J61,\"0.000,00\"),TEXT(J61,\"0,00\"))","v":"0,00"},{"$f":"IF(K61>=1000,TEXT(K61,\"0.000,00\"),TEXT(K61,\"0,00\"))","v":"0,00"},{"$f":"IF(L61>=1000,TEXT(L61,\"0.000,00\"),TEXT(L61,\"0,00\"))","v":"0,00"},{"$f":"IF(M61>=1000,TEXT(M61,\"0.000,00\"),TEXT(M61,\"0,00\"))","v":"0,00"},{"$f":"IF(N61>=1000,TEXT(N61,\"0.000,00\"),TEXT(N61,\"0,00\"))","v":"0,00"},null,{"$f":"IF(PREENCHER!AL61=\"\",#REF!,IF(PREENCHER!AM61=\"\",#REF!,IF(PREENCHER!AN61=\"\",#REF!,IF(STDEV(PREENCHER!$AF61:$AH61)/AVERAGE(PREENCHER!$AF61:$AH61)>#REF!,IF(STDEV(PREENCHER!$AG61:$AI61)/AVERAGE(PREENCHER!$AG61:$AI61)>#REF!,IF(STDEV(PREENCHER!$AH61:$AJ61)/AVERAGE(PREENCHER!$AH61:$AJ61)>#REF!,IF(STDEV(PREENCHER!$AI61:$AK61)/AVERAGE(PREENCHER!$AI61:$AK61)>#REF!,#REF!,AVERAGE(PREENCHER!$AI61:$AK61)),AVERAGE(PREENCHER!$AH61:$AJ61)),AVERAGE(PREENCHER!$AG61:$AI61)),AVERAGE(PREENCHER!$AF61:$AH61)))))","v":{"$error":"#REF!"}},{"$f":"IF(ISERROR(ROUND(BB61,2)),\"\",ROUND(BB61,2))","v":""},null,null,null,{"$f":"IF(ISERROR(IF(COUNT(E61:N61)=2,\"Apenas dois preços comparativos válidos. \",\"\")),\"\",IF(COUNT(E61:N61)=2,\"Apenas dois preços comparativos válidos. \",\"\"))","v":""},{"$f":"IF(ISERROR(IF(COUNT(E61:N61)=1,\"Apenas um preço comparativo válido. \",\"\")),\"\",IF(COUNT(E61:N61)=1,\"Apenas um preço comparativo válido. \",\"\"))","v":""},{"$f":"IF(A61=\"\",\"\",IF(ISERROR(IF(COUNT(E61:N61)=0,\"Nenhum preço comparativo válido. \",\"\")),\"\",IF(COUNT(E61:N61)=0,\"Nenhum preço comparativo válido. \",\"\")))","v":""},{"$f":"IF(ISERROR(IF(R61>P61,(R61-P61)/P61,\"\")),\"\",IF(R61>P61,(R61-P61)/P61,\"\"))","v":""},{"$f":"IF(ISERROR(IF(BJ61=\"\",\"\",\"Neste item, o valor contratado pelo TJDFT é \"&TEXT(BJ61,\"0,00%\")&\" superior à média comparativa.\")),\"\",IF(BJ61=\"\",\"\",\"Neste item, o valor contratado pelo TJDFT é \"&TEXT(BJ61,\"0,00%\")&\" superior à média comparativa.\"))","v":""}]
[null,null,null,null,null,null,null,null,null,null,null,null,null,null,{"$f":"IF(ISERROR(ROUND(AVERAGE(E62:N62),2)),\"\",ROUND(AVERAGE(E62:N62),2))","v":""},{"$f":"IF(ISERROR(ROUND(O62*D62,2)),\"\",ROUND(O62*D62,2))","v":""},null,{"$f":"IF(A62=\"\",\"\",ROUND(Q62*D62,2))","v":""},{"$f":"IF(A62=\"\",\"\",CONCATENATE($BG62,$BH62,$BI62,$BK62))","v":""},null,{"$f":"IF(ISERROR(COUNTA(E62:N62)),\"\",COUNTA(E62:N62))","v":0},{"$f":"IF(ISERROR(COUNT(E62:N62)),\"\",COUNT(E62:N62))","v":0},{"$f":"IF(ISERROR(MIN(E62:N62)),\"\",MIN(E62:N62))","v":0},{"$f":"IF(ISERROR(MAX(E62:N62)),\"\",MAX(E62:N62))","v":0},{"$f":"IF(ISERROR(ROUND(AVERAGE(E62:N62),2)),\"\",ROUND(AVERAGE(E62:N62),2))","v":""},{"$f":"IF(ISERROR(MEDIAN(E62:N62)),\"\",MEDIAN(E62:N62))","v":""},{"$f":"IF(ISERROR(STDEV(E62:N62)),\"\",STDEV(E62:N62))","v":""},{"$f":"IF(ISERROR(AA62/Y62),\"\",AA62/Y62)","v":""},null,null,null,{"$f":"IF(COUNT(E62:N62)<1,\"\",SMALL(E62:N62,1))","v":""},{"$f":"IF(COUNT(E62:N62)<2,\"\",SMALL(E62:N62,2))","v":""},{"$f":"IF(COUNT(E62:N62)<3,\"\",SMALL(E62:N62,3))","v":""},{"$f":"IF(COUNT(E62:N62)<4,\"\",SMALL(E62:N62,4))","v":""},{"$f":"IF(COUNT(E62:N62)<5,\"\",SMALL(E62:N62,5))","v":""},{"$f":"IF(COUNT(E62:N62)<6,\"\",SMALL(E62:N62,6))","v":""},{"$f":"IF(COUNT(E62:N62)<3,\"\",AVERAGE(AF62:AH62))","v":""},{"$f":"IF(COUNT(E62:N62)<4,\"\",AVERAGE(AG62:AI62))","v":""},{"$f":"IF(COUNT(E62:N62)<5,\"\",AVERAGE(AH62:AJ62))","v":""},{"$f":"IF(COUNT(E62:N62)<6,\"\",AVERAGE(AI62:AK62))","v":""},null,{"$f":"IF(E62>=1000,TEXT(E62,\"0.000,00\"),TEXT(E62,\"0,00\"))","v":"0,00"},{"$f":"IF(F62>=1000,TEXT(F62,\"0.000,00\"),TEXT(F62,\"0,00\"))","v":"0,00"},{"$f":"IF(G62>=1000,TEXT(G62,\"0.000,00\"),TEXT(G62,\"0,00\"))","v":"0,00"},{"$f":"IF(H62>=1000,TEXT(H62,\"0.000,00\"),TEXT(H62,\"0,00\"))","v":"0,00"},{"$f":"IF(I62>=1000,TEXT(I62,\"0.000,00\"),TEXT(I62,\"0,00\"))","v":"0,00"},{"$f":"IF(J62>=1000,TEXT(J62,\"0.000,00\"),TEXT(J62,\"0,00\"))","v":"0,00"},{"$f":"IF(K62>=1000,TEXT(K62,\"0.000,00\"),TEXT(K62,\"0,00\"))","v":"0,00"},{"$f":"IF(L62>=1000,TEXT(L62,\"0.000,00\"),TEXT(L62,\"0,00\"))","v":"0,00"},{"$f":"IF(M62>=1000,TEXT(M62,\"0.000,00\"),TEXT(M62,\"0,00\"))","v":"0,00"},{"$f":"IF(N62>=1000,TEXT(N62,\"0.000,00\"),TEXT(N62,\"0,00\"))","v":"0,00"},null,{"$f":"IF(PREENCHER!AL62=\"\",#REF!,IF(PREENCHER!AM62=\"\",#REF!,IF(PREENCHER!AN62=\"\",#REF!,IF(STDEV(PREENCHER!$AF62:$AH62)/AVERAGE(PREENCHER!$AF62:$AH62)>#REF!,IF(STDEV(PREENCHER!$AG62:$AI62)/AVERAGE(PREENCHER!$AG62:$AI62)>#REF!,IF(STDEV(PREENCHER!$AH62:$AJ62)/AVERAGE(PREENCHER!$AH62:$AJ62)>#REF!,IF(STDEV(PREENCHER!$AI62:$AK62)/AVERAGE(PREENCHER!$AI62:$AK62)>#REF!,#REF!,AVERAGE(PREENCHER!$AI62:$AK62)),AVERAGE(PREENCHER!$AH62:$AJ62)),AVERAGE(PREENCHER!$AG62:$AI62)),AVERAGE(PREENCHER!$AF62:$AH62)))))","v":{"$error":"#REF!"}},{"$f":"IF(ISERROR(ROUND(BB62,2)),\"\",ROUND(BB62,2))","v":""},null,null,null,{"$f":"IF(ISERROR(IF(COUNT(E62:N62)=2,\"Apenas dois preços comparativos válidos. \",\"\")),\"\",IF(COUNT(E62:N62)=2,\"Apenas dois preços comparativos válidos. \",\"\"))","v":""},{"$f":"IF(ISERROR(IF(COUNT(E62:N62)=1,\"Apenas um preço comparativo válido. \",\"\")),\"\",IF(COUNT(E62:N62)=1,\"Apenas um preço comparativo válido. \",\"\"))","v":""},{"$f":"IF(A62=\"\",\"\",IF(ISERROR(IF(COUNT(E62:N62)=0,\"Nenhum preço comparativo válido. \",\"\")),\"\",IF(COUNT(E62:N62)=0,\"Nenhum preço comparativo válido. \",\"\")))","v":""},{"$f":"IF(ISERROR(IF(R62>P62,(R62-P62)/P62,\"\")),\"\",IF(R62>P62,(R62-P62)/P62,\"\"))","v":""},{"$f":"IF(ISERROR(IF(BJ62=\"\",\"\",\"Neste item, o valor contratado pelo TJDFT é \"&TEXT(BJ62,\"0,00%\")&\" superior à média comparativa.\")),\"\",IF(BJ62=\"\",\"\",\"Neste item, o valor contratado pelo TJDFT é \"&TEXT(BJ62,\"0,00%\")&\" superior à média comparativa.\"))","v":""}]
[null,null,null,null,null,null,null,null,null,null,null,null,null,null,{"$f":"IF(ISERROR(ROUND(AVERAGE(E63:N63),2)),\"\",ROUND(AVERAGE(E63:N63),2))","v":""},{"$f":"IF(ISERROR(ROUND(O63*D63,2)),\"\",ROUND(O63*D63,2))","v":""},null,{"$f":"IF(A63=\"\",\"\",ROUND(Q63*D63,2))","v":""},{"$f":"IF(A63=\"\",\"\",CONCATENATE($BG63,$BH63,$BI63,$BK63))","v":""},null,{"$f":"IF(ISERROR(COUNTA(E63:N63)),\"\",COUNTA(E63:N63))","v":0},{"$f":"IF(ISERROR(COUNT(E63:N63)),\"\",COUNT(E63:N63))","v":0},{"$f":"IF(ISERROR(MIN(E63:N63)),\"\",MIN(E63:N63))","v":0},{"$f":"IF(ISERROR(MAX(E63:N63)),\"\",MAX(E63:N63))","v":0},{"$f":"IF(ISERROR(ROUND(AVERAGE(E63:N63),2)),\"\",ROUND(AVERAGE(E63:N63),2))","v":""},{"$f":"IF(ISERROR(MEDIAN(E63:N63)),\"\",MEDIAN(E63:N63))","v":""},{"$f":"IF(ISERROR(STDEV(E63:N63)),\"\",STDEV(E63:N63))","v":""},{"$f":"IF(ISERROR(AA63/Y63),\"\",AA63/Y63)","v":""},null,null,null,{"$f":"IF(COUNT(E63:N63)<1,\"\",SMALL(E63:N63,1))","v":""},{"$f":"IF(COUNT(E63:N63)<2,\"\",SMALL(E63:N63,2))","v":""},{"$f":"IF(COUNT(E63:N63)<3,\"\",SMALL(E63:N63,3))","v":""},{"$f":"IF(COUNT(E63:N63)<4,\"\",SMALL(E63:N63,4))","v":""},{"$f":"IF(COUNT(E63:N63)<5,\"\",SMALL(E63:N63,5))","v":""},{"$f":"IF(COUNT(E63:N63)<6,\"\",SMALL(E63:N63,6))","v":""},{"$f":"IF(COUNT(E63:N63)<3,\"\",AVERAGE(AF63:AH63))","v":""},{"$f":"IF(COUNT(E63:N63)<4,\"\",AVERAGE(AG63:AI63))","v":""},{"$f":"IF(COUNT(E63:N63)<5,\"\",AVERAGE(AH63:AJ63))","v":""},{"$f":"IF(COUNT(E63:N63)<6,\"\",AVERAGE(AI63:AK63))","v":""},null,{"$f":"IF(E63>=1000,TEXT(E63,\"0.000,00\"),TEXT(E63,\"0,00\"))","v":"0,00"},{"$f":"IF(F63>=1000,TEXT(F63,\"0.000,00\"),TEXT(F63,\"0,00\"))","v":"0,00"},{"$f":"IF(G63>=1000,TEXT(G63,\"0.000,00\"),TEXT(G63,\"0,00\"))","v":"0,00"},{"$f":"IF(H63>=1000,TEXT(H63,\"0.000,00\"),TEXT(H63,\"0,00\"))","v":"0,00"},{"$f":"IF(I63>=1000,TEXT(I63,\"0.000,00\"),TEXT(I63,\"0,00\"))","v":"0,00"},{"$f":"IF(J63>=1000,TEXT(J63,\"0.000,00\"),TEXT(J63,\"0,00\"))","v":"0,00"},{"$f":"IF(K63>=1000,TEXT(K63,\"0.000,00\"),TEXT(K63,\"0,00\"))","v":"0,00"},{"$f":"IF(L63>=1000,TEXT(L63,\"0.000,00\"),TEXT(L63,\"0,00\"))","v":"0,00"},{"$f":"IF(M63>=1000,TEXT(M63,\"0.000,00\"),TEXT(M63,\"0,00\"))","v":"0,00"},{"$f":"IF(N63>=1000,TEXT(N63,\"0.000,00\"),TEXT(N63,\"0,00\"))","v":"0,00"},null,{"$f":"IF(PREENCHER!AL63=\"\",#REF!,IF(PREENCHER!AM63=\"\",#REF!,IF(PREENCHER!AN63=\"\",#REF!,IF(STDEV(PREENCHER!$AF63:$AH63)/AVERAGE(PREENCHER!$AF63:$AH63)>#REF!,IF(STDEV(PREENCHER!$AG63:$AI63)/AVERAGE(PREENCHER!$AG63:$AI63)>#REF!,IF(STDEV(PREENCHER!$AH63:$AJ63)/AVERAGE(PREENCHER!$AH63:$AJ63)>#REF!,IF(STDEV(PREENCHER!$AI63:$AK63)/AVERAGE(PREENCHER!$AI63:$AK63)>#REF!,#REF!,AVERAGE(PREENCHER!$AI63:$AK63)),AVERAGE(PREENCHER!$AH63:$AJ63)),AVERAGE(PREENCHER!$AG63:$AI63)),AVERAGE(PREENCHER!$AF63:$AH63)))))","v":{"$error":"#REF!"}},{"$f":"IF(ISERROR(ROUND(BB63,2)),\"\",ROUND(BB63,2))","v":""},null,null,null,{"$f":"IF(ISERROR(IF(COUNT(E63:N63)=2,\"Apenas dois preços comparativos válidos. \",\"\")),\"\",IF(COUNT(E63:N63)=2,\"Apenas dois preços comparativos válidos. \",\"\"))","v":""},{"$f":"IF(ISERROR(IF(COUNT(E63:N63)=1,\"Apenas um preço comparativo válido. \",\"\")),\"\",IF(COUNT(E63:N63)=1,\"Apenas um preço comparativo válido. \",\"\"))","v":""},{"$f":"IF(A63=\"\",\"\",IF(ISERROR(IF(COUNT(E63:N63)=0,\"Nenhum preço comparativo válido. \",\"\")),\"\",IF(COUNT(E63:N63)=0,\"Nenhum preço comparativo válido. \",\"\")))","v":""},{"$f":"IF(ISERROR(IF(R63>P63,(R63-P63)/P63,\"\")),\"\",IF(R63>P63,(R63-P63)/P63,\"\"))","v":""},{"$f":"IF(ISERROR(IF(BJ63=\"\",\"\",\"Neste item, o valor contratado pelo TJDFT é \"&TEXT(BJ63,\"0,00%\")&\" superior à média comparativa.\")),\"\",IF(BJ63=\"\",\"\",\"Neste item, o valor contratado pelo TJDFT é \"&TEXT(BJ63,\"0,00%\")&\" superior à média comparativa.\"))","v":""}]
[null,null,null,null,null,null,null,null,null,null,null,null,null,null,{"$f":"IF(ISERROR(ROUND(AVERAGE(E64:N64),2)),\"\",ROUND(AVERAGE(E64:N64),2))","v":""},{"$f":"IF(ISERROR(ROUND(O64*D64,2)),\"\",ROUND(O64*D64,2))","v":""},null,{"$f":"IF(A64=\"\",\"\",ROUND(Q64*D64,2))","v":""},{"$f":"IF(A64=\"\",\"\",CONCATENATE($BG64,$BH64,$BI64,$BK64))","v":""},null,{"$f":"IF(ISERROR(COUNTA(E64:N64)),\"\",COUNTA(E64:N64))","v":0},{"$f":"IF(ISERROR(COUNT(E64:N64)),\"\",COUNT(E64:N64))","v":0},{"$f":"IF(ISERROR(MIN(E64:N64)),\"\",MIN(E64:N64))","v":0},{"$f":"IF(ISERROR(MAX(E64:N64)),\"\",MAX(E64:N64))","v":0},{"$f":"IF(ISERROR(ROUND(AVERAGE(E64:N64),2)),\"\",ROUND(AVERAGE(E64:N64),2))","v":""},{"$f":"IF(ISERROR(MEDIAN(E64:N64)),\"\",MEDIAN(E64:N64))","v":""},{"$f":"IF(ISERROR(STDEV(E64:N64)),\"\",STDEV(E64:N64))","v":""},{"$f":"IF(ISERROR(AA64/Y64),\"\",AA64/Y64)","v":""},null,null,null,{"$f":"IF(COUNT(E64:N64)<1,\"\",SMALL(E64:N64,1))","v":""},{"$f":"IF(COUNT(E64:N64)<2,\"\",SMALL(E64:N64,2))","v":""},{"$f":"IF(COUNT(E64:N64)<3,\"\",SMALL(E64:N64,3))","v":""},{"$f":"IF(COUNT(E64:N64)<4,\"\",SMALL(E64:N64,4))","v":""},{"$f":"IF(COUNT(E64:N64)<5,\"\",SMALL(E64:N64,5))","v":""},{"$f":"IF(COUNT(E64:N64)<6,\"\",SMALL(E64:N64,6))","v":""},{"$f":"IF(COUNT(E64:N64)<3,\"\",AVERAGE(AF64:AH64))","v":""},{"$f":"IF(COUNT(E64:N64)<4,\"\",AVERAGE(AG64:AI64))","v":""},{"$f":"IF(COUNT(E64:N64)<5,\"\",AVERAGE(AH64:AJ64))","v":""},{"$f":"IF(COUNT(E64:N64)<6,\"\",AVERAGE(AI64:AK64))","v":""},null,{"$f":"IF(E64>=1000,TEXT(E64,\"0.000,00\"),TEXT(E64,\"0,00\"))","v":"0,00"},{"$f":"IF(F64>=1000,TEXT(F64,\"0.000,00\"),TEXT(F64,\"0,00\"))","v":"0,00"},{"$f":"IF(G64>=1000,TEXT(G64,\"0.000,00\"),TEXT(G64,\"0,00\"))","v":"0,00"},{"$f":"IF(H64>=1000,TEXT(H64,\"0.000,00\"),TEXT(H64,\"0,00\"))","v":"0,00"},{"$f":"IF(I64>=1000,TEXT(I64,\"0.000,00\"),TEXT(I64,\"0,00\"))","v":"0,00"},{"$f":"IF(J64>=1000,TEXT(J64,\"0.000,00\"),TEXT(J64,\"0,00\"))","v":"0,00"},{"$f":"IF(K64>=1000,TEXT(K64,\"0.000,00\"),TEXT(K64,\"0,00\"))","v":"0,00"},{"$f":"IF(L64>=1000,TEXT(L64,\"0.000,00\"),TEXT(L64,\"0,00\"))","v":"0,00"},{"$f":"IF(M64>=1000,TEXT(M64,\"0.000,00\"),TEXT(M64,\"0,00\"))","v":"0,00"},{"$f":"IF(N64>=1000,TEXT(N64,\"0.000,00\"),TEXT(N64,\"0,00\"))","v":"0,00"},null,{"$f":"IF(PREENCHER!AL64=\"\",#REF!,IF(PREENCHER!AM64=\"\",#REF!,IF(PREENCHER!AN64=\"\",#REF!,IF(STDEV(PREENCHER!$AF64:$AH64)/AVERAGE(PREENCHER!$AF64:$AH64)>#REF!,IF(STDEV(PREENCHER!$AG64:$AI64)/AVERAGE(PREENCHER!$AG64:$AI64)>#REF!,IF(STDEV(PREENCHER!$AH64:$AJ64)/AVERAGE(PREENCHER!$AH64:$AJ64)>#REF!,IF(STDEV(PREENCHER!$AI64:$AK64)/AVERAGE(PREENCHER!$AI64:$AK64)>#REF!,#REF!,AVERAGE(PREENCHER!$AI64:$AK64)),AVERAGE(PREENCHER!$AH64:$AJ64)),AVERAGE(PREENCHER!$AG64:$AI64)),AVERAGE(PREENCHER!$AF64:$AH64)))))","v":{"$error":"#REF!"}},{"$f":"IF(ISERROR(ROUND(BB64,2)),\"\",ROUND(BB64,2))","v":""},null,null,null,{"$f":"IF(ISERROR(IF(COUNT(E64:N64)=2,\"Apenas dois preços comparativos válidos. \",\"\")),\"\",IF(COUNT(E64:N64)=2,\"Apenas dois preços comparativos válidos. \",\"\"))","v":""},{"$f":"IF(ISERROR(IF(COUNT(E64:N64)=1,\"Apenas um preço comparativo válido. \",\"\")),\"\",IF(COUNT(E64:N64)=1,\"Apenas um preço comparativo válido. \",\"\"))","v":""},{"$f":"IF(A64=\"\",\"\",IF(ISERROR(IF(COUNT(E64:N64)=0,\"Nenhum preço comparativo válido. \",\"\")),\"\",IF(COUNT(E64:N64)=0,\"Nenhum preço comparativo válido. \",\"\")))","v":""},{"$f":"IF(ISERROR(IF(R64>P64,(R64-P64)/P64,\"\")),\"\",IF(R64>P64,(R64-P64)/P64,\"\"))","v":""},{"$f":"IF(ISERROR(IF(BJ64=\"\",\"\",\"Neste item, o valor contratado pelo TJDFT é \"&TEXT(BJ64,\"0,00%\")&\" superior à média comparativa.\")),\"\",IF(BJ64=\"\",\"\",\"Neste item, o valor contratado pelo TJDFT é \"&TEXT(BJ64,\"0,00%\")&\" superior à média comparativa.\"))","v":""}]
[null,null,null,null,null,null,null,null,null,null,null,null,null,null,{"$f":"IF(ISERROR(ROUND(AVERAGE(E65:N65),2)),\"\",ROUND(AVERAGE(E65:N65),2))","v":""},{"$f":"IF(ISERROR(ROUND(O65*D65,2)),\"\",ROUND(O65*D65,2))","v":""},null,{"$f":"IF(A65=\"\",\"\",ROUND(Q65*D65,2))","v":""},{"$f":"IF(A65=\"\",\"\",CONCATENATE($BG65,$BH65,$BI65,$BK65))","v":""},null,{"$f":"IF(ISERROR(COUNTA(E65:N65)),\"\",COUNTA(E65:N65))","v":0},{"$f":"IF(ISERROR(COUNT(E65:N65)),\"\",COUNT(E65:N65))","v":0},{"$f":"IF(ISERROR(MIN(E65:N65)),\"\",MIN(E65:N65))","v":0},{"$f":"IF(ISERROR(MAX(E65:N65)),\"\",MAX(E65:N65))","v":0},{"$f":"IF(ISERROR(ROUND(AVERAGE(E65:N65),2)),\"\",ROUND(AVERAGE(E65:N65),2))","v":""},{"$f":"IF(ISERROR(MEDIAN(E65:N65)),\"\",MEDIAN(E65:N65))","v":""},{"$f":"IF(ISERROR(STDEV(E65:N65)),\"\",STDEV(E65:N65))","v":""},{"$f":"IF(ISERROR(AA65/Y65),\"\",AA65/Y65)","v":""},null,null,null,{"$f":"IF(COUNT(E65:N65)<1,\"\",SMALL(E65:N65,1))","v":""},{"$f":"IF(COUNT(E65:N65)<2,\"\",SMALL(E65:N65,2))","v":""},{"$f":"IF(COUNT(E65:N65)<3,\"\",SMALL(E65:N65,3))","v":""},{"$f":"IF(COUNT(E65:N65)<4,\"\",SMALL(E65:N65,4))","v":""},{"$f":"IF(COUNT(E65:N65)<5,\"\",SMALL(E65:N65,5))","v":""},{"$f":"IF(COUNT(E65:N65)<6,\"\",SMALL(E65:N65,6))","v":""},{"$f":"IF(COUNT(E65:N65)<3,\"\",AVERAGE(AF65:AH65))","v":""},{"$f":"IF(COUNT(E65:N65)<4,\"\",AVERAGE(AG65:AI65))","v":""},{"$f":"IF(COUNT(E65:N65)<5,\"\",AVERAGE(AH65:AJ65))","v":""},{"$f":"IF(COUNT(E65:N65)<6,\"\",AVERAGE(AI65:AK65))","v":""},null,{"$f":"IF(E65>=1000,TEXT(E65,\"0.000,00\"),TEXT(E65,\"0,00\"))","v":"0,00"},{"$f":"IF(F65>=1000,TEXT(F65,\"0.000,00\"),TEXT(F65,\"0,00\"))","v":"0,00"},{"$f":"IF(G65>=1000,TEXT(G65,\"0.000,00\"),TEXT(G65,\"0,00\"))","v":"0,00"},{"$f":"IF(H65>=1000,TEXT(H65,\"0.000,00\"),TEXT(H65,\"0,00\"))","v":"0,00"},{"$f":"IF(I65>=1000,TEXT(I65,\"0.000,00\"),TEXT(I65,\"0,00\"))","v":"0,00"},{"$f":"IF(J65>=1000,TEXT(J65,\"0.000,00\"),TEXT(J65,\"0,00\"))","v":"0,00"},{"$f":"IF(K65>=1000,TEXT(K65,\"0.000,00\"),TEXT(K65,\"0,00\"))","v":"0,00"},{"$f":"IF(L65>=1000,TEXT(L65,\"0.000,00\"),TEXT(L65,\"0,00\"))","v":"0,00"},{"$f":"IF(M65>=1000,TEXT(M65,\"0.000,00\"),TEXT(M65,\"0,00\"))","v":"0,00"},{"$f":"IF(N65>=1000,TEXT(N65,\"0.000,00\"),TEXT(N65,\"0,00\"))","v":"0,00"},null,{"$f":"IF(PREENCHER!AL65=\"\",#REF!,IF(PREENCHER!AM65=\"\",#REF!,IF(PREENCHER!AN65=\"\",#REF!,IF(STDEV(PREENCHER!$AF65:$AH65)/AVERAGE(PREENCHER!$AF65:$AH65)>#REF!,IF(STDEV(PREENCHER!$AG65:$AI65)/AVERAGE(PREENCHER!$AG65:$AI65)>#REF!,IF(STDEV(PREENCHER!$AH65:$AJ65)/AVERAGE(PREENCHER!$AH65:$AJ65)>#REF!,IF(STDEV(PREENCHER!$AI65:$AK65)/AVERAGE(PREENCHER!$AI65:$AK65)>#REF!,#REF!,AVERAGE(PREENCHER!$AI65:$AK65)),AVERAGE(PREENCHER!$AH65:$AJ65)),AVERAGE(PREENCHER!$AG65:$AI65)),AVERAGE(PREENCHER!$AF65:$AH65)))))","v":{"$error":"#REF!"}},{"$f":"IF(ISERROR(ROUND(BB65,2)),\"\",ROUND(BB65,2))","v":""},null,null,null,{"$f":"IF(ISERROR(IF(COUNT(E65:N65)=2,\"Apenas dois preços comparativos válidos. \",\"\")),\"\",IF(COUNT(E65:N65)=2,\"Apenas dois preços comparativos válidos. \",\"\"))","v":""},{"$f":"IF(ISERROR(IF(COUNT(E65:N65)=1,\"Apenas um preço comparativo válido. \",\"\")),\"\",IF(COUNT(E65:N65)=1,\"Apenas um preço comparativo válido. \",\"\"))","v":""},{"$f":"IF(A65=\"\",\"\",IF(ISERROR(IF(COUNT(E65:N65)=0,\"Nenhum preço comparativo válido. \",\"\")),\"\",IF(COUNT(E65:N65)=0,\"Nenhum preço comparativo válido. \",\"\")))","v":""},{"$f":"IF(ISERROR(IF(R65>P65,(R65-P65)/P65,\"\")),\"\",IF(R65>P65,(R65-P65)/P65,\"\"))","v":""},{"$f":"IF(ISERROR(IF(BJ65=\"\",\"\",\"Neste item, o valor contratado pelo TJDFT é \"&TEXT(BJ65,\"0,00%\")&\" superior à média comparativa.\")),\"\",IF(BJ65=\"\",\"\",\"Neste item, o valor contratado pelo TJDFT é \"&TEXT(BJ65,\"0,00%\")&\" superior à média comparativa.\"))","v":""}]
[null,null,null,null,null,null,null,null,null,null,null,null,null,null,{"$f":"IF(ISERROR(ROUND(AVERAGE(E66:N66),2)),\"\",ROUND(AVERAGE(E66:N66),2))","v":""},{"$f":"IF(ISERROR(ROUND(O66*D66,2)),\"\",ROUND(O66*D66,2))","v":""},null,{"$f":"IF(A66=\"\",\"\",ROUND(Q66*D66,2))","v":""},{"$f":"IF(A66=\"\",\"\",CONCATENATE($BG66,$BH66,$BI66,$BK66))","v":""},null,{"$f":"IF(ISERROR(COUNTA(E66:N66)),\"\",COUNTA(E66:N66))","v":0},{"$f":"IF(ISERROR(COUNT(E66:N66)),\"\",COUNT(E66:N66))","v":0},{"$f":"IF(ISERROR(MIN(E66:N66)),\"\",MIN(E66:N66))","v":0},{"$f":"IF(ISERROR(MAX(E66:N66)),\"\",MAX(E66:N66))","v":0},{"$f":"IF(ISERROR(ROUND(AVERAGE(E66:N66),2)),\"\",ROUND(AVERAGE(E66:N66),2))","v":""},{"$f":"IF(ISERROR(MEDIAN(E66:N66)),\"\",MEDIAN(E66:N66))","v":""},{"$f":"IF(ISERROR(STDEV(E66:N66)),\"\",STDEV(E66:N66))","v":""},{"$f":"IF(ISERROR(AA66/Y66),\"\",AA66/Y66)","v":""},null,null,null,{"$f":"IF(COUNT(E66:N66)<1,\"\",SMALL(E66:N66,1))","v":""},{"$f":"IF(COUNT(E66:N66)<2,\"\",SMALL(E66:N66,2))","v":""},{"$f":"IF(COUNT(E66:N66)<3,\"\",SMALL(E66:N66,3))","v":""},{"$f":"IF(COUNT(E66:N66)<4,\"\",SMALL(E66:N66,4))","v":""},{"$f":"IF(COUNT(E66:N66)<5,\"\",SMALL(E66:N66,5))","v":""},{"$f":"IF(COUNT(E66:N66)<6,\"\",SMALL(E66:N66,6))","v":""},{"$f":"IF(COUNT(E66:N66)<3,\"\",AVERAGE(AF66:AH66))","v":""},{"$f":"IF(COUNT(E66:N66)<4,\"\",AVERAGE(AG66:AI66))","v":""},{"$f":"IF(COUNT(E66:N66)<5,\"\",AVERAGE(AH66:AJ66))","v":""},{"$f":"IF(COUNT(E66:N66)<6,\"\",AVERAGE(AI66:AK66))","v":""},null,{"$f":"IF(E66>=1000,TEXT(E66,\"0.000,00\"),TEXT(E66,\"0,00\"))","v":"0,00"},{"$f":"IF(F66>=1000,TEXT(F66,\"0.000,00\"),TEXT(F66,\"0,00\"))","v":"0,00"},{"$f":"IF(G66>=1000,TEXT(G66,\"0.000,00\"),TEXT(G66,\"0,00\"))","v":"0,00"},{"$f":"IF(H66>=1000,TEXT(H66,\"0.000,00\"),TEXT(H66,\"0,00\"))","v":"0,00"},{"$f":"IF(I66>=1000,TEXT(I66,\"0.000,00\"),TEXT(I66,\"0,00\"))","v":"0,00"},{"$f":"IF(J66>=1000,TEXT(J66,\"0.000,00\"),TEXT(J66,\"0,00\"))","v":"0,00"},{"$f":"IF(K66>=1000,TEXT(K66,\"0.000,00\"),TEXT(K66,\"0,00\"))","v":"0,00"},{"$f":"IF(L66>=1000,TEXT(L66,\"0.000,00\"),TEXT(L66,\"0,00\"))","v":"0,00"},{"$f":"IF(M66>=1000,TEXT(M66,\"0.000,00\"),TEXT(M66,\"0,00\"))","v":"0,00"},{"$f":"IF(N66>=1000,TEXT(N66,\"0.000,00\"),TEXT(N66,\"0,00\"))","v":"0,00"},null,{"$f":"IF(PREENCHER!AL66=\"\",#REF!,IF(PREENCHER!AM66=\"\",#REF!,IF(PREENCHER!AN66=\"\",#REF!,IF(STDEV(PREENCHER!$AF66:$AH66)/AVERAGE(PREENCHER!$AF66:$AH66)>#REF!,IF(STDEV(PREENCHER!$AG66:$AI66)/AVERAGE(PREENCHER!$AG66:$AI66)>#REF!,IF(STDEV(PREENCHER!$AH66:$AJ66)/AVERAGE(PREENCHER!$AH66:$AJ66)>#REF!,IF(STDEV(PREENCHER!$AI66:$AK66)/AVERAGE(PREENCHER!$AI66:$AK66)>#REF!,#REF!,AVERAGE(PREENCHER!$AI66:$AK66)),AVERAGE(PREENCHER!$AH66:$AJ66)),AVERAGE(PREENCHER!$AG66:$AI66)),AVERAGE(PREENCHER!$AF66:$AH66)))))","v":{"$error":"#REF!"}},{"$f":"IF(ISERROR(ROUND(BB66,2)),\"\",ROUND(BB66,2))","v":""},null,null,null,{"$f":"IF(ISERROR(IF(COUNT(E66:N66)=2,\"Apenas dois preços comparativos válidos. \",\"\")),\"\",IF(COUNT(E66:N66)=2,\"Apenas dois preços comparativos válidos. \",\"\"))","v":""},{"$f":"IF(ISERROR(IF(COUNT(E66:N66)=1,\"Apenas um preço comparativo válido. \",\"\")),\"\",IF(COUNT(E66:N66)=1,\"Apenas um preço comparativo válido. \",\"\"))","v":""},{"$f":"IF(A66=\"\",\"\",IF(ISERROR(IF(COUNT(E66:N66)=0,\"Nenhum preço comparativo válido. \",\"\")),\"\",IF(COUNT(E66:N66)=0,\"Nenhum preço comparativo válido. \",\"\")))","v":""},{"$f":"IF(ISERROR(IF(R66>P66,(R66-P66)/P66,\"\")),\"\",IF(R66>P66,(R66-P66)/P66,\"\"))","v":""},{"$f":"IF(ISERROR(IF(BJ66=\"\",\"\",\"Neste item, o valor contratado pelo TJDFT é \"&TEXT(BJ66,\"0,00%\")&\" superior à média comparativa.\")),\"\",IF(BJ66=\"\",\"\",\"Neste item, o valor contratado pelo TJDFT é \"&TEXT(BJ66,\"0,00%\")&\" superior à média comparativa.\"))","v":""}]
[null,null,null,null,null,null,null,null,null,null,null,null,null,null,{"$f":"IF(ISERROR(ROUND(AVERAGE(E67:N67),2)),\"\",ROUND(AVERAGE(E67:N67),2))","v":""},{"$f":"IF(ISERROR(ROUND(O67*D67,2)),\"\",ROUND(O67*D67,2))","v":""},null,{"$f":"IF(A67=\"\",\"\",ROUND(Q67*D67,2))","v":""},{"$f":"IF(A67=\"\",\"\",CONCATENATE($BG67,$BH67,$BI67,$BK67))","v":""},null,{"$f":"IF(ISERROR(COUNTA(E67:N67)),\"\",COUNTA(E67:N67))","v":0},{"$f":"IF(ISERROR(COUNT(E67:N67)),\"\",COUNT(E67:N67))","v":0},{"$f":"IF(ISERROR(MIN(E67:N67)),\"\",MIN(E67:N67))","v":0},{"$f":"IF(ISERROR(MAX(E67:N67)),\"\",MAX(E67:N67))","v":0},{"$f":"IF(ISERROR(ROUND(AVERAGE(E67:N67),2)),\"\",ROUND(AVERAGE(E67:N67),2))","v":""},{"$f":"IF(ISERROR(MEDIAN(E67:N67)),\"\",MEDIAN(E67:N67))","v":""},{"$f":"IF(ISERROR(STDEV(E67:N67)),\"\",STDEV(E67:N67))","v":""},{"$f":"IF(ISERROR(AA67/Y67),\"\",AA67/Y67)","v":""},null,null,null,{"$f":"IF(COUNT(E67:N67)<1,\"\",SMALL(E67:N67,1))","v":""},{"$f":"IF(COUNT(E67:N67)<2,\"\",SMALL(E67:N67,2))","v":""},{"$f":"IF(COUNT(E67:N67)<3,\"\",SMALL(E67:N67,3))","v":""},{"$f":"IF(COUNT(E67:N67)<4,\"\",SMALL(E67:N67,4))","v":""},{"$f":"IF(COUNT(E67:N67)<5,\"\",SMALL(E67:N67,5))","v":""},{"$f":"IF(COUNT(E67:N67)<6,\"\",SMALL(E67:N67,6))","v":""},{"$f":"IF(COUNT(E67:N67)<3,\"\",AVERAGE(AF67:AH67))","v":""},{"$f":"IF(COUNT(E67:N67)<4,\"\",AVERAGE(AG67:AI67))","v":""},{"$f":"IF(COUNT(E67:N67)<5,\"\",AVERAGE(AH67:AJ67))","v":""},{"$f":"IF(COUNT(E67:N67)<6,\"\",AVERAGE(AI67:AK67))","v":""},null,{"$f":"IF(E67>=1000,TEXT(E67,\"0.000,00\"),TEXT(E67,\"0,00\"))","v":"0,00"},{"$f":"IF(F67>=1000,TEXT(F67,\"0.000,00\"),TEXT(F67,\"0,00\"))","v":"0,00"},{"$f":"IF(G67>=1000,TEXT(G67,\"0.000,00\"),TEXT(G67,\"0,00\"))","v":"0,00"},{"$f":"IF(H67>=1000,TEXT(H67,\"0.000,00\"),TEXT(H67,\"0,00\"))","v":"0,00"},{"$f":"IF(I67>=1000,TEXT(I67,\"0.000,00\"),TEXT(I67,\"0,00\"))","v":"0,00"},{"$f":"IF(J67>=1000,TEXT(J67,\"0.000,00\"),TEXT(J67,\"0,00\"))","v":"0,00"},{"$f":"IF(K67>=1000,TEXT(K67,\"0.000,00\"),TEXT(K67,\"0,00\"))","v":"0,00"},{"$f":"IF(L67>=1000,TEXT(L67,\"0.000,00\"),TEXT(L67,\"0,00\"))","v":"0,00"},{"$f":"IF(M67>=1000,TEXT(M67,\"0.000,00\"),TEXT(M67,\"0,00\"))","v":"0,00"},{"$f":"IF(N67>=1000,TEXT(N67,\"0.000,00\"),TEXT(N67,\"0,00\"))","v":"0,00"},null,{"$f":"IF(PREENCHER!AL67=\"\",#REF!,IF(PREENCHER!AM67=\"\",#REF!,IF(PREENCHER!AN67=\"\",#REF!,IF(STDEV(PREENCHER!$AF67:$AH67)/AVERAGE(PREENCHER!$AF67:$AH67)>#REF!,IF(STDEV(PREENCHER!$AG67:$AI67)/AVERAGE(PREENCHER!$AG67:$AI67)>#REF!,IF(STDEV(PREENCHER!$AH67:$AJ67)/AVERAGE(PREENCHER!$AH67:$AJ67)>#REF!,IF(STDEV(PREENCHER!$AI67:$AK67)/AVERAGE(PREENCHER!$AI67:$AK67)>#REF!,#REF!,AVERAGE(PREENCHER!$AI67:$AK67)),AVERAGE(PREENCHER!$AH67:$AJ67)),AVERAGE(PREENCHER!$AG67:$AI67)),AVERAGE(PREENCHER!$AF67:$AH67)))))","v":{"$error":"#REF!"}},{"$f":"IF(ISERROR(ROUND(BB67,2)),\"\",ROUND(BB67,2))","v":""},null,null,null,{"$f":"IF(ISERROR(IF(COUNT(E67:N67)=2,\"Apenas dois preços comparativos válidos. \",\"\")),\"\",IF(COUNT(E67:N67)=2,\"Apenas dois preços comparativos válidos. \",\"\"))","v":""},{"$f":"IF(ISERROR(IF(COUNT(E67:N67)=1,\"Apenas um preço comparativo válido. \",\"\")),\"\",IF(COUNT(E67:N67)=1,\"Apenas um preço comparativo válido. \",\"\"))","v":""},{"$f":"IF(A67=\"\",\"\",IF(ISERROR(IF(COUNT(E67:N67)=0,\"Nenhum preço comparativo válido. \",\"\")),\"\",IF(COUNT(E67:N67)=0,\"Nenhum preço comparativo válido. \",\"\")))","v":""},{"$f":"IF(ISERROR(IF(R67>P67,(R67-P67)/P67,\"\")),\"\",IF(R67>P67,(R67-P67)/P67,\"\"))","v":""},{"$f":"IF(ISERROR(IF(BJ67=\"\",\"\",\"Neste item, o valor contratado pelo TJDFT é \"&TEXT(BJ67,\"0,00%\")&\" superior à média comparativa.\")),\"\",IF(BJ67=\"\",\"\",\"Neste item, o valor contratado pelo TJDFT é \"&TEXT(BJ67,\"0,00%\")&\" superior à média comparativa.\"))","v":""}]
["VALOR GLOBAL",null,null,null,null,null,null,null,null,null,null,null,null,null,{"$f":"IF(SUM(P8:P67)=0,\"\",SUM(P8:P67))","v":34987.99},null,{"$f":"IF(SUM(R8:R67)=0,\"\",SUM(R8:R67))","v":""},null,{"$f":"IF(ISERROR(IF(BJ68=\"\",\"\",\"No total, o valor contratado pelo TJDFT é \"&TEXT(BJ68,\"0,00%\")&\" superior à média comparativa.\")),\"\",IF(BJ68=\"\",\"\",\"No total, o valor contratado pelo TJDFT é \"&TEXT(BJ68,\"0,00%\")&\" superior à média comparativa.\"))","v":""},null,null,null,null,null,null,null,null,null,null,null,null,null,null,null,null,null,null,null,null,null,null,null,null,null,null,null,null,null,null,null,null,null,null,null,null,null,null,null,null,null,null,{"$f":"IF(ISERROR(IF(Q68>O68,(Q68-O68)/O68,\"\")),\"\",IF(Q68>O68,(Q68-O68)/O68,\"\"))","v":""},{"$f":"IF(ISERROR(IF(BJ68=\"\",\"\",\"Neste item, o valor contratado pelo TJDFT é \"&TEXT(BJ68,\"0,00%\")&\" superior à média comparativa.\")),\"\",IF(BJ68=\"\",\"\",\"Neste item, o valor contratado pelo TJDFT é \"&TEXT(BJ68,\"0,00%\")&\" superior à média comparativa.\"))","v":""}]
[]
["** Valor desconsiderado do cálculoa da média comparativa"]
["NOTA: O objetivo desta análise é incluir no cálculo da média todos os preços cujo coeficiente de variação  não ultrapasse 25%, para mais ou para menos, em relação à média dos preços pesquisados. Quando essa condição não é atendida o preço será desconsiderado."]

{"sheet":"Média 1º, 2º e 3º","index":1,"n_rows":68,"n_cols":21,"rows_kept":68,"cut":false,"hidden":true,"merged":[[5,18,5,20],[67,0,67,14]]}
[]
[]
[]
[]
[]
[null,null,null,null,null,null,null,null,null,null,null,null,null,null,null,null,null,null,"ANÁLISE ESTATÍSTICA"]
[{"$f":"PREENCHER!A6","v":"ITEM"},{"$f":"PREENCHER!B6","v":"ESPECIFICAÇÃO"},{"$f":"PREENCHER!C6","v":"UN"},{"$f":"PREENCHER!D6","v":"QTDE"},{"$f":"PREENCHER!E7","v":"PESQUISA 1"},{"$f":"preencher!#ref!","v":{"$error":"#NAME?"}},{"$f":"PREENCHER!F7","v":"PESQUISA 2"},{"$f":"PREENCHER!G7","v":"PESQUISA 3"},{"$f":"PREENCHER!H7","v":"PESQUISA 3"},{"$f":"PREENCHER!I7","v":"PESQUISA 5"},{"$f":"PREENCHER!K7","v":"PESQUISA 7"},{"$f":"PREENCHER!L7","v":"PESQUISA 8"},{"$f":"PREENCHER!M7","v":"PESQUISA 9"},{"$f":"PREENCHER!N7","v":"PESQUISA 10"},{"$f":"PREENCHER!O7","v":"UNITÁRIO"},{"$f":"PREENCHER!P7","v":"TOTAL"},{"$f":"PREENCHER!S6","v":"OBSERVAÇÃO"},null,"MEDIANA","DESVIO PADRÃO","COEFICIENTE DE VARIAÇÃO"]
[{"$f":"IF(PREENCHER!A8=\"\",\"\",PREENCHER!A8)","v":1},{"$f":"IF(PREENCHER!B8=\"\",\"\",PREENCHER!B8)","v":"PÃO DE QUEIJO CONGELADO"},{"$f":"IF(PREENCHER!C8=\"\",\"\",PREENCHER!C8)","v":"QUILO"},{"$f":"IF(PREENCHER!D8=\"\",\"\",PREENCHER!D8)","v":462},{"$f":"IF(PREENCHER!E8=\"\",\"\",IF(COUNTIF(PREENCHER!$AF8:$AH8,PREENCHER!E8)=0,CONCATENATE(PREENCHER!AQ8,#REF!),PREENCHER!E8))","v":22.82},{"$f":"IF(PREENCHER!F8=\"\",\"\",IF(COUNTIF(PREENCHER!$AF8:$AH8,PREENCHER!F8)=0,CONCATENATE(PREENCHER!AR8,#REF!),PREENCHER!F8))","v":19},{"$f":"IF(PREENCHER!G8=\"\",\"\",IF(COUNTIF(PREENCHER!$AF8:$AH8,PREENCHER!G8)=0,CONCATENATE(PREENCHER!AS8,#REF!),PREENCHER!G8))","v":""},{"$f":"IF(PREENCHER!H8=\"\",\"\",IF(COUNTIF(PREENCHER!$AF8:$AH8,PREENCHER!H8)=0,CONCATENATE(PREENCHER!AT8,#REF!),PREENCHER!H8))","v":41.65},{"$f":"IF(PREENCHER!I8=\"\",\"\",IF(COUNTIF(PREENCHER!$AF8:$AH8,PREENCHER!I8)=0,CONCATENATE(PREENCHER!AU8,#REF!),PREENCHER!I8))","v":""},{"$f":"IF(PREENCHER!J8=\"\",\"\",IF(COUNTIF(PREENCHER!$AF8:$AH8,PREENCHER!J8)=0,CONCATENATE(PREENCHER!AV8,#REF!),PREENCHER!J8))","v":""},{"$f":"IF(PREENCHER!K8=\"\",\"\",IF(COUNTIF(PREENCHER!$AF8:$AH8,PREENCHER!K8)=0,CONCATENATE(PREENCHER!AW8,#REF!),PREENCHER!K8))","v":""},{"$f":"IF(PREENCHER!L8=\"\",\"\",IF(COUNTIF(PREENCHER!$AF8:$AH8,PREENCHER!L8)=0,CONCATENATE(PREENCHER!AX8,#REF!),PREENCHER!L8))","v":""},{"$f":"IF(PREENCHER!M8=\"\",\"\",IF(COUNTIF(PREENCHER!$AF8:$AH8,PREENCHER!M8)=0,CONCATENATE(PREENCHER!AY8,#REF!),PREENCHER!M8))","v":""},{"$f":"IF(PREENCHER!N8=\"\",\"\",IF(COUNTIF(PREENCHER!$AF8:$AH8,PREENCHER!N8)=0,CONCATENATE(PREENCHER!AZ8,#REF!),PREENCHER!N8))","v":""},{"$f":"IF(ISERROR(ROUND(AVERAGE(E8:N8),2)),\"\",ROUND(AVERAGE(E8:N8),2))","v":27.82},{"$f":"IF(ISERROR(ROUND(O8*D8,2)),\"\",ROUND(O8*D8,2))","v":12852.84},null,null,{"$f":"IF(ISERROR(MEDIAN(E8:N8)),\"\",MEDIAN(E8:N8))","v":22.82},{"$f":"IF(ISERROR(STDEV(E8:N8)),\"\",STDEV(E8:N8))","v":12.1256188845491},{"$f":"IF(ISERROR(T8/O8),\"\",T8/O8)","v":0.435859772988824}]
[{"$f":"IF(PREENCHER!A9=\"\",\"\",PREENCHER!A9)","v":2},{"$f":"IF(PREENCHER!B9=\"\",\"\",PREENCHER!B9)","v":"BOLO CASEIRO"},{"$f":"IF(PREENCHER!C9=\"\",\"\",PREENCHER!C9)","v":"UNIDADE"},{"$f":"IF(PREENCHER!D9=\"\",\"\",PREENCHER!D9)","v":40},{"$f":"IF(PREENCHER!E9=\"\",\"\",IF(COUNTIF(PREENCHER!$AF9:$AH9,PREENCHER!E9)=0,CONCATENATE(PREENCHER!AQ9,#REF!),PREENCHER!E9))","v":18.37},{"$f":"IF(PREENCHER!F9=\"\",\"\",IF(COUNTIF(PREENCHER!$AF9:$AH9,PREENCHER!F9)=0,CONCATENATE(PREENCHER!AR9,#REF!),PREENCHER!F9))","v":22.69},{"$f":"IF(PREENCHER!G9=\"\",\"\",IF(COUNTIF(PREENCHER!$AF9:$AH9,PREENCHER!G9)=0,CONCATENATE(PREENCHER!AS9,#REF!),PREENCHER!G9))","v":""},{"$f":"IF(PREENCHER!H9=\"\",\"\",IF(COUNTIF(PREENCHER!$AF9:$AH9,PREENCHER!H9)=0,CONCATENATE(PREENCHER!AT9,#REF!),PREENCHER!H9))","v":{"$error":"#REF!"}},{"$f":"IF(PREENCHER!I9=\"\",\"\",IF(COUNTIF(PREENCHER!$AF9:$AH9,PREENCHER!I9)=0,CONCATENATE(PREENCHER!AU9,#REF!),PREENCHER!I9))","v":20},{"$f":"IF(PREENCHER!J9=\"\",\"\",IF(COUNTIF(PREENCHER!$AF9:$AH9,PREENCHER!J9)=0,CONCATENATE(PREENCHER!AV9,#REF!),PREENCHER!J9))","v":{"$error":"#REF!"}},{"$f":"IF(PREENCHER!K9=\"\",\"\",IF(COUNTIF(PREENCHER!$AF9:$AH9,PREENCHER!K9)=0,CONCATENATE(PREENCHER!AW9,#REF!),PREENCHER!K9))","v":""},{"$f":"IF(PREENCHER!L9=\"\",\"\",IF(COUNTIF(PREENCHER!$AF9:$AH9,PREENCHER!L9)=0,CONCATENATE(PREENCHER!AX9,#REF!),PREENCHER!L9))","v":""},{"$f":"IF(PREENCHER!M9=\"\",\"\",IF(COUNTIF(PREENCHER!$AF9:$AH9,PREENCHER!M9)=0,CONCATENATE(PREENCHER!AY9,#REF!),PREENCHER!M9))","v":""},{"$f":"IF(PREENCHER!N9=\"\",\"\",IF(COUNTIF(PREENCHER!$AF9:$AH9,PREENCHER!N9)=0,CONCATENATE(PREENCHER!AZ9,#REF!),PREENCHER!N9))","v":""},{"$f":"IF(ISERROR(ROUND(AVERAGE(E9:N9),2)),\"\",ROUND(AVERAGE(E9:N9),2))","v":""},{"$f":"IF(ISERROR(ROUND(O9*D9,2)),\"\",ROUND(O9*D9,2))","v":""},null,null,{"$f":"IF(ISERROR(MEDIAN(E9:N9)),\"\",MEDIAN(E9:N9))","v":""},{"$f":"IF(ISERROR(STDEV(E9:N9)),\"\",STDEV(E9:N9))","v":""},{"$f":"IF(ISERROR(T9/O9),\"\",T9/O9)","v":""}]
[{"$f":"IF(PREENCHER!A10=\"\",\"\",PREENCHER!A10)","v":3},{"$f":"IF(PREENCHER!B10=\"\",\"\",PREENCHER!B10)","v":"SANDUÍCHE NATURAL"},{"$f":"IF(PREENCHER!C10=\"\",\"\",PREENCHER!C10)","v":"UNIDADE"},{"$f":"IF(PREENCHER!D10=\"\",\"\",PREENCHER!D10)","v":800},{"$f":"IF(PREENCHER!E10=\"\",\"\",IF(COUNTIF(PREENCHER!$AF10:$AH10,PREENCHER!E10)=0,CONCATENATE(PREENCHER!AQ10,#REF!),PREENCHER!E10))","v":8.1},{"$f":"IF(PREENCHER!F10=\"\",\"\",IF(COUNTIF(PREENCHER!$AF10:$AH10,PREENCHER!F10)=0,CONCATENATE(PREENCHER!AR10,#REF!),PREENCHER!F10))","v":10.9},{"$f":"IF(PREENCHER!G10=\"\",\"\",IF(COUNTIF(PREENCHER!$AF10:$AH10,PREENCHER!G10)=0,CONCATENATE(PREENCHER!AS10,#REF!),PREENCHER!G10))","v":""},{"$f":"IF(PREENCHER!H10=\"\",\"\",IF(COUNTIF(PREENCHER!$AF10:$AH10,PREENCHER!H10)=0,CONCATENATE(PREENCHER!AT10,#REF!),PREENCHER!H10))","v":3.56},{"$f":"IF(PREENCHER!I10=\"\",\"\",IF(COUNTIF(PREENCHER!$AF10:$AH10,PREENCHER!I10)=0,CONCATENATE(PREENCHER!AU10,#REF!),PREENCHER!I10))","v":""},{"$f":"IF(PREENCHER!J10=\"\",\"\",IF(COUNTIF(PREENCHER!$AF10:$AH10,PREENCHER!J10)=0,CONCATENATE(PREENCHER!AV10,#REF!),PREENCHER!J10))","v":""},{"$f":"IF(PREENCHER!K10=\"\",\"\",IF(COUNTIF(PREENCHER!$AF10:$AH10,PREENCHER!K10)=0,CONCATENATE(PREENCHER!AW10,#REF!),PREENCHER!K10))","v":""},{"$f":"IF(PREENCHER!L10=\"\",\"\",IF(COUNTIF(PREENCHER!$AF10:$AH10,PREENCHER!L10)=0,CONCATENATE(PREENCHER!AX10,#REF!),PREENCHER!L10))","v":""},{"$f":"IF(PREENCHER!M10=\"\",\"\",IF(COUNTIF(PREENCHER!$AF10:$AH10,PREENCHER!M10)=0,CONCATENATE(PREENCHER!AY10,#REF!),PREENCHER!M10))","v":""},{"$f":"IF(PREENCHER!N10=\"\",\"\",IF(COUNTIF(PREENCHER!$AF10:$AH10,PREENCHER!N10)=0,CONCATENATE(PREENCHER!AZ10,#REF!),PREENCHER!N10))","v":""},{"$f":"IF(ISERROR(ROUND(AVERAGE(E10:N10),2)),\"\",ROUND(AVERAGE(E10:N10),2))","v":7.52},{"$f":"IF(ISERROR(ROUND(O10*D10,2)),\"\",ROUND(O10*D10,2))","v":6016},null,null,{"$f":"IF(ISERROR(MEDIAN(E10:N10)),\"\",MEDIAN(E10:N10))","v":8.1},{"$f":"IF(ISERROR(STDEV(E10:N10)),\"\",STDEV(E10:N10))","v":3.70421381672279},{"$f":"IF(ISERROR(T10/O10),\"\",T10/O10)","v":0.492581624564201}]
[{"$f":"IF(PREENCHER!A11=\"\",\"\",PREENCHER!A11)","v":4},{"$f":"IF(PREENCHER!B11=\"\",\"\",PREENCHER!B11)","v":"EMPADA DE FRANGO"},{"$f":"IF(PREENCHER!C11=\"\",\"\",PREENCHER!C11)","v":"CENTENA"},{"$f":"IF(PREENCHER!D11=\"\",\"\",PREENCHER!D11)","v":52},{"$f":"IF(PREENCHER!E11=\"\",\"\",IF(COUNTIF(PREENCHER!$AF11:$AH11,PREENCHER!E11)=0,CONCATENATE(PREENCHER!AQ11,#REF!),PREENCHER!E11))","v":106},{"$f":"IF(PREENCHER!F11=\"\",\"\",IF(COUNTIF(PREENCHER!$AF11:$AH11,PREENCHER!F11)=0,CONCATENATE(PREENCHER!AR11,#REF!),PREENCHER!F11))","v":52.23},{"$f":"IF(PREENCHER!G11=\"\",\"\",IF(COUNTIF(PREENCHER!$AF11:$AH11,PREENCHER!G11)=0,CONCATENATE(PREENCHER!AS11,#REF!),PREENCHER!G11))","v":""},{"$f":"IF(PREENCHER!H11=\"\",\"\",IF(COUNTIF(PREENCHER!$AF11:$AH11,PREENCHER!H11)=0,CONCATENATE(PREENCHER!AT11,#REF!),PREENCHER!H11))","v":65},{"$f":"IF(PREENCHER!I11=\"\",\"\",IF(COUNTIF(PREENCHER!$AF11:$AH11,PREENCHER!I11)=0,CONCATENATE(PREENCHER!AU11,#REF!),PREENCHER!I11))","v":""},{"$f":"IF(PREENCHER!J11=\"\",\"\",IF(COUNTIF(PREENCHER!$AF11:$AH11,PREENCHER!J11)=0,CONCATENATE(PREENCHER!AV11,#REF!),PREENCHER!J11))","v":""},{"$f":"IF(PREENCHER!K11=\"\",\"\",IF(COUNTIF(PREENCHER!$AF11:$AH11,PREENCHER!K11)=0,CONCATENATE(PREENCHER!AW11,#REF!),PREENCHER!K11))","v":""},{"$f":"IF(PREENCHER!L11=\"\",\"\",IF(COUNTIF(PREENCHER!$AF11:$AH11,PREENCHER!L11)=0,CONCATENATE(PREENCHER!AX11,#REF!),PREENCHER!L11))","v":""},{"$f":"IF(PREENCHER!M11=\"\",\"\",IF(COUNTIF(PREENCHER!$AF11:$AH11,PREENCHER!M11)=0,CONCATENATE(PREENCHER!AY11,#REF!),PREENCHER!M11))","v":""},{"$f":"IF(PREENCHER!N11=\"\",\"\",IF(COUNTIF(PREENCHER!$AF11:$AH11,PREENCHER!N11)=0,CONCATENATE(PREENCHER!AZ11,#REF!),PREENCHER!N11))","v":""},{"$f":"IF(ISERROR(ROUND(AVERAGE(E11:N11),2)),\"\",ROUND(AVERAGE(E11:N11),2))","v":74.41},{"$f":"IF(ISERROR(ROUND(O11*D11,2)),\"\",ROUND(O11*D11,2))","v":3869.32},null,null,{"$f":"IF(ISERROR(MEDIAN(E11:N11)),\"\",MEDIAN(E11:N11))","v":65},{"$f":"IF(ISERROR(STDEV(E11:N11)),\"\",STDEV(E11:N11))","v":28.0929581924012},{"$f":"IF(ISERROR(T11/O11),\"\",T11/O11)","v":0.377542779094223}]
[{"$f":"IF(PREENCHER!A12=\"\",\"\",PREENCHER!A12)","v":5},{"$f":"IF(PREENCHER!B12=\"\",\"\",PREENCHER!B12)","v":"BROINHA DE MILHO"},{"$f":"IF(PREENCHER!C12=\"\",\"\",PREENCHER!C12)","v":"QUILO"},{"$f":"IF(PREENCHER!D12=\"\",\"\",PREENCHER!D12)","v":6},{"$f":"IF(PREENCHER!E12=\"\",\"\",IF(COUNTIF(PREENCHER!$AF12:$AH12,PREENCHER!E12)=0,CONCATENATE(PREENCHER!AQ12,#REF!),PREENCHER!E12))","v":17.06},{"$f":"IF(PREENCHER!F12=\"\",\"\",IF(COUNTIF(PREENCHER!$AF12:$AH12,PREENCHER!F12)=0,CONCATENATE(PREENCHER!AR12,#REF!),PREENCHER!F12))","v":24},{"$f":"IF(PREENCHER!G12=\"\",\"\",IF(COUNTIF(PREENCHER!$AF12:$AH12,PREENCHER!G12)=0,CONCATENATE(PREENCHER!AS12,#REF!),PREENCHER!G12))","v":""},{"$f":"IF(PREENCHER!H12=\"\",\"\",IF(COUNTIF(PREENCHER!$AF12:$AH12,PREENCHER!H12)=0,CONCATENATE(PREENCHER!AT12,#REF!),PREENCHER!H12))","v":32.99},{"$f":"IF(PREENCHER!I12=\"\",\"\",IF(COUNTIF(PREENCHER!$AF12:$AH12,PREENCHER!I12)=0,CONCATENATE(PREENCHER!AU12,#REF!),PREENCHER!I12))","v":""},{"$f":"IF(PREENCHER!J12=\"\",\"\",IF(COUNTIF(PREENCHER!$AF12:$AH12,PREENCHER!J12)=0,CONCATENATE(PREENCHER!AV12,#REF!),PREENCHER!J12))","v":""},{"$f":"IF(PREENCHER!K12=\"\",\"\",IF(COUNTIF(PREENCHER!$AF12:$AH12,PREENCHER!K12)=0,CONCATENATE(PREENCHER!AW12,#REF!),PREENCHER!K12))","v":""},{"$f":"IF(PREENCHER!L12=\"\",\"\",IF(COUNTIF(PREENCHER!$AF12:$AH12,PREENCHER!L12)=0,CONCATENATE(PREENCHER!AX12,#REF!),PREENCHER!L12))","v":""},{"$f":"IF(PREENCHER!M12=\"\",\"\",IF(COUNTIF(PREENCHER!$AF12:$AH12,PREENCHER!M12)=0,CONCATENATE(PREENCHER!AY12,#REF!),PREENCHER!M12))","v":""},{"$f":"IF(PREENCHER!N12=\"\",\"\",IF(COUNTIF(PREENCHER!$AF12:$AH12,PREENCHER!N12)=0,CONCATENATE(PREENCHER!AZ12,#REF!),PREENCHER!N12))","v":""},{"$f":"IF(ISERROR(ROUND(AVERAGE(E12:N12),2)),\"\",ROUND(AVERAGE(E12:N12),2))","v":24.68},{"$f":"IF(ISERROR(ROUND(O12*D12,2)),\"\",ROUND(O12*D12,2))","v":148.08},null,null,{"$f":"IF(ISERROR(MEDIAN(E12:N12)),\"\",MEDIAN(E12:N12))","v":24},{"$f":"IF(ISERROR(STDEV(E12:N12)),\"\",STDEV(E12:N12))","v":7.9869539458628},{"$f":"IF(ISERROR(T12/O12),\"\",T12/O12)","v":0.323620500237553}]
[{"$f":"IF(PREENCHER!A13=\"\",\"\",PREENCHER!A13)","v":6},{"$f":"IF(PREENCHER!B13=\"\",\"\",PREENCHER!B13)","v":"BOLINHO RECHEADO"},{"$f":"IF(PREENCHER!C13=\"\",\"\",PREENCHER!C13)","v":"UNIDADE"},{"$f":"IF(PREENCHER!D13=\"\",\"\",PREENCHER!D13)","v":1580},{"$f":"IF(PREENCHER!E13=\"\",\"\",IF(COUNTIF(PREENCHER!$AF13:$AH13,PREENCHER!E13)=0,CONCATENATE(PREENCHER!AQ13,#REF!),PREENCHER!E13))","v":2.61},{"$f":"IF(PREENCHER!F13=\"\",\"\",IF(COUNTIF(PREENCHER!$AF13:$AH13,PREENCHER!F13)=0,CONCATENATE(PREENCHER!AR13,#REF!),PREENCHER!F13))","v":2.7},{"$f":"IF(PREENCHER!G13=\"\",\"\",IF(COUNTIF(PREENCHER!$AF13:$AH13,PREENCHER!G13)=0,CONCATENATE(PREENCHER!AS13,#REF!),PREENCHER!G13))","v":""},{"$f":"IF(PREENCHER!H13=\"\",\"\",IF(COUNTIF(PREENCHER!$AF13:$AH13,PREENCHER!H13)=0,CONCATENATE(PREENCHER!AT13,#REF!),PREENCHER!H13))","v":2.4},{"$f":"IF(PREENCHER!I13=\"\",\"\",IF(COUNTIF(PREENCHER!$AF13:$AH13,PREENCHER!I13)=0,CONCATENATE(PREENCHER!AU13,#REF!),PREENCHER!I13))","v":""},{"$f":"IF(PREENCHER!J13=\"\",\"\",IF(COUNTIF(PREENCHER!$AF13:$AH13,PREENCHER!J13)=0,CONCATENATE(PREENCHER!AV13,#REF!),PREENCHER!J13))","v":""},{"$f":"IF(PREENCHER!K13=\"\",\"\",IF(COUNTIF(PREENCHER!$AF13:$AH13,PREENCHER!K13)=0,CONCATENATE(PREENCHER!AW13,#REF!),PREENCHER!K13))","v":""},{"$f":"IF(PREENCHER!L13=\"\",\"\",IF(COUNTIF(PREENCHER!$AF13:$AH13,PREENCHER!L13)=0,CONCATENATE(PREENCHER!AX13,#REF!),PREENCHER!L13))","v":""},{"$f":"IF(PREENCHER!M13=\"\",\"\",IF(COUNTIF(PREENCHER!$AF13:$AH13,PREENCHER!M13)=0,CONCATENATE(PREENCHER!AY13,#REF!),PREENCHER!M13))","v":""},{"$f":"IF(PREENCHER!N13=\"\",\"\",IF(COUNTIF(PREENCHER!$AF13:$AH13,PREENCHER!N13)=0,CONCATENATE(PREENCHER!AZ13,#REF!),PREENCHER!N13))","v":""},{"$f":"IF(ISERROR(ROUND(AVERAGE(E13:N13),2)),\"\",ROUND(AVERAGE(E13:N13),2))","v":2.57},{"$f":"IF(ISERROR(ROUND(O13*D13,2)),\"\",ROUND(O13*D13,2))","v":4060.6},null,null,{"$f":"IF(ISERROR(MEDIAN(E13:N13)),\"\",MEDIAN(E13:N13))","v":2.61},{"$f":"IF(ISERROR(STDEV(E13:N13)),\"\",STDEV(E13:N13))","v":0.153948043183407},{"$f":"IF(ISERROR(T13/O13),\"\",T13/O13)","v":0.0599019623281738}]
[{"$f":"IF(PREENCHER!A14=\"\",\"\",PREENCHER!A14)","v":7},{"$f":"IF(PREENCHER!B14=\"\",\"\",PREENCHER!B14)","v":"ESFIRRA DE CARNE"},{"$f":"IF(PREENCHER!C14=\"\",\"\",PREENCHER!C14)","v":"CENTENA"},{"$f":"IF(PREENCHER!D14=\"\",\"\",PREENCHER!D14)","v":7},{"$f":"IF(PREENCHER!E14=\"\",\"\",IF(COUNTIF(PREENCHER!$AF14:$AH14,PREENCHER!E14)=0,CONCATENATE(PREENCHER!AQ14,#REF!),PREENCHER!E14))","v":100},{"$f":"IF(PREENCHER!F14=\"\",\"\",IF(COUNTIF(PREENCHER!$AF14:$AH14,PREENCHER!F14)=0,CONCATENATE(PREENCHER!AR14,#REF!),PREENCHER!F14))","v":94},{"$f":"IF(PREENCHER!G14=\"\",\"\",IF(COUNTIF(PREENCHER!$AF14:$AH14,PREENCHER!G14)=0,CONCATENATE(PREENCHER!AS14,#REF!),PREENCHER!G14))","v":""},{"$f":"IF(PREENCHER!H14=\"\",\"\",IF(COUNTIF(PREENCHER!$AF14:$AH14,PREENCHER!H14)=0,CONCATENATE(PREENCHER!AT14,#REF!),PREENCHER!H14))","v":69.36},{"$f":"IF(PREENCHER!I14=\"\",\"\",IF(COUNTIF(PREENCHER!$AF14:$AH14,PREENCHER!I14)=0,CONCATENATE(PREENCHER!AU14,#REF!),PREENCHER!I14))","v":""},{"$f":"IF(PREENCHER!J14=\"\",\"\",IF(COUNTIF(PREENCHER!$AF14:$AH14,PREENCHER!J14)=0,CONCATENATE(PREENCHER!AV14,#REF!),PREENCHER!J14))","v":""},{"$f":"IF(PREENCHER!K14=\"\",\"\",IF(COUNTIF(PREENCHER!$AF14:$AH14,PREENCHER!K14)=0,CONCATENATE(PREENCHER!AW14,#REF!),PREENCHER!K14))","v":""},{"$f":"IF(PREENCHER!L14=\"\",\"\",IF(COUNTIF(PREENCHER!$AF14:$AH14,PREENCHER!L14)=0,CONCATENATE(PREENCHER!AX14,#REF!),PREENCHER!L14))","v":""},{"$f":"IF(PREENCHER!M14=\"\",\"\",IF(COUNTIF(PREENCHER!$AF14:$AH14,PREENCHER!M14)=0,CONCATENATE(PREENCHER!AY14,#REF!),PREENCHER!M14))","v":""},{"$f":"IF(PREENCHER!N14=\"\",\"\",IF(COUNTIF(PREENCHER!$AF14:$AH14,PREENCHER!N14)=0,CONCATENATE(PREENCHER!AZ14,#REF!),PREENCHER!N14))","v":""},{"$f":"IF(ISERROR(ROUND(AVERAGE(E14:N14),2)),\"\",ROUND(AVERAGE(E14:N14),2))","v":87.79},{"$f":"IF(ISERROR(ROUND(O14*D14,2)),\"\",ROUND(O14*D14,2))","v":614.53},null,null,{"$f":"IF(ISERROR(MEDIAN(E14:N14)),\"\",MEDIAN(E14:N14))","v":94},{"$f":"IF(ISERROR(STDEV(E14:N14)),\"\",STDEV(E14:N14))","v":16.2375039132661},{"$f":"IF(ISERROR(T14/O14),\"\",T14/O14)","v":0.184958468085957}]
[{"$f":"IF(PREENCHER!A15=\"\",\"\",PREENCHER!A15)","v":8},{"$f":"IF(PREENCHER!B15=\"\",\"\",PREENCHER!B15)","v":"BISCOITO CASEIRO"},{"$f":"IF(PREENCHER!C15=\"\",\"\",PREENCHER!C15)","v":"QUILO"},{"$f":"IF(PREENCHER!D15=\"\",\"\",PREENCHER!D15)","v":23},{"$f":"IF(PREENCHER!E15=\"\",\"\",IF(COUNTIF(PREENCHER!$AF15:$AH15,PREENCHER!E15)=0,CONCATENATE(PREENCHER!AQ15,#REF!),PREENCHER!E15))","v":40},{"$f":"IF(PREENCHER!F15=\"\",\"\",IF(COUNTIF(PREENCHER!$AF15:$AH15,PREENCHER!F15)=0,CONCATENATE(PREENCHER!AR15,#REF!),PREENCHER!F15))","v":31.89},{"$f":"IF(PREENCHER!G15=\"\",\"\",IF(COUNTIF(PREENCHER!$AF15:$AH15,PREENCHER!G15)=0,CONCATENATE(PREENCHER!AS15,#REF!),PREENCHER!G15))","v":""},{"$f":"IF(PREENCHER!H15=\"\",\"\",IF(COUNTIF(PREENCHER!$AF15:$AH15,PREENCHER!H15)=0,CONCATENATE(PREENCHER!AT15,#REF!),PREENCHER!H15))","v":22.25},{"$f":"IF(PREENCHER!I15=\"\",\"\",IF(COUNTIF(PREENCHER!$AF15:$AH15,PREENCHER!I15)=0,CONCATENATE(PREENCHER!AU15,#REF!),PREENCHER!I15))","v":""},{"$f":"IF(PREENCHER!J15=\"\",\"\",IF(COUNTIF(PREENCHER!$AF15:$AH15,PREENCHER!J15)=0,CONCATENATE(PREENCHER!AV15,#REF!),PREENCHER!J15))","v":""},{"$f":"IF(PREENCHER!K15=\"\",\"\",IF(COUNTIF(PREENCHER!$AF15:$AH15,PREENCHER!K15)=0,CONCATENATE(PREENCHER!AW15,#REF!),PREENCHER!K15))","v":""},{"$f":"IF(PREENCHER!L15=\"\",\"\",IF(COUNTIF(PREENCHER!$AF15:$AH15,PREENCHER!L15)=0,CONCATENATE(PREENCHER!AX15,#REF!),PREENCHER!L15))","v":""},{"$f":"IF(PREENCHER!M15=\"\",\"\",IF(COUNTIF(PREENCHER!$AF15:$AH15,PREENCHER!M15)=0,CONCATENATE(PREENCHER!AY15,#REF!),PREENCHER!M15))","v":""},{"$f":"IF(PREENCHER!N15=\"\",\"\",IF(COUNTIF(PREENCHER!$AF15:$AH15,PREENCHER!N15)=0,CONCATENATE(PREENCHER!AZ15,#REF!),PREENCHER!N15))","v":""},{"$f":"IF(ISERROR(ROUND(AVERAGE(E15:N15),2)),\"\",ROUND(AVERAGE(E15:N15),2))","v":31.38},{"$f":"IF(ISERROR(ROUND(O15*D15,2)),\"\",ROUND(O15*D15,2))","v":721.74},null,null,{"$f":"IF(ISERROR(MEDIAN(E15:N15)),\"\",MEDIAN(E15:N15))","v":31.89},{"$f":"IF(ISERROR(STDEV(E15:N15)),\"\",STDEV(E15:N15))","v":8.88598334457138},{"$f":"IF(ISERROR(T15/O15),\"\",T15/O15)","v":0.283173465410178}]
[{"$f":"IF(PREENCHER!A16=\"\",\"\",PREENCHER!A16)","v":9},{"$f":"IF(PREENCHER!B16=\"\",\"\",PREENCHER!B16)","v":"SUCO DE FRUTAS"},{"$f":"IF(PREENCHER!C16=\"\",\"\",PREENCHER!C16)","v":"LITRO"},{"$f":"IF(PREENCHER!D16=\"\",\"\",PREENCHER!D16)","v":364},{"$f":"IF(PREENCHER!E16=\"\",\"\",IF(COUNTIF(PREENCHER!$AF16:$AH16,PREENCHER!E16)=0,CONCATENATE(PREENCHER!AQ16,#REF!),PREENCHER!E16))","v":6},{"$f":"IF(PREENCHER!F16=\"\",\"\",IF(COUNTIF(PREENCHER!$AF16:$AH16,PREENCHER!F16)=0,CONCATENATE(PREENCHER!AR16,#REF!),PREENCHER!F16))","v":8.53},{"$f":"IF(PREENCHER!G16=\"\",\"\",IF(COUNTIF(PREENCHER!$AF16:$AH16,PREENCHER!G16)=0,CONCATENATE(PREENCHER!AS16,#REF!),PREENCHER!G16))","v":""},{"$f":"IF(PREENCHER!H16=\"\",\"\",IF(COUNTIF(PREENCHER!$AF16:$AH16,PREENCHER!H16)=0,CONCATENATE(PREENCHER!AT16,#REF!),PREENCHER!H16))","v":10.3},{"$f":"IF(PREENCHER!I16=\"\",\"\",IF(COUNTIF(PREENCHER!$AF16:$AH16,PREENCHER!I16)=0,CONCATENATE(PREENCHER!AU16,#REF!),PREENCHER!I16))","v":""},{"$f":"IF(PREENCHER!J16=\"\",\"\",IF(COUNTIF(PREENCHER!$AF16:$AH16,PREENCHER!J16)=0,CONCATENATE(PREENCHER!AV16,#REF!),PREENCHER!J16))","v":""},{"$f":"IF(PREENCHER!K16=\"\",\"\",IF(COUNTIF(PREENCHER!$AF16:$AH16,PREENCHER!K16)=0,CONCATENATE(PREENCHER!AW16,#REF!),PREENCHER!K16))","v":""},{"$f":"IF(PREENCHER!L16=\"\",\"\",IF(COUNTIF(PREENCHER!$AF16:$AH16,PREENCHER!L16)=0,CONCATENATE(PREENCHER!AX16,#REF!),PREENCHER!L16))","v":""},{"$f":"IF(PREENCHER!M16=\"\",\"\",IF(COUNTIF(PREENCHER!$AF16:$AH16,PREENCHER!M16)=0,CONCATENATE(PREENCHER!AY16,#REF!),PREENCHER!M16))","v":""},{"$f":"IF(PREENCHER!N16=\"\",\"\",IF(COUNTIF(PREENCHER!$AF16:$AH16,PREENCHER!N16)=0,CONCATENATE(PREENCHER!AZ16,#REF!),PREENCHER!N16))","v":""},{"$f":"IF(ISERROR(ROUND(AVERAGE(E16:N16),2)),\"\",ROUND(AVERAGE(E16:N16),2))","v":8.28},{"$f":"IF(ISERROR(ROUND(O16*D16,2)),\"\",ROUND(O16*D16,2))","v":3013.92},null,null,{"$f":"IF(ISERROR(MEDIAN(E16:N16)),\"\",MEDIAN(E16:N16))","v":8.53},{"$f":"IF(ISERROR(STDEV(E16:N16)),\"\",STDEV(E16:N16))","v":2.16116480938714},{"$f":"IF(ISERROR(T16/O16),\"\",T16/O16)","v":0.261010242679606}]
[{"$f":"IF(PREENCHER!A17=\"\",\"\",PREENCHER!A17)","v":10},{"$f":"IF(PREENCHER!B17=\"\",\"\",PREENCHER!B17)","v":"SALADA DE FRUTAS"},{"$f":"IF(PREENCHER!C17=\"\",\"\",PREENCHER!C17)","v":"UNIDADE (150 GRAMAS)"},{"$f":"IF(PREENCHER!D17=\"\",\"\",PREENCHER!D17)","v":400},{"$f":"IF(PREENCHER!E17=\"\",\"\",IF(COUNTIF(PREENCHER!$AF17:$AH17,PREENCHER!E17)=0,CONCATENATE(PREENCHER!AQ17,#REF!),PREENCHER!E17))","v":5},{"$f":"IF(PREENCHER!F17=\"\",\"\",IF(COUNTIF(PREENCHER!$AF17:$AH17,PREENCHER!F17)=0,CONCATENATE(PREENCHER!AR17,#REF!),PREENCHER!F17))","v":7.7},{"$f":"IF(PREENCHER!G17=\"\",\"\",IF(COUNTIF(PREENCHER!$AF17:$AH17,PREENCHER!G17)=0,CONCATENATE(PREENCHER!AS17,#REF!),PREENCHER!G17))","v":""},{"$f":"IF(PREENCHER!H17=\"\",\"\",IF(COUNTIF(PREENCHER!$AF17:$AH17,PREENCHER!H17)=0,CONCATENATE(PREENCHER!AT17,#REF!),PREENCHER!H17))","v":4.49},{"$f":"IF(PREENCHER!I17=\"\",\"\",IF(COUNTIF(PREENCHER!$AF17:$AH17,PREENCHER!I17)=0,CONCATENATE(PREENCHER!AU17,#REF!),PREENCHER!I17))","v":""},{"$f":"IF(PREENCHER!J17=\"\",\"\",IF(COUNTIF(PREENCHER!$AF17:$AH17,PREENCHER!J17)=0,CONCATENATE(PREENCHER!AV17,#REF!),PREENCHER!J17))","v":""},{"$f":"IF(PREENCHER!K17=\"\",\"\",IF(COUNTIF(PREENCHER!$AF17:$AH17,PREENCHER!K17)=0,CONCATENATE(PREENCHER!AW17,#REF!),PREENCHER!K17))","v":""},{"$f":"IF(PREENCHER!L17=\"\",\"\",IF(COUNTIF(PREENCHER!$AF17:$AH17,PREENCHER!L17)=0,CONCATENATE(PREENCHER!AX17,#REF!),PREENCHER!L17))","v":""},{"$f":"IF(PREENCHER!M17=\"\",\"\",IF(COUNTIF(PREENCHER!$AF17:$AH17,PREENCHER!M17)=0,CONCATENATE(PREENCHER!AY17,#REF!),PREENCHER!M17))","v":""},{"$f":"IF(PREENCHER!N17=\"\",\"\",IF(COUNTIF(PREENCHER!$AF17:$AH17,PREENCHER!N17)=0,CONCATENATE(PREENCHER!AZ17,#REF!),PREENCHER!N17))","v":""},{"$f":"IF(ISERROR(ROUND(AVERAGE(E17:N17),2)),\"\",ROUND(AVERAGE(E17:N17),2))","v":5.73},{"$f":"IF(ISERROR(ROUND(O17*D17,2)),\"\",ROUND(O17*D17,2))","v":2292},null,null,{"$f":"IF(ISERROR(MEDIAN(E17:N17)),\"\",MEDIAN(E17:N17))","v":5},{"$f":"IF(ISERROR(STDEV(E17:N17)),\"\",STDEV(E17:N17))","v":1.72502173899345},{"$f":"IF(ISERROR(T17/O17),\"\",T17/O17)","v":0.301050914309503}]
[{"$f":"IF(PREENCHER!A18=\"\",\"\",PREENCHER!A18)","v":11},{"$f":"IF(PREENCHER!B18=\"\",\"\",PREENCHER!B18)","v":"ENTREGAS"},{"$f":"IF(PREENCHER!C18=\"\",\"\",PREENCHER!C18)","v":"UNIDADE"},{"$f":"IF(PREENCHER!D18=\"\",\"\",PREENCHER!D18)","v":30},{"$f":"IF(PREENCHER!E18=\"\",\"\",IF(COUNTIF(PREENCHER!$AF18:$AH18,PREENCHER!E18)=0,CONCATENATE(PREENCHER!AQ18,#REF!),PREENCHER!E18))","v":9.9},{"$f":"IF(PREENCHER!F18=\"\",\"\",IF(COUNTIF(PREENCHER!$AF18:$AH18,PREENCHER!F18)=0,CONCATENATE(PREENCHER!AR18,#REF!),PREENCHER!F18))","v":19},{"$f":"IF(PREENCHER!G18=\"\",\"\",IF(COUNTIF(PREENCHER!$AF18:$AH18,PREENCHER!G18)=0,CONCATENATE(PREENCHER!AS18,#REF!),PREENCHER!G18))","v":""},{"$f":"IF(PREENCHER!H18=\"\",\"\",IF(COUNTIF(PREENCHER!$AF18:$AH18,PREENCHER!H18)=0,CONCATENATE(PREENCHER!AT18,#REF!),PREENCHER!H18))","v":7.5},{"$f":"IF(PREENCHER!I18=\"\",\"\",IF(COUNTIF(PREENCHER!$AF18:$AH18,PREENCHER!I18)=0,CONCATENATE(PREENCHER!AU18,#REF!),PREENCHER!I18))","v":""},{"$f":"IF(PREENCHER!J18=\"\",\"\",IF(COUNTIF(PREENCHER!$AF18:$AH18,PREENCHER!J18)=0,CONCATENATE(PREENCHER!AV18,#REF!),PREENCHER!J18))","v":""},{"$f":"IF(PREENCHER!K18=\"\",\"\",IF(COUNTIF(PREENCHER!$AF18:$AH18,PREENCHER!K18)=0,CONCATENATE(PREENCHER!AW18,#REF!),PREENCHER!K18))","v":""},{"$f":"IF(PREENCHER!L18=\"\",\"\",IF(COUNTIF(PREENCHER!$AF18:$AH18,PREENCHER!L18)=0,CONCATENATE(PREENCHER!AX18,#REF!),PREENCHER!L18))","v":""},{"$f":"IF(PREENCHER!M18=\"\",\"\",IF(COUNTIF(PREENCHER!$AF18:$AH18,PREENCHER!M18)=0,CONCATENATE(PREENCHER!AY18,#REF!),PREENCHER!M18))","v":""},{"$f":"IF(PREENCHER!N18=\"\",\"\",IF(COUNTIF(PREENCHER!$AF18:$AH18,PREENCHER!N18)=0,CONCATENATE(PREENCHER!AZ18,#REF!),PREENCHER!N18))","v":""},{"$f":"IF(ISERROR(ROUND(AVERAGE(E18:N18),2)),\"\",ROUND(AVERAGE(E18:N18),2))","v":12.13},{"$f":"IF(ISERROR(ROUND(O18*D18,2)),\"\",ROUND(O18*D18,2))","v":363.9},null,null,{"$f":"IF(ISERROR(MEDIAN(E18:N18)),\"\",MEDIAN(E18:N18))","v":9.9},{"$f":"IF(ISERROR(STDEV(E18:N18)),\"\",STDEV(E18:N18))","v":6.06657509088393},{"$f":"IF(ISERROR(T18/O18),\"\",T18/O18)","v":0.500129850856053}]
[{"$f":"IF(PREENCHER!A19=\"\",\"\",PREENCHER!A19)","v":""},{"$f":"IF(PREENCHER!B19=\"\",\"\",PREENCHER!B19)","v":""},{"$f":"IF(PREENCHER!C19=\"\",\"\",PREENCHER!C19)","v":""},{"$f":"IF(PREENCHER!D19=\"\",\"\",PREENCHER!D19)","v":""},{"$f":"IF(PREENCHER!E19=\"\",\"\",IF(COUNTIF(PREENCHER!$AF19:$AH19,PREENCHER!E19)=0,CONCATENATE(PREENCHER!AQ19,#REF!),PREENCHER!E19))","v":""},{"$f":"IF(PREENCHER!F19=\"\",\"\",IF(COUNTIF(PREENCHER!$AF19:$AH19,PREENCHER!F19)=0,CONCATENATE(PREENCHER!AR19,#REF!),PREENCHER!F19))","v":""},{"$f":"IF(PREENCHER!G19=\"\",\"\",IF(COUNTIF(PREENCHER!$AF19:$AH19,PREENCHER!G19)=0,CONCATENATE(PREENCHER!AS19,#REF!),PREENCHER!G19))","v":""},{"$f":"IF(PREENCHER!H19=\"\",\"\",IF(COUNTIF(PREENCHER!$AF19:$AH19,PREENCHER!H19)=0,CONCATENATE(PREENCHER!AT19,#REF!),PREENCHER!H19))","v":""},{"$f":"IF(PREENCHER!I19=\"\",\"\",IF(COUNTIF(PREENCHER!$AF19:$AH19,PREENCHER!I19)=0,CONCATENATE(PREENCHER!AU19,#REF!),PREENCHER!I19))","v":""},{"$f":"IF(PREENCHER!J19=\"\",\"\",IF(COUNTIF(PREENCHER!$AF19:$AH19,PREENCHER!J19)=0,CONCATENATE(PREENCHER!AV19,#REF!),PREENCHER!J19))","v":""},{"$f":"IF(PREENCHER!K19=\"\",\"\",IF(COUNTIF(PREENCHER!$AF19:$AH19,PREENCHER!K19)=0,CONCATENATE(PREENCHER!AW19,#REF!),PREENCHER!K19))","v":""},{"$f":"IF(PREENCHER!L19=\"\",\"\",IF(COUNTIF(PREENCHER!$AF19:$AH19,PREENCHER!L19)=0,CONCATENATE(PREENCHER!AX19,#REF!),PREENCHER!L19))","v":""},{"$f":"IF(PREENCHER!M19=\"\",\"\",IF(COUNTIF(PREENCHER!$AF19:$AH19,PREENCHER!M19)=0,CONCATENATE(PREENCHER!AY19,#REF!),PREENCHER!M19))","v":""},{"$f":"IF(PREENCHER!N19=\"\",\"\",IF(COUNTIF(PREENCHER!$AF19:$AH19,PREENCHER!N19)=0,CONCATENATE(PREENCHER!AZ19,#REF!),PREENCHER!N19))","v":""},{"$f":"IF(ISERROR(ROUND(AVERAGE(E19:N19),2)),\"\",ROUND(AVERAGE(E19:N19),2))","v":""},{"$f":"IF(ISERROR(ROUND(O19*D19,2)),\"\",ROUND(O19*D19,2))","v":""},null,null,{"$f":"IF(ISERROR(MEDIAN(E19:N19)),\"\",MEDIAN(E19:N19))","v":""},{"$f":"IF(ISERROR(STDEV(E19:N19)),\"\",STDEV(E19:N19))","v":""},{"$f":"IF(ISERROR(T19/O19),\"\",T19/O19)","v":""}]
[{"$f":"IF(PREENCHER!A20=\"\",\"\",PREENCHER!A20)","v":""},{"$f":"IF(PREENCHER!B20=\"\",\"\",PREENCHER!B20)","v":""},{"$f":"IF(PREENCHER!C20=\"\",\"\",PREENCHER!C20)","v":""},{"$f":"IF(PREENCHER!D20=\"\",\"\",PREENCHER!D20)","v":""},{"$f":"IF(PREENCHER!E20=\"\",\"\",IF(COUNTIF(PREENCHER!$AF20:$AH20,PREENCHER!E20)=0,CONCATENATE(PREENCHER!AQ20,#REF!),PREENCHER!E20))","v":""},{"$f":"IF(PREENCHER!F20=\"\",\"\",IF(COUNTIF(PREENCHER!$AF20:$AH20,PREENCHER!F20)=0,CONCATENATE(PREENCHER!AR20,#REF!),PREENCHER!F20))","v":""},{"$f":"IF(PREENCHER!G20=\"\",\"\",IF(COUNTIF(PREENCHER!$AF20:$AH20,PREENCHER!G20)=0,CONCATENATE(PREENCHER!AS20,#REF!),PREENCHER!G20))","v":""},{"$f":"IF(PREENCHER!H20=\"\",\"\",IF(COUNTIF(PREENCHER!$AF20:$AH20,PREENCHER!H20)=0,CONCATENATE(PREENCHER!AT20,#REF!),PREENCHER!H20))","v":""},{"$f":"IF(PREENCHER!I20=\"\",\"\",IF(COUNTIF(PREENCHER!$AF20:$AH20,PREENCHER!I20)=0,CONCATENATE(PREENCHER!AU20,#REF!),PREENCHER!I20))","v":""},{"$f":"IF(PREENCHER!J20=\"\",\"\",IF(COUNTIF(PREENCHER!$AF20:$AH20,PREENCHER!J20)=0,CONCATENATE(PREENCHER!AV20,#REF!),PREENCHER!J20))","v":""},{"$f":"IF(PREENCHER!K20=\"\",\"\",IF(COUNTIF(PREENCHER!$AF20:$AH20,PREENCHER!K20)=0,CONCATENATE(PREENCHER!AW20,#REF!),PREENCHER!K20))","v":""},{"$f":"IF(PREENCHER!L20=\"\",\"\",IF(COUNTIF(PREENCHER!$AF20:$AH20,PREENCHER!L20)=0,CONCATENATE(PREENCHER!AX20,#REF!),PREENCHER!L20))","v":""},{"$f":"IF(PREENCHER!M20=\"\",\"\",IF(COUNTIF(PREENCHER!$AF20:$AH20,PREENCHER!M20)=0,CONCATENATE(PREENCHER!AY20,#REF!),PREENCHER!M20))","v":""},{"$f":"IF(PREENCHER!N20=\"\",\"\",IF(COUNTIF(PREENCHER!$AF20:$AH20,PREENCHER!N20)=0,CONCATENATE(PREENCHER!AZ20,#REF!),PREENCHER!N20))","v":""},{"$f":"IF(ISERROR(ROUND(AVERAGE(E20:N20),2)),\"\",ROUND(AVERAGE(E20:N20),2))","v":""},{"$f":"IF(ISERROR(ROUND(O20*D20,2)),\"\",ROUND(O20*D20,2))","v":""},null,null,{"$f":"IF(ISERROR(MEDIAN(E20:N20)),\"\",MEDIAN(E20:N20))","v":""},{"$f":"IF(ISERROR(STDEV(E20:N20)),\"\",STDEV(E20:N20))","v":""},{"$f":"IF(ISERROR(T20/O20),\"\",T20/O20)","v":""}]
[{"$f":"IF(PREENCHER!A21=\"\",\"\",PREENCHER!A21)","v":""},{"$f":"IF(PREENCHER!B21=\"\",\"\",PREENCHER!B21)","v":""},{"$f":"IF(PREENCHER!C21=\"\",\"\",PREENCHER!C21)","v":""},{"$f":"IF(PREENCHER!D21=\"\",\"\",PREENCHER!D21)","v":""},{"$f":"IF(PREENCHER!E21=\"\",\"\",IF(COUNTIF(PREENCHER!$AF21:$AH21,PREENCHER!E21)=0,CONCATENATE(PREENCHER!AQ21,#REF!),PREENCHER!E21))","v":""},{"$f":"IF(PREENCHER!F21=\"\",\"\",IF(COUNTIF(PREENCHER!$AF21:$AH21,PREENCHER!F21)=0,CONCATENATE(PREENCHER!AR21,#REF!),PREENCHER!F21))","v":""},{"$f":"IF(PREENCHER!G21=\"\",\"\",IF(COUNTIF(PREENCHER!$AF21:$AH21,PREENCHER!G21)=0,CONCATENATE(PREENCHER!AS21,#REF!),PREENCHER!G21))","v":""},{"$f":"IF(PREENCHER!H21=\"\",\"\",IF(COUNTIF(PREENCHER!$AF21:$AH21,PREENCHER!H21)=0,CONCATENATE(PREENCHER!AT21,#REF!),PREENCHER!H21))","v":""},{"$f":"IF(PREENCHER!I21=\"\",\"\",IF(COUNTIF(PREENCHER!$AF21:$AH21,PREENCHER!I21)=0,CONCATENATE(PREENCHER!AU21,#REF!),PREENCHER!I21))","v":""},{"$f":"IF(PREENCHER!J21=\"\",\"\",IF(COUNTIF(PREENCHER!$AF21:$AH21,PREENCHER!J21)=0,CONCATENATE(PREENCHER!AV21,#REF!),PREENCHER!J21))","v":""},{"$f":"IF(PREENCHER!K21=\"\",\"\",IF(COUNTIF(PREENCHER!$AF21:$AH21,PREENCHER!K21)=0,CONCATENATE(PREENCHER!AW21,#REF!),PREENCHER!K21))","v":""},{"$f":"IF(PREENCHER!L21=\"\",\"\",IF(COUNTIF(PREENCHER!$AF21:$AH21,PREENCHER!L21)=0,CONCATENATE(PREENCHER!AX21,#REF!),PREENCHER!L21))","v":""},{"$f":"IF(PREENCHER!M21=\"\",\"\",IF(COUNTIF(PREENCHER!$AF21:$AH21,PREENCHER!M21)=0,CONCATENATE(PREENCHER!AY21,#REF!),PREENCHER!M21))","v":""},{"$f":"IF(PREENCHER!N21=\"\",\"\",IF(COUNTIF(PREENCHER!$AF21:$AH21,PREENCHER!N21)=0,CONCATENATE(PREENCHER!AZ21,#REF!),PREENCHER!N21))","v":""},{"$f":"IF(ISERROR(ROUND(AVERAGE(E21:N21),2)),\"\",ROUND(AVERAGE(E21:N21),2))","v":""},{"$f":"IF(ISERROR(ROUND(O21*D21,2)),\"\",ROUND(O21*D21,2))","v":""},null,null,{"$f":"IF(ISERROR(MEDIAN(E21:N21)),\"\",MEDIAN(E21:N21))","v":""},{"$f":"IF(ISERROR(STDEV(E21:N21)),\"\",STDEV(E21:N21))","v":""},{"$f":"IF(ISERROR(T21/O21),\"\",T21/O21)","v":""}]
[{"$f":"IF(PREENCHER!A22=\"\",\"\",PREENCHER!A22)","v":""},{"$f":"IF(PREENCHER!B22=\"\",\"\",PREENCHER!B22)","v":""},{"$f":"IF(PREENCHER!C22=\"\",\"\",PREENCHER!C22)","v":""},{"$f":"IF(PREENCHER!D22=\"\",\"\",PREENCHER!D22)","v":""},{"$f":"IF(PREENCHER!E22=\"\",\"\",IF(COUNTIF(PREENCHER!$AF22:$AH22,PREENCHER!E22)=0,CONCATENATE(PREENCHER!AQ22,#REF!),PREENCHER!E22))","v":""},{"$f":"IF(PREENCHER!F22=\"\",\"\",IF(COUNTIF(PREENCHER!$AF22:$AH22,PREENCHER!F22)=0,CONCATENATE(PREENCHER!AR22,#REF!),PREENCHER!F22))","v":""},{"$f":"IF(PREENCHER!G22=\"\",\"\",IF(COUNTIF(PREENCHER!$AF22:$AH22,PREENCHER!G22)=0,CONCATENATE(PREENCHER!AS22,#REF!),PREENCHER!G22))","v":""},{"$f":"IF(PREENCHER!H22=\"\",\"\",IF(COUNTIF(PREENCHER!$AF22:$AH22,PREENCHER!H22)=0,CONCATENATE(PREENCHER!AT22,#REF!),PREENCHER!H22))","v":""},{"$f":"IF(PREENCHER!I22=\"\",\"\",IF(COUNTIF(PREENCHER!$AF22:$AH22,PREENCHER!I22)=0,CONCATENATE(PREENCHER!AU22,#REF!),PREENCHER!I22))","v":""},{"$f":"IF(PREENCHER!J22=\"\",\"\",IF(COUNTIF(PREENCHER!$AF22:$AH22,PREENCHER!J22)=0,CONCATENATE(PREENCHER!AV22,#REF!),PREENCHER!J22))","v":""},{"$f":"IF(PREENCHER!K22=\"\",\"\",IF(COUNTIF(PREENCHER!$AF22:$AH22,PREENCHER!K22)=0,CONCATENATE(PREENCHER!AW22,#REF!),PREENCHER!K22))","v":""},{"$f":"IF(PREENCHER!L22=\"\",\"\",IF(COUNTIF(PREENCHER!$AF22:$AH22,PREENCHER!L22)=0,CONCATENATE(PREENCHER!AX22,#REF!),PREENCHER!L22))","v":""},{"$f":"IF(PREENCHER!M22=\"\",\"\",IF(COUNTIF(PREENCHER!$AF22:$AH22,PREENCHER!M22)=0,CONCATENATE(PREENCHER!AY22,#REF!),PREENCHER!M22))","v":""},{"$f":"IF(PREENCHER!N22=\"\",\"\",IF(COUNTIF(PREENCHER!$AF22:$AH22,PREENCHER!N22)=0,CONCATENATE(PREENCHER!AZ22,#REF!),PREENCHER!N22))","v":""},{"$f":"IF(ISERROR(ROUND(AVERAGE(E22:N22),2)),\"\",ROUND(AVERAGE(E22:N22),2))","v":""},{"$f":"IF(ISERROR(ROUND(O22*D22,2)),\"\",ROUND(O22*D22,2))","v":""},null,null,{"$f":"IF(ISERROR(MEDIAN(E22:N22)),\"\",MEDIAN(E22:N22))","v":""},{"$f":"IF(ISERROR(STDEV(E22:N22)),\"\",STDEV(E22:N22))","v":""},{"$f":"IF(ISERROR(T22/O22),\"\",T22/O22)","v":""}]
[{"$f":"IF(PREENCHER!A23=\"\",\"\",PREENCHER!A23)","v":""},{"$f":"IF(PREENCHER!B23=\"\",\"\",PREENCHER!B23)","v":""},{"$f":"IF(PREENCHER!C23=\"\",\"\",PREENCHER!C23)","v":""},{"$f":"IF(PREENCHER!D23=\"\",\"\",PREENCHER!D23)","v":""},{"$f":"IF(PREENCHER!E23=\"\",\"\",IF(COUNTIF(PREENCHER!$AF23:$AH23,PREENCHER!E23)=0,CONCATENATE(PREENCHER!AQ23,#REF!),PREENCHER!E23))","v":""},{"$f":"IF(PREENCHER!F23=\"\",\"\",IF(COUNTIF(PREENCHER!$AF23:$AH23,PREENCHER!F23)=0,CONCATENATE(PREENCHER!AR23,#REF!),PREENCHER!F23))","v":""},{"$f":"IF(PREENCHER!G23=\"\",\"\",IF(COUNTIF(PREENCHER!$AF23:$AH23,PREENCHER!G23)=0,CONCATENATE(PREENCHER!AS23,#REF!),PREENCHER!G23))","v":""},{"$f":"IF(PREENCHER!H23=\"\",\"\",IF(COUNTIF(PREENCHER!$AF23:$AH23,PREENCHER!H23)=0,CONCATENATE(PREENCHER!AT23,#REF!),PREENCHER!H23))","v":""},{"$f":"IF(PREENCHER!I23=\"\",\"\",IF(COUNTIF(PREENCHER!$AF23:$AH23,PREENCHER!I23)=0,CONCATENATE(PREENCHER!AU23,#REF!),PREENCHER!I23))","v":""},{"$f":"IF(PREENCHER!J23=\"\",\"\",IF(COUNTIF(PREENCHER!$AF23:$AH23,PREENCHER!J23)=0,CONCATENATE(PREENCHER!AV23,#REF!),PREENCHER!J23))","v":""},{"$f":"IF(PREENCHER!K23=\"\",\"\",IF(COUNTIF(PREENCHER!$AF23:$AH23,PREENCHER!K23)=0,CONCATENATE(PREENCHER!AW23,#REF!),PREENCHER!K23))","v":""},{"$f":"IF(PREENCHER!L23=\"\",\"\",IF(COUNTIF(PREENCHER!$AF23:$AH23,PREENCHER!L23)=0,CONCATENATE(PREENCHER!AX23,#REF!),PREENCHER!L23))","v":""},{"$f":"IF(PREENCHER!M23=\"\",\"\",IF(COUNTIF(PREENCHER!$AF23:$AH23,PREENCHER!M23)=0,CONCATENATE(PREENCHER!AY23,#REF!),PREENCHER!M23))","v":""},{"$f":"IF(PREENCHER!N23=\"\",\"\",IF(COUNTIF(PREENCHER!$AF23:$AH23,PREENCHER!N23)=0,CONCATENATE(PREENCHER!AZ23,#REF!),PREENCHER!N23))","v":""},{"$f":"IF(ISERROR(ROUND(AVERAGE(E23:N23),2)),\"\",ROUND(AVERAGE(E23:N23),2))","v":""},{"$f":"IF(ISERROR(ROUND(O23*D23,2)),\"\",ROUND(O23*D23,2))","v":""},null,null,{"$f":"IF(ISERROR(MEDIAN(E23:N23)),\"\",MEDIAN(E23:N23))","v":""},{"$f":"IF(ISERROR(STDEV(E23:N23)),\"\",STDEV(E23:N23))","v":""},{"$f":"IF(ISERROR(T23/O23),\"\",T23/O23)","v":""}]
[{"$f":"IF(PREENCHER!A24=\"\",\"\",PREENCHER!A24)","v":""},{"$f":"IF(PREENCHER!B24=\"\",\"\",PREENCHER!B24)","v":""},{"$f":"IF(PREENCHER!C24=\"\",\"\",PREENCHER!C24)","v":""},{"$f":"IF(PREENCHER!D24=\"\",\"\",PREENCHER!D24)","v":""},{"$f":"IF(PREENCHER!E24=\"\",\"\",IF(COUNTIF(PREENCHER!$AF24:$AH24,PREENCHER!E24)=0,CONCATENATE(PREENCHER!AQ24,#REF!),PREENCHER!E24))","v":""},{"$f":"IF(PREENCHER!F24=\"\",\"\",IF(COUNTIF(PREENCHER!$AF24:$AH24,PREENCHER!F24)=0,CONCATENATE(PREENCHER!AR24,#REF!),PREENCHER!F24))","v":""},{"$f":"IF(PREENCHER!G24=\"\",\"\",IF(COUNTIF(PREENCHER!$AF24:$AH24,PREENCHER!G24)=0,CONCATENATE(PREENCHER!AS24,#REF!),PREENCHER!G24))","v":""},{"$f":"IF(PREENCHER!H24=\"\",\"\",IF(COUNTIF(PREENCHER!$AF24:$AH24,PREENCHER!H24)=0,CONCATENATE(PREENCHER!AT24,#REF!),PREENCHER!H24))","v":""},{"$f":"IF(PREENCHER!I24=\"\",\"\",IF(COUNTIF(PREENCHER!$AF24:$AH24,PREENCHER!I24)=0,CONCATENATE(PREENCHER!AU24,#REF!),PREENCHER!I24))","v":""},{"$f":"IF(PREENCHER!J24=\"\",\"\",IF(COUNTIF(PREENCHER!$AF24:$AH24,PREENCHER!J24)=0,CONCATENATE(PREENCHER!AV24,#REF!),PREENCHER!J24))","v":""},{"$f":"IF(PREENCHER!K24=\"\",\"\",IF(COUNTIF(PREENCHER!$AF24:$AH24,PREENCHER!K24)=0,CONCATENATE(PREENCHER!AW24,#REF!),PREENCHER!K24))","v":""},{"$f":"IF(PREENCHER!L24=\"\",\"\",IF(COUNTIF(PREENCHER!$AF24:$AH24,PREENCHER!L24)=0,CONCATENATE(PREENCHER!AX24,#REF!),PREENCHER!L24))","v":""},{"$f":"IF(PREENCHER!M24=\"\",\"\",IF(COUNTIF(PREENCHER!$AF24:$AH24,PREENCHER!M24)=0,CONCATENATE(PREENCHER!AY24,#REF!),PREENCHER!M24))","v":""},{"$f":"IF(PREENCHER!N24=\"\",\"\",IF(COUNTIF(PREENCHER!$AF24:$AH24,PREENCHER!N24)=0,CONCATENATE(PREENCHER!AZ24,#REF!),PREENCHER!N24))","v":""},{"$f":"IF(ISERROR(ROUND(AVERAGE(E24:N24),2)),\"\",ROUND(AVERAGE(E24:N24),2))","v":""},{"$f":"IF(ISERROR(ROUND(O24*D24,2)),\"\",ROUND(O24*D24,2))","v":""},null,null,{"$f":"IF(ISERROR(MEDIAN(E24:N24)),\"\",MEDIAN(E24:N24))","v":""},{"$f":"IF(ISERROR(STDEV(E24:N24)),\"\",STDEV(E24:N24))","v":""},{"$f":"IF(ISERROR(T24/O24),\"\",T24/O24)","v":""}]
[{"$f":"IF(PREENCHER!A25=\"\",\"\",PREENCHER!A25)","v":""},{"$f":"IF(PREENCHER!B25=\"\",\"\",PREENCHER!B25)","v":""},{"$f":"IF(PREENCHER!C25=\"\",\"\",PREENCHER!C25)","v":""},{"$f":"IF(PREENCHER!D25=\"\",\"\",PREENCHER!D25)","v":""},{"$f":"IF(PREENCHER!E25=\"\",\"\",IF(COUNTIF(PREENCHER!$AF25:$AH25,PREENCHER!E25)=0,CONCATENATE(PREENCHER!AQ25,#REF!),PREENCHER!E25))","v":""},{"$f":"IF(PREENCHER!F25=\"\",\"\",IF(COUNTIF(PREENCHER!$AF25:$AH25,PREENCHER!F25)=0,CONCATENATE(PREENCHER!AR25,#REF!),PREENCHER!F25))","v":""},{"$f":"IF(PREENCHER!G25=\"\",\"\",IF(COUNTIF(PREENCHER!$AF25:$AH25,PREENCHER!G25)=0,CONCATENATE(PREENCHER!AS25,#REF!),PREENCHER!G25))","v":""},{"$f":"IF(PREENCHER!H25=\"\",\"\",IF(COUNTIF(PREENCHER!$AF25:$AH25,PREENCHER!H25)=0,CONCATENATE(PREENCHER!AT25,#REF!),PREENCHER!H25))","v":""},{"$f":"IF(PREENCHER!I25=\"\",\"\",IF(COUNTIF(PREENCHER!$AF25:$AH25,PREENCHER!I25)=0,CONCATENATE(PREENCHER!AU25,#REF!),PREENCHER!I25))","v":""},{"$f":"IF(PREENCHER!J25=\"\",\"\",IF(COUNTIF(PREENCHER!$AF25:$AH25,PREENCHER!J25)=0,CONCATENATE(PREENCHER!AV25,#REF!),PREENCHER!J25))","v":""},{"$f":"IF(PREENCHER!K25=\"\",\"\",IF(COUNTIF(PREENCHER!$AF25:$AH25,PREENCHER!K25)=0,CONCATENATE(PREENCHER!AW25,#REF!),PREENCHER!K25))","v":""},{"$f":"IF(PREENCHER!L25=\"\",\"\",IF(COUNTIF(PREENCHER!$AF25:$AH25,PREENCHER!L25)=0,CONCATENATE(PREENCHER!AX25,#REF!),PREENCHER!L25))","v":""},{"$f":"IF(PREENCHER!M25=\"\",\"\",IF(COUNTIF(PREENCHER!$AF25:$AH25,PREENCHER!M25)=0,CONCATENATE(PREENCHER!AY25,#REF!),PREENCHER!M25))","v":""},{"$f":"IF(PREENCHER!N25=\"\",\"\",IF(COUNTIF(PREENCHER!$AF25:$AH25,PREENCHER!N25)=0,CONCATENATE(PREENCHER!AZ25,#REF!),PREENCHER!N25))","v":""},{"$f":"IF(ISERROR(ROUND(AVERAGE(E25:N25),2)),\"\",ROUND(AVERAGE(E25:N25),2))","v":""},{"$f":"IF(ISERROR(ROUND(O25*D25,2)),\"\",ROUND(O25*D25,2))","v":""},null,null,{"$f":"IF(ISERROR(MEDIAN(E25:N25)),\"\",MEDIAN(E25:N25))","v":""},{"$f":"IF(ISERROR(STDEV(E25:N25)),\"\",STDEV(E25:N25))","v":""},{"$f":"IF(ISERROR(T25/O25),\"\",T25/O25)","v":""}]
[{"$f":"IF(PREENCHER!A26=\"\",\"\",PREENCHER!A26)","v":""},{"$f":"IF(PREENCHER!B26=\"\",\"\",PREENCHER!B26)","v":""},{"$f":"IF(PREENCHER!C26=\"\",\"\",PREENCHER!C26)","v":""},{"$f":"IF(PREENCHER!D26=\"\",\"\",PREENCHER!D26)","v":""},{"$f":"IF(PREENCHER!E26=\"\",\"\",IF(COUNTIF(PREENCHER!$AF26:$AH26,PREENCHER!E26)=0,CONCATENATE(PREENCHER!AQ26,#REF!),PREENCHER!E26))","v":""},{"$f":"IF(PREENCHER!F26=\"\",\"\",IF(COUNTIF(PREENCHER!$AF26:$AH26,PREENCHER!F26)=0,CONCATENATE(PREENCHER!AR26,#REF!),PREENCHER!F26))","v":""},{"$f":"IF(PREENCHER!G26=\"\",\"\",IF(COUNTIF(PREENCHER!$AF26:$AH26,PREENCHER!G26)=0,CONCATENATE(PREENCHER!AS26,#REF!),PREENCHER!G26))","v":""},{"$f":"IF(PREENCHER!H26=\"\",\"\",IF(COUNTIF(PREENCHER!$AF26:$AH26,PREENCHER!H26)=0,CONCATENATE(PREENCHER!AT26,#REF!),PREENCHER!H26))","v":""},{"$f":"IF(PREENCHER!I26=\"\",\"\",IF(COUNTIF(PREENCHER!$AF26:$AH26,PREENCHER!I26)=0,CONCATENATE(PREENCHER!AU26,#REF!),PREENCHER!I26))","v":""},{"$f":"IF(PREENCHER!J26=\"\",\"\",IF(COUNTIF(PREENCHER!$AF26:$AH26,PREENCHER!J26)=0,CONCATENATE(PREENCHER!AV26,#REF!),PREENCHER!J26))","v":""},{"$f":"IF(PREENCHER!K26=\"\",\"\",IF(COUNTIF(PREENCHER!$AF26:$AH26,PREENCHER!K26)=0,CONCATENATE(PREENCHER!AW26,#REF!),PREENCHER!K26))","v":""},{"$f":"IF(PREENCHER!L26=\"\",\"\",IF(COUNTIF(PREENCHER!$AF26:$AH26,PREENCHER!L26)=0,CONCATENATE(PREENCHER!AX26,#REF!),PREENCHER!L26))","v":""},{"$f":"IF(PREENCHER!M26=\"\",\"\",IF(COUNTIF(PREENCHER!$AF26:$AH26,PREENCHER!M26)=0,CONCATENATE(PREENCHER!AY26,#REF!),PREENCHER!M26))","v":""},{"$f":"IF(PREENCHER!N26=\"\",\"\",IF(COUNTIF(PREENCHER!$AF26:$AH26,PREENCHER!N26)=0,CONCATENATE(PREENCHER!AZ26,#REF!),PREENCHER!N26))","v":""},{"$f":"IF(ISERROR(ROUND(AVERAGE(E26:N26),2)),\"\",ROUND(AVERAGE(E26:N26),2))","v":""},{"$f":"IF(ISERROR(ROUND(O26*D26,2)),\"\",ROUND(O26*D26,2))","v":""},null,null,{"$f":"IF(ISERROR(MEDIAN(E26:N26)),\"\",MEDIAN(E26:N26))","v":""},{"$f":"IF(ISERROR(STDEV(E26:N26)),\"\",STDEV(E26:N26))","v":""},{"$f":"IF(ISERROR(T26/O26),\"\",T26/O26)","v":""}]
[{"$f":"IF(PREENCHER!A27=\"\",\"\",PREENCHER!A27)","v":""},{"$f":"IF(PREENCHER!B27=\"\",\"\",PREENCHER!B27)","v":""},{"$f":"IF(PREENCHER!C27=\"\",\"\",PREENCHER!C27)","v":""},{"$f":"IF(PREENCHER!D27=\"\",\"\",PREENCHER!D27)","v":""},{"$f":"IF(PREENCHER!E27=\"\",\"\",IF(COUNTIF(PREENCHER!$AF27:$AH27,PREENCHER!E27)=0,CONCATENATE(PREENCHER!AQ27,#REF!),PREENCHER!E27))","v":""},{"$f":"IF(PREENCHER!F27=\"\",\"\",IF(COUNTIF(PREENCHER!$AF27:$AH27,PREENCHER!F27)=0,CONCATENATE(PREENCHER!AR27,#REF!),PREENCHER!F27))","v":""},{"$f":"IF(PREENCHER!G27=\"\",\"\",IF(COUNTIF(PREENCHER!$AF27:$AH27,PREENCHER!G27)=0,CONCATENATE(PREENCHER!AS27,#REF!),PREENCHER!G27))","v":""},{"$f":"IF(PREENCHER!H27=\"\",\"\",IF(COUNTIF(PREENCHER!$AF27:$AH27,PREENCHER!H27)=0,CONCATENATE(PREENCHER!AT27,#REF!),PREENCHER!H27))","v":""},{"$f":"IF(PREENCHER!I27=\"\",\"\",IF(COUNTIF(PREENCHER!$AF27:$AH27,PREENCHER!I27)=0,CONCATENATE(PREENCHER!AU27,#REF!),PREENCHER!I27))","v":""},{"$f":"IF(PREENCHER!J27=\"\",\"\",IF(COUNTIF(PREENCHER!$AF27:$AH27,PREENCHER!J27)=0,CONCATENATE(PREENCHER!AV27,#REF!),PREENCHER!J27))","v":""},{"$f":"IF(PREENCHER!K27=\"\",\"\",IF(COUNTIF(PREENCHER!$AF27:$AH27,PREENCHER!K27)=0,CONCATENATE(PREENCHER!AW27,#REF!),PREENCHER!K27))","v":""},{"$f":"IF(PREENCHER!L27=\"\",\"\",IF(COUNTIF(PREENCHER!$AF27:$AH27,PREENCHER!L27)=0,CONCATENATE(PREENCHER!AX27,#REF!),PREENCHER!L27))","v":""},{"$f":"IF(PREENCHER!M27=\"\",\"\",IF(COUNTIF(PREENCHER!$AF27:$AH27,PREENCHER!M27)=0,CONCATENATE(PREENCHER!AY27,#REF!),PREENCHER!M27))","v":""},{"$f":"IF(PREENCHER!N27=\"\",\"\",IF(COUNTIF(PREENCHER!$AF27:$AH27,PREENCHER!N27)=0,CONCATENATE(PREENCHER!AZ27,#REF!),PREENCHER!N27))","v":""},{"$f":"IF(ISERROR(ROUND(AVERAGE(E27:N27),2)),\"\",ROUND(AVERAGE(E27:N27),2))","v":""},{"$f":"IF(ISERROR(ROUND(O27*D27,2)),\"\",ROUND(O27*D27,2))","v":""},null,null,{"$f":"IF(ISERROR(MEDIAN(E27:N27)),\"\",MEDIAN(E27:N27))","v":""},{"$f":"IF(ISERROR(STDEV(E27:N27)),\"\",STDEV(E27:N27))","v":""},{"$f":"IF(ISERROR(T27/O27),\"\",T27/O27)","v":""}]
[{"$f":"IF(PREENCHER!A28=\"\",\"\",PREENCHER!A28)","v":""},{"$f":"IF(PREENCHER!B28=\"\",\"\",PREENCHER!B28)","v":""},{"$f":"IF(PREENCHER!C28=\"\",\"\",PREENCHER!C28)","v":""},{"$f":"IF(PREENCHER!D28=\"\",\"\",PREENCHER!D28)","v":""},{"$f":"IF(PREENCHER!E28=\"\",\"\",IF(COUNTIF(PREENCHER!$AF28:$AH28,PREENCHER!E28)=0,CONCATENATE(PREENCHER!AQ28,#REF!),PREENCHER!E28))","v":""},{"$f":"IF(PREENCHER!F28=\"\",\"\",IF(COUNTIF(PREENCHER!$AF28:$AH28,PREENCHER!F28)=0,CONCATENATE(PREENCHER!AR28,#REF!),PREENCHER!F28))","v":""},{"$f":"IF(PREENCHER!G28=\"\",\"\",IF(COUNTIF(PREENCHER!$AF28:$AH28,PREENCHER!G28)=0,CONCATENATE(PREENCHER!AS28,#REF!),PREENCHER!G28))","v":""},{"$f":"IF(PREENCHER!H28=\"\",\"\",IF(COUNTIF(PREENCHER!$AF28:$AH28,PREENCHER!H28)=0,CONCATENATE(PREENCHER!AT28,#REF!),PREENCHER!H28))","v":""},{"$f":"IF(PREENCHER!I28=\"\",\"\",IF(COUNTIF(PREENCHER!$AF28:$AH28,PREENCHER!I28)=0,CONCATENATE(PREENCHER!AU28,#REF!),PREENCHER!I28))","v":""},{"$f":"IF(PREENCHER!J28=\"\",\"\",IF(COUNTIF(PREENCHER!$AF28:$AH28,PREENCHER!J28)=0,CONCATENATE(PREENCHER!AV28,#REF!),PREENCHER!J28))","v":""},{"$f":"IF(PREENCHER!K28=\"\",\"\",IF(COUNTIF(PREENCHER!$AF28:$AH28,PREENCHER!K28)=0,CONCATENATE(PREENCHER!AW28,#REF!),PREENCHER!K28))","v":""},{"$f":"IF(PREENCHER!L28=\"\",\"\",IF(COUNTIF(PREENCHER!$AF28:$AH28,PREENCHER!L28)=0,CONCATENATE(PREENCHER!AX28,#REF!),PREENCHER!L28))","v":""},{"$f":"IF(PREENCHER!M28=\"\",\"\",IF(COUNTIF(PREENCHER!$AF28:$AH28,PREENCHER!M28)=0,CONCATENATE(PREENCHER!AY28,#REF!),PREENCHER!M28))","v":""},{"$f":"IF(PREENCHER!N28=\"\",\"\",IF(COUNTIF(PREENCHER!$AF28:$AH28,PREENCHER!N28)=0,CONCATENATE(PREENCHER!AZ28,#REF!),PREENCHER!N28))","v":""},{"$f":"IF(ISERROR(ROUND(AVERAGE(E28:N28),2)),\"\",ROUND(AVERAGE(E28:N28),2))","v":""},{"$f":"IF(ISERROR(ROUND(O28*D28,2)),\"\",ROUND(O28*D28,2))","v":""},null,null,{"$f":"IF(ISERROR(MEDIAN(E28:N28)),\"\",MEDIAN(E28:N28))","v":""},{"$f":"IF(ISERROR(STDEV(E28:N28)),\"\",STDEV(E28:N28))","v":""},{"$f":"IF(ISERROR(T28/O28),\"\",T28/O28)","v":""}]
[{"$f":"IF(PREENCHER!A29=\"\",\"\",PREENCHER!A29)","v":""},{"$f":"IF(PREENCHER!B29=\"\",\"\",PREENCHER!B29)","v":""},{"$f":"IF(PREENCHER!C29=\"\",\"\",PREENCHER!C29)","v":""},{"$f":"IF(PREENCHER!D29=\"\",\"\",PREENCHER!D29)","v":""},{"$f":"IF(PREENCHER!E29=\"\",\"\",IF(COUNTIF(PREENCHER!$AF29:$AH29,PREENCHER!E29)=0,CONCATENATE(PREENCHER!AQ29,#REF!),PREENCHER!E29))","v":""},{"$f":"IF(PREENCHER!F29=\"\",\"\",IF(COUNTIF(PREENCHER!$AF29:$AH29,PREENCHER!F29)=0,CONCATENATE(PREENCHER!AR29,#REF!),PREENCHER!F29))","v":""},{"$f":"IF(PREENCHER!G29=\"\",\"\",IF(COUNTIF(PREENCHER!$AF29:$AH29,PREENCHER!G29)=0,CONCATENATE(PREENCHER!AS29,#REF!),PREENCHER!G29))","v":""},{"$f":"IF(PREENCHER!H29=\"\",\"\",IF(COUNTIF(PREENCHER!$AF29:$AH29,PREENCHER!H29)=0,CONCATENATE(PREENCHER!AT29,#REF!),PREENCHER!H29))","v":""},{"$f":"IF(PREENCHER!I29=\"\",\"\",IF(COUNTIF(PREENCHER!$AF29:$AH29,PREENCHER!I29)=0,CONCATENATE(PREENCHER!AU29,#REF!),PREENCHER!I29))","v":""},{"$f":"IF(PREENCHER!J29=\"\",\"\",IF(COUNTIF(PREENCHER!$AF29:$AH29,PREENCHER!J29)=0,CONCATENATE(PREENCHER!AV29,#REF!),PREENCHER!J29))","v":""},{"$f":"IF(PREENCHER!K29=\"\",\"\",IF(COUNTIF(PREENCHER!$AF29:$AH29,PREENCHER!K29)=0,CONCATENATE(PREENCHER!AW29,#REF!),PREENCHER!K29))","v":""},{"$f":"IF(PREENCHER!L29=\"\",\"\",IF(COUNTIF(PREENCHER!$AF29:$AH29,PREENCHER!L29)=0,CONCATENATE(PREENCHER!AX29,#REF!),PREENCHER!L29))","v":""},{"$f":"IF(PREENCHER!M29=\"\",\"\",IF(COUNTIF(PREENCHER!$AF29:$AH29,PREENCHER!M29)=0,CONCATENATE(PREENCHER!AY29,#REF!),PREENCHER!M29))","v":""},{"$f":"IF(PREENCHER!N29=\"\",\"\",IF(COUNTIF(PREENCHER!$AF29:$AH29,PREENCHER!N29)=0,CONCATENATE(PREENCHER!AZ29,#REF!),PREENCHER!N29))","v":""},{"$f":"IF(ISERROR(ROUND(AVERAGE(E29:N29),2)),\"\",ROUND(AVERAGE(E29:N29),2))","v":""},{"$f":"IF(ISERROR(ROUND(O29*D29,2)),\"\",ROUND(O29*D29,2))","v":""},null,null,{"$f":"IF(ISERROR(MEDIAN(E29:N29)),\"\",MEDIAN(E29:N29))","v":""},{"$f":"IF(ISERROR(STDEV(E29:N29)),\"\",STDEV(E29:N29))","v":""},{"$f":"IF(ISERROR(T29/O29),\"\",T29/O29)","v":""}]
[{"$f":"IF(PREENCHER!A30=\"\",\"\",PREENCHER!A30)","v":""},{"$f":"IF(PREENCHER!B30=\"\",\"\",PREENCHER!B30)","v":""},{"$f":"IF(PREENCHER!C30=\"\",\"\",PREENCHER!C30)","v":""},{"$f":"IF(PREENCHER!D30=\"\",\"\",PREENCHER!D30)","v":""},{"$f":"IF(PREENCHER!E30=\"\",\"\",IF(COUNTIF(PREENCHER!$AF30:$AH30,PREENCHER!E30)=0,CONCATENATE(PREENCHER!AQ30,#REF!),PREENCHER!E30))","v":""},{"$f":"IF(PREENCHER!F30=\"\",\"\",IF(COUNTIF(PREENCHER!$AF30:$AH30,PREENCHER!F30)=0,CONCATENATE(PREENCHER!AR30,#REF!),PREENCHER!F30))","v":""},{"$f":"IF(PREENCHER!G30=\"\",\"\",IF(COUNTIF(PREENCHER!$AF30:$AH30,PREENCHER!G30)=0,CONCATENATE(PREENCHER!AS30,#REF!),PREENCHER!G30))","v":""},{"$f":"IF(PREENCHER!H30=\"\",\"\",IF(COUNTIF(PREENCHER!$AF30:$AH30,PREENCHER!H30)=0,CONCATENATE(PREENCHER!AT30,#REF!),PREENCHER!H30))","v":""},{"$f":"IF(PREENCHER!I30=\"\",\"\",IF(COUNTIF(PREENCHER!$AF30:$AH30,PREENCHER!I30)=0,CONCATENATE(PREENCHER!AU30,#REF!),PREENCHER!I30))","v":""},{"$f":"IF(PREENCHER!J30=\"\",\"\",IF(COUNTIF(PREENCHER!$AF30:$AH30,PREENCHER!J30)=0,CONCATENATE(PREENCHER!AV30,#REF!),PREENCHER!J30))","v":""},{"$f":"IF(PREENCHER!K30=\"\",\"\",IF(COUNTIF(PREENCHER!$AF30:$AH30,PREENCHER!K30)=0,CONCATENATE(PREENCHER!AW30,#REF!),PREENCHER!K30))","v":""},{"$f":"IF(PREENCHER!L30=\"\",\"\",IF(COUNTIF(PREENCHER!$AF30:$AH30,PREENCHER!L30)=0,CONCATENATE(PREENCHER!AX30,#REF!),PREENCHER!L30))","v":""},{"$f":"IF(PREENCHER!M30=\"\",\"\",IF(COUNTIF(PREENCHER!$AF30:$AH30,PREENCHER!M30)=0,CONCATENATE(PREENCHER!AY30,#REF!),PREENCHER!M30))","v":""},{"$f":"IF(PREENCHER!N30=\"\",\"\",IF(COUNTIF(PREENCHER!$AF30:$AH30,PREENCHER!N30)=0,CONCATENATE(PREENCHER!AZ30,#REF!),PREENCHER!N30))","v":""},{"$f":"IF(ISERROR(ROUND(AVERAGE(E30:N30),2)),\"\",ROUND(AVERAGE(E30:N30),2))","v":""},{"$f":"IF(ISERROR(ROUND(O30*D30,2)),\"\",ROUND(O30*D30,2))","v":""},null,null,{"$f":"IF(ISERROR(MEDIAN(E30:N30)),\"\",MEDIAN(E30:N30))","v":""},{"$f":"IF(ISERROR(STDEV(E30:N30)),\"\",STDEV(E30:N30))","v":""},{"$f":"IF(ISERROR(T30/O30),\"\",T30/O30)","v":""}]
[{"$f":"IF(PREENCHER!A31=\"\",\"\",PREENCHER!A31)","v":""},{"$f":"IF(PREENCHER!B31=\"\",\"\",PREENCHER!B31)","v":""},{"$f":"IF(PREENCHER!C31=\"\",\"\",PREENCHER!C31)","v":""},{"$f":"IF(PREENCHER!D31=\"\",\"\",PREENCHER!D31)","v":""},{"$f":"IF(PREENCHER!E31=\"\",\"\",IF(COUNTIF(PREENCHER!$AF31:$AH31,PREENCHER!E31)=0,CONCATENATE(PREENCHER!AQ31,#REF!),PREENCHER!E31))","v":""},{"$f":"IF(PREENCHER!F31=\"\",\"\",IF(COUNTIF(PREENCHER!$AF31:$AH31,PREENCHER!F31)=0,CONCATENATE(PREENCHER!AR31,#REF!),PREENCHER!F31))","v":""},{"$f":"IF(PREENCHER!G31=\"\",\"\",IF(COUNTIF(PREENCHER!$AF31:$AH31,PREENCHER!G31)=0,CONCATENATE(PREENCHER!AS31,#REF!),PREENCHER!G31))","v":""},{"$f":"IF(PREENCHER!H31=\"\",\"\",IF(COUNTIF(PREENCHER!$AF31:$AH31,PREENCHER!H31)=0,CONCATENATE(PREENCHER!AT31,#REF!),PREENCHER!H31))","v":""},{"$f":"IF(PREENCHER!I31=\"\",\"\",IF(COUNTIF(PREENCHER!$AF31:$AH31,PREENCHER!I31)=0,CONCATENATE(PREENCHER!AU31,#REF!),PREENCHER!I31))","v":""},{"$f":"IF(PREENCHER!J31=\"\",\"\",IF(COUNTIF(PREENCHER!$AF31:$AH31,PREENCHER!J31)=0,CONCATENATE(PREENCHER!AV31,#REF!),PREENCHER!J31))","v":""},{"$f":"IF(PREENCHER!K31=\"\",\"\",IF(COUNTIF(PREENCHER!$AF31:$AH31,PREENCHER!K31)=0,CONCATENATE(PREENCHER!AW31,#REF!),PREENCHER!K31))","v":""},{"$f":"IF(PREENCHER!L31=\"\",\"\",IF(COUNTIF(PREENCHER!$AF31:$AH31,PREENCHER!L31)=0,CONCATENATE(PREENCHER!AX31,#REF!),PREENCHER!L31))","v":""},{"$f":"IF(PREENCHER!M31=\"\",\"\",IF(COUNTIF(PREENCHER!$AF31:$AH31,PREENCHER!M31)=0,CONCATENATE(PREENCHER!AY31,#REF!),PREENCHER!M31))","v":""},{"$f":"IF(PREENCHER!N31=\"\",\"\",IF(COUNTIF(PREENCHER!$AF31:$AH31,PREENCHER!N31)=0,CONCATENATE(PREENCHER!AZ31,#REF!),PREENCHER!N31))","v":""},{"$f":"IF(ISERROR(ROUND(AVERAGE(E31:N31),2)),\"\",ROUND(AVERAGE(E31:N31),2))","v":""},{"$f":"IF(ISERROR(ROUND(O31*D31,2)),\"\",ROUND(O31*D31,2))","v":""},null,null,{"$f":"IF(ISERROR(MEDIAN(E31:N31)),\"\",MEDIAN(E31:N31))","v":""},{"$f":"IF(ISERROR(STDEV(E31:N31)),\"\",STDEV(E31:N31))","v":""},{"$f":"IF(ISERROR(T31/O31),\"\",T31/O31)","v":""}]
[{"$f":"IF(PREENCHER!A32=\"\",\"\",PREENCHER!A32)","v":""},{"$f":"IF(PREENCHER!B32=\"\",\"\",PREENCHER!B32)","v":""},{"$f":"IF(PREENCHER!C32=\"\",\"\",PREENCHER!C32)","v":""},{"$f":"IF(PREENCHER!D32=\"\",\"\",PREENCHER!D32)","v":""},{"$f":"IF(PREENCHER!E32=\"\",\"\",IF(COUNTIF(PREENCHER!$AF32:$AH32,PREENCHER!E32)=0,CONCATENATE(PREENCHER!AQ32,#REF!),PREENCHER!E32))","v":""},{"$f":"IF(PREENCHER!F32=\"\",\"\",IF(COUNTIF(PREENCHER!$AF32:$AH32,PREENCHER!F32)=0,CONCATENATE(PREENCHER!AR32,#REF!),PREENCHER!F32))","v":""},{"$f":"IF(PREENCHER!G32=\"\",\"\",IF(COUNTIF(PREENCHER!$AF32:$AH32,PREENCHER!G32)=0,CONCATENATE(PREENCHER!AS32,#REF!),PREENCHER!G32))","v":""},{"$f":"IF(PREENCHER!H32=\"\",\"\",IF(COUNTIF(PREENCHER!$AF32:$AH32,PREENCHER!H32)=0,CONCATENATE(PREENCHER!AT32,#REF!),PREENCHER!H32))","v":""},{"$f":"IF(PREENCHER!I32=\"\",\"\",IF(COUNTIF(PREENCHER!$AF32:$AH32,PREENCHER!I32)=0,CONCATENATE(PREENCHER!AU32,#REF!),PREENCHER!I32))","v":""},{"$f":"IF(PREENCHER!J32=\"\",\"\",IF(COUNTIF(PREENCHER!$AF32:$AH32,PREENCHER!J32)=0,CONCATENATE(PREENCHER!AV32,#REF!),PREENCHER!J32))","v":""},{"$f":"IF(PREENCHER!K32=\"\",\"\",IF(COUNTIF(PREENCHER!$AF32:$AH32,PREENCHER!K32)=0,CONCATENATE(PREENCHER!AW32,#REF!),PREENCHER!K32))","v":""},{"$f":"IF(PREENCHER!L32=\"\",\"\",IF(COUNTIF(PREENCHER!$AF32:$AH32,PREENCHER!L32)=0,CONCATENATE(PREENCHER!AX32,#REF!),PREENCHER!L32))","v":""},{"$f":"IF(PREENCHER!M32=\"\",\"\",IF(COUNTIF(PREENCHER!$AF32:$AH32,PREENCHER!M32)=0,CONCATENATE(PREENCHER!AY32,#REF!),PREENCHER!M32))","v":""},{"$f":"IF(PREENCHER!N32=\"\",\"\",IF(COUNTIF(PREENCHER!$AF32:$AH32,PREENCHER!N32)=0,CONCATENATE(PREENCHER!AZ32,#REF!),PREENCHER!N32))","v":""},{"$f":"IF(ISERROR(ROUND(AVERAGE(E32:N32),2)),\"\",ROUND(AVERAGE(E32:N32),2))","v":""},{"$f":"IF(ISERROR(ROUND(O32*D32,2)),\"\",ROUND(O32*D32,2))","v":""},null,null,{"$f":"IF(ISERROR(MEDIAN(E32:N32)),\"\",MEDIAN(E32:N32))","v":""},{"$f":"IF(ISERROR(STDEV(E32:N32)),\"\",STDEV(E32:N32))","v":""},{"$f":"IF(ISERROR(T32/O32),\"\",T32/O32)","v":""}]
[{"$f":"IF(PREENCHER!A33=\"\",\"\",PREENCHER!A33)","v":""},{"$f":"IF(PREENCHER!B33=\"\",\"\",PREENCHER!B33)","v":""},{"$f":"IF(PREENCHER!C33=\"\",\"\",PREENCHER!C33)","v":""},{"$f":"IF(PREENCHER!D33=\"\",\"\",PREENCHER!D33)","v":""},{"$f":"IF(PREENCHER!E33=\"\",\"\",IF(COUNTIF(PREENCHER!$AF33:$AH33,PREENCHER!E33)=0,CONCATENATE(PREENCHER!AQ33,#REF!),PREENCHER!E33))","v":""},{"$f":"IF(PREENCHER!F33=\"\",\"\",IF(COUNTIF(PREENCHER!$AF33:$AH33,PREENCHER!F33)=0,CONCATENATE(PREENCHER!AR33,#REF!),PREENCHER!F33))","v":""},{"$f":"IF(PREENCHER!G33=\"\",\"\",IF(COUNTIF(PREENCHER!$AF33:$AH33,PREENCHER!G33)=0,CONCATENATE(PREENCHER!AS33,#REF!),PREENCHER!G33))","v":""},{"$f":"IF(PREENCHER!H33=\"\",\"\",IF(COUNTIF(PREENCHER!$AF33:$AH33,PREENCHER!H33)=0,CONCATENATE(PREENCHER!AT33,#REF!),PREENCHER!H33))","v":""},{"$f":"IF(PREENCHER!I33=\"\",\"\",IF(COUNTIF(PREENCHER!$AF33:$AH33,PREENCHER!I33)=0,CONCATENATE(PREENCHER!AU33,#REF!),PREENCHER!I33))","v":""},{"$f":"IF(PREENCHER!J33=\"\",\"\",IF(COUNTIF(PREENCHER!$AF33:$AH33,PREENCHER!J33)=0,CONCATENATE(PREENCHER!AV33,#REF!),PREENCHER!J33))","v":""},{"$f":"IF(PREENCHER!K33=\"\",\"\",IF(COUNTIF(PREENCHER!$AF33:$AH33,PREENCHER!K33)=0,CONCATENATE(PREENCHER!AW33,#REF!),PREENCHER!K33))","v":""},{"$f":"IF(PREENCHER!L33=\"\",\"\",IF(COUNTIF(PREENCHER!$AF33:$AH33,PREENCHER!L33)=0,CONCATENATE(PREENCHER!AX33,#REF!),PREENCHER!L33))","v":""},{"$f":"IF(PREENCHER!M33=\"\",\"\",IF(COUNTIF(PREENCHER!$AF33:$AH33,PREENCHER!M33)=0,CONCATENATE(PREENCHER!AY33,#REF!),PREENCHER!M33))","v":""},{"$f":"IF(PREENCHER!N33=\"\",\"\",IF(COUNTIF(PREENCHER!$AF33:$AH33,PREENCHER!N33)=0,CONCATENATE(PREENCHER!AZ33,#REF!),PREENCHER!N33))","v":""},{"$f":"IF(ISERROR(ROUND(AVERAGE(E33:N33),2)),\"\",ROUND(AVERAGE(E33:N33),2))","v":""},{"$f":"IF(ISERROR(ROUND(O33*D33,2)),\"\",ROUND(O33*D33,2))","v":""},null,null,{"$f":"IF(ISERROR(MEDIAN(E33:N33)),\"\",MEDIAN(E33:N33))","v":""},{"$f":"IF(ISERROR(STDEV(E33:N33)),\"\",STDEV(E33:N33))","v":""},{"$f":"IF(ISERROR(T33/O33),\"\",T33/O33)","v":""}]
[{"$f":"IF(PREENCHER!A34=\"\",\"\",PREENCHER!A34)","v":""},{"$f":"IF(PREENCHER!B34=\"\",\"\",PREENCHER!B34)","v":""},{"$f":"IF(PREENCHER!C34=\"\",\"\",PREENCHER!C34)","v":""},{"$f":"IF(PREENCHER!D34=\"\",\"\",PREENCHER!D34)","v":""},{"$f":"IF(PREENCHER!E34=\"\",\"\",IF(COUNTIF(PREENCHER!$AF34:$AH34,PREENCHER!E34)=0,CONCATENATE(PREENCHER!AQ34,#REF!),PREENCHER!E34))","v":""},{"$f":"IF(PREENCHER!F34=\"\",\"\",IF(COUNTIF(PREENCHER!$AF34:$AH34,PREENCHER!F34)=0,CONCATENATE(PREENCHER!AR34,#REF!),PREENCHER!F34))","v":""},{"$f":"IF(PREENCHER!G34=\"\",\"\",IF(COUNTIF(PREENCHER!$AF34:$AH34,PREENCHER!G34)=0,CONCATENATE(PREENCHER!AS34,#REF!),PREENCHER!G34))","v":""},{"$f":"IF(PREENCHER!H34=\"\",\"\",IF(COUNTIF(PREENCHER!$AF34:$AH34,PREENCHER!H34)=0,CONCATENATE(PREENCHER!AT34,#REF!),PREENCHER!H34))","v":""},{"$f":"IF(PREENCHER!I34=\"\",\"\",IF(COUNTIF(PREENCHER!$AF34:$AH34,PREENCHER!I34)=0,CONCATENATE(PREENCHER!AU34,#REF!),PREENCHER!I34))","v":""},{"$f":"IF(PREENCHER!J34=\"\",\"\",IF(COUNTIF(PREENCHER!$AF34:$AH34,PREENCHER!J34)=0,CONCATENATE(PREENCHER!AV34,#REF!),PREENCHER!J34))","v":""},{"$f":"IF(PREENCHER!K34=\"\",\"\",IF(COUNTIF(PREENCHER!$AF34:$AH34,PREENCHER!K34)=0,CONCATENATE(PREENCHER!AW34,#REF!),PREENCHER!K34))","v":""},{"$f":"IF(PREENCHER!L34=\"\",\"\",IF(COUNTIF(PREENCHER!$AF34:$AH34,PREENCHER!L34)=0,CONCATENATE(PREENCHER!AX34,#REF!),PREENCHER!L34))","v":""},{"$f":"IF(PREENCHER!M34=\"\",\"\",IF(COUNTIF(PREENCHER!$AF34:$AH34,PREENCHER!M34)=0,CONCATENATE(PREENCHER!AY34,#REF!),PREENCHER!M34))","v":""},{"$f":"IF(PREENCHER!N34=\"\",\"\",IF(COUNTIF(PREENCHER!$AF34:$AH34,PREENCHER!N34)=0,CONCATENATE(PREENCHER!AZ34,#REF!),PREENCHER!N34))","v":""},{"$f":"IF(ISERROR(ROUND(AVERAGE(E34:N34),2)),\"\",ROUND(AVERAGE(E34:N34),2))","v":""},{"$f":"IF(ISERROR(ROUND(O34*D34,2)),\"\",ROUND(O34*D34,2))","v":""},null,null,{"$f":"IF(ISERROR(MEDIAN(E34:N34)),\"\",MEDIAN(E34:N34))","v":""},{"$f":"IF(ISERROR(STDEV(E34:N34)),\"\",STDEV(E34:N34))","v":""},{"$f":"IF(ISERROR(T34/O34),\"\",T34/O34)","v":""}]
[{"$f":"IF(PREENCHER!A35=\"\",\"\",PREENCHER!A35)","v":""},{"$f":"IF(PREENCHER!B35=\"\",\"\",PREENCHER!B35)","v":""},{"$f":"IF(PREENCHER!C35=\"\",\"\",PREENCHER!C35)","v":""},{"$f":"IF(PREENCHER!D35=\"\",\"\",PREENCHER!D35)","v":""},{"$f":"IF(PREENCHER!E35=\"\",\"\",IF(COUNTIF(PREENCHER!$AF35:$AH35,PREENCHER!E35)=0,CONCATENATE(PREENCHER!AQ35,#REF!),PREENCHER!E35))","v":""},{"$f":"IF(PREENCHER!F35=\"\",\"\",IF(COUNTIF(PREENCHER!$AF35:$AH35,PREENCHER!F35)=0,CONCATENATE(PREENCHER!AR35,#REF!),PREENCHER!F35))","v":""},{"$f":"IF(PREENCHER!G35=\"\",\"\",IF(COUNTIF(PREENCHER!$AF35:$AH35,PREENCHER!G35)=0,CONCATENATE(PREENCHER!AS35,#REF!),PREENCHER!G35))","v":""},{"$f":"IF(PREENCHER!H35=\"\",\"\",IF(COUNTIF(PREENCHER!$AF35:$AH35,PREENCHER!H35)=0,CONCATENATE(PREENCHER!AT35,#REF!),PREENCHER!H35))","v":""},{"$f":"IF(PREENCHER!I35=\"\",\"\",IF(COUNTIF(PREENCHER!$AF35:$AH35,PREENCHER!I35)=0,CONCATENATE(PREENCHER!AU35,#REF!),PREENCHER!I35))","v":""},{"$f":"IF(PREENCHER!J35=\"\",\"\",IF(COUNTIF(PREENCHER!$AF35:$AH35,PREENCHER!J35)=0,CONCATENATE(PREENCHER!AV35,#REF!),PREENCHER!J35))","v":""},{"$f":"IF(PREENCHER!K35=\"\",\"\",IF(COUNTIF(PREENCHER!$AF35:$AH35,PREENCHER!K35)=0,CONCATENATE(PREENCHER!AW35,#REF!),PREENCHER!K35))","v":""},{"$f":"IF(PREENCHER!L35=\"\",\"\",IF(COUNTIF(PREENCHER!$AF35:$AH35,PREENCHER!L35)=0,CONCATENATE(PREENCHER!AX35,#REF!),PREENCHER!L35))","v":""},{"$f":"IF(PREENCHER!M35=\"\",\"\",IF(COUNTIF(PREENCHER!$AF35:$AH35,PREENCHER!M35)=0,CONCATENATE(PREENCHER!AY35,#REF!),PREENCHER!M35))","v":""},{"$f":"IF(PREENCHER!N35=\"\",\"\",IF(COUNTIF(PREENCHER!$AF35:$AH35,PREENCHER!N35)=0,CONCATENATE(PREENCHER!AZ35,#REF!),PREENCHER!N35))","v":""},{"$f":"IF(ISERROR(ROUND(AVERAGE(E35:N35),2)),\"\",ROUND(AVERAGE(E35:N35),2))","v":""},{"$f":"IF(ISERROR(ROUND(O35*D35,2)),\"\",ROUND(O35*D35,2))","v":""},null,null,{"$f":"IF(ISERROR(MEDIAN(E35:N35)),\"\",MEDIAN(E35:N35))","v":""},{"$f":"IF(ISERROR(STDEV(E35:N35)),\"\",STDEV(E35:N35))","v":""},{"$f":"IF(ISERROR(T35/O35),\"\",T35/O35)","v":""}]
[{"$f":"IF(PREENCHER!A36=\"\",\"\",PREENCHER!A36)","v":""},{"$f":"IF(PREENCHER!B36=\"\",\"\",PREENCHER!B36)","v":""},{"$f":"IF(PREENCHER!C36=\"\",\"\",PREENCHER!C36)","v":""},{"$f":"IF(PREENCHER!D36=\"\",\"\",PREENCHER!D36)","v":""},{"$f":"IF(PREENCHER!E36=\"\",\"\",IF(COUNTIF(PREENCHER!$AF36:$AH36,PREENCHER!E36)=0,CONCATENATE(PREENCHER!AQ36,#REF!),PREENCHER!E36))","v":""},{"$f":"IF(PREENCHER!F36=\"\",\"\",IF(COUNTIF(PREENCHER!$AF36:$AH36,PREENCHER!F36)=0,CONCATENATE(PREENCHER!AR36,#REF!),PREENCHER!F36))","v":""},{"$f":"IF(PREENCHER!G36=\"\",\"\",IF(COUNTIF(PREENCHER!$AF36:$AH36,PREENCHER!G36)=0,CONCATENATE(PREENCHER!AS36,#REF!),PREENCHER!G36))","v":""},{"$f":"IF(PREENCHER!H36=\"\",\"\",IF(COUNTIF(PREENCHER!$AF36:$AH36,PREENCHER!H36)=0,CONCATENATE(PREENCHER!AT36,#REF!),PREENCHER!H36))","v":""},{"$f":"IF(PREENCHER!I36=\"\",\"\",IF(COUNTIF(PREENCHER!$AF36:$AH36,PREENCHER!I36)=0,CONCATENATE(PREENCHER!AU36,#REF!),PREENCHER!I36))","v":""},{"$f":"IF(PREENCHER!J36=\"\",\"\",IF(COUNTIF(PREENCHER!$AF36:$AH36,PREENCHER!J36)=0,CONCATENATE(PREENCHER!AV36,#REF!),PREENCHER!J36))","v":""},{"$f":"IF(PREENCHER!K36=\"\",\"\",IF(COUNTIF(PREENCHER!$AF36:$AH36,PREENCHER!K36)=0,CONCATENATE(PREENCHER!AW36,#REF!),PREENCHER!K36))","v":""},{"$f":"IF(PREENCHER!L36=\"\",\"\",IF(COUNTIF(PREENCHER!$AF36:$AH36,PREENCHER!L36)=0,CONCATENATE(PREENCHER!AX36,#REF!),PREENCHER!L36))","v":""},{"$f":"IF(PREENCHER!M36=\"\",\"\",IF(COUNTIF(PREENCHER!$AF36:$AH36,PREENCHER!M36)=0,CONCATENATE(PREENCHER!AY36,#REF!),PREENCHER!M36))","v":""},{"$f":"IF(PREENCHER!N36=\"\",\"\",IF(COUNTIF(PREENCHER!$AF36:$AH36,PREENCHER!N36)=0,CONCATENATE(PREENCHER!AZ36,#REF!),PREENCHER!N36))","v":""},{"$f":"IF(ISERROR(ROUND(AVERAGE(E36:N36),2)),\"\",ROUND(AVERAGE(E36:N36),2))","v":""},{"$f":"IF(ISERROR(ROUND(O36*D36,2)),\"\",ROUND(O36*D36,2))","v":""},null,null,{"$f":"IF(ISERROR(MEDIAN(E36:N36)),\"\",MEDIAN(E36:N36))","v":""},{"$f":"IF(ISERROR(STDEV(E36:N36)),\"\",STDEV(E36:N36))","v":""},{"$f":"IF(ISERROR(T36/O36),\"\",T36/O36)","v":""}]
[{"$f":"IF(PREENCHER!A37=\"\",\"\",PREENCHER!A37)","v":""},{"$f":"IF(PREENCHER!B37=\"\",\"\",PREENCHER!B37)","v":""},{"$f":"IF(PREENCHER!C37=\"\",\"\",PREENCHER!C37)","v":""},{"$f":"IF(PREENCHER!D37=\"\",\"\",PREENCHER!D37)","v":""},{"$f":"IF(PREENCHER!E37=\"\",\"\",IF(COUNTIF(PREENCHER!$AF37:$AH37,PREENCHER!E37)=0,CONCATENATE(PREENCHER!AQ37,#REF!),PREENCHER!E37))","v":""},{"$f":"IF(PREENCHER!F37=\"\",\"\",IF(COUNTIF(PREENCHER!$AF37:$AH37,PREENCHER!F37)=0,CONCATENATE(PREENCHER!AR37,#REF!),PREENCHER!F37))","v":""},{"$f":"IF(PREENCHER!G37=\"\",\"\",IF(COUNTIF(PREENCHER!$AF37:$AH37,PREENCHER!G37)=0,CONCATENATE(PREENCHER!AS37,#REF!),PREENCHER!G37))","v":""},{"$f":"IF(PREENCHER!H37=\"\",\"\",IF(COUNTIF(PREENCHER!$AF37:$AH37,PREENCHER!H37)=0,CONCATENATE(PREENCHER!AT37,#REF!),PREENCHER!H37))","v":""},{"$f":"IF(PREENCHER!I37=\"\",\"\",IF(COUNTIF(PREENCHER!$AF37:$AH37,PREENCHER!I37)=0,CONCATENATE(PREENCHER!AU37,#REF!),PREENCHER!I37))","v":""},{"$f":"IF(PREENCHER!J37=\"\",\"\",IF(COUNTIF(PREENCHER!$AF37:$AH37,PREENCHER!J37)=0,CONCATENATE(PREENCHER!AV37,#REF!),PREENCHER!J37))","v":""},{"$f":"IF(PREENCHER!K37=\"\",\"\",IF(COUNTIF(PREENCHER!$AF37:$AH37,PREENCHER!K37)=0,CONCATENATE(PREENCHER!AW37,#REF!),PREENCHER!K37))","v":""},{"$f":"IF(PREENCHER!L37=\"\",\"\",IF(COUNTIF(PREENCHER!$AF37:$AH37,PREENCHER!L37)=0,CONCATENATE(PREENCHER!AX37,#REF!),PREENCHER!L37))","v":""},{"$f":"IF(PREENCHER!M37=\"\",\"\",IF(COUNTIF(PREENCHER!$AF37:$AH37,PREENCHER!M37)=0,CONCATENATE(PREENCHER!AY37,#REF!),PREENCHER!M37))","v":""},{"$f":"IF(PREENCHER!N37=\"\",\"\",IF(COUNTIF(PREENCHER!$AF37:$AH37,PREENCHER!N37)=0,CONCATENATE(PREENCHER!AZ37,#REF!),PREENCHER!N37))","v":""},{"$f":"IF(ISERROR(ROUND(AVERAGE(E37:N37),2)),\"\",ROUND(AVERAGE(E37:N37),2))","v":""},{"$f":"IF(ISERROR(ROUND(O37*D37,2)),\"\",ROUND(O37*D37,2))","v":""},null,null,{"$f":"IF(ISERROR(MEDIAN(E37:N37)),\"\",MEDIAN(E37:N37))","v":""},{"$f":"IF(ISERROR(STDEV(E37:N37)),\"\",STDEV(E37:N37))","v":""},{"$f":"IF(ISERROR(T37/O37),\"\",T37/O37)","v":""}]
[{"$f":"IF(PREENCHER!A38=\"\",\"\",PREENCHER!A38)","v":""},{"$f":"IF(PREENCHER!B38=\"\",\"\",PREENCHER!B38)","v":""},{"$f":"IF(PREENCHER!C38=\"\",\"\",PREENCHER!C38)","v":""},{"$f":"IF(PREENCHER!D38=\"\",\"\",PREENCHER!D38)","v":""},{"$f":"IF(PREENCHER!E38=\"\",\"\",IF(COUNTIF(PREENCHER!$AF38:$AH38,PREENCHER!E38)=0,CONCATENATE(PREENCHER!AQ38,#REF!),PREENCHER!E38))","v":""},{"$f":"IF(PREENCHER!F38=\"\",\"\",IF(COUNTIF(PREENCHER!$AF38:$AH38,PREENCHER!F38)=0,CONCATENATE(PREENCHER!AR38,#REF!),PREENCHER!F38))","v":""},{"$f":"IF(PREENCHER!G38=\"\",\"\",IF(COUNTIF(PREENCHER!$AF38:$AH38,PREENCHER!G38)=0,CONCATENATE(PREENCHER!AS38,#REF!),PREENCHER!G38))","v":""},{"$f":"IF(PREENCHER!H38=\"\",\"\",IF(COUNTIF(PREENCHER!$AF38:$AH38,PREENCHER!H38)=0,CONCATENATE(PREENCHER!AT38,#REF!),PREENCHER!H38))","v":""},{"$f":"IF(PREENCHER!I38=\"\",\"\",IF(COUNTIF(PREENCHER!$AF38:$AH38,PREENCHER!I38)=0,CONCATENATE(PREENCHER!AU38,#REF!),PREENCHER!I38))","v":""},{"$f":"IF(PREENCHER!J38=\"\",\"\",IF(COUNTIF(PREENCHER!$AF38:$AH38,PREENCHER!J38)=0,CONCATENATE(PREENCHER!AV38,#REF!),PREENCHER!J38))","v":""},{"$f":"IF(PREENCHER!K38=\"\",\"\",IF(COUNTIF(PREENCHER!$AF38:$AH38,PREENCHER!K38)=0,CONCATENATE(PREENCHER!AW38,#REF!),PREENCHER!K38))","v":""},{"$f":"IF(PREENCHER!L38=\"\",\"\",IF(COUNTIF(PREENCHER!$AF38:$AH38,PREENCHER!L38)=0,CONCATENATE(PREENCHER!AX38,#REF!),PREENCHER!L38))","v":""},{"$f":"IF(PREENCHER!M38=\"\",\"\",IF(COUNTIF(PREENCHER!$AF38:$AH38,PREENCHER!M38)=0,CONCATENATE(PREENCHER!AY38,#REF!),PREENCHER!M38))","v":""},{"$f":"IF(PREENCHER!N38=\"\",\"\",IF(COUNTIF(PREENCHER!$AF38:$AH38,PREENCHER!N38)=0,CONCATENATE(PREENCHER!AZ38,#REF!),PREENCHER!N38))","v":""},{"$f":"IF(ISERROR(ROUND(AVERAGE(E38:N38),2)),\"\",ROUND(AVERAGE(E38:N38),2))","v":""},{"$f":"IF(ISERROR(ROUND(O38*D38,2)),\"\",ROUND(O38*D38,2))","v":""},null,null,{"$f":"IF(ISERROR(MEDIAN(E38:N38)),\"\",MEDIAN(E38:N38))","v":""},{"$f":"IF(ISERROR(STDEV(E38:N38)),\"\",STDEV(E38:N38))","v":""},{"$f":"IF(ISERROR(T38/O38),\"\",T38/O38)","v":""}]
[{"$f":"IF(PREENCHER!A39=\"\",\"\",PREENCHER!A39)","v":""},{"$f":"IF(PREENCHER!B39=\"\",\"\",PREENCHER!B39)","v":""},{"$f":"IF(PREENCHER!C39=\"\",\"\",PREENCHER!C39)","v":""},{"$f":"IF(PREENCHER!D39=\"\",\"\",PREENCHER!D39)","v":""},{"$f":"IF(PREENCHER!E39=\"\",\"\",IF(COUNTIF(PREENCHER!$AF39:$AH39,PREENCHER!E39)=0,CONCATENATE(PREENCHER!AQ39,#REF!),PREENCHER!E39))","v":""},{"$f":"IF(PREENCHER!F39=\"\",\"\",IF(COUNTIF(PREENCHER!$AF39:$AH39,PREENCHER!F39)=0,CONCATENATE(PREENCHER!AR39,#REF!),PREENCHER!F39))","v":""},{"$f":"IF(PREENCHER!G39=\"\",\"\",IF(COUNTIF(PREENCHER!$AF39:$AH39,PREENCHER!G39)=0,CONCATENATE(PREENCHER!AS39,#REF!),PREENCHER!G39))","v":""},{"$f":"IF(PREENCHER!H39=\"\",\"\",IF(COUNTIF(PREENCHER!$AF39:$AH39,PREENCHER!H39)=0,CONCATENATE(PREENCHER!AT39,#REF!),PREENCHER!H39))","v":""},{"$f":"IF(PREENCHER!I39=\"\",\"\",IF(COUNTIF(PREENCHER!$AF39:$AH39,PREENCHER!I39)=0,CONCATENATE(PREENCHER!AU39,#REF!),PREENCHER!I39))","v":""},{"$f":"IF(PREENCHER!J39=\"\",\"\",IF(COUNTIF(PREENCHER!$AF39:$AH39,PREENCHER!J39)=0,CONCATENATE(PREENCHER!AV39,#REF!),PREENCHER!J39))","v":""},{"$f":"IF(PREENCHER!K39=\"\",\"\",IF(COUNTIF(PREENCHER!$AF39:$AH39,PREENCHER!K39)=0,CONCATENATE(PREENCHER!AW39,#REF!),PREENCHER!K39))","v":""},{"$f":"IF(PREENCHER!L39=\"\",\"\",IF(COUNTIF(PREENCHER!$AF39:$AH39,PREENCHER!L39)=0,CONCATENATE(PREENCHER!AX39,#REF!),PREENCHER!L39))","v":""},{"$f":"IF(PREENCHER!M39=\"\",\"\",IF(COUNTIF(PREENCHER!$AF39:$AH39,PREENCHER!M39)=0,CONCATENATE(PREENCHER!AY39,#REF!),PREENCHER!M39))","v":""},{"$f":"IF(PREENCHER!N39=\"\",\"\",IF(COUNTIF(PREENCHER!$AF39:$AH39,PREENCHER!N39)=0,CONCATENATE(PREENCHER!AZ39,#REF!),PREENCHER!N39))","v":""},{"$f":"IF(ISERROR(ROUND(AVERAGE(E39:N39),2)),\"\",ROUND(AVERAGE(E39:N39),2))","v":""},{"$f":"IF(ISERROR(ROUND(O39*D39,2)),\"\",ROUND(O39*D39,2))","v":""},null,null,{"$f":"IF(ISERROR(MEDIAN(E39:N39)),\"\",MEDIAN(E39:N39))","v":""},{"$f":"IF(ISERROR(STDEV(E39:N39)),\"\",STDEV(E39:N39))","v":""},{"$f":"IF(ISERROR(T39/O39),\"\",T39/O39)","v":""}]
[{"$f":"IF(PREENCHER!A40=\"\",\"\",PREENCHER!A40)","v":""},{"$f":"IF(PREENCHER!B40=\"\",\"\",PREENCHER!B40)","v":""},{"$f":"IF(PREENCHER!C40=\"\",\"\",PREENCHER!C40)","v":""},{"$f":"IF(PREENCHER!D40=\"\",\"\",PREENCHER!D40)","v":""},{"$f":"IF(PREENCHER!E40=\"\",\"\",IF(COUNTIF(PREENCHER!$AF40:$AH40,PREENCHER!E40)=0,CONCATENATE(PREENCHER!AQ40,#REF!),PREENCHER!E40))","v":""},{"$f":"IF(PREENCHER!F40=\"\",\"\",IF(COUNTIF(PREENCHER!$AF40:$AH40,PREENCHER!F40)=0,CONCATENATE(PREENCHER!AR40,#REF!),PREENCHER!F40))","v":""},{"$f":"IF(PREENCHER!G40=\"\",\"\",IF(COUNTIF(PREENCHER!$AF40:$AH40,PREENCHER!G40)=0,CONCATENATE(PREENCHER!AS40,#REF!),PREENCHER!G40))","v":""},{"$f":"IF(PREENCHER!H40=\"\",\"\",IF(COUNTIF(PREENCHER!$AF40:$AH40,PREENCHER!H40)=0,CONCATENATE(PREENCHER!AT40,#REF!),PREENCHER!H40))","v":""},{"$f":"IF(PREENCHER!I40=\"\",\"\",IF(COUNTIF(PREENCHER!$AF40:$AH40,PREENCHER!I40)=0,CONCATENATE(PREENCHER!AU40,#REF!),PREENCHER!I40))","v":""},{"$f":"IF(PREENCHER!J40=\"\",\"\",IF(COUNTIF(PREENCHER!$AF40:$AH40,PREENCHER!J40)=0,CONCATENATE(PREENCHER!AV40,#REF!),PREENCHER!J40))","v":""},{"$f":"IF(PREENCHER!K40=\"\",\"\",IF(COUNTIF(PREENCHER!$AF40:$AH40,PREENCHER!K40)=0,CONCATENATE(PREENCHER!AW40,#REF!),PREENCHER!K40))","v":""},{"$f":"IF(PREENCHER!L40=\"\",\"\",IF(COUNTIF(PREENCHER!$AF40:$AH40,PREENCHER!L40)=0,CONCATENATE(PREENCHER!AX40,#REF!),PREENCHER!L40))","v":""},{"$f":"IF(PREENCHER!M40=\"\",\"\",IF(COUNTIF(PREENCHER!$AF40:$AH40,PREENCHER!M40)=0,CONCATENATE(PREENCHER!AY40,#REF!),PREENCHER!M40))","v":""},{"$f":"IF(PREENCHER!N40=\"\",\"\",IF(COUNTIF(PREENCHER!$AF40:$AH40,PREENCHER!N40)=0,CONCATENATE(PREENCHER!AZ40,#REF!),PREENCHER!N40))","v":""},{"$f":"IF(ISERROR(ROUND(AVERAGE(E40:N40),2)),\"\",ROUND(AVERAGE(E40:N40),2))","v":""},{"$f":"IF(ISERROR(ROUND(O40*D40,2)),\"\",ROUND(O40*D40,2))","v":""},null,null,{"$f":"IF(ISERROR(MEDIAN(E40:N40)),\"\",MEDIAN(E40:N40))","v":""},{"$f":"IF(ISERROR(STDEV(E40:N40)),\"\",STDEV(E40:N40))","v":""},{"$f":"IF(ISERROR(T40/O40),\"\",T40/O40)","v":""}]
[{"$f":"IF(PREENCHER!A41=\"\",\"\",PREENCHER!A41)","v":""},{"$f":"IF(PREENCHER!B41=\"\",\"\",PREENCHER!B41)","v":""},{"$f":"IF(PREENCHER!C41=\"\",\"\",PREENCHER!C41)","v":""},{"$f":"IF(PREENCHER!D41=\"\",\"\",PREENCHER!D41)","v":""},{"$f":"IF(PREENCHER!E41=\"\",\"\",IF(COUNTIF(PREENCHER!$AF41:$AH41,PREENCHER!E41)=0,CONCATENATE(PREENCHER!AQ41,#REF!),PREENCHER!E41))","v":""},{"$f":"IF(PREENCHER!F41=\"\",\"\",IF(COUNTIF(PREENCHER!$AF41:$AH41,PREENCHER!F41)=0,CONCATENATE(PREENCHER!AR41,#REF!),PREENCHER!F41))","v":""},{"$f":"IF(PREENCHER!G41=\"\",\"\",IF(COUNTIF(PREENCHER!$AF41:$AH41,PREENCHER!G41)=0,CONCATENATE(PREENCHER!AS41,#REF!),PREENCHER!G41))","v":""},{"$f":"IF(PREENCHER!H41=\"\",\"\",IF(COUNTIF(PREENCHER!$AF41:$AH41,PREENCHER!H41)=0,CONCATENATE(PREENCHER!AT41,#REF!),PREENCHER!H41))","v":""},{"$f":"IF(PREENCHER!I41=\"\",\"\",IF(COUNTIF(PREENCHER!$AF41:$AH41,PREENCHER!I41)=0,CONCATENATE(PREENCHER!AU41,#REF!),PREENCHER!I41))","v":""},{"$f":"IF(PREENCHER!J41=\"\",\"\",IF(COUNTIF(PREENCHER!$AF41:$AH41,PREENCHER!J41)=0,CONCATENATE(PREENCHER!AV41,#REF!),PREENCHER!J41))","v":""},{"$f":"IF(PREENCHER!K41=\"\",\"\",IF(COUNTIF(PREENCHER!$AF41:$AH41,PREENCHER!K41)=0,CONCATENATE(PREENCHER!AW41,#REF!),PREENCHER!K41))","v":""},{"$f":"IF(PREENCHER!L41=\"\",\"\",IF(COUNTIF(PREENCHER!$AF41:$AH41,PREENCHER!L41)=0,CONCATENATE(PREENCHER!AX41,#REF!),PREENCHER!L41))","v":""},{"$f":"IF(PREENCHER!M41=\"\",\"\",IF(COUNTIF(PREENCHER!$AF41:$AH41,PREENCHER!M41)=0,CONCATENATE(PREENCHER!AY41,#REF!),PREENCHER!M41))","v":""},{"$f":"IF(PREENCHER!N41=\"\",\"\",IF(COUNTIF(PREENCHER!$AF41:$AH41,PREENCHER!N41)=0,CONCATENATE(PREENCHER!AZ41,#REF!),PREENCHER!N41))","v":""},{"$f":"IF(ISERROR(ROUND(AVERAGE(E41:N41),2)),\"\",ROUND(AVERAGE(E41:N41),2))","v":""},{"$f":"IF(ISERROR(ROUND(O41*D41,2)),\"\",ROUND(O41*D41,2))","v":""},null,null,{"$f":"IF(ISERROR(MEDIAN(E41:N41)),\"\",MEDIAN(E41:N41))","v":""},{"$f":"IF(ISERROR(STDEV(E41:N41)),\"\",STDEV(E41:N41))","v":""},{"$f":"IF(ISERROR(T41/O41),\"\",T41/O41)","v":""}]
[{"$f":"IF(PREENCHER!A42=\"\",\"\",PREENCHER!A42)","v":""},{"$f":"IF(PREENCHER!B42=\"\",\"\",PREENCHER!B42)","v":""},{"$f":"IF(PREENCHER!C42=\"\",\"\",PREENCHER!C42)","v":""},{"$f":"IF(PREENCHER!D42=\"\",\"\",PREENCHER!D42)","v":""},{"$f":"IF(PREENCHER!E42=\"\",\"\",IF(COUNTIF(PREENCHER!$AF42:$AH42,PREENCHER!E42)=0,CONCATENATE(PREENCHER!AQ42,#REF!),PREENCHER!E42))","v":""},{"$f":"IF(PREENCHER!F42=\"\",\"\",IF(COUNTIF(PREENCHER!$AF42:$AH42,PREENCHER!F42)=0,CONCATENATE(PREENCHER!AR42,#REF!),PREENCHER!F42))","v":""},{"$f":"IF(PREENCHER!G42=\"\",\"\",IF(COUNTIF(PREENCHER!$AF42:$AH42,PREENCHER!G42)=0,CONCATENATE(PREENCHER!AS42,#REF!),PREENCHER!G42))","v":""},{"$f":"IF(PREENCHER!H42=\"\",\"\",IF(COUNTIF(PREENCHER!$AF42:$AH42,PREENCHER!H42)=0,CONCATENATE(PREENCHER!AT42,#REF!),PREENCHER!H42))","v":""},{"$f":"IF(PREENCHER!I42=\"\",\"\",IF(COUNTIF(PREENCHER!$AF42:$AH42,PREENCHER!I42)=0,CONCATENATE(PREENCHER!AU42,#REF!),PREENCHER!I42))","v":""},{"$f":"IF(PREENCHER!J42=\"\",\"\",IF(COUNTIF(PREENCHER!$AF42:$AH42,PREENCHER!J42)=0,CONCATENATE(PREENCHER!AV42,#REF!),PREENCHER!J42))","v":""},{"$f":"IF(PREENCHER!K42=\"\",\"\",IF(COUNTIF(PREENCHER!$AF42:$AH42,PREENCHER!K42)=0,CONCATENATE(PREENCHER!AW42,#REF!),PREENCHER!K42))","v":""},{"$f":"IF(PREENCHER!L42=\"\",\"\",IF(COUNTIF(PREENCHER!$AF42:$AH42,PREENCHER!L42)=0,CONCATENATE(PREENCHER!AX42,#REF!),PREENCHER!L42))","v":""},{"$f":"IF(PREENCHER!M42=\"\",\"\",IF(COUNTIF(PREENCHER!$AF42:$AH42,PREENCHER!M42)=0,CONCATENATE(PREENCHER!AY42,#REF!),PREENCHER!M42))","v":""},{"$f":"IF(PREENCHER!N42=\"\",\"\",IF(COUNTIF(PREENCHER!$AF42:$AH42,PREENCHER!N42)=0,CONCATENATE(PREENCHER!AZ42,#REF!),PREENCHER!N42))","v":""},{"$f":"IF(ISERROR(ROUND(AVERAGE(E42:N42),2)),\"\",ROUND(AVERAGE(E42:N42),2))","v":""},{"$f":"IF(ISERROR(ROUND(O42*D42,2)),\"\",ROUND(O42*D42,2))","v":""},null,null,{"$f":"IF(ISERROR(MEDIAN(E42:N42)),\"\",MEDIAN(E42:N42))","v":""},{"$f":"IF(ISERROR(STDEV(E42:N42)),\"\",STDEV(E42:N42))","v":""},{"$f":"IF(ISERROR(T42/O42),\"\",T42/O42)","v":""}]
[{"$f":"IF(PREENCHER!A43=\"\",\"\",PREENCHER!A43)","v":""},{"$f":"IF(PREENCHER!B43=\"\",\"\",PREENCHER!B43)","v":""},{"$f":"IF(PREENCHER!C43=\"\",\"\",PREENCHER!C43)","v":""},{"$f":"IF(PREENCHER!D43=\"\",\"\",PREENCHER!D43)","v":""},{"$f":"IF(PREENCHER!E43=\"\",\"\",IF(COUNTIF(PREENCHER!$AF43:$AH43,PREENCHER!E43)=0,CONCATENATE(PREENCHER!AQ43,#REF!),PREENCHER!E43))","v":""},{"$f":"IF(PREENCHER!F43=\"\",\"\",IF(COUNTIF(PREENCHER!$AF43:$AH43,PREENCHER!F43)=0,CONCATENATE(PREENCHER!AR43,#REF!),PREENCHER!F43))","v":""},{"$f":"IF(PREENCHER!G43=\"\",\"\",IF(COUNTIF(PREENCHER!$AF43:$AH43,PREENCHER!G43)=0,CONCATENATE(PREENCHER!AS43,#REF!),PREENCHER!G43))","v":""},{"$f":"IF(PREENCHER!H43=\"\",\"\",IF(COUNTIF(PREENCHER!$AF43:$AH43,PREENCHER!H43)=0,CONCATENATE(PREENCHER!AT43,#REF!),PREENCHER!H43))","v":""},{"$f":"IF(PREENCHER!I43=\"\",\"\",IF(COUNTIF(PREENCHER!$AF43:$AH43,PREENCHER!I43)=0,CONCATENATE(PREENCHER!AU43,#REF!),PREENCHER!I43))","v":""},{"$f":"IF(PREENCHER!J43=\"\",\"\",IF(COUNTIF(PREENCHER!$AF43:$AH43,PREENCHER!J43)=0,CONCATENATE(PREENCHER!AV43,#REF!),PREENCHER!J43))","v":""},{"$f":"IF(PREENCHER!K43=\"\",\"\",IF(COUNTIF(PREENCHER!$AF43:$AH43,PREENCHER!K43)=0,CONCATENATE(PREENCHER!AW43,#REF!),PREENCHER!K43))","v":""},{"$f":"IF(PREENCHER!L43=\"\",\"\",IF(COUNTIF(PREENCHER!$AF43:$AH43,PREENCHER!L43)=0,CONCATENATE(PREENCHER!AX43,#REF!),PREENCHER!L43))","v":""},{"$f":"IF(PREENCHER!M43=\"\",\"\",IF(COUNTIF(PREENCHER!$AF43:$AH43,PREENCHER!M43)=0,CONCATENATE(PREENCHER!AY43,#REF!),PREENCHER!M43))","v":""},{"$f":"IF(PREENCHER!N43=\"\",\"\",IF(COUNTIF(PREENCHER!$AF43:$AH43,PREENCHER!N43)=0,CONCATENATE(PREENCHER!AZ43,#REF!),PREENCHER!N43))","v":""},{"$f":"IF(ISERROR(ROUND(AVERAGE(E43:N43),2)),\"\",ROUND(AVERAGE(E43:N43),2))","v":""},{"$f":"IF(ISERROR(ROUND(O43*D43,2)),\"\",ROUND(O43*D43,2))","v":""},null,null,{"$f":"IF(ISERROR(MEDIAN(E43:N43)),\"\",MEDIAN(E43:N43))","v":""},{"$f":"IF(ISERROR(STDEV(E43:N43)),\"\",STDEV(E43:N43))","v":""},{"$f":"IF(ISERROR(T43/O43),\"\",T43/O43)","v":""}]
[{"$f":"IF(PREENCHER!A44=\"\",\"\",PREENCHER!A44)","v":""},{"$f":"IF(PREENCHER!B44=\"\",\"\",PREENCHER!B44)","v":""},{"$f":"IF(PREENCHER!C44=\"\",\"\",PREENCHER!C44)","v":""},{"$f":"IF(PREENCHER!D44=\"\",\"\",PREENCHER!D44)","v":""},{"$f":"IF(PREENCHER!E44=\"\",\"\",IF(COUNTIF(PREENCHER!$AF44:$AH44,PREENCHER!E44)=0,CONCATENATE(PREENCHER!AQ44,#REF!),PREENCHER!E44))","v":""},{"$f":"IF(PREENCHER!F44=\"\",\"\",IF(COUNTIF(PREENCHER!$AF44:$AH44,PREENCHER!F44)=0,CONCATENATE(PREENCHER!AR44,#REF!),PREENCHER!F44))","v":""},{"$f":"IF(PREENCHER!G44=\"\",\"\",IF(COUNTIF(PREENCHER!$AF44:$AH44,PREENCHER!G44)=0,CONCATENATE(PREENCHER!AS44,#REF!),PREENCHER!G44))","v":""},{"$f":"IF(PREENCHER!H44=\"\",\"\",IF(COUNTIF(PREENCHER!$AF44:$AH44,PREENCHER!H44)=0,CONCATENATE(PREENCHER!AT44,#REF!),PREENCHER!H44))","v":""},{"$f":"IF(PREENCHER!I44=\"\",\"\",IF(COUNTIF(PREENCHER!$AF44:$AH44,PREENCHER!I44)=0,CONCATENATE(PREENCHER!AU44,#REF!),PREENCHER!I44))","v":""},{"$f":"IF(PREENCHER!J44=\"\",\"\",IF(COUNTIF(PREENCHER!$AF44:$AH44,PREENCHER!J44)=0,CONCATENATE(PREENCHER!AV44,#REF!),PREENCHER!J44))","v":""},{"$f":"IF(PREENCHER!K44=\"\",\"\",IF(COUNTIF(PREENCHER!$AF44:$AH44,PREENCHER!K44)=0,CONCATENATE(PREENCHER!AW44,#REF!),PREENCHER!K44))","v":""},{"$f":"IF(PREENCHER!L44=\"\",\"\",IF(COUNTIF(PREENCHER!$AF44:$AH44,PREENCHER!L44)=0,CONCATENATE(PREENCHER!AX44,#REF!),PREENCHER!L44))","v":""},{"$f":"IF(PREENCHER!M44=\"\",\"\",IF(COUNTIF(PREENCHER!$AF44:$AH44,PREENCHER!M44)=0,CONCATENATE(PREENCHER!AY44,#REF!),PREENCHER!M44))","v":""},{"$f":"IF(PREENCHER!N44=\"\",\"\",IF(COUNTIF(PREENCHER!$AF44:$AH44,PREENCHER!N44)=0,CONCATENATE(PREENCHER!AZ44,#REF!),PREENCHER!N44))","v":""},{"$f":"IF(ISERROR(ROUND(AVERAGE(E44:N44),2)),\"\",ROUND(AVERAGE(E44:N44),2))","v":""},{"$f":"IF(ISERROR(ROUND(O44*D44,2)),\"\",ROUND(O44*D44,2))","v":""},null,null,{"$f":"IF(ISERROR(MEDIAN(E44:N44)),\"\",MEDIAN(E44:N44))","v":""},{"$f":"IF(ISERROR(STDEV(E44:N44)),\"\",STDEV(E44:N44))","v":""},{"$f":"IF(ISERROR(T44/O44),\"\",T44/O44)","v":""}]
[{"$f":"IF(PREENCHER!A45=\"\",\"\",PREENCHER!A45)","v":""},{"$f":"IF(PREENCHER!B45=\"\",\"\",PREENCHER!B45)","v":""},{"$f":"IF(PREENCHER!C45=\"\",\"\",PREENCHER!C45)","v":""},{"$f":"IF(PREENCHER!D45=\"\",\"\",PREENCHER!D45)","v":""},{"$f":"IF(PREENCHER!E45=\"\",\"\",IF(COUNTIF(PREENCHER!$AF45:$AH45,PREENCHER!E45)=0,CONCATENATE(PREENCHER!AQ45,#REF!),PREENCHER!E45))","v":""},{"$f":"IF(PREENCHER!F45=\"\",\"\",IF(COUNTIF(PREENCHER!$AF45:$AH45,PREENCHER!F45)=0,CONCATENATE(PREENCHER!AR45,#REF!),PREENCHER!F45))","v":""},{"$f":"IF(PREENCHER!G45=\"\",\"\",IF(COUNTIF(PREENCHER!$AF45:$AH45,PREENCHER!G45)=0,CONCATENATE(PREENCHER!AS45,#REF!),PREENCHER!G45))","v":""},{"$f":"IF(PREENCHER!H45=\"\",\"\",IF(COUNTIF(PREENCHER!$AF45:$AH45,PREENCHER!H45)=0,CONCATENATE(PREENCHER!AT45,#REF!),PREENCHER!H45))","v":""},{"$f":"IF(PREENCHER!I45=\"\",\"\",IF(COUNTIF(PREENCHER!$AF45:$AH45,PREENCHER!I45)=0,CONCATENATE(PREENCHER!AU45,#REF!),PREENCHER!I45))","v":""},{"$f":"IF(PREENCHER!J45=\"\",\"\",IF(COUNTIF(PREENCHER!$AF45:$AH45,PREENCHER!J45)=0,CONCATENATE(PREENCHER!AV45,#REF!),PREENCHER!J45))","v":""},{"$f":"IF(PREENCHER!K45=\"\",\"\",IF(COUNTIF(PREENCHER!$AF45:$AH45,PREENCHER!K45)=0,CONCATENATE(PREENCHER!AW45,#REF!),PREENCHER!K45))","v":""},{"$f":"IF(PREENCHER!L45=\"\",\"\",IF(COUNTIF(PREENCHER!$AF45:$AH45,PREENCHER!L45)=0,CONCATENATE(PREENCHER!AX45,#REF!),PREENCHER!L45))","v":""},{"$f":"IF(PREENCHER!M45=\"\",\"\",IF(COUNTIF(PREENCHER!$AF45:$AH45,PREENCHER!M45)=0,CONCATENATE(PREENCHER!AY45,#REF!),PREENCHER!M45))","v":""},{"$f":"IF(PREENCHER!N45=\"\",\"\",IF(COUNTIF(PREENCHER!$AF45:$AH45,PREENCHER!N45)=0,CONCATENATE(PREENCHER!AZ45,#REF!),PREENCHER!N45))","v":""},{"$f":"IF(ISERROR(ROUND(AVERAGE(E45:N45),2)),\"\",ROUND(AVERAGE(E45:N45),2))","v":""},{"$f":"IF(ISERROR(ROUND(O45*D45,2)),\"\",ROUND(O45*D45,2))","v":""},null,null,{"$f":"IF(ISERROR(MEDIAN(E45:N45)),\"\",MEDIAN(E45:N45))","v":""},{"$f":"IF(ISERROR(STDEV(E45:N45)),\"\",STDEV(E45:N45))","v":""},{"$f":"IF(ISERROR(T45/O45),\"\",T45/O45)","v":""}]
[{"$f":"IF(PREENCHER!A46=\"\",\"\",PREENCHER!A46)","v":""},{"$f":"IF(PREENCHER!B46=\"\",\"\",PREENCHER!B46)","v":""},{"$f":"IF(PREENCHER!C46=\"\",\"\",PREENCHER!C46)","v":""},{"$f":"IF(PREENCHER!D46=\"\",\"\",PREENCHER!D46)","v":""},{"$f":"IF(PREENCHER!E46=\"\",\"\",IF(COUNTIF(PREENCHER!$AF46:$AH46,PREENCHER!E46)=0,CONCATENATE(PREENCHER!AQ46,#REF!),PREENCHER!E46))","v":""},{"$f":"IF(PREENCHER!F46=\"\",\"\",IF(COUNTIF(PREENCHER!$AF46:$AH46,PREENCHER!F46)=0,CONCATENATE(PREENCHER!AR46,#REF!),PREENCHER!F46))","v":""},{"$f":"IF(PREENCHER!G46=\"\",\"\",IF(COUNTIF(PREENCHER!$AF46:$AH46,PREENCHER!G46)=0,CONCATENATE(PREENCHER!AS46,#REF!),PREENCHER!G46))","v":""},{"$f":"IF(PREENCHER!H46=\"\",\"\",IF(COUNTIF(PREENCHER!$AF46:$AH46,PREENCHER!H46)=0,CONCATENATE(PREENCHER!AT46,#REF!),PREENCHER!H46))","v":""},{"$f":"IF(PREENCHER!I46=\"\",\"\",IF(COUNTIF(PREENCHER!$AF46:$AH46,PREENCHER!I46)=0,CONCATENATE(PREENCHER!AU46,#REF!),PREENCHER!I46))","v":""},{"$f":"IF(PREENCHER!J46=\"\",\"\",IF(COUNTIF(PREENCHER!$AF46:$AH46,PREENCHER!J46)=0,CONCATENATE(PREENCHER!AV46,#REF!),PREENCHER!J46))","v":""},{"$f":"IF(PREENCHER!K46=\"\",\"\",IF(COUNTIF(PREENCHER!$AF46:$AH46,PREENCHER!K46)=0,CONCATENATE(PREENCHER!AW46,#REF!),PREENCHER!K46))","v":""},{"$f":"IF(PREENCHER!L46=\"\",\"\",IF(COUNTIF(PREENCHER!$AF46:$AH46,PREENCHER!L46)=0,CONCATENATE(PREENCHER!AX46,#REF!),PREENCHER!L46))","v":""},{"$f":"IF(PREENCHER!M46=\"\",\"\",IF(COUNTIF(PREENCHER!$AF46:$AH46,PREENCHER!M46)=0,CONCATENATE(PREENCHER!AY46,#REF!),PREENCHER!M46))","v":""},{"$f":"IF(PREENCHER!N46=\"\",\"\",IF(COUNTIF(PREENCHER!$AF46:$AH46,PREENCHER!N46)=0,CONCATENATE(PREENCHER!AZ46,#REF!),PREENCHER!N46))","v":""},{"$f":"IF(ISERROR(ROUND(AVERAGE(E46:N46),2)),\"\",ROUND(AVERAGE(E46:N46),2))","v":""},{"$f":"IF(ISERROR(ROUND(O46*D46,2)),\"\",ROUND(O46*D46,2))","v":""},null,null,{"$f":"IF(ISERROR(MEDIAN(E46:N46)),\"\",MEDIAN(E46:N46))","v":""},{"$f":"IF(ISERROR(STDEV(E46:N46)),\"\",STDEV(E46:N46))","v":""},{"$f":"IF(ISERROR(T46/O46),\"\",T46/O46)","v":""}]
[{"$f":"IF(PREENCHER!A47=\"\",\"\",PREENCHER!A47)","v":""},{"$f":"IF(PREENCHER!B47=\"\",\"\",PREENCHER!B47)","v":""},{"$f":"IF(PREENCHER!C47=\"\",\"\",PREENCHER!C47)","v":""},{"$f":"IF(PREENCHER!D47=\"\",\"\",PREENCHER!D47)","v":""},{"$f":"IF(PREENCHER!E47=\"\",\"\",IF(COUNTIF(PREENCHER!$AF47:$AH47,PREENCHER!E47)=0,CONCATENATE(PREENCHER!AQ47,#REF!),PREENCHER!E47))","v":""},{"$f":"IF(PREENCHER!F47=\"\",\"\",IF(COUNTIF(PREENCHER!$AF47:$AH47,PREENCHER!F47)=0,CONCATENATE(PREENCHER!AR47,#REF!),PREENCHER!F47))","v":""},{"$f":"IF(PREENCHER!G47=\"\",\"\",IF(COUNTIF(PREENCHER!$AF47:$AH47,PREENCHER!G47)=0,CONCATENATE(PREENCHER!AS47,#REF!),PREENCHER!G47))","v":""},{"$f":"IF(PREENCHER!H47=\"\",\"\",IF(COUNTIF(PREENCHER!$AF47:$AH47,PREENCHER!H47)=0,CONCATENATE(PREENCHER!AT47,#REF!),PREENCHER!H47))","v":""},{"$f":"IF(PREENCHER!I47=\"\",\"\",IF(COUNTIF(PREENCHER!$AF47:$AH47,PREENCHER!I47)=0,CONCATENATE(PREENCHER!AU47,#REF!),PREENCHER!I47))","v":""},{"$f":"IF(PREENCHER!J47=\"\",\"\",IF(COUNTIF(PREENCHER!$AF47:$AH47,PREENCHER!J47)=0,CONCATENATE(PREENCHER!AV47,#REF!),PREENCHER!J47))","v":""},{"$f":"IF(PREENCHER!K47=\"\",\"\",IF(COUNTIF(PREENCHER!$AF47:$AH47,PREENCHER!K47)=0,CONCATENATE(PREENCHER!AW47,#REF!),PREENCHER!K47))","v":""},{"$f":"IF(PREENCHER!L47=\"\",\"\",IF(COUNTIF(PREENCHER!$AF47:$AH47,PREENCHER!L47)=0,CONCATENATE(PREENCHER!AX47,#REF!),PREENCHER!L47))","v":""},{"$f":"IF(PREENCHER!M47=\"\",\"\",IF(COUNTIF(PREENCHER!$AF47:$AH47,PREENCHER!M47)=0,CONCATENATE(PREENCHER!AY47,#REF!),PREENCHER!M47))","v":""},{"$f":"IF(PREENCHER!N47=\"\",\"\",IF(COUNTIF(PREENCHER!$AF47:$AH47,PREENCHER!N47)=0,CONCATENATE(PREENCHER!AZ47,#REF!),PREENCHER!N47))","v":""},{"$f":"IF(ISERROR(ROUND(AVERAGE(E47:N47),2)),\"\",ROUND(AVERAGE(E47:N47),2))","v":""},{"$f":"IF(ISERROR(ROUND(O47*D47,2)),\"\",ROUND(O47*D47,2))","v":""},null,null,{"$f":"IF(ISERROR(MEDIAN(E47:N47)),\"\",MEDIAN(E47:N47))","v":""},{"$f":"IF(ISERROR(STDEV(E47:N47)),\"\",STDEV(E47:N47))","v":""},{"$f":"IF(ISERROR(T47/O47),\"\",T47/O47)","v":""}]
[{"$f":"IF(PREENCHER!A48=\"\",\"\",PREENCHER!A48)","v":""},{"$f":"IF(PREENCHER!B48=\"\",\"\",PREENCHER!B48)","v":""},{"$f":"IF(PREENCHER!C48=\"\",\"\",PREENCHER!C48)","v":""},{"$f":"IF(PREENCHER!D48=\"\",\"\",PREENCHER!D48)","v":""},{"$f":"IF(PREENCHER!E48=\"\",\"\",IF(COUNTIF(PREENCHER!$AF48:$AH48,PREENCHER!E48)=0,CONCATENATE(PREENCHER!AQ48,#REF!),PREENCHER!E48))","v":""},{"$f":"IF(PREENCHER!F48=\"\",\"\",IF(COUNTIF(PREENCHER!$AF48:$AH48,PREENCHER!F48)=0,CONCATENATE(PREENCHER!AR48,#REF!),PREENCHER!F48))","v":""},{"$f":"IF(PREENCHER!G48=\"\",\"\",IF(COUNTIF(PREENCHER!$AF48:$AH48,PREENCHER!G48)=0,CONCATENATE(PREENCHER!AS48,#REF!),PREENCHER!G48))","v":""},{"$f":"IF(PREENCHER!H48=\"\",\"\",IF(COUNTIF(PREENCHER!$AF48:$AH48,PREENCHER!H48)=0,CONCATENATE(PREENCHER!AT48,#REF!),PREENCHER!H48))","v":""},{"$f":"IF(PREENCHER!I48=\"\",\"\",IF(COUNTIF(PREENCHER!$AF48:$AH48,PREENCHER!I48)=0,CONCATENATE(PREENCHER!AU48,#REF!),PREENCHER!I48))","v":""},{"$f":"IF(PREENCHER!J48=\"\",\"\",IF(COUNTIF(PREENCHER!$AF48:$AH48,PREENCHER!J48)=0,CONCATENATE(PREENCHER!AV48,#REF!),PREENCHER!J48))","v":""},{"$f":"IF(PREENCHER!K48=\"\",\"\",IF(COUNTIF(PREENCHER!$AF48:$AH48,PREENCHER!K48)=0,CONCATENATE(PREENCHER!AW48,#REF!),PREENCHER!K48))","v":""},{"$f":"IF(PREENCHER!L48=\"\",\"\",IF(COUNTIF(PREENCHER!$AF48:$AH48,PREENCHER!L48)=0,CONCATENATE(PREENCHER!AX48,#REF!),PREENCHER!L48))","v":""},{"$f":"IF(PREENCHER!M48=\"\",\"\",IF(COUNTIF(PREENCHER!$AF48:$AH48,PREENCHER!M48)=0,CONCATENATE(PREENCHER!AY48,#REF!),PREENCHER!M48))","v":""},{"$f":"IF(PREENCHER!N48=\"\",\"\",IF(COUNTIF(PREENCHER!$AF48:$AH48,PREENCHER!N48)=0,CONCATENATE(PREENCHER!AZ48,#REF!),PREENCHER!N48))","v":""},{"$f":"IF(ISERROR(ROUND(AVERAGE(E48:N48),2)),\"\",ROUND(AVERAGE(E48:N48),2))","v":""},{"$f":"IF(ISERROR(ROUND(O48*D48,2)),\"\",ROUND(O48*D48,2))","v":""},null,null,{"$f":"IF(ISERROR(MEDIAN(E48:N48)),\"\",MEDIAN(E48:N48))","v":""},{"$f":"IF(ISERROR(STDEV(E48:N48)),\"\",STDEV(E48:N48))","v":""},{"$f":"IF(ISERROR(T48/O48),\"\",T48/O48)","v":""}]
[{"$f":"IF(PREENCHER!A49=\"\",\"\",PREENCHER!A49)","v":""},{"$f":"IF(PREENCHER!B49=\"\",\"\",PREENCHER!B49)","v":""},{"$f":"IF(PREENCHER!C49=\"\",\"\",PREENCHER!C49)","v":""},{"$f":"IF(PREENCHER!D49=\"\",\"\",PREENCHER!D49)","v":""},{"$f":"IF(PREENCHER!E49=\"\",\"\",IF(COUNTIF(PREENCHER!$AF49:$AH49,PREENCHER!E49)=0,CONCATENATE(PREENCHER!AQ49,#REF!),PREENCHER!E49))","v":""},{"$f":"IF(PREENCHER!F49=\"\",\"\",IF(COUNTIF(PREENCHER!$AF49:$AH49,PREENCHER!F49)=0,CONCATENATE(PREENCHER!AR49,#REF!),PREENCHER!F49))","v":""},{"$f":"IF(PREENCHER!G49=\"\",\"\",IF(COUNTIF(PREENCHER!$AF49:$AH49,PREENCHER!G49)=0,CONCATENATE(PREENCHER!AS49,#REF!),PREENCHER!G49))","v":""},{"$f":"IF(PREENCHER!H49=\"\",\"\",IF(COUNTIF(PREENCHER!$AF49:$AH49,PREENCHER!H49)=0,CONCATENATE(PREENCHER!AT49,#REF!),PREENCHER!H49))","v":""},{"$f":"IF(PREENCHER!I49=\"\",\"\",IF(COUNTIF(PREENCHER!$AF49:$AH49,PREENCHER!I49)=0,CONCATENATE(PREENCHER!AU49,#REF!),PREENCHER!I49))","v":""},{"$f":"IF(PREENCHER!J49=\"\",\"\",IF(COUNTIF(PREENCHER!$AF49:$AH49,PREENCHER!J49)=0,CONCATENATE(PREENCHER!AV49,#REF!),PREENCHER!J49))","v":""},{"$f":"IF(PREENCHER!K49=\"\",\"\",IF(COUNTIF(PREENCHER!$AF49:$AH49,PREENCHER!K49)=0,CONCATENATE(PREENCHER!AW49,#REF!),PREENCHER!K49))","v":""},{"$f":"IF(PREENCHER!L49=\"\",\"\",IF(COUNTIF(PREENCHER!$AF49:$AH49,PREENCHER!L49)=0,CONCATENATE(PREENCHER!AX49,#REF!),PREENCHER!L49))","v":""},{"$f":"IF(PREENCHER!M49=\"\",\"\",IF(COUNTIF(PREENCHER!$AF49:$AH49,PREENCHER!M49)=0,CONCATENATE(PREENCHER!AY49,#REF!),PREENCHER!M49))","v":""},{"$f":"IF(PREENCHER!N49=\"\",\"\",IF(COUNTIF(PREENCHER!$AF49:$AH49,PREENCHER!N49)=0,CONCATENATE(PREENCHER!AZ49,#REF!),PREENCHER!N49))","v":""},{"$f":"IF(ISERROR(ROUND(AVERAGE(E49:N49),2)),\"\",ROUND(AVERAGE(E49:N49),2))","v":""},{"$f":"IF(ISERROR(ROUND(O49*D49,2)),\"\",ROUND(O49*D49,2))","v":""},null,null,{"$f":"IF(ISERROR(MEDIAN(E49:N49)),\"\",MEDIAN(E49:N49))","v":""},{"$f":"IF(ISERROR(STDEV(E49:N49)),\"\",STDEV(E49:N49))","v":""},{"$f":"IF(ISERROR(T49/O49),\"\",T49/O49)","v":""}]
[{"$f":"IF(PREENCHER!A50=\"\",\"\",PREENCHER!A50)","v":""},{"$f":"IF(PREENCHER!B50=\"\",\"\",PREENCHER!B50)","v":""},{"$f":"IF(PREENCHER!C50=\"\",\"\",PREENCHER!C50)","v":""},{"$f":"IF(PREENCHER!D50=\"\",\"\",PREENCHER!D50)","v":""},{"$f":"IF(PREENCHER!E50=\"\",\"\",IF(COUNTIF(PREENCHER!$AF50:$AH50,PREENCHER!E50)=0,CONCATENATE(PREENCHER!AQ50,#REF!),PREENCHER!E50))","v":""},{"$f":"IF(PREENCHER!F50=\"\",\"\",IF(COUNTIF(PREENCHER!$AF50:$AH50,PREENCHER!F50)=0,CONCATENATE(PREENCHER!AR50,#REF!),PREENCHER!F50))","v":""},{"$f":"IF(PREENCHER!G50=\"\",\"\",IF(COUNTIF(PREENCHER!$AF50:$AH50,PREENCHER!G50)=0,CONCATENATE(PREENCHER!AS50,#REF!),PREENCHER!G50))","v":""},{"$f":"IF(PREENCHER!H50=\"\",\"\",IF(COUNTIF(PREENCHER!$AF50:$AH50,PREENCHER!H50)=0,CONCATENATE(PREENCHER!AT50,#REF!),PREENCHER!H50))","v":""},{"$f":"IF(PREENCHER!I50=\"\",\"\",IF(COUNTIF(PREENCHER!$AF50:$AH50,PREENCHER!I50)=0,CONCATENATE(PREENCHER!AU50,#REF!),PREENCHER!I50))","v":""},{"$f":"IF(PREENCHER!J50=\"\",\"\",IF(COUNTIF(PREENCHER!$AF50:$AH50,PREENCHER!J50)=0,CONCATENATE(PREENCHER!AV50,#REF!),PREENCHER!J50))","v":""},{"$f":"IF(PREENCHER!K50=\"\",\"\",IF(COUNTIF(PREENCHER!$AF50:$AH50,PREENCHER!K50)=0,CONCATENATE(PREENCHER!AW50,#REF!),PREENCHER!K50))","v":""},{"$f":"IF(PREENCHER!L50=\"\",\"\",IF(COUNTIF(PREENCHER!$AF50:$AH50,PREENCHER!L50)=0,CONCATENATE(PREENCHER!AX50,#REF!),PREENCHER!L50))","v":""},{"$f":"IF(PREENCHER!M50=\"\",\"\",IF(COUNTIF(PREENCHER!$AF50:$AH50,PREENCHER!M50)=0,CONCATENATE(PREENCHER!AY50,#REF!),PREENCHER!M50))","v":""},{"$f":"IF(PREENCHER!N50=\"\",\"\",IF(COUNTIF(PREENCHER!$AF50:$AH50,PREENCHER!N50)=0,CONCATENATE(PREENCHER!AZ50,#REF!),PREENCHER!N50))","v":""},{"$f":"IF(ISERROR(ROUND(AVERAGE(E50:N50),2)),\"\",ROUND(AVERAGE(E50:N50),2))","v":""},{"$f":"IF(ISERROR(ROUND(O50*D50,2)),\"\",ROUND(O50*D50,2))","v":""},null,null,{"$f":"IF(ISERROR(MEDIAN(E50:N50)),\"\",MEDIAN(E50:N50))","v":""},{"$f":"IF(ISERROR(STDEV(E50:N50)),\"\",STDEV(E50:N50))","v":""},{"$f":"IF(ISERROR(T50/O50),\"\",T50/O50)","v":""}]
[{"$f":"IF(PREENCHER!A51=\"\",\"\",PREENCHER!A51)","v":""},{"$f":"IF(PREENCHER!B51=\"\",\"\",PREENCHER!B51)","v":""},{"$f":"IF(PREENCHER!C51=\"\",\"\",PREENCHER!C51)","v":""},{"$f":"IF(PREENCHER!D51=\"\",\"\",PREENCHER!D51)","v":""},{"$f":"IF(PREENCHER!E51=\"\",\"\",IF(COUNTIF(PREENCHER!$AF51:$AH51,PREENCHER!E51)=0,CONCATENATE(PREENCHER!AQ51,#REF!),PREENCHER!E51))","v":""},{"$f":"IF(PREENCHER!F51=\"\",\"\",IF(COUNTIF(PREENCHER!$AF51:$AH51,PREENCHER!F51)=0,CONCATENATE(PREENCHER!AR51,#REF!),PREENCHER!F51))","v":""},{"$f":"IF(PREENCHER!G51=\"\",\"\",IF(COUNTIF(PREENCHER!$AF51:$AH51,PREENCHER!G51)=0,CONCATENATE(PREENCHER!AS51,#REF!),PREENCHER!G51))","v":""},{"$f":"IF(PREENCHER!H51=\"\",\"\",IF(COUNTIF(PREENCHER!$AF51:$AH51,PREENCHER!H51)=0,CONCATENATE(PREENCHER!AT51,#REF!),PREENCHER!H51))","v":""},{"$f":"IF(PREENCHER!I51=\"\",\"\",IF(COUNTIF(PREENCHER!$AF51:$AH51,PREENCHER!I51)=0,CONCATENATE(PREENCHER!AU51,#REF!),PREENCHER!I51))","v":""},{"$f":"IF(PREENCHER!J51=\"\",\"\",IF(COUNTIF(PREENCHER!$AF51:$AH51,PREENCHER!J51)=0,CONCATENATE(PREENCHER!AV51,#REF!),PREENCHER!J51))","v":""},{"$f":"IF(PREENCHER!K51=\"\",\"\",IF(COUNTIF(PREENCHER!$AF51:$AH51,PREENCHER!K51)=0,CONCATENATE(PREENCHER!AW51,#REF!),PREENCHER!K51))","v":""},{"$f":"IF(PREENCHER!L51=\"\",\"\",IF(COUNTIF(PREENCHER!$AF51:$AH51,PREENCHER!L51)=0,CONCATENATE(PREENCHER!AX51,#REF!),PREENCHER!L51))","v":""},{"$f":"IF(PREENCHER!M51=\"\",\"\",IF(COUNTIF(PREENCHER!$AF51:$AH51,PREENCHER!M51)=0,CONCATENATE(PREENCHER!AY51,#REF!),PREENCHER!M51))","v":""},{"$f":"IF(PREENCHER!N51=\"\",\"\",IF(COUNTIF(PREENCHER!$AF51:$AH51,PREENCHER!N51)=0,CONCATENATE(PREENCHER!AZ51,#REF!),PREENCHER!N51))","v":""},{"$f":"IF(ISERROR(ROUND(AVERAGE(E51:N51),2)),\"\",ROUND(AVERAGE(E51:N51),2))","v":""},{"$f":"IF(ISERROR(ROUND(O51*D51,2)),\"\",ROUND(O51*D51,2))","v":""},null,null,{"$f":"IF(ISERROR(MEDIAN(E51:N51)),\"\",MEDIAN(E51:N51))","v":""},{"$f":"IF(ISERROR(STDEV(E51:N51)),\"\",STDEV(E51:N51))","v":""},{"$f":"IF(ISERROR(T51/O51),\"\",T51/O51)","v":""}]
[{"$f":"IF(PREENCHER!A52=\"\",\"\",PREENCHER!A52)","v":""},{"$f":"IF(PREENCHER!B52=\"\",\"\",PREENCHER!B52)","v":""},{"$f":"IF(PREENCHER!C52=\"\",\"\",PREENCHER!C52)","v":""},{"$f":"IF(PREENCHER!D52=\"\",\"\",PREENCHER!D52)","v":""},{"$f":"IF(PREENCHER!E52=\"\",\"\",IF(COUNTIF(PREENCHER!$AF52:$AH52,PREENCHER!E52)=0,CONCATENATE(PREENCHER!AQ52,#REF!),PREENCHER!E52))","v":""},{"$f":"IF(PREENCHER!F52=\"\",\"\",IF(COUNTIF(PREENCHER!$AF52:$AH52,PREENCHER!F52)=0,CONCATENATE(PREENCHER!AR52,#REF!),PREENCHER!F52))","v":""},{"$f":"IF(PREENCHER!G52=\"\",\"\",IF(COUNTIF(PREENCHER!$AF52:$AH52,PREENCHER!G52)=0,CONCATENATE(PREENCHER!AS52,#REF!),PREENCHER!G52))","v":""},{"$f":"IF(PREENCHER!H52=\"\",\"\",IF(COUNTIF(PREENCHER!$AF52:$AH52,PREENCHER!H52)=0,CONCATENATE(PREENCHER!AT52,#REF!),PREENCHER!H52))","v":""},{"$f":"IF(PREENCHER!I52=\"\",\"\",IF(COUNTIF(PREENCHER!$AF52:$AH52,PREENCHER!I52)=0,CONCATENATE(PREENCHER!AU52,#REF!),PREENCHER!I52))","v":""},{"$f":"IF(PREENCHER!J52=\"\",\"\",IF(COUNTIF(PREENCHER!$AF52:$AH52,PREENCHER!J52)=0,CONCATENATE(PREENCHER!AV52,#REF!),PREENCHER!J52))","v":""},{"$f":"IF(PREENCHER!K52=\"\",\"\",IF(COUNTIF(PREENCHER!$AF52:$AH52,PREENCHER!K52)=0,CONCATENATE(PREENCHER!AW52,#REF!),PREENCHER!K52))","v":""},{"$f":"IF(PREENCHER!L52=\"\",\"\",IF(COUNTIF(PREENCHER!$AF52:$AH52,PREENCHER!L52)=0,CONCATENATE(PREENCHER!AX52,#REF!),PREENCHER!L52))","v":""},{"$f":"IF(PREENCHER!M52=\"\",\"\",IF(COUNTIF(PREENCHER!$AF52:$AH52,PREENCHER!M52)=0,CONCATENATE(PREENCHER!AY52,#REF!),PREENCHER!M52))","v":""},{"$f":"IF(PREENCHER!N52=\"\",\"\",IF(COUNTIF(PREENCHER!$AF52:$AH52,PREENCHER!N52)=0,CONCATENATE(PREENCHER!AZ52,#REF!),PREENCHER!N52))","v":""},{"$f":"IF(ISERROR(ROUND(AVERAGE(E52:N52),2)),\"\",ROUND(AVERAGE(E52:N52),2))","v":""},{"$f":"IF(ISERROR(ROUND(O52*D52,2)),\"\",ROUND(O52*D52,2))","v":""},null,null,{"$f":"IF(ISERROR(MEDIAN(E52:N52)),\"\",MEDIAN(E52:N52))","v":""},{"$f":"IF(ISERROR(STDEV(E52:N52)),\"\",STDEV(E52:N52))","v":""},{"$f":"IF(ISERROR(T52/O52),\"\",T52/O52)","v":""}]
[{"$f":"IF(PREENCHER!A53=\"\",\"\",PREENCHER!A53)","v":""},{"$f":"IF(PREENCHER!B53=\"\",\"\",PREENCHER!B53)","v":""},{"$f":"IF(PREENCHER!C53=\"\",\"\",PREENCHER!C53)","v":""},{"$f":"IF(PREENCHER!D53=\"\",\"\",PREENCHER!D53)","v":""},{"$f":"IF(PREENCHER!E53=\"\",\"\",IF(COUNTIF(PREENCHER!$AF53:$AH53,PREENCHER!E53)=0,CONCATENATE(PREENCHER!AQ53,#REF!),PREENCHER!E53))","v":""},{"$f":"IF(PREENCHER!F53=\"\",\"\",IF(COUNTIF(PREENCHER!$AF53:$AH53,PREENCHER!F53)=0,CONCATENATE(PREENCHER!AR53,#REF!),PREENCHER!F53))","v":""},{"$f":"IF(PREENCHER!G53=\"\",\"\",IF(COUNTIF(PREENCHER!$AF53:$AH53,PREENCHER!G53)=0,CONCATENATE(PREENCHER!AS53,#REF!),PREENCHER!G53))","v":""},{"$f":"IF(PREENCHER!H53=\"\",\"\",IF(COUNTIF(PREENCHER!$AF53:$AH53,PREENCHER!H53)=0,CONCATENATE(PREENCHER!AT53,#REF!),PREENCHER!H53))","v":""},{"$f":"IF(PREENCHER!I53=\"\",\"\",IF(COUNTIF(PREENCHER!$AF53:$AH53,PREENCHER!I53)=0,CONCATENATE(PREENCHER!AU53,#REF!),PREENCHER!I53))","v":""},{"$f":"IF(PREENCHER!J53=\"\",\"\",IF(COUNTIF(PREENCHER!$AF53:$AH53,PREENCHER!J53)=0,CONCATENATE(PREENCHER!AV53,#REF!),PREENCHER!J53))","v":""},{"$f":"IF(PREENCHER!K53=\"\",\"\",IF(COUNTIF(PREENCHER!$AF53:$AH53,PREENCHER!K53)=0,CONCATENATE(PREENCHER!AW53,#REF!),PREENCHER!K53))","v":""},{"$f":"IF(PREENCHER!L53=\"\",\"\",IF(COUNTIF(PREENCHER!$AF53:$AH53,PREENCHER!L53)=0,CONCATENATE(PREENCHER!AX53,#REF!),PREENCHER!L53))","v":""},{"$f":"IF(PREENCHER!M53=\"\",\"\",IF(COUNTIF(PREENCHER!$AF53:$AH53,PREENCHER!M53)=0,CONCATENATE(PREENCHER!AY53,#REF!),PREENCHER!M53))","v":""},{"$f":"IF(PREENCHER!N53=\"\",\"\",IF(COUNTIF(PREENCHER!$AF53:$AH53,PREENCHER!N53)=0,CONCATENATE(PREENCHER!AZ53,#REF!),PREENCHER!N53))","v":""},{"$f":"IF(ISERROR(ROUND(AVERAGE(E53:N53),2)),\"\",ROUND(AVERAGE(E53:N53),2))","v":""},{"$f":"IF(ISERROR(ROUND(O53*D53,2)),\"\",ROUND(O53*D53,2))","v":""},null,null,{"$f":"IF(ISERROR(MEDIAN(E53:N53)),\"\",MEDIAN(E53:N53))","v":""},{"$f":"IF(ISERROR(STDEV(E53:N53)),\"\",STDEV(E53:N53))","v":""},{"$f":"IF(ISERROR(T53/O53),\"\",T53/O53)","v":""}]
[{"$f":"IF(PREENCHER!A54=\"\",\"\",PREENCHER!A54)","v":""},{"$f":"IF(PREENCHER!B54=\"\",\"\",PREENCHER!B54)","v":""},{"$f":"IF(PREENCHER!C54=\"\",\"\",PREENCHER!C54)","v":""},{"$f":"IF(PREENCHER!D54=\"\",\"\",PREENCHER!D54)","v":""},{"$f":"IF(PREENCHER!E54=\"\",\"\",IF(COUNTIF(PREENCHER!$AF54:$AH54,PREENCHER!E54)=0,CONCATENATE(PREENCHER!AQ54,#REF!),PREENCHER!E54))","v":""},{"$f":"IF(PREENCHER!F54=\"\",\"\",IF(COUNTIF(PREENCHER!$AF54:$AH54,PREENCHER!F54)=0,CONCATENATE(PREENCHER!AR54,#REF!),PREENCHER!F54))","v":""},{"$f":"IF(PREENCHER!G54=\"\",\"\",IF(COUNTIF(PREENCHER!$AF54:$AH54,PREENCHER!G54)=0,CONCATENATE(PREENCHER!AS54,#REF!),PREENCHER!G54))","v":""},{"$f":"IF(PREENCHER!H54=\"\",\"\",IF(COUNTIF(PREENCHER!$AF54:$AH54,PREENCHER!H54)=0,CONCATENATE(PREENCHER!AT54,#REF!),PREENCHER!H54))","v":""},{"$f":"IF(PREENCHER!I54=\"\",\"\",IF(COUNTIF(PREENCHER!$AF54:$AH54,PREENCHER!I54)=0,CONCATENATE(PREENCHER!AU54,#REF!),PREENCHER!I54))","v":""},{"$f":"IF(PREENCHER!J54=\"\",\"\",IF(COUNTIF(PREENCHER!$AF54:$AH54,PREENCHER!J54)=0,CONCATENATE(PREENCHER!AV54,#REF!),PREENCHER!J54))","v":""},{"$f":"IF(PREENCHER!K54=\"\",\"\",IF(COUNTIF(PREENCHER!$AF54:$AH54,PREENCHER!K54)=0,CONCATENATE(PREENCHER!AW54,#REF!),PREENCHER!K54))","v":""},{"$f":"IF(PREENCHER!L54=\"\",\"\",IF(COUNTIF(PREENCHER!$AF54:$AH54,PREENCHER!L54)=0,CONCATENATE(PREENCHER!AX54,#REF!),PREENCHER!L54))","v":""},{"$f":"IF(PREENCHER!M54=\"\",\"\",IF(COUNTIF(PREENCHER!$AF54:$AH54,PREENCHER!M54)=0,CONCATENATE(PREENCHER!AY54,#REF!),PREENCHER!M54))","v":""},{"$f":"IF(PREENCHER!N54=\"\",\"\",IF(COUNTIF(PREENCHER!$AF54:$AH54,PREENCHER!N54)=0,CONCATENATE(PREENCHER!AZ54,#REF!),PREENCHER!N54))","v":""},{"$f":"IF(ISERROR(ROUND(AVERAGE(E54:N54),2)),\"\",ROUND(AVERAGE(E54:N54),2))","v":""},{"$f":"IF(ISERROR(ROUND(O54*D54,2)),\"\",ROUND(O54*D54,2))","v":""},null,null,{"$f":"IF(ISERROR(MEDIAN(E54:N54)),\"\",MEDIAN(E54:N54))","v":""},{"$f":"IF(ISERROR(STDEV(E54:N54)),\"\",STDEV(E54:N54))","v":""},{"$f":"IF(ISERROR(T54/O54),\"\",T54/O54)","v":""}]
[{"$f":"IF(PREENCHER!A55=\"\",\"\",PREENCHER!A55)","v":""},{"$f":"IF(PREENCHER!B55=\"\",\"\",PREENCHER!B55)","v":""},{"$f":"IF(PREENCHER!C55=\"\",\"\",PREENCHER!C55)","v":""},{"$f":"IF(PREENCHER!D55=\"\",\"\",PREENCHER!D55)","v":""},{"$f":"IF(PREENCHER!E55=\"\",\"\",IF(COUNTIF(PREENCHER!$AF55:$AH55,PREENCHER!E55)=0,CONCATENATE(PREENCHER!AQ55,#REF!),PREENCHER!E55))","v":""},{"$f":"IF(PREENCHER!F55=\"\",\"\",IF(COUNTIF(PREENCHER!$AF55:$AH55,PREENCHER!F55)=0,CONCATENATE(PREENCHER!AR55,#REF!),PREENCHER!F55))","v":""},{"$f":"IF(PREENCHER!G55=\"\",\"\",IF(COUNTIF(PREENCHER!$AF55:$AH55,PREENCHER!G55)=0,CONCATENATE(PREENCHER!AS55,#REF!),PREENCHER!G55))","v":""},{"$f":"IF(PREENCHER!H55=\"\",\"\",IF(COUNTIF(PREENCHER!$AF55:$AH55,PREENCHER!H55)=0,CONCATENATE(PREENCHER!AT55,#REF!),PREENCHER!H55))","v":""},{"$f":"IF(PREENCHER!I55=\"\",\"\",IF(COUNTIF(PREENCHER!$AF55:$AH55,PREENCHER!I55)=0,CONCATENATE(PREENCHER!AU55,#REF!),PREENCHER!I55))","v":""},{"$f":"IF(PREENCHER!J55=\"\",\"\",IF(COUNTIF(PREENCHER!$AF55:$AH55,PREENCHER!J55)=0,CONCATENATE(PREENCHER!AV55,#REF!),PREENCHER!J55))","v":""},{"$f":"IF(PREENCHER!K55=\"\",\"\",IF(COUNTIF(PREENCHER!$AF55:$AH55,PREENCHER!K55)=0,CONCATENATE(PREENCHER!AW55,#REF!),PREENCHER!K55))","v":""},{"$f":"IF(PREENCHER!L55=\"\",\"\",IF(COUNTIF(PREENCHER!$AF55:$AH55,PREENCHER!L55)=0,CONCATENATE(PREENCHER!AX55,#REF!),PREENCHER!L55))","v":""},{"$f":"IF(PREENCHER!M55=\"\",\"\",IF(COUNTIF(PREENCHER!$AF55:$AH55,PREENCHER!M55)=0,CONCATENATE(PREENCHER!AY55,#REF!),PREENCHER!M55))","v":""},{"$f":"IF(PREENCHER!N55=\"\",\"\",IF(COUNTIF(PREENCHER!$AF55:$AH55,PREENCHER!N55)=0,CONCATENATE(PREENCHER!AZ55,#REF!),PREENCHER!N55))","v":""},{"$f":"IF(ISERROR(ROUND(AVERAGE(E55:N55),2)),\"\",ROUND(AVERAGE(E55:N55),2))","v":""},{"$f":"IF(ISERROR(ROUND(O55*D55,2)),\"\",ROUND(O55*D55,2))","v":""},null,null,{"$f":"IF(ISERROR(MEDIAN(E55:N55)),\"\",MEDIAN(E55:N55))","v":""},{"$f":"IF(ISERROR(STDEV(E55:N55)),\"\",STDEV(E55:N55))","v":""},{"$f":"IF(ISERROR(T55/O55),\"\",T55/O55)","v":""}]
[{"$f":"IF(PREENCHER!A56=\"\",\"\",PREENCHER!A56)","v":""},{"$f":"IF(PREENCHER!B56=\"\",\"\",PREENCHER!B56)","v":""},{"$f":"IF(PREENCHER!C56=\"\",\"\",PREENCHER!C56)","v":""},{"$f":"IF(PREENCHER!D56=\"\",\"\",PREENCHER!D56)","v":""},{"$f":"IF(PREENCHER!E56=\"\",\"\",IF(COUNTIF(PREENCHER!$AF56:$AH56,PREENCHER!E56)=0,CONCATENATE(PREENCHER!AQ56,#REF!),PREENCHER!E56))","v":""},{"$f":"IF(PREENCHER!F56=\"\",\"\",IF(COUNTIF(PREENCHER!$AF56:$AH56,PREENCHER!F56)=0,CONCATENATE(PREENCHER!AR56,#REF!),PREENCHER!F56))","v":""},{"$f":"IF(PREENCHER!G56=\"\",\"\",IF(COUNTIF(PREENCHER!$AF56:$AH56,PREENCHER!G56)=0,CONCATENATE(PREENCHER!AS56,#REF!),PREENCHER!G56))","v":""},{"$f":"IF(PREENCHER!H56=\"\",\"\",IF(COUNTIF(PREENCHER!$AF56:$AH56,PREENCHER!H56)=0,CONCATENATE(PREENCHER!AT56,#REF!),PREENCHER!H56))","v":""},{"$f":"IF(PREENCHER!I56=\"\",\"\",IF(COUNTIF(PREENCHER!$AF56:$AH56,PREENCHER!I56)=0,CONCATENATE(PREENCHER!AU56,#REF!),PREENCHER!I56))","v":""},{"$f":"IF(PREENCHER!J56=\"\",\"\",IF(COUNTIF(PREENCHER!$AF56:$AH56,PREENCHER!J56)=0,CONCATENATE(PREENCHER!AV56,#REF!),PREENCHER!J56))","v":""},{"$f":"IF(PREENCHER!K56=\"\",\"\",IF(COUNTIF(PREENCHER!$AF56:$AH56,PREENCHER!K56)=0,CONCATENATE(PREENCHER!AW56,#REF!),PREENCHER!K56))","v":""},{"$f":"IF(PREENCHER!L56=\"\",\"\",IF(COUNTIF(PREENCHER!$AF56:$AH56,PREENCHER!L56)=0,CONCATENATE(PREENCHER!AX56,#REF!),PREENCHER!L56))","v":""},{"$f":"IF(PREENCHER!M56=\"\",\"\",IF(COUNTIF(PREENCHER!$AF56:$AH56,PREENCHER!M56)=0,CONCATENATE(PREENCHER!AY56,#REF!),PREENCHER!M56))","v":""},{"$f":"IF(PREENCHER!N56=\"\",\"\",IF(COUNTIF(PREENCHER!$AF56:$AH56,PREENCHER!N56)=0,CONCATENATE(PREENCHER!AZ56,#REF!),PREENCHER!N56))","v":""},{"$f":"IF(ISERROR(ROUND(AVERAGE(E56:N56),2)),\"\",ROUND(AVERAGE(E56:N56),2))","v":""},{"$f":"IF(ISERROR(ROUND(O56*D56,2)),\"\",ROUND(O56*D56,2))","v":""},null,null,{"$f":"IF(ISERROR(MEDIAN(E56:N56)),\"\",MEDIAN(E56:N56))","v":""},{"$f":"IF(ISERROR(STDEV(E56:N56)),\"\",STDEV(E56:N56))","v":""},{"$f":"IF(ISERROR(T56/O56),\"\",T56/O56)","v":""}]
[{"$f":"IF(PREENCHER!A57=\"\",\"\",PREENCHER!A57)","v":""},{"$f":"IF(PREENCHER!B57=\"\",\"\",PREENCHER!B57)","v":""},{"$f":"IF(PREENCHER!C57=\"\",\"\",PREENCHER!C57)","v":""},{"$f":"IF(PREENCHER!D57=\"\",\"\",PREENCHER!D57)","v":""},{"$f":"IF(PREENCHER!E57=\"\",\"\",IF(COUNTIF(PREENCHER!$AF57:$AH57,PREENCHER!E57)=0,CONCATENATE(PREENCHER!AQ57,#REF!),PREENCHER!E57))","v":""},{"$f":"IF(PREENCHER!F57=\"\",\"\",IF(COUNTIF(PREENCHER!$AF57:$AH57,PREENCHER!F57)=0,CONCATENATE(PREENCHER!AR57,#REF!),PREENCHER!F57))","v":""},{"$f":"IF(PREENCHER!G57=\"\",\"\",IF(COUNTIF(PREENCHER!$AF57:$AH57,PREENCHER!G57)=0,CONCATENATE(PREENCHER!AS57,#REF!),PREENCHER!G57))","v":""},{"$f":"IF(PREENCHER!H57=\"\",\"\",IF(COUNTIF(PREENCHER!$AF57:$AH57,PREENCHER!H57)=0,CONCATENATE(PREENCHER!AT57,#REF!),PREENCHER!H57))","v":""},{"$f":"IF(PREENCHER!I57=\"\",\"\",IF(COUNTIF(PREENCHER!$AF57:$AH57,PREENCHER!I57)=0,CONCATENATE(PREENCHER!AU57,#REF!),PREENCHER!I57))","v":""},{"$f":"IF(PREENCHER!J57=\"\",\"\",IF(COUNTIF(PREENCHER!$AF57:$AH57,PREENCHER!J57)=0,CONCATENATE(PREENCHER!AV57,#REF!),PREENCHER!J57))","v":""},{"$f":"IF(PREENCHER!K57=\"\",\"\",IF(COUNTIF(PREENCHER!$AF57:$AH57,PREENCHER!K57)=0,CONCATENATE(PREENCHER!AW57,#REF!),PREENCHER!K57))","v":""},{"$f":"IF(PREENCHER!L57=\"\",\"\",IF(COUNTIF(PREENCHER!$AF57:$AH57,PREENCHER!L57)=0,CONCATENATE(PREENCHER!AX57,#REF!),PREENCHER!L57))","v":""},{"$f":"IF(PREENCHER!M57=\"\",\"\",IF(COUNTIF(PREENCHER!$AF57:$AH57,PREENCHER!M57)=0,CONCATENATE(PREENCHER!AY57,#REF!),PREENCHER!M57))","v":""},{"$f":"IF(PREENCHER!N57=\"\",\"\",IF(COUNTIF(PREENCHER!$AF57:$AH57,PREENCHER!N57)=0,CONCATENATE(PREENCHER!AZ57,#REF!),PREENCHER!N57))","v":""},{"$f":"IF(ISERROR(ROUND(AVERAGE(E57:N57),2)),\"\",ROUND(AVERAGE(E57:N57),2))","v":""},{"$f":"IF(ISERROR(ROUND(O57*D57,2)),\"\",ROUND(O57*D57,2))","v":""},null,null,{"$f":"IF(ISERROR(MEDIAN(E57:N57)),\"\",MEDIAN(E57:N57))","v":""},{"$f":"IF(ISERROR(STDEV(E57:N57)),\"\",STDEV(E57:N57))","v":""},{"$f":"IF(ISERROR(T57/O57),\"\",T57/O57)","v":""}]
[{"$f":"IF(PREENCHER!A58=\"\",\"\",PREENCHER!A58)","v":""},{"$f":"IF(PREENCHER!B58=\"\",\"\",PREENCHER!B58)","v":""},{"$f":"IF(PREENCHER!C58=\"\",\"\",PREENCHER!C58)","v":""},{"$f":"IF(PREENCHER!D58=\"\",\"\",PREENCHER!D58)","v":""},{"$f":"IF(PREENCHER!E58=\"\",\"\",IF(COUNTIF(PREENCHER!$AF58:$AH58,PREENCHER!E58)=0,CONCATENATE(PREENCHER!AQ58,#REF!),PREENCHER!E58))","v":""},{"$f":"IF(PREENCHER!F58=\"\",\"\",IF(COUNTIF(PREENCHER!$AF58:$AH58,PREENCHER!F58)=0,CONCATENATE(PREENCHER!AR58,#REF!),PREENCHER!F58))","v":""},{"$f":"IF(PREENCHER!G58=\"\",\"\",IF(COUNTIF(PREENCHER!$AF58:$AH58,PREENCHER!G58)=0,CONCATENATE(PREENCHER!AS58,#REF!),PREENCHER!G58))","v":""},{"$f":"IF(PREENCHER!H58=\"\",\"\",IF(COUNTIF(PREENCHER!$AF58:$AH58,PREENCHER!H58)=0,CONCATENATE(PREENCHER!AT58,#REF!),PREENCHER!H58))","v":""},{"$f":"IF(PREENCHER!I58=\"\",\"\",IF(COUNTIF(PREENCHER!$AF58:$AH58,PREENCHER!I58)=0,CONCATENATE(PREENCHER!AU58,#REF!),PREENCHER!I58))","v":""},{"$f":"IF(PREENCHER!J58=\"\",\"\",IF(COUNTIF(PREENCHER!$AF58:$AH58,PREENCHER!J58)=0,CONCATENATE(PREENCHER!AV58,#REF!),PREENCHER!J58))","v":""},{"$f":"IF(PREENCHER!K58=\"\",\"\",IF(COUNTIF(PREENCHER!$AF58:$AH58,PREENCHER!K58)=0,CONCATENATE(PREENCHER!AW58,#REF!),PREENCHER!K58))","v":""},{"$f":"IF(PREENCHER!L58=\"\",\"\",IF(COUNTIF(PREENCHER!$AF58:$AH58,PREENCHER!L58)=0,CONCATENATE(PREENCHER!AX58,#REF!),PREENCHER!L58))","v":""},{"$f":"IF(PREENCHER!M58=\"\",\"\",IF(COUNTIF(PREENCHER!$AF58:$AH58,PREENCHER!M58)=0,CONCATENATE(PREENCHER!AY58,#REF!),PREENCHER!M58))","v":""},{"$f":"IF(PREENCHER!N58=\"\",\"\",IF(COUNTIF(PREENCHER!$AF58:$AH58,PREENCHER!N58)=0,CONCATENATE(PREENCHER!AZ58,#REF!),PREENCHER!N58))","v":""},{"$f":"IF(ISERROR(ROUND(AVERAGE(E58:N58),2)),\"\",ROUND(AVERAGE(E58:N58),2))","v":""},{"$f":"IF(ISERROR(ROUND(O58*D58,2)),\"\",ROUND(O58*D58,2))","v":""},null,null,{"$f":"IF(ISERROR(MEDIAN(E58:N58)),\"\",MEDIAN(E58:N58))","v":""},{"$f":"IF(ISERROR(STDEV(E58:N58)),\"\",STDEV(E58:N58))","v":""},{"$f":"IF(ISERROR(T58/O58),\"\",T58/O58)","v":""}]
[{"$f":"IF(PREENCHER!A59=\"\",\"\",PREENCHER!A59)","v":""},{"$f":"IF(PREENCHER!B59=\"\",\"\",PREENCHER!B59)","v":""},{"$f":"IF(PREENCHER!C59=\"\",\"\",PREENCHER!C59)","v":""},{"$f":"IF(PREENCHER!D59=\"\",\"\",PREENCHER!D59)","v":""},{"$f":"IF(PREENCHER!E59=\"\",\"\",IF(COUNTIF(PREENCHER!$AF59:$AH59,PREENCHER!E59)=0,CONCATENATE(PREENCHER!AQ59,#REF!),PREENCHER!E59))","v":""},{"$f":"IF(PREENCHER!F59=\"\",\"\",IF(COUNTIF(PREENCHER!$AF59:$AH59,PREENCHER!F59)=0,CONCATENATE(PREENCHER!AR59,#REF!),PREENCHER!F59))","v":""},{"$f":"IF(PREENCHER!G59=\"\",\"\",IF(COUNTIF(PREENCHER!$AF59:$AH59,PREENCHER!G59)=0,CONCATENATE(PREENCHER!AS59,#REF!),PREENCHER!G59))","v":""},{"$f":"IF(PREENCHER!H59=\"\",\"\",IF(COUNTIF(PREENCHER!$AF59:$AH59,PREENCHER!H59)=0,CONCATENATE(PREENCHER!AT59,#REF!),PREENCHER!H59))","v":""},{"$f":"IF(PREENCHER!I59=\"\",\"\",IF(COUNTIF(PREENCHER!$AF59:$AH59,PREENCHER!I59)=0,CONCATENATE(PREENCHER!AU59,#REF!),PREENCHER!I59))","v":""},{"$f":"IF(PREENCHER!J59=\"\",\"\",IF(COUNTIF(PREENCHER!$AF59:$AH59,PREENCHER!J59)=0,CONCATENATE(PREENCHER!AV59,#REF!),PREENCHER!J59))","v":""},{"$f":"IF(PREENCHER!K59=\"\",\"\",IF(COUNTIF(PREENCHER!$AF59:$AH59,PREENCHER!K59)=0,CONCATENATE(PREENCHER!AW59,#REF!),PREENCHER!K59))","v":""},{"$f":"IF(PREENCHER!L59=\"\",\"\",IF(COUNTIF(PREENCHER!$AF59:$AH59,PREENCHER!L59)=0,CONCATENATE(PREENCHER!AX59,#REF!),PREENCHER!L59))","v":""},{"$f":"IF(PREENCHER!M59=\"\",\"\",IF(COUNTIF(PREENCHER!$AF59:$AH59,PREENCHER!M59)=0,CONCATENATE(PREENCHER!AY59,#REF!),PREENCHER!M59))","v":""},{"$f":"IF(PREENCHER!N59=\"\",\"\",IF(COUNTIF(PREENCHER!$AF59:$AH59,PREENCHER!N59)=0,CONCATENATE(PREENCHER!AZ59,#REF!),PREENCHER!N59))","v":""},{"$f":"IF(ISERROR(ROUND(AVERAGE(E59:N59),2)),\"\",ROUND(AVERAGE(E59:N59),2))","v":""},{"$f":"IF(ISERROR(ROUND(O59*D59,2)),\"\",ROUND(O59*D59,2))","v":""},null,null,{"$f":"IF(ISERROR(MEDIAN(E59:N59)),\"\",MEDIAN(E59:N59))","v":""},{"$f":"IF(ISERROR(STDEV(E59:N59)),\"\",STDEV(E59:N59))","v":""},{"$f":"IF(ISERROR(T59/O59),\"\",T59/O59)","v":""}]
[{"$f":"IF(PREENCHER!A60=\"\",\"\",PREENCHER!A60)","v":""},{"$f":"IF(PREENCHER!B60=\"\",\"\",PREENCHER!B60)","v":""},{"$f":"IF(PREENCHER!C60=\"\",\"\",PREENCHER!C60)","v":""},{"$f":"IF(PREENCHER!D60=\"\",\"\",PREENCHER!D60)","v":""},{"$f":"IF(PREENCHER!E60=\"\",\"\",IF(COUNTIF(PREENCHER!$AF60:$AH60,PREENCHER!E60)=0,CONCATENATE(PREENCHER!AQ60,#REF!),PREENCHER!E60))","v":""},{"$f":"IF(PREENCHER!F60=\"\",\"\",IF(COUNTIF(PREENCHER!$AF60:$AH60,PREENCHER!F60)=0,CONCATENATE(PREENCHER!AR60,#REF!),PREENCHER!F60))","v":""},{"$f":"IF(PREENCHER!G60=\"\",\"\",IF(COUNTIF(PREENCHER!$AF60:$AH60,PREENCHER!G60)=0,CONCATENATE(PREENCHER!AS60,#REF!),PREENCHER!G60))","v":""},{"$f":"IF(PREENCHER!H60=\"\",\"\",IF(COUNTIF(PREENCHER!$AF60:$AH60,PREENCHER!H60)=0,CONCATENATE(PREENCHER!AT60,#REF!),PREENCHER!H60))","v":""},{"$f":"IF(PREENCHER!I60=\"\",\"\",IF(COUNTIF(PREENCHER!$AF60:$AH60,PREENCHER!I60)=0,CONCATENATE(PREENCHER!AU60,#REF!),PREENCHER!I60))","v":""},{"$f":"IF(PREENCHER!J60=\"\",\"\",IF(COUNTIF(PREENCHER!$AF60:$AH60,PREENCHER!J60)=0,CONCATENATE(PREENCHER!AV60,#REF!),PREENCHER!J60))","v":""},{"$f":"IF(PREENCHER!K60=\"\",\"\",IF(COUNTIF(PREENCHER!$AF60:$AH60,PREENCHER!K60)=0,CONCATENATE(PREENCHER!AW60,#REF!),PREENCHER!K60))","v":""},{"$f":"IF(PREENCHER!L60=\"\",\"\",IF(COUNTIF(PREENCHER!$AF60:$AH60,PREENCHER!L60)=0,CONCATENATE(PREENCHER!AX60,#REF!),PREENCHER!L60))","v":""},{"$f":"IF(PREENCHER!M60=\"\",\"\",IF(COUNTIF(PREENCHER!$AF60:$AH60,PREENCHER!M60)=0,CONCATENATE(PREENCHER!AY60,#REF!),PREENCHER!M60))","v":""},{"$f":"IF(PREENCHER!N60=\"\",\"\",IF(COUNTIF(PREENCHER!$AF60:$AH60,PREENCHER!N60)=0,CONCATENATE(PREENCHER!AZ60,#REF!),PREENCHER!N60))","v":""},{"$f":"IF(ISERROR(ROUND(AVERAGE(E60:N60),2)),\"\",ROUND(AVERAGE(E60:N60),2))","v":""},{"$f":"IF(ISERROR(ROUND(O60*D60,2)),\"\",ROUND(O60*D60,2))","v":""},null,null,{"$f":"IF(ISERROR(MEDIAN(E60:N60)),\"\",MEDIAN(E60:N60))","v":""},{"$f":"IF(ISERROR(STDEV(E60:N60)),\"\",STDEV(E60:N60))","v":""},{"$f":"IF(ISERROR(T60/O60),\"\",T60/O60)","v":""}]
[{"$f":"IF(PREENCHER!A61=\"\",\"\",PREENCHER!A61)","v":""},{"$f":"IF(PREENCHER!B61=\"\",\"\",PREENCHER!B61)","v":""},{"$f":"IF(PREENCHER!C61=\"\",\"\",PREENCHER!C61)","v":""},{"$f":"IF(PREENCHER!D61=\"\",\"\",PREENCHER!D61)","v":""},{"$f":"IF(PREENCHER!E61=\"\",\"\",IF(COUNTIF(PREENCHER!$AF61:$AH61,PREENCHER!E61)=0,CONCATENATE(PREENCHER!AQ61,#REF!),PREENCHER!E61))","v":""},{"$f":"IF(PREENCHER!F61=\"\",\"\",IF(COUNTIF(PREENCHER!$AF61:$AH61,PREENCHER!F61)=0,CONCATENATE(PREENCHER!AR61,#REF!),PREENCHER!F61))","v":""},{"$f":"IF(PREENCHER!G61=\"\",\"\",IF(COUNTIF(PREENCHER!$AF61:$AH61,PREENCHER!G61)=0,CONCATENATE(PREENCHER!AS61,#REF!),PREENCHER!G61))","v":""},{"$f":"IF(PREENCHER!H61=\"\",\"\",IF(COUNTIF(PREENCHER!$AF61:$AH61,PREENCHER!H61)=0,CONCATENATE(PREENCHER!AT61,#REF!),PREENCHER!H61))","v":""},{"$f":"IF(PREENCHER!I61=\"\",\"\",IF(COUNTIF(PREENCHER!$AF61:$AH61,PREENCHER!I61)=0,CONCATENATE(PREENCHER!AU61,#REF!),PREENCHER!I61))","v":""},{"$f":"IF(PREENCHER!J61=\"\",\"\",IF(COUNTIF(PREENCHER!$AF61:$AH61,PREENCHER!J61)=0,CONCATENATE(PREENCHER!AV61,#REF!),PREENCHER!J61))","v":""},{"$f":"IF(PREENCHER!K61=\"\",\"\",IF(COUNTIF(PREENCHER!$AF61:$AH61,PREENCHER!K61)=0,CONCATENATE(PREENCHER!AW61,#REF!),PREENCHER!K61))","v":""},{"$f":"IF(PREENCHER!L61=\"\",\"\",IF(COUNTIF(PREENCHER!$AF61:$AH61,PREENCHER!L61)=0,CONCATENATE(PREENCHER!AX61,#REF!),PREENCHER!L61))","v":""},{"$f":"IF(PREENCHER!M61=\"\",\"\",IF(COUNTIF(PREENCHER!$AF61:$AH61,PREENCHER!M61)=0,CONCATENATE(PREENCHER!AY61,#REF!),PREENCHER!M61))","v":""},{"$f":"IF(PREENCHER!N61=\"\",\"\",IF(COUNTIF(PREENCHER!$AF61:$AH61,PREENCHER!N61)=0,CONCATENATE(PREENCHER!AZ61,#REF!),PREENCHER!N61))","v":""},{"$f":"IF(ISERROR(ROUND(AVERAGE(E61:N61),2)),\"\",ROUND(AVERAGE(E61:N61),2))","v":""},{"$f":"IF(ISERROR(ROUND(O61*D61,2)),\"\",ROUND(O61*D61,2))","v":""},null,null,{"$f":"IF(ISERROR(MEDIAN(E61:N61)),\"\",MEDIAN(E61:N61))","v":""},{"$f":"IF(ISERROR(STDEV(E61:N61)),\"\",STDEV(E61:N61))","v":""},{"$f":"IF(ISERROR(T61/O61),\"\",T61/O61)","v":""}]
[{"$f":"IF(PREENCHER!A62=\"\",\"\",PREENCHER!A62)","v":""},{"$f":"IF(PREENCHER!B62=\"\",\"\",PREENCHER!B62)","v":""},{"$f":"IF(PREENCHER!C62=\"\",\"\",PREENCHER!C62)","v":""},{"$f":"IF(PREENCHER!D62=\"\",\"\",PREENCHER!D62)","v":""},{"$f":"IF(PREENCHER!E62=\"\",\"\",IF(COUNTIF(PREENCHER!$AF62:$AH62,PREENCHER!E62)=0,CONCATENATE(PREENCHER!AQ62,#REF!),PREENCHER!E62))","v":""},{"$f":"IF(PREENCHER!F62=\"\",\"\",IF(COUNTIF(PREENCHER!$AF62:$AH62,PREENCHER!F62)=0,CONCATENATE(PREENCHER!AR62,#REF!),PREENCHER!F62))","v":""},{"$f":"IF(PREENCHER!G62=\"\",\"\",IF(COUNTIF(PREENCHER!$AF62:$AH62,PREENCHER!G62)=0,CONCATENATE(PREENCHER!AS62,#REF!),PREENCHER!G62))","v":""},{"$f":"IF(PREENCHER!H62=\"\",\"\",IF(COUNTIF(PREENCHER!$AF62:$AH62,PREENCHER!H62)=0,CONCATENATE(PREENCHER!AT62,#REF!),PREENCHER!H62))","v":""},{"$f":"IF(PREENCHER!I62=\"\",\"\",IF(COUNTIF(PREENCHER!$AF62:$AH62,PREENCHER!I62)=0,CONCATENATE(PREENCHER!AU62,#REF!),PREENCHER!I62))","v":""},{"$f":"IF(PREENCHER!J62=\"\",\"\",IF(COUNTIF(PREENCHER!$AF62:$AH62,PREENCHER!J62)=0,CONCATENATE(PREENCHER!AV62,#REF!),PREENCHER!J62))","v":""},{"$f":"IF(PREENCHER!K62=\"\",\"\",IF(COUNTIF(PREENCHER!$AF62:$AH62,PREENCHER!K62)=0,CONCATENATE(PREENCHER!AW62,#REF!),PREENCHER!K62))","v":""},{"$f":"IF(PREENCHER!L62=\"\",\"\",IF(COUNTIF(PREENCHER!$AF62:$AH62,PREENCHER!L62)=0,CONCATENATE(PREENCHER!AX62,#REF!),PREENCHER!L62))","v":""},{"$f":"IF(PREENCHER!M62=\"\",\"\",IF(COUNTIF(PREENCHER!$AF62:$AH62,PREENCHER!M62)=0,CONCATENATE(PREENCHER!AY62,#REF!),PREENCHER!M62))","v":""},{"$f":"IF(PREENCHER!N62=\"\",\"\",IF(COUNTIF(PREENCHER!$AF62:$AH62,PREENCHER!N62)=0,CONCATENATE(PREENCHER!AZ62,#REF!),PREENCHER!N62))","v":""},{"$f":"IF(ISERROR(ROUND(AVERAGE(E62:N62),2)),\"\",ROUND(AVERAGE(E62:N62),2))","v":""},{"$f":"IF(ISERROR(ROUND(O62*D62,2)),\"\",ROUND(O62*D62,2))","v":""},null,null,{"$f":"IF(ISERROR(MEDIAN(E62:N62)),\"\",MEDIAN(E62:N62))","v":""},{"$f":"IF(ISERROR(STDEV(E62:N62)),\"\",STDEV(E62:N62))","v":""},{"$f":"IF(ISERROR(T62/O62),\"\",T62/O62)","v":""}]
[{"$f":"IF(PREENCHER!A63=\"\",\"\",PREENCHER!A63)","v":""},{"$f":"IF(PREENCHER!B63=\"\",\"\",PREENCHER!B63)","v":""},{"$f":"IF(PREENCHER!C63=\"\",\"\",PREENCHER!C63)","v":""},{"$f":"IF(PREENCHER!D63=\"\",\"\",PREENCHER!D63)","v":""},{"$f":"IF(PREENCHER!E63=\"\",\"\",IF(COUNTIF(PREENCHER!$AF63:$AH63,PREENCHER!E63)=0,CONCATENATE(PREENCHER!AQ63,#REF!),PREENCHER!E63))","v":""},{"$f":"IF(PREENCHER!F63=\"\",\"\",IF(COUNTIF(PREENCHER!$AF63:$AH63,PREENCHER!F63)=0,CONCATENATE(PREENCHER!AR63,#REF!),PREENCHER!F63))","v":""},{"$f":"IF(PREENCHER!G63=\"\",\"\",IF(COUNTIF(PREENCHER!$AF63:$AH63,PREENCHER!G63)=0,CONCATENATE(PREENCHER!AS63,#REF!),PREENCHER!G63))","v":""},{"$f":"IF(PREENCHER!H63=\"\",\"\",IF(COUNTIF(PREENCHER!$AF63:$AH63,PREENCHER!H63)=0,CONCATENATE(PREENCHER!AT63,#REF!),PREENCHER!H63))","v":""},{"$f":"IF(PREENCHER!I63=\"\",\"\",IF(COUNTIF(PREENCHER!$AF63:$AH63,PREENCHER!I63)=0,CONCATENATE(PREENCHER!AU63,#REF!),PREENCHER!I63))","v":""},{"$f":"IF(PREENCHER!J63=\"\",\"\",IF(COUNTIF(PREENCHER!$AF63:$AH63,PREENCHER!J63)=0,CONCATENATE(PREENCHER!AV63,#REF!),PREENCHER!J63))","v":""},{"$f":"IF(PREENCHER!K63=\"\",\"\",IF(COUNTIF(PREENCHER!$AF63:$AH63,PREENCHER!K63)=0,CONCATENATE(PREENCHER!AW63,#REF!),PREENCHER!K63))","v":""},{"$f":"IF(PREENCHER!L63=\"\",\"\",IF(COUNTIF(PREENCHER!$AF63:$AH63,PREENCHER!L63)=0,CONCATENATE(PREENCHER!AX63,#REF!),PREENCHER!L63))","v":""},{"$f":"IF(PREENCHER!M63=\"\",\"\",IF(COUNTIF(PREENCHER!$AF63:$AH63,PREENCHER!M63)=0,CONCATENATE(PREENCHER!AY63,#REF!),PREENCHER!M63))","v":""},{"$f":"IF(PREENCHER!N63=\"\",\"\",IF(COUNTIF(PREENCHER!$AF63:$AH63,PREENCHER!N63)=0,CONCATENATE(PREENCHER!AZ63,#REF!),PREENCHER!N63))","v":""},{"$f":"IF(ISERROR(ROUND(AVERAGE(E63:N63),2)),\"\",ROUND(AVERAGE(E63:N63),2))","v":""},{"$f":"IF(ISERROR(ROUND(O63*D63,2)),\"\",ROUND(O63*D63,2))","v":""},null,null,{"$f":"IF(ISERROR(MEDIAN(E63:N63)),\"\",MEDIAN(E63:N63))","v":""},{"$f":"IF(ISERROR(STDEV(E63:N63)),\"\",STDEV(E63:N63))","v":""},{"$f":"IF(ISERROR(T63/O63),\"\",T63/O63)","v":""}]
[{"$f":"IF(PREENCHER!A64=\"\",\"\",PREENCHER!A64)","v":""},{"$f":"IF(PREENCHER!B64=\"\",\"\",PREENCHER!B64)","v":""},{"$f":"IF(PREENCHER!C64=\"\",\"\",PREENCHER!C64)","v":""},{"$f":"IF(PREENCHER!D64=\"\",\"\",PREENCHER!D64)","v":""},{"$f":"IF(PREENCHER!E64=\"\",\"\",IF(COUNTIF(PREENCHER!$AF64:$AH64,PREENCHER!E64)=0,CONCATENATE(PREENCHER!AQ64,#REF!),PREENCHER!E64))","v":""},{"$f":"IF(PREENCHER!F64=\"\",\"\",IF(COUNTIF(PREENCHER!$AF64:$AH64,PREENCHER!F64)=0,CONCATENATE(PREENCHER!AR64,#REF!),PREENCHER!F64))","v":""},{"$f":"IF(PREENCHER!G64=\"\",\"\",IF(COUNTIF(PREENCHER!$AF64:$AH64,PREENCHER!G64)=0,CONCATENATE(PREENCHER!AS64,#REF!),PREENCHER!G64))","v":""},{"$f":"IF(PREENCHER!H64=\"\",\"\",IF(COUNTIF(PREENCHER!$AF64:$AH64,PREENCHER!H64)=0,CONCATENATE(PREENCHER!AT64,#REF!),PREENCHER!H64))","v":""},{"$f":"IF(PREENCHER!I64=\"\",\"\",IF(COUNTIF(PREENCHER!$AF64:$AH64,PREENCHER!I64)=0,CONCATENATE(PREENCHER!AU64,#REF!),PREENCHER!I64))","v":""},{"$f":"IF(PREENCHER!J64=\"\",\"\",IF(COUNTIF(PREENCHER!$AF64:$AH64,PREENCHER!J64)=0,CONCATENATE(PREENCHER!AV64,#REF!),PREENCHER!J64))","v":""},{"$f":"IF(PREENCHER!K64=\"\",\"\",IF(COUNTIF(PREENCHER!$AF64:$AH64,PREENCHER!K64)=0,CONCATENATE(PREENCHER!AW64,#REF!),PREENCHER!K64))","v":""},{"$f":"IF(PREENCHER!L64=\"\",\"\",IF(COUNTIF(PREENCHER!$AF64:$AH64,PREENCHER!L64)=0,CONCATENATE(PREENCHER!AX64,#REF!),PREENCHER!L64))","v":""},{"$f":"IF(PREENCHER!M64=\"\",\"\",IF(COUNTIF(PREENCHER!$AF64:$AH64,PREENCHER!M64)=0,CONCATENATE(PREENCHER!AY64,#REF!),PREENCHER!M64))","v":""},{"$f":"IF(PREENCHER!N64=\"\",\"\",IF(COUNTIF(PREENCHER!$AF64:$AH64,PREENCHER!N64)=0,CONCATENATE(PREENCHER!AZ64,#REF!),PREENCHER!N64))","v":""},{"$f":"IF(ISERROR(ROUND(AVERAGE(E64:N64),2)),\"\",ROUND(AVERAGE(E64:N64),2))","v":""},{"$f":"IF(ISERROR(ROUND(O64*D64,2)),\"\",ROUND(O64*D64,2))","v":""},null,null,{"$f":"IF(ISERROR(MEDIAN(E64:N64)),\"\",MEDIAN(E64:N64))","v":""},{"$f":"IF(ISERROR(STDEV(E64:N64)),\"\",STDEV(E64:N64))","v":""},{"$f":"IF(ISERROR(T64/O64),\"\",T64/O64)","v":""}]
[{"$f":"IF(PREENCHER!A65=\"\",\"\",PREENCHER!A65)","v":""},{"$f":"IF(PREENCHER!B65=\"\",\"\",PREENCHER!B65)","v":""},{"$f":"IF(PREENCHER!C65=\"\",\"\",PREENCHER!C65)","v":""},{"$f":"IF(PREENCHER!D65=\"\",\"\",PREENCHER!D65)","v":""},{"$f":"IF(PREENCHER!E65=\"\",\"\",IF(COUNTIF(PREENCHER!$AF65:$AH65,PREENCHER!E65)=0,CONCATENATE(PREENCHER!AQ65,#REF!),PREENCHER!E65))","v":""},{"$f":"IF(PREENCHER!F65=\"\",\"\",IF(COUNTIF(PREENCHER!$AF65:$AH65,PREENCHER!F65)=0,CONCATENATE(PREENCHER!AR65,#REF!),PREENCHER!F65))","v":""},{"$f":"IF(PREENCHER!G65=\"\",\"\",IF(COUNTIF(PREENCHER!$AF65:$AH65,PREENCHER!G65)=0,CONCATENATE(PREENCHER!AS65,#REF!),PREENCHER!G65))","v":""},{"$f":"IF(PREENCHER!H65=\"\",\"\",IF(COUNTIF(PREENCHER!$AF65:$AH65,PREENCHER!H65)=0,CONCATENATE(PREENCHER!AT65,#REF!),PREENCHER!H65))","v":""},{"$f":"IF(PREENCHER!I65=\"\",\"\",IF(COUNTIF(PREENCHER!$AF65:$AH65,PREENCHER!I65)=0,CONCATENATE(PREENCHER!AU65,#REF!),PREENCHER!I65))","v":""},{"$f":"IF(PREENCHER!J65=\"\",\"\",IF(COUNTIF(PREENCHER!$AF65:$AH65,PREENCHER!J65)=0,CONCATENATE(PREENCHER!AV65,#REF!),PREENCHER!J65))","v":""},{"$f":"IF(PREENCHER!K65=\"\",\"\",IF(COUNTIF(PREENCHER!$AF65:$AH65,PREENCHER!K65)=0,CONCATENATE(PREENCHER!AW65,#REF!),PREENCHER!K65))","v":""},{"$f":"IF(PREENCHER!L65=\"\",\"\",IF(COUNTIF(PREENCHER!$AF65:$AH65,PREENCHER!L65)=0,CONCATENATE(PREENCHER!AX65,#REF!),PREENCHER!L65))","v":""},{"$f":"IF(PREENCHER!M65=\"\",\"\",IF(COUNTIF(PREENCHER!$AF65:$AH65,PREENCHER!M65)=0,CONCATENATE(PREENCHER!AY65,#REF!),PREENCHER!M65))","v":""},{"$f":"IF(PREENCHER!N65=\"\",\"\",IF(COUNTIF(PREENCHER!$AF65:$AH65,PREENCHER!N65)=0,CONCATENATE(PREENCHER!AZ65,#REF!),PREENCHER!N65))","v":""},{"$f":"IF(ISERROR(ROUND(AVERAGE(E65:N65),2)),\"\",ROUND(AVERAGE(E65:N65),2))","v":""},{"$f":"IF(ISERROR(ROUND(O65*D65,2)),\"\",ROUND(O65*D65,2))","v":""},null,null,{"$f":"IF(ISERROR(MEDIAN(E65:N65)),\"\",MEDIAN(E65:N65))","v":""},{"$f":"IF(ISERROR(STDEV(E65:N65)),\"\",STDEV(E65:N65))","v":""},{"$f":"IF(ISERROR(T65/O65),\"\",T65/O65)","v":""}]
[{"$f":"IF(PREENCHER!A66=\"\",\"\",PREENCHER!A66)","v":""},{"$f":"IF(PREENCHER!B66=\"\",\"\",PREENCHER!B66)","v":""},{"$f":"IF(PREENCHER!C66=\"\",\"\",PREENCHER!C66)","v":""},{"$f":"IF(PREENCHER!D66=\"\",\"\",PREENCHER!D66)","v":""},{"$f":"IF(PREENCHER!E66=\"\",\"\",IF(COUNTIF(PREENCHER!$AF66:$AH66,PREENCHER!E66)=0,CONCATENATE(PREENCHER!AQ66,#REF!),PREENCHER!E66))","v":""},{"$f":"IF(PREENCHER!F66=\"\",\"\",IF(COUNTIF(PREENCHER!$AF66:$AH66,PREENCHER!F66)=0,CONCATENATE(PREENCHER!AR66,#REF!),PREENCHER!F66))","v":""},{"$f":"IF(PREENCHER!G66=\"\",\"\",IF(COUNTIF(PREENCHER!$AF66:$AH66,PREENCHER!G66)=0,CONCATENATE(PREENCHER!AS66,#REF!),PREENCHER!G66))","v":""},{"$f":"IF(PREENCHER!H66=\"\",\"\",IF(COUNTIF(PREENCHER!$AF66:$AH66,PREENCHER!H66)=0,CONCATENATE(PREENCHER!AT66,#REF!),PREENCHER!H66))","v":""},{"$f":"IF(PREENCHER!I66=\"\",\"\",IF(COUNTIF(PREENCHER!$AF66:$AH66,PREENCHER!I66)=0,CONCATENATE(PREENCHER!AU66,#REF!),PREENCHER!I66))","v":""},{"$f":"IF(PREENCHER!J66=\"\",\"\",IF(COUNTIF(PREENCHER!$AF66:$AH66,PREENCHER!J66)=0,CONCATENATE(PREENCHER!AV66,#REF!),PREENCHER!J66))","v":""},{"$f":"IF(PREENCHER!K66=\"\",\"\",IF(COUNTIF(PREENCHER!$AF66:$AH66,PREENCHER!K66)=0,CONCATENATE(PREENCHER!AW66,#REF!),PREENCHER!K66))","v":""},{"$f":"IF(PREENCHER!L66=\"\",\"\",IF(COUNTIF(PREENCHER!$AF66:$AH66,PREENCHER!L66)=0,CONCATENATE(PREENCHER!AX66,#REF!),PREENCHER!L66))","v":""},{"$f":"IF(PREENCHER!M66=\"\",\"\",IF(COUNTIF(PREENCHER!$AF66:$AH66,PREENCHER!M66)=0,CONCATENATE(PREENCHER!AY66,#REF!),PREENCHER!M66))","v":""},{"$f":"IF(PREENCHER!N66=\"\",\"\",IF(COUNTIF(PREENCHER!$AF66:$AH66,PREENCHER!N66)=0,CONCATENATE(PREENCHER!AZ66,#REF!),PREENCHER!N66))","v":""},{"$f":"IF(ISERROR(ROUND(AVERAGE(E66:N66),2)),\"\",ROUND(AVERAGE(E66:N66),2))","v":""},{"$f":"IF(ISERROR(ROUND(O66*D66,2)),\"\",ROUND(O66*D66,2))","v":""},null,null,{"$f":"IF(ISERROR(MEDIAN(E66:N66)),\"\",MEDIAN(E66:N66))","v":""},{"$f":"IF(ISERROR(STDEV(E66:N66)),\"\",STDEV(E66:N66))","v":""},{"$f":"IF(ISERROR(T66/O66),\"\",T66/O66)","v":""}]
[{"$f":"IF(PREENCHER!A67=\"\",\"\",PREENCHER!A67)","v":""},{"$f":"IF(PREENCHER!B67=\"\",\"\",PREENCHER!B67)","v":""},{"$f":"IF(PREENCHER!C67=\"\",\"\",PREENCHER!C67)","v":""},{"$f":"IF(PREENCHER!D67=\"\",\"\",PREENCHER!D67)","v":""},{"$f":"IF(PREENCHER!E67=\"\",\"\",IF(COUNTIF(PREENCHER!$AF67:$AH67,PREENCHER!E67)=0,CONCATENATE(PREENCHER!AQ67,#REF!),PREENCHER!E67))","v":""},{"$f":"IF(PREENCHER!F67=\"\",\"\",IF(COUNTIF(PREENCHER!$AF67:$AH67,PREENCHER!F67)=0,CONCATENATE(PREENCHER!AR67,#REF!),PREENCHER!F67))","v":""},{"$f":"IF(PREENCHER!G67=\"\",\"\",IF(COUNTIF(PREENCHER!$AF67:$AH67,PREENCHER!G67)=0,CONCATENATE(PREENCHER!AS67,#REF!),PREENCHER!G67))","v":""},{"$f":"IF(PREENCHER!H67=\"\",\"\",IF(COUNTIF(PREENCHER!$AF67:$AH67,PREENCHER!H67)=0,CONCATENATE(PREENCHER!AT67,#REF!),PREENCHER!H67))","v":""},{"$f":"IF(PREENCHER!I67=\"\",\"\",IF(COUNTIF(PREENCHER!$AF67:$AH67,PREENCHER!I67)=0,CONCATENATE(PREENCHER!AU67,#REF!),PREENCHER!I67))","v":""},{"$f":"IF(PREENCHER!J67=\"\",\"\",IF(COUNTIF(PREENCHER!$AF67:$AH67,PREENCHER!J67)=0,CONCATENATE(PREENCHER!AV67,#REF!),PREENCHER!J67))","v":""},{"$f":"IF(PREENCHER!K67=\"\",\"\",IF(COUNTIF(PREENCHER!$AF67:$AH67,PREENCHER!K67)=0,CONCATENATE(PREENCHER!AW67,#REF!),PREENCHER!K67))","v":""},{"$f":"IF(PREENCHER!L67=\"\",\"\",IF(COUNTIF(PREENCHER!$AF67:$AH67,PREENCHER!L67)=0,CONCATENATE(PREENCHER!AX67,#REF!),PREENCHER!L67))","v":""},{"$f":"IF(PREENCHER!M67=\"\",\"\",IF(COUNTIF(PREENCHER!$AF67:$AH67,PREENCHER!M67)=0,CONCATENATE(PREENCHER!AY67,#REF!),PREENCHER!M67))","v":""},{"$f":"IF(PREENCHER!N67=\"\",\"\",IF(COUNTIF(PREENCHER!$AF67:$AH67,PREENCHER!N67)=0,CONCATENATE(PREENCHER!AZ67,#REF!),PREENCHER!N67))","v":""},{"$f":"IF(ISERROR(ROUND(AVERAGE(E67:N67),2)),\"\",ROUND(AVERAGE(E67:N67),2))","v":""},{"$f":"IF(ISERROR(ROUND(O67*D67,2)),\"\",ROUND(O67*D67,2))","v":""},null,null,{"$f":"IF(ISERROR(MEDIAN(E67:N67)),\"\",MEDIAN(E67:N67))","v":""},{"$f":"IF(ISERROR(STDEV(E67:N67)),\"\",STDEV(E67:N67))","v":""},{"$f":"IF(ISERROR(T67/O67),\"\",T67/O67)","v":""}]
["VALOR GLOBAL",null,null,null,null,null,null,null,null,null,null,null,null,null,null,{"$f":"IF(SUM(P8:P67)=0,\"\",SUM(P8:P67))","v":33952.93}]

{"sheet":"Média 2º, 3º e 4º","index":2,"n_rows":68,"n_cols":21,"rows_kept":68,"cut":false,"hidden":true,"merged":[[5,18,5,20],[67,0,67,14]]}
[]
[]
[]
[]
[]
[null,null,null,null,null,null,null,null,null,null,null,null,null,null,null,null,null,null,"ANÁLISE ESTATÍSTICA"]
[{"$f":"PREENCHER!A6","v":"ITEM"},{"$f":"PREENCHER!B6","v":"ESPECIFICAÇÃO"},{"$f":"PREENCHER!C6","v":"UN"},{"$f":"PREENCHER!D6","v":"QTDE"},{"$f":"PREENCHER!E7","v":"PESQUISA 1"},{"$f":"preencher!#ref!","v":{"$error":"#NAME?"}},{"$f":"PREENCHER!F7","v":"PESQUISA 2"},{"$f":"PREENCHER!G7","v":"PESQUISA 3"},{"$f":"PREENCHER!H7","v":"PESQUISA 3"},{"$f":"PREENCHER!I7","v":"PESQUISA 5"},{"$f":"PREENCHER!K7","v":"PESQUISA 7"},{"$f":"PREENCHER!L7","v":"PESQUISA 8"},{"$f":"PREENCHER!M7","v":"PESQUISA 9"},{"$f":"PREENCHER!N7","v":"PESQUISA 10"},{"$f":"PREENCHER!O7","v":"UNITÁRIO"},{"$f":"PREENCHER!P7","v":"TOTAL"},{"$f":"PREENCHER!S6","v":"OBSERVAÇÃO"},null,"MEDIANA","DESVIO PADRÃO","COEFICIENTE DE VARIAÇÃO"]
[{"$f":"IF(PREENCHER!A8=\"\",\"\",PREENCHER!A8)","v":1},{"$f":"IF(PREENCHER!B8=\"\",\"\",PREENCHER!B8)","v":"PÃO DE QUEIJO CONGELADO"},{"$f":"IF(PREENCHER!C8=\"\",\"\",PREENCHER!C8)","v":"QUILO"},{"$f":"IF(PREENCHER!D8=\"\",\"\",PREENCHER!D8)","v":462},{"$f":"IF(PREENCHER!E8=\"\",\"\",IF(COUNTIF(PREENCHER!$AG8:$AI8,PREENCHER!E8)=0,CONCATENATE(PREENCHER!AQ8,#REF!),PREENCHER!E8))","v":22.82},{"$f":"IF(PREENCHER!F8=\"\",\"\",IF(COUNTIF(PREENCHER!$AG8:$AI8,PREENCHER!F8)=0,CONCATENATE(PREENCHER!AR8,#REF!),PREENCHER!F8))","v":{"$error":"#REF!"}},{"$f":"IF(PREENCHER!G8=\"\",\"\",IF(COUNTIF(PREENCHER!$AG8:$AI8,PREENCHER!G8)=0,CONCATENATE(PREENCHER!AS8,#REF!),PREENCHER!G8))","v":""},{"$f":"IF(PREENCHER!H8=\"\",\"\",IF(COUNTIF(PREENCHER!$AG8:$AI8,PREENCHER!H8)=0,CONCATENATE(PREENCHER!AT8,#REF!),PREENCHER!H8))","v":41.65},{"$f":"IF(PREENCHER!I8=\"\",\"\",IF(COUNTIF(PREENCHER!$AG8:$AI8,PREENCHER!I8)=0,CONCATENATE(PREENCHER!AU8,#REF!),PREENCHER!I8))","v":""},{"$f":"IF(PREENCHER!J8=\"\",\"\",IF(COUNTIF(PREENCHER!$AG8:$AI8,PREENCHER!J8)=0,CONCATENATE(PREENCHER!AV8,#REF!),PREENCHER!J8))","v":""},{"$f":"IF(PREENCHER!K8=\"\",\"\",IF(COUNTIF(PREENCHER!$AG8:$AI8,PREENCHER!K8)=0,CONCATENATE(PREENCHER!AW8,#REF!),PREENCHER!K8))","v":""},{"$f":"IF(PREENCHER!L8=\"\",\"\",IF(COUNTIF(PREENCHER!$AG8:$AI8,PREENCHER!L8)=0,CONCATENATE(PREENCHER!AX8,#REF!),PREENCHER!L8))","v":""},{"$f":"IF(PREENCHER!M8=\"\",\"\",IF(COUNTIF(PREENCHER!$AG8:$AI8,PREENCHER!M8)=0,CONCATENATE(PREENCHER!AY8,#REF!),PREENCHER!M8))","v":""},{"$f":"IF(PREENCHER!N8=\"\",\"\",IF(COUNTIF(PREENCHER!$AG8:$AI8,PREENCHER!N8)=0,CONCATENATE(PREENCHER!AZ8,#REF!),PREENCHER!N8))","v":""},{"$f":"IF(ISERROR(ROUND(AVERAGE(E8:N8),2)),\"\",ROUND(AVERAGE(E8:N8),2))","v":""},{"$f":"IF(ISERROR(ROUND(O8*D8,2)),\"\",ROUND(O8*D8,2))","v":""},null,null,{"$f":"IF(ISERROR(MEDIAN(E8:N8)),\"\",MEDIAN(E8:N8))","v":""},{"$f":"IF(ISERROR(STDEV(E8:N8)),\"\",STDEV(E8:N8))","v":""},{"$f":"IF(ISERROR(T8/O8),\"\",T8/O8)","v":""}]
[{"$f":"IF(PREENCHER!A9=\"\",\"\",PREENCHER!A9)","v":2},{"$f":"IF(PREENCHER!B9=\"\",\"\",PREENCHER!B9)","v":"BOLO CASEIRO"},{"$f":"IF(PREENCHER!C9=\"\",\"\",PREENCHER!C9)","v":"UNIDADE"},{"$f":"IF(PREENCHER!D9=\"\",\"\",PREENCHER!D9)","v":40},{"$f":"IF(PREENCHER!E9=\"\",\"\",IF(COUNTIF(PREENCHER!$AG9:$AI9,PREENCHER!E9)=0,CONCATENATE(PREENCHER!AQ9,#REF!),PREENCHER!E9))","v":{"$error":"#REF!"}},{"$f":"IF(PREENCHER!F9=\"\",\"\",IF(COUNTIF(PREENCHER!$AG9:$AI9,PREENCHER!F9)=0,CONCATENATE(PREENCHER!AR9,#REF!),PREENCHER!F9))","v":22.69},{"$f":"IF(PREENCHER!G9=\"\",\"\",IF(COUNTIF(PREENCHER!$AG9:$AI9,PREENCHER!G9)=0,CONCATENATE(PREENCHER!AS9,#REF!),PREENCHER!G9))","v":""},{"$f":"IF(PREENCHER!H9=\"\",\"\",IF(COUNTIF(PREENCHER!$AG9:$AI9,PREENCHER!H9)=0,CONCATENATE(PREENCHER!AT9,#REF!),PREENCHER!H9))","v":30},{"$f":"IF(PREENCHER!I9=\"\",\"\",IF(COUNTIF(PREENCHER!$AG9:$AI9,PREENCHER!I9)=0,CONCATENATE(PREENCHER!AU9,#REF!),PREENCHER!I9))","v":20},{"$f":"IF(PREENCHER!J9=\"\",\"\",IF(COUNTIF(PREENCHER!$AG9:$AI9,PREENCHER!J9)=0,CONCATENATE(PREENCHER!AV9,#REF!),PREENCHER!J9))","v":{"$error":"#REF!"}},{"$f":"IF(PREENCHER!K9=\"\",\"\",IF(COUNTIF(PREENCHER!$AG9:$AI9,PREENCHER!K9)=0,CONCATENATE(PREENCHER!AW9,#REF!),PREENCHER!K9))","v":""},{"$f":"IF(PREENCHER!L9=\"\",\"\",IF(COUNTIF(PREENCHER!$AG9:$AI9,PREENCHER!L9)=0,CONCATENATE(PREENCHER!AX9,#REF!),PREENCHER!L9))","v":""},{"$f":"IF(PREENCHER!M9=\"\",\"\",IF(COUNTIF(PREENCHER!$AG9:$AI9,PREENCHER!M9)=0,CONCATENATE(PREENCHER!AY9,#REF!),PREENCHER!M9))","v":""},{"$f":"IF(PREENCHER!N9=\"\",\"\",IF(COUNTIF(PREENCHER!$AG9:$AI9,PREENCHER!N9)=0,CONCATENATE(PREENCHER!AZ9,#REF!),PREENCHER!N9))","v":""},{"$f":"IF(ISERROR(ROUND(AVERAGE(E9:N9),2)),\"\",ROUND(AVERAGE(E9:N9),2))","v":""},{"$f":"IF(ISERROR(ROUND(O9*D9,2)),\"\",ROUND(O9*D9,2))","v":""},null,null,{"$f":"IF(ISERROR(MEDIAN(E9:N9)),\"\",MEDIAN(E9:N9))","v":""},{"$f":"IF(ISERROR(STDEV(E9:N9)),\"\",STDEV(E9:N9))","v":""},{"$f":"IF(ISERROR(T9/O9),\"\",T9/O9)","v":""}]
[{"$f":"IF(PREENCHER!A10=\"\",\"\",PREENCHER!A10)","v":3},{"$f":"IF(PREENCHER!B10=\"\",\"\",PREENCHER!B10)","v":"SANDUÍCHE NATURAL"},{"$f":"IF(PREENCHER!C10=\"\",\"\",PREENCHER!C10)","v":"UNIDADE"},{"$f":"IF(PREENCHER!D10=\"\",\"\",PREENCHER!D10)","v":800},{"$f":"IF(PREENCHER!E10=\"\",\"\",IF(COUNTIF(PREENCHER!$AG10:$AI10,PREENCHER!E10)=0,CONCATENATE(PREENCHER!AQ10,#REF!),PREENCHER!E10))","v":8.1},{"$f":"IF(PREENCHER!F10=\"\",\"\",IF(COUNTIF(PREENCHER!$AG10:$AI10,PREENCHER!F10)=0,CONCATENATE(PREENCHER!AR10,#REF!),PREENCHER!F10))","v":10.9},{"$f":"IF(PREENCHER!G10=\"\",\"\",IF(COUNTIF(PREENCHER!$AG10:$AI10,PREENCHER!G10)=0,CONCATENATE(PREENCHER!AS10,#REF!),PREENCHER!G10))","v":""},{"$f":"IF(PREENCHER!H10=\"\",\"\",IF(COUNTIF(PREENCHER!$AG10:$AI10,PREENCHER!H10)=0,CONCATENATE(PREENCHER!AT10,#REF!),PREENCHER!H10))","v":{"$error":"#REF!"}},{"$f":"IF(PREENCHER!I10=\"\",\"\",IF(COUNTIF(PREENCHER!$AG10:$AI10,PREENCHER!I10)=0,CONCATENATE(PREENCHER!AU10,#REF!),PREENCHER!I10))","v":""},{"$f":"IF(PREENCHER!J10=\"\",\"\",IF(COUNTIF(PREENCHER!$AG10:$AI10,PREENCHER!J10)=0,CONCATENATE(PREENCHER!AV10,#REF!),PREENCHER!J10))","v":""},{"$f":"IF(PREENCHER!K10=\"\",\"\",IF(COUNTIF(PREENCHER!$AG10:$AI10,PREENCHER!K10)=0,CONCATENATE(PREENCHER!AW10,#REF!),PREENCHER!K10))","v":""},{"$f":"IF(PREENCHER!L10=\"\",\"\",IF(COUNTIF(PREENCHER!$AG10:$AI10,PREENCHER!L10)=0,CONCATENATE(PREENCHER!AX10,#REF!),PREENCHER!L10))","v":""},{"$f":"IF(PREENCHER!M10=\"\",\"\",IF(COUNTIF(PREENCHER!$AG10:$AI10,PREENCHER!M10)=0,CONCATENATE(PREENCHER!AY10,#REF!),PREENCHER!M10))","v":""},{"$f":"IF(PREENCHER!N10=\"\",\"\",IF(COUNTIF(PREENCHER!$AG10:$AI10,PREENCHER!N10)=0,CONCATENATE(PREENCHER!AZ10,#REF!),PREENCHER!N10))","v":""},{"$f":"IF(ISERROR(ROUND(AVERAGE(E10:N10),2)),\"\",ROUND(AVERAGE(E10:N10),2))","v":""},{"$f":"IF(ISERROR(ROUND(O10*D10,2)),\"\",ROUND(O10*D10,2))","v":""},null,null,{"$f":"IF(ISERROR(MEDIAN(E10:N10)),\"\",MEDIAN(E10:N10))","v":""},{"$f":"IF(ISERROR(STDEV(E10:N10)),\"\",STDEV(E10:N10))","v":""},{"$f":"IF(ISERROR(T10/O10),\"\",T10/O10)","v":""}]
[{"$f":"IF(PREENCHER!A11=\"\",\"\",PREENCHER!A11)","v":4},{"$f":"IF(PREENCHER!B11=\"\",\"\",PREENCHER!B11)","v":"EMPADA DE FRANGO"},{"$f":"IF(PREENCHER!C11=\"\",\"\",PREENCHER!C11)","v":"CENTENA"},{"$f":"IF(PREENCHER!D11=\"\",\"\",PREENCHER!D11)","v":52},{"$f":"IF(PREENCHER!E11=\"\",\"\",IF(COUNTIF(PREENCHER!$AG11:$AI11,PREENCHER!E11)=0,CONCATENATE(PREENCHER!AQ11,#REF!),PREENCHER!E11))","v":106},{"$f":"IF(PREENCHER!F11=\"\",\"\",IF(COUNTIF(PREENCHER!$AG11:$AI11,PREENCHER!F11)=0,CONCATENATE(PREENCHER!AR11,#REF!),PREENCHER!F11))","v":{"$error":"#REF!"}},{"$f":"IF(PREENCHER!G11=\"\",\"\",IF(COUNTIF(PREENCHER!$AG11:$AI11,PREENCHER!G11)=0,CONCATENATE(PREENCHER!AS11,#REF!),PREENCHER!G11))","v":""},{"$f":"IF(PREENCHER!H11=\"\",\"\",IF(COUNTIF(PREENCHER!$AG11:$AI11,PREENCHER!H11)=0,CONCATENATE(PREENCHER!AT11,#REF!),PREENCHER!H11))","v":65},{"$f":"IF(PREENCHER!I11=\"\",\"\",IF(COUNTIF(PREENCHER!$AG11:$AI11,PREENCHER!I11)=0,CONCATENATE(PREENCHER!AU11,#REF!),PREENCHER!I11))","v":""},{"$f":"IF(PREENCHER!J11=\"\",\"\",IF(COUNTIF(PREENCHER!$AG11:$AI11,PREENCHER!J11)=0,CONCATENATE(PREENCHER!AV11,#REF!),PREENCHER!J11))","v":""},{"$f":"IF(PREENCHER!K11=\"\",\"\",IF(COUNTIF(PREENCHER!$AG11:$AI11,PREENCHER!K11)=0,CONCATENATE(PREENCHER!AW11,#REF!),PREENCHER!K11))","v":""},{"$f":"IF(PREENCHER!L11=\"\",\"\",IF(COUNTIF(PREENCHER!$AG11:$AI11,PREENCHER!L11)=0,CONCATENATE(PREENCHER!AX11,#REF!),PREENCHER!L11))","v":""},{"$f":"IF(PREENCHER!M11=\"\",\"\",IF(COUNTIF(PREENCHER!$AG11:$AI11,PREENCHER!M11)=0,CONCATENATE(PREENCHER!AY11,#REF!),PREENCHER!M11))","v":""},{"$f":"IF(PREENCHER!N11=\"\",\"\",IF(COUNTIF(PREENCHER!$AG11:$AI11,PREENCHER!N11)=0,CONCATENATE(PREENCHER!AZ11,#REF!),PREENCHER!N11))","v":""},{"$f":"IF(ISERROR(ROUND(AVERAGE(E11:N11),2)),\"\",ROUND(AVERAGE(E11:N11),2))","v":""},{"$f":"IF(ISERROR(ROUND(O11*D11,2)),\"\",ROUND(O11*D11,2))","v":""},null,null,{"$f":"IF(ISERROR(MEDIAN(E11:N11)),\"\",MEDIAN(E11:N11))","v":""},{"$f":"IF(ISERROR(STDEV(E11:N11)),\"\",STDEV(E11:N11))","v":""},{"$f":"IF(ISERROR(T11/O11),\"\",T11/O11)","v":""}]
[{"$f":"IF(PREENCHER!A12=\"\",\"\",PREENCHER!A12)","v":5},{"$f":"IF(PREENCHER!B12=\"\",\"\",PREENCHER!B12)","v":"BROINHA DE MILHO"},{"$f":"IF(PREENCHER!C12=\"\",\"\",PREENCHER!C12)","v":"QUILO"},{"$f":"IF(PREENCHER!D12=\"\",\"\",PREENCHER!D12)","v":6},{"$f":"IF(PREENCHER!E12=\"\",\"\",IF(COUNTIF(PREENCHER!$AG12:$AI12,PREENCHER!E12)=0,CONCATENATE(PREENCHER!AQ12,#REF!),PREENCHER!E12))","v":{"$error":"#REF!"}},{"$f":"IF(PREENCHER!F12=\"\",\"\",IF(COUNTIF(PREENCHER!$AG12:$AI12,PREENCHER!F12)=0,CONCATENATE(PREENCHER!AR12,#REF!),PREENCHER!F12))","v":24},{"$f":"IF(PREENCHER!G12=\"\",\"\",IF(COUNTIF(PREENCHER!$AG12:$AI12,PREENCHER!G12)=0,CONCATENATE(PREENCHER!AS12,#REF!),PREENCHER!G12))","v":""},{"$f":"IF(PREENCHER!H12=\"\",\"\",IF(COUNTIF(PREENCHER!$AG12:$AI12,PREENCHER!H12)=0,CONCATENATE(PREENCHER!AT12,#REF!),PREENCHER!H12))","v":32.99},{"$f":"IF(PREENCHER!I12=\"\",\"\",IF(COUNTIF(PREENCHER!$AG12:$AI12,PREENCHER!I12)=0,CONCATENATE(PREENCHER!AU12,#REF!),PREENCHER!I12))","v":""},{"$f":"IF(PREENCHER!J12=\"\",\"\",IF(COUNTIF(PREENCHER!$AG12:$AI12,PREENCHER!J12)=0,CONCATENATE(PREENCHER!AV12,#REF!),PREENCHER!J12))","v":""},{"$f":"IF(PREENCHER!K12=\"\",\"\",IF(COUNTIF(PREENCHER!$AG12:$AI12,PREENCHER!K12)=0,CONCATENATE(PREENCHER!AW12,#REF!),PREENCHER!K12))","v":""},{"$f":"IF(PREENCHER!L12=\"\",\"\",IF(COUNTIF(PREENCHER!$AG12:$AI12,PREENCHER!L12)=0,CONCATENATE(PREENCHER!AX12,#REF!),PREENCHER!L12))","v":""},{"$f":"IF(PREENCHER!M12=\"\",\"\",IF(COUNTIF(PREENCHER!$AG12:$AI12,PREENCHER!M12)=0,CONCATENATE(PREENCHER!AY12,#REF!),PREENCHER!M12))","v":""},{"$f":"IF(PREENCHER!N12=\"\",\"\",IF(COUNTIF(PREENCHER!$AG12:$AI12,PREENCHER!N12)=0,CONCATENATE(PREENCHER!AZ12,#REF!),PREENCHER!N12))","v":""},{"$f":"IF(ISERROR(ROUND(AVERAGE(E12:N12),2)),\"\",ROUND(AVERAGE(E12:N12),2))","v":""},{"$f":"IF(ISERROR(ROUND(O12*D12,2)),\"\",ROUND(O12*D12,2))","v":""},null,null,{"$f":"IF(ISERROR(MEDIAN(E12:N12)),\"\",MEDIAN(E12:N12))","v":""},{"$f":"IF(ISERROR(STDEV(E12:N12)),\"\",STDEV(E12:N12))","v":""},{"$f":"IF(ISERROR(T12/O12),\"\",T12/O12)","v":""}]
[{"$f":"IF(PREENCHER!A13=\"\",\"\",PREENCHER!A13)","v":6},{"$f":"IF(PREENCHER!B13=\"\",\"\",PREENCHER!B13)","v":"BOLINHO RECHEADO"},{"$f":"IF(PREENCHER!C13=\"\",\"\",PREENCHER!C13)","v":"UNIDADE"},{"$f":"IF(PREENCHER!D13=\"\",\"\",PREENCHER!D13)","v":1580},{"$f":"IF(PREENCHER!E13=\"\",\"\",IF(COUNTIF(PREENCHER!$AG13:$AI13,PREENCHER!E13)=0,CONCATENATE(PREENCHER!AQ13,#REF!),PREENCHER!E13))","v":2.61},{"$f":"IF(PREENCHER!F13=\"\",\"\",IF(COUNTIF(PREENCHER!$AG13:$AI13,PREENCHER!F13)=0,CONCATENATE(PREENCHER!AR13,#REF!),PREENCHER!F13))","v":2.7},{"$f":"IF(PREENCHER!G13=\"\",\"\",IF(COUNTIF(PREENCHER!$AG13:$AI13,PREENCHER!G13)=0,CONCATENATE(PREENCHER!AS13,#REF!),PREENCHER!G13))","v":""},{"$f":"IF(PREENCHER!H13=\"\",\"\",IF(COUNTIF(PREENCHER!$AG13:$AI13,PREENCHER!H13)=0,CONCATENATE(PREENCHER!AT13,#REF!),PREENCHER!H13))","v":{"$error":"#REF!"}},{"$f":"IF(PREENCHER!I13=\"\",\"\",IF(COUNTIF(PREENCHER!$AG13:$AI13,PREENCHER!I13)=0,CONCATENATE(PREENCHER!AU13,#REF!),PREENCHER!I13))","v":""},{"$f":"IF(PREENCHER!J13=\"\",\"\",IF(COUNTIF(PREENCHER!$AG13:$AI13,PREENCHER!J13)=0,CONCATENATE(PREENCHER!AV13,#REF!),PREENCHER!J13))","v":""},{"$f":"IF(PREENCHER!K13=\"\",\"\",IF(COUNTIF(PREENCHER!$AG13:$AI13,PREENCHER!K13)=0,CONCATENATE(PREENCHER!AW13,#REF!),PREENCHER!K13))","v":""},{"$f":"IF(PREENCHER!L13=\"\",\"\",IF(COUNTIF(PREENCHER!$AG13:$AI13,PREENCHER!L13)=0,CONCATENATE(PREENCHER!AX13,#REF!),PREENCHER!L13))","v":""},{"$f":"IF(PREENCHER!M13=\"\",\"\",IF(COUNTIF(PREENCHER!$AG13:$AI13,PREENCHER!M13)=0,CONCATENATE(PREENCHER!AY13,#REF!),PREENCHER!M13))","v":""},{"$f":"IF(PREENCHER!N13=\"\",\"\",IF(COUNTIF(PREENCHER!$AG13:$AI13,PREENCHER!N13)=0,CONCATENATE(PREENCHER!AZ13,#REF!),PREENCHER!N13))","v":""},{"$f":"IF(ISERROR(ROUND(AVERAGE(E13:N13),2)),\"\",ROUND(AVERAGE(E13:N13),2))","v":""},{"$f":"IF(ISERROR(ROUND(O13*D13,2)),\"\",ROUND(O13*D13,2))","v":""},null,null,{"$f":"IF(ISERROR(MEDIAN(E13:N13)),\"\",MEDIAN(E13:N13))","v":""},{"$f":"IF(ISERROR(STDEV(E13:N13)),\"\",STDEV(E13:N13))","v":""},{"$f":"IF(ISERROR(T13/O13),\"\",T13/O13)","v":""}]
[{"$f":"IF(PREENCHER!A14=\"\",\"\",PREENCHER!A14)","v":7},{"$f":"IF(PREENCHER!B14=\"\",\"\",PREENCHER!B14)","v":"ESFIRRA DE CARNE"},{"$f":"IF(PREENCHER!C14=\"\",\"\",PREENCHER!C14)","v":"CENTENA"},{"$f":"IF(PREENCHER!D14=\"\",\"\",PREENCHER!D14)","v":7},{"$f":"IF(PREENCHER!E14=\"\",\"\",IF(COUNTIF(PREENCHER!$AG14:$AI14,PREENCHER!E14)=0,CONCATENATE(PREENCHER!AQ14,#REF!),PREENCHER!E14))","v":100},{"$f":"IF(PREENCHER!F14=\"\",\"\",IF(COUNTIF(PREENCHER!$AG14:$AI14,PREENCHER!F14)=0,CONCATENATE(PREENCHER!AR14,#REF!),PREENCHER!F14))","v":94},{"$f":"IF(PREENCHER!G14=\"\",\"\",IF(COUNTIF(PREENCHER!$AG14:$AI14,PREENCHER!G14)=0,CONCATENATE(PREENCHER!AS14,#REF!),PREENCHER!G14))","v":""},{"$f":"IF(PREENCHER!H14=\"\",\"\",IF(COUNTIF(PREENCHER!$AG14:$AI14,PREENCHER!H14)=0,CONCATENATE(PREENCHER!AT14,#REF!),PREENCHER!H14))","v":{"$error":"#REF!"}},{"$f":"IF(PREENCHER!I14=\"\",\"\",IF(COUNTIF(PREENCHER!$AG14:$AI14,PREENCHER!I14)=0,CONCATENATE(PREENCHER!AU14,#REF!),PREENCHER!I14))","v":""},{"$f":"IF(PREENCHER!J14=\"\",\"\",IF(COUNTIF(PREENCHER!$AG14:$AI14,PREENCHER!J14)=0,CONCATENATE(PREENCHER!AV14,#REF!),PREENCHER!J14))","v":""},{"$f":"IF(PREENCHER!K14=\"\",\"\",IF(COUNTIF(PREENCHER!$AG14:$AI14,PREENCHER!K14)=0,CONCATENATE(PREENCHER!AW14,#REF!),PREENCHER!K14))","v":""},{"$f":"IF(PREENCHER!L14=\"\",\"\",IF(COUNTIF(PREENCHER!$AG14:$AI14,PREENCHER!L14)=0,CONCATENATE(PREENCHER!AX14,#REF!),PREENCHER!L14))","v":""},{"$f":"IF(PREENCHER!M14=\"\",\"\",IF(COUNTIF(PREENCHER!$AG14:$AI14,PREENCHER!M14)=0,CONCATENATE(PREENCHER!AY14,#REF!),PREENCHER!M14))","v":""},{"$f":"IF(PREENCHER!N14=\"\",\"\",IF(COUNTIF(PREENCHER!$AG14:$AI14,PREENCHER!N14)=0,CONCATENATE(PREENCHER!AZ14,#REF!),PREENCHER!N14))","v":""},{"$f":"IF(ISERROR(ROUND(AVERAGE(E14:N14),2)),\"\",ROUND(AVERAGE(E14:N14),2))","v":""},{"$f":"IF(ISERROR(ROUND(O14*D14,2)),\"\",ROUND(O14*D14,2))","v":""},null,null,{"$f":"IF(ISERROR(MEDIAN(E14:N14)),\"\",MEDIAN(E14:N14))","v":""},{"$f":"IF(ISERROR(STDEV(E14:N14)),\"\",STDEV(E14:N14))","v":""},{"$f":"IF(ISERROR(T14/O14),\"\",T14/O14)","v":""}]
[{"$f":"IF(PREENCHER!A15=\"\",\"\",PREENCHER!A15)","v":8},{"$f":"IF(PREENCHER!B15=\"\",\"\",PREENCHER!B15)","v":"BISCOITO CASEIRO"},{"$f":"IF(PREENCHER!C15=\"\",\"\",PREENCHER!C15)","v":"QUILO"},{"$f":"IF(PREENCHER!D15=\"\",\"\",PREENCHER!D15)","v":23},{"$f":"IF(PREENCHER!E15=\"\",\"\",IF(COUNTIF(PREENCHER!$AG15:$AI15,PREENCHER!E15)=0,CONCATENATE(PREENCHER!AQ15,#REF!),PREENCHER!E15))","v":40},{"$f":"IF(PREENCHER!F15=\"\",\"\",IF(COUNTIF(PREENCHER!$AG15:$AI15,PREENCHER!F15)=0,CONCATENATE(PREENCHER!AR15,#REF!),PREENCHER!F15))","v":31.89},{"$f":"IF(PREENCHER!G15=\"\",\"\",IF(COUNTIF(PREENCHER!$AG15:$AI15,PREENCHER!G15)=0,CONCATENATE(PREENCHER!AS15,#REF!),PREENCHER!G15))","v":""},{"$f":"IF(PREENCHER!H15=\"\",\"\",IF(COUNTIF(PREENCHER!$AG15:$AI15,PREENCHER!H15)=0,CONCATENATE(PREENCHER!AT15,#REF!),PREENCHER!H15))","v":{"$error":"#REF!"}},{"$f":"IF(PREENCHER!I15=\"\",\"\",IF(COUNTIF(PREENCHER!$AG15:$AI15,PREENCHER!I15)=0,CONCATENATE(PREENCHER!AU15,#REF!),PREENCHER!I15))","v":""},{"$f":"IF(PREENCHER!J15=\"\",\"\",IF(COUNTIF(PREENCHER!$AG15:$AI15,PREENCHER!J15)=0,CONCATENATE(PREENCHER!AV15,#REF!),PREENCHER!J15))","v":""},{"$f":"IF(PREENCHER!K15=\"\",\"\",IF(COUNTIF(PREENCHER!$AG15:$AI15,PREENCHER!K15)=0,CONCATENATE(PREENCHER!AW15,#REF!),PREENCHER!K15))","v":""},{"$f":"IF(PREENCHER!L15=\"\",\"\",IF(COUNTIF(PREENCHER!$AG15:$AI15,PREENCHER!L15)=0,CONCATENATE(PREENCHER!AX15,#REF!),PREENCHER!L15))","v":""},{"$f":"IF(PREENCHER!M15=\"\",\"\",IF(COUNTIF(PREENCHER!$AG15:$AI15,PREENCHER!M15)=0,CONCATENATE(PREENCHER!AY15,#REF!),PREENCHER!M15))","v":""},{"$f":"IF(PREENCHER!N15=\"\",\"\",IF(COUNTIF(PREENCHER!$AG15:$AI15,PREENCHER!N15)=0,CONCATENATE(PREENCHER!AZ15,#REF!),PREENCHER!N15))","v":""},{"$f":"IF(ISERROR(ROUND(AVERAGE(E15:N15),2)),\"\",ROUND(AVERAGE(E15:N15),2))","v":""},{"$f":"IF(ISERROR(ROUND(O15*D15,2)),\"\",ROUND(O15*D15,2))","v":""},null,null,{"$f":"IF(ISERROR(MEDIAN(E15:N15)),\"\",MEDIAN(E15:N15))","v":""},{"$f":"IF(ISERROR(STDEV(E15:N15)),\"\",STDEV(E15:N15))","v":""},{"$f":"IF(ISERROR(T15/O15),\"\",T15/O15)","v":""}]
[{"$f":"IF(PREENCHER!A16=\"\",\"\",PREENCHER!A16)","v":9},{"$f":"IF(PREENCHER!B16=\"\",\"\",PREENCHER!B16)","v":"SUCO DE FRUTAS"},{"$f":"IF(PREENCHER!C16=\"\",\"\",PREENCHER!C16)","v":"LITRO"},{"$f":"IF(PREENCHER!D16=\"\",\"\",PREENCHER!D16)","v":364},{"$f":"IF(PREENCHER!E16=\"\",\"\",IF(COUNTIF(PREENCHER!$AG16:$AI16,PREENCHER!E16)=0,CONCATENATE(PREENCHER!AQ16,#REF!),PREENCHER!E16))","v":{"$error":"#REF!"}},{"$f":"IF(PREENCHER!F16=\"\",\"\",IF(COUNTIF(PREENCHER!$AG16:$AI16,PREENCHER!F16)=0,CONCATENATE(PREENCHER!AR16,#REF!),PREENCHER!F16))","v":8.53},{"$f":"IF(PREENCHER!G16=\"\",\"\",IF(COUNTIF(PREENCHER!$AG16:$AI16,PREENCHER!G16)=0,CONCATENATE(PREENCHER!AS16,#REF!),PREENCHER!G16))","v":""},{"$f":"IF(PREENCHER!H16=\"\",\"\",IF(COUNTIF(PREENCHER!$AG16:$AI16,PREENCHER!H16)=0,CONCATENATE(PREENCHER!AT16,#REF!),PREENCHER!H16))","v":10.3},{"$f":"IF(PREENCHER!I16=\"\",\"\",IF(COUNTIF(PREENCHER!$AG16:$AI16,PREENCHER!I16)=0,CONCATENATE(PREENCHER!AU16,#REF!),PREENCHER!I16))","v":""},{"$f":"IF(PREENCHER!J16=\"\",\"\",IF(COUNTIF(PREENCHER!$AG16:$AI16,PREENCHER!J16)=0,CONCATENATE(PREENCHER!AV16,#REF!),PREENCHER!J16))","v":""},{"$f":"IF(PREENCHER!K16=\"\",\"\",IF(COUNTIF(PREENCHER!$AG16:$AI16,PREENCHER!K16)=0,CONCATENATE(PREENCHER!AW16,#REF!),PREENCHER!K16))","v":""},{"$f":"IF(PREENCHER!L16=\"\",\"\",IF(COUNTIF(PREENCHER!$AG16:$AI16,PREENCHER!L16)=0,CONCATENATE(PREENCHER!AX16,#REF!),PREENCHER!L16))","v":""},{"$f":"IF(PREENCHER!M16=\"\",\"\",IF(COUNTIF(PREENCHER!$AG16:$AI16,PREENCHER!M16)=0,CONCATENATE(PREENCHER!AY16,#REF!),PREENCHER!M16))","v":""},{"$f":"IF(PREENCHER!N16=\"\",\"\",IF(COUNTIF(PREENCHER!$AG16:$AI16,PREENCHER!N16)=0,CONCATENATE(PREENCHER!AZ16,#REF!),PREENCHER!N16))","v":""},{"$f":"IF(ISERROR(ROUND(AVERAGE(E16:N16),2)),\"\",ROUND(AVERAGE(E16:N16),2))","v":""},{"$f":"IF(ISERROR(ROUND(O16*D16,2)),\"\",ROUND(O16*D16,2))","v":""},null,null,{"$f":"IF(ISERROR(MEDIAN(E16:N16)),\"\",MEDIAN(E16:N16))","v":""},{"$f":"IF(ISERROR(STDEV(E16:N16)),\"\",STDEV(E16:N16))","v":""},{"$f":"IF(ISERROR(T16/O16),\"\",T16/O16)","v":""}]
[{"$f":"IF(PREENCHER!A17=\"\",\"\",PREENCHER!A17)","v":10},{"$f":"IF(PREENCHER!B17=\"\",\"\",PREENCHER!B17)","v":"SALADA DE FRUTAS"},{"$f":"IF(PREENCHER!C17=\"\",\"\",PREENCHER!C17)","v":"UNIDADE (150 GRAMAS)"},{"$f":"IF(PREENCHER!D17=\"\",\"\",PREENCHER!D17)","v":400},{"$f":"IF(PREENCHER!E17=\"\",\"\",IF(COUNTIF(PREENCHER!$AG17:$AI17,PREENCHER!E17)=0,CONCATENATE(PREENCHER!AQ17,#REF!),PREENCHER!E17))","v":5},{"$f":"IF(PREENCHER!F17=\"\",\"\",IF(COUNTIF(PREENCHER!$AG17:$AI17,PREENCHER!F17)=0,CONCATENATE(PREENCHER!AR17,#REF!),PREENCHER!F17))","v":7.7},{"$f":"IF(PREENCHER!G17=\"\",\"\",IF(COUNTIF(PREENCHER!$AG17:$AI17,PREENCHER!G17)=0,CONCATENATE(PREENCHER!AS17,#REF!),PREENCHER!G17))","v":""},{"$f":"IF(PREENCHER!H17=\"\",\"\",IF(COUNTIF(PREENCHER!$AG17:$AI17,PREENCHER!H17)=0,CONCATENATE(PREENCHER!AT17,#REF!),PREENCHER!H17))","v":{"$error":"#REF!"}},{"$f":"IF(PREENCHER!I17=\"\",\"\",IF(COUNTIF(PREENCHER!$AG17:$AI17,PREENCHER!I17)=0,CONCATENATE(PREENCHER!AU17,#REF!),PREENCHER!I17))","v":""},{"$f":"IF(PREENCHER!J17=\"\",\"\",IF(COUNTIF(PREENCHER!$AG17:$AI17,PREENCHER!J17)=0,CONCATENATE(PREENCHER!AV17,#REF!),PREENCHER!J17))","v":""},{"$f":"IF(PREENCHER!K17=\"\",\"\",IF(COUNTIF(PREENCHER!$AG17:$AI17,PREENCHER!K17)=0,CONCATENATE(PREENCHER!AW17,#REF!),PREENCHER!K17))","v":""},{"$f":"IF(PREENCHER!L17=\"\",\"\",IF(COUNTIF(PREENCHER!$AG17:$AI17,PREENCHER!L17)=0,CONCATENATE(PREENCHER!AX17,#REF!),PREENCHER!L17))","v":""},{"$f":"IF(PREENCHER!M17=\"\",\"\",IF(COUNTIF(PREENCHER!$AG17:$AI17,PREENCHER!M17)=0,CONCATENATE(PREENCHER!AY17,#REF!),PREENCHER!M17))","v":""},{"$f":"IF(PREENCHER!N17=\"\",\"\",IF(COUNTIF(PREENCHER!$AG17:$AI17,PREENCHER!N17)=0,CONCATENATE(PREENCHER!AZ17,#REF!),PREENCHER!N17))","v":""},{"$f":"IF(ISERROR(ROUND(AVERAGE(E17:N17),2)),\"\",ROUND(AVERAGE(E17:N17),2))","v":""},{"$f":"IF(ISERROR(ROUND(O17*D17,2)),\"\",ROUND(O17*D17,2))","v":""},null,null,{"$f":"IF(ISERROR(MEDIAN(E17:N17)),\"\",MEDIAN(E17:N17))","v":""},{"$f":"IF(ISERROR(STDEV(E17:N17)),\"\",STDEV(E17:N17))","v":""},{"$f":"IF(ISERROR(T17/O17),\"\",T17/O17)","v":""}]
[{"$f":"IF(PREENCHER!A18=\"\",\"\",PREENCHER!A18)","v":11},{"$f":"IF(PREENCHER!B18=\"\",\"\",PREENCHER!B18)","v":"ENTREGAS"},{"$f":"IF(PREENCHER!C18=\"\",\"\",PREENCHER!C18)","v":"UNIDADE"},{"$f":"IF(PREENCHER!D18=\"\",\"\",PREENCHER!D18)","v":30},{"$f":"IF(PREENCHER!E18=\"\",\"\",IF(COUNTIF(PREENCHER!$AG18:$AI18,PREENCHER!E18)=0,CONCATENATE(PREENCHER!AQ18,#REF!),PREENCHER!E18))","v":9.9},{"$f":"IF(PREENCHER!F18=\"\",\"\",IF(COUNTIF(PREENCHER!$AG18:$AI18,PREENCHER!F18)=0,CONCATENATE(PREENCHER!AR18,#REF!),PREENCHER!F18))","v":19},{"$f":"IF(PREENCHER!G18=\"\",\"\",IF(COUNTIF(PREENCHER!$AG18:$AI18,PREENCHER!G18)=0,CONCATENATE(PREENCHER!AS18,#REF!),PREENCHER!G18))","v":""},{"$f":"IF(PREENCHER!H18=\"\",\"\",IF(COUNTIF(PREENCHER!$AG18:$AI18,PREENCHER!H18)=0,CONCATENATE(PREENCHER!AT18,#REF!),PREENCHER!H18))","v":{"$error":"#REF!"}},{"$f":"IF(PREENCHER!I18=\"\",\"\",IF(COUNTIF(PREENCHER!$AG18:$AI18,PREENCHER!I18)=0,CONCATENATE(PREENCHER!AU18,#REF!),PREENCHER!I18))","v":""},{"$f":"IF(PREENCHER!J18=\"\",\"\",IF(COUNTIF(PREENCHER!$AG18:$AI18,PREENCHER!J18)=0,CONCATENATE(PREENCHER!AV18,#REF!),PREENCHER!J18))","v":""},{"$f":"IF(PREENCHER!K18=\"\",\"\",IF(COUNTIF(PREENCHER!$AG18:$AI18,PREENCHER!K18)=0,CONCATENATE(PREENCHER!AW18,#REF!),PREENCHER!K18))","v":""},{"$f":"IF(PREENCHER!L18=\"\",\"\",IF(COUNTIF(PREENCHER!$AG18:$AI18,PREENCHER!L18)=0,CONCATENATE(PREENCHER!AX18,#REF!),PREENCHER!L18))","v":""},{"$f":"IF(PREENCHER!M18=\"\",\"\",IF(COUNTIF(PREENCHER!$AG18:$AI18,PREENCHER!M18)=0,CONCATENATE(PREENCHER!AY18,#REF!),PREENCHER!M18))","v":""},{"$f":"IF(PREENCHER!N18=\"\",\"\",IF(COUNTIF(PREENCHER!$AG18:$AI18,PREENCHER!N18)=0,CONCATENATE(PREENCHER!AZ18,#REF!),PREENCHER!N18))","v":""},{"$f":"IF(ISERROR(ROUND(AVERAGE(E18:N18),2)),\"\",ROUND(AVERAGE(E18:N18),2))","v":""},{"$f":"IF(ISERROR(ROUND(O18*D18,2)),\"\",ROUND(O18*D18,2))","v":""},null,null,{"$f":"IF(ISERROR(MEDIAN(E18:N18)),\"\",MEDIAN(E18:N18))","v":""},{"$f":"IF(ISERROR(STDEV(E18:N18)),\"\",STDEV(E18:N18))","v":""},{"$f":"IF(ISERROR(T18/O18),\"\",T18/O18)","v":""}]
[{"$f":"IF(PREENCHER!A19=\"\",\"\",PREENCHER!A19)","v":""},{"$f":"IF(PREENCHER!B19=\"\",\"\",PREENCHER!B19)","v":""},{"$f":"IF(PREENCHER!C19=\"\",\"\",PREENCHER!C19)","v":""},{"$f":"IF(PREENCHER!D19=\"\",\"\",PREENCHER!D19)","v":""},{"$f":"IF(PREENCHER!E19=\"\",\"\",IF(COUNTIF(PREENCHER!$AG19:$AI19,PREENCHER!E19)=0,CONCATENATE(PREENCHER!AQ19,#REF!),PREENCHER!E19))","v":""},{"$f":"IF(PREENCHER!F19=\"\",\"\",IF(COUNTIF(PREENCHER!$AG19:$AI19,PREENCHER!F19)=0,CONCATENATE(PREENCHER!AR19,#REF!),PREENCHER!F19))","v":""},{"$f":"IF(PREENCHER!G19=\"\",\"\",IF(COUNTIF(PREENCHER!$AG19:$AI19,PREENCHER!G19)=0,CONCATENATE(PREENCHER!AS19,#REF!),PREENCHER!G19))","v":""},{"$f":"IF(PREENCHER!H19=\"\",\"\",IF(COUNTIF(PREENCHER!$AG19:$AI19,PREENCHER!H19)=0,CONCATENATE(PREENCHER!AT19,#REF!),PREENCHER!H19))","v":""},{"$f":"IF(PREENCHER!I19=\"\",\"\",IF(COUNTIF(PREENCHER!$AG19:$AI19,PREENCHER!I19)=0,CONCATENATE(PREENCHER!AU19,#REF!),PREENCHER!I19))","v":""},{"$f":"IF(PREENCHER!J19=\"\",\"\",IF(COUNTIF(PREENCHER!$AG19:$AI19,PREENCHER!J19)=0,CONCATENATE(PREENCHER!AV19,#REF!),PREENCHER!J19))","v":""},{"$f":"IF(PREENCHER!K19=\"\",\"\",IF(COUNTIF(PREENCHER!$AG19:$AI19,PREENCHER!K19)=0,CONCATENATE(PREENCHER!AW19,#REF!),PREENCHER!K19))","v":""},{"$f":"IF(PREENCHER!L19=\"\",\"\",IF(COUNTIF(PREENCHER!$AG19:$AI19,PREENCHER!L19)=0,CONCATENATE(PREENCHER!AX19,#REF!),PREENCHER!L19))","v":""},{"$f":"IF(PREENCHER!M19=\"\",\"\",IF(COUNTIF(PREENCHER!$AG19:$AI19,PREENCHER!M19)=0,CONCATENATE(PREENCHER!AY19,#REF!),PREENCHER!M19))","v":""},{"$f":"IF(PREENCHER!N19=\"\",\"\",IF(COUNTIF(PREENCHER!$AG19:$AI19,PREENCHER!N19)=0,CONCATENATE(PREENCHER!AZ19,#REF!),PREENCHER!N19))","v":""},{"$f":"IF(ISERROR(ROUND(AVERAGE(E19:N19),2)),\"\",ROUND(AVERAGE(E19:N19),2))","v":""},{"$f":"IF(ISERROR(ROUND(O19*D19,2)),\"\",ROUND(O19*D19,2))","v":""},null,null,{"$f":"IF(ISERROR(MEDIAN(E19:N19)),\"\",MEDIAN(E19:N19))","v":""},{"$f":"IF(ISERROR(STDEV(E19:N19)),\"\",STDEV(E19:N19))","v":""},{"$f":"IF(ISERROR(T19/O19),\"\",T19/O19)","v":""}]
[{"$f":"IF(PREENCHER!A20=\"\",\"\",PREENCHER!A20)","v":""},{"$f":"IF(PREENCHER!B20=\"\",\"\",PREENCHER!B20)","v":""},{"$f":"IF(PREENCHER!C20=\"\",\"\",PREENCHER!C20)","v":""},{"$f":"IF(PREENCHER!D20=\"\",\"\",PREENCHER!D20)","v":""},{"$f":"IF(PREENCHER!E20=\"\",\"\",IF(COUNTIF(PREENCHER!$AG20:$AI20,PREENCHER!E20)=0,CONCATENATE(PREENCHER!AQ20,#REF!),PREENCHER!E20))","v":""},{"$f":"IF(PREENCHER!F20=\"\",\"\",IF(COUNTIF(PREENCHER!$AG20:$AI20,PREENCHER!F20)=0,CONCATENATE(PREENCHER!AR20,#REF!),PREENCHER!F20))","v":""},{"$f":"IF(PREENCHER!G20=\"\",\"\",IF(COUNTIF(PREENCHER!$AG20:$AI20,PREENCHER!G20)=0,CONCATENATE(PREENCHER!AS20,#REF!),PREENCHER!G20))","v":""},{"$f":"IF(PREENCHER!H20=\"\",\"\",IF(COUNTIF(PREENCHER!$AG20:$AI20,PREENCHER!H20)=0,CONCATENATE(PREENCHER!AT20,#REF!),PREENCHER!H20))","v":""},{"$f":"IF(PREENCHER!I20=\"\",\"\",IF(COUNTIF(PREENCHER!$AG20:$AI20,PREENCHER!I20)=0,CONCATENATE(PREENCHER!AU20,#REF!),PREENCHER!I20))","v":""},{"$f":"IF(PREENCHER!J20=\"\",\"\",IF(COUNTIF(PREENCHER!$AG20:$AI20,PREENCHER!J20)=0,CONCATENATE(PREENCHER!AV20,#REF!),PREENCHER!J20))","v":""},{"$f":"IF(PREENCHER!K20=\"\",\"\",IF(COUNTIF(PREENCHER!$AG20:$AI20,PREENCHER!K20)=0,CONCATENATE(PREENCHER!AW20,#REF!),PREENCHER!K20))","v":""},{"$f":"IF(PREENCHER!L20=\"\",\"\",IF(COUNTIF(PREENCHER!$AG20:$AI20,PREENCHER!L20)=0,CONCATENATE(PREENCHER!AX20,#REF!),PREENCHER!L20))","v":""},{"$f":"IF(PREENCHER!M20=\"\",\"\",IF(COUNTIF(PREENCHER!$AG20:$AI20,PREENCHER!M20)=0,CONCATENATE(PREENCHER!AY20,#REF!),PREENCHER!M20))","v":""},{"$f":"IF(PREENCHER!N20=\"\",\"\",IF(COUNTIF(PREENCHER!$AG20:$AI20,PREENCHER!N20)=0,CONCATENATE(PREENCHER!AZ20,#REF!),PREENCHER!N20))","v":""},{"$f":"IF(ISERROR(ROUND(AVERAGE(E20:N20),2)),\"\",ROUND(AVERAGE(E20:N20),2))","v":""},{"$f":"IF(ISERROR(ROUND(O20*D20,2)),\"\",ROUND(O20*D20,2))","v":""},null,null,{"$f":"IF(ISERROR(MEDIAN(E20:N20)),\"\",MEDIAN(E20:N20))","v":""},{"$f":"IF(ISERROR(STDEV(E20:N20)),\"\",STDEV(E20:N20))","v":""},{"$f":"IF(ISERROR(T20/O20),\"\",T20/O20)","v":""}]
[{"$f":"IF(PREENCHER!A21=\"\",\"\",PREENCHER!A21)","v":""},{"$f":"IF(PREENCHER!B21=\"\",\"\",PREENCHER!B21)","v":""},{"$f":"IF(PREENCHER!C21=\"\",\"\",PREENCHER!C21)","v":""},{"$f":"IF(PREENCHER!D21=\"\",\"\",PREENCHER!D21)","v":""},{"$f":"IF(PREENCHER!E21=\"\",\"\",IF(COUNTIF(PREENCHER!$AG21:$AI21,PREENCHER!E21)=0,CONCATENATE(PREENCHER!AQ21,#REF!),PREENCHER!E21))","v":""},{"$f":"IF(PREENCHER!F21=\"\",\"\",IF(COUNTIF(PREENCHER!$AG21:$AI21,PREENCHER!F21)=0,CONCATENATE(PREENCHER!AR21,#REF!),PREENCHER!F21))","v":""},{"$f":"IF(PREENCHER!G21=\"\",\"\",IF(COUNTIF(PREENCHER!$AG21:$AI21,PREENCHER!G21)=0,CONCATENATE(PREENCHER!AS21,#REF!),PREENCHER!G21))","v":""},{"$f":"IF(PREENCHER!H21=\"\",\"\",IF(COUNTIF(PREENCHER!$AG21:$AI21,PREENCHER!H21)=0,CONCATENATE(PREENCHER!AT21,#REF!),PREENCHER!H21))","v":""},{"$f":"IF(PREENCHER!I21=\"\",\"\",IF(COUNTIF(PREENCHER!$AG21:$AI21,PREENCHER!I21)=0,CONCATENATE(PREENCHER!AU21,#REF!),PREENCHER!I21))","v":""},{"$f":"IF(PREENCHER!J21=\"\",\"\",IF(COUNTIF(PREENCHER!$AG21:$AI21,PREENCHER!J21)=0,CONCATENATE(PREENCHER!AV21,#REF!),PREENCHER!J21))","v":""},{"$f":"IF(PREENCHER!K21=\"\",\"\",IF(COUNTIF(PREENCHER!$AG21:$AI21,PREENCHER!K21)=0,CONCATENATE(PREENCHER!AW21,#REF!),PREENCHER!K21))","v":""},{"$f":"IF(PREENCHER!L21=\"\",\"\",IF(COUNTIF(PREENCHER!$AG21:$AI21,PREENCHER!L21)=0,CONCATENATE(PREENCHER!AX21,#REF!),PREENCHER!L21))","v":""},{"$f":"IF(PREENCHER!M21=\"\",\"\",IF(COUNTIF(PREENCHER!$AG21:$AI21,PREENCHER!M21)=0,CONCATENATE(PREENCHER!AY21,#REF!),PREENCHER!M21))","v":""},{"$f":"IF(PREENCHER!N21=\"\",\"\",IF(COUNTIF(PREENCHER!$AG21:$AI21,PREENCHER!N21)=0,CONCATENATE(PREENCHER!AZ21,#REF!),PREENCHER!N21))","v":""},{"$f":"IF(ISERROR(ROUND(AVERAGE(E21:N21),2)),\"\",ROUND(AVERAGE(E21:N21),2))","v":""},{"$f":"IF(ISERROR(ROUND(O21*D21,2)),\"\",ROUND(O21*D21,2))","v":""},null,null,{"$f":"IF(ISERROR(MEDIAN(E21:N21)),\"\",MEDIAN(E21:N21))","v":""},{"$f":"IF(ISERROR(STDEV(E21:N21)),\"\",STDEV(E21:N21))","v":""},{"$f":"IF(ISERROR(T21/O21),\"\",T21/O21)","v":""}]
[{"$f":"IF(PREENCHER!A22=\"\",\"\",PREENCHER!A22)","v":""},{"$f":"IF(PREENCHER!B22=\"\",\"\",PREENCHER!B22)","v":""},{"$f":"IF(PREENCHER!C22=\"\",\"\",PREENCHER!C22)","v":""},{"$f":"IF(PREENCHER!D22=\"\",\"\",PREENCHER!D22)","v":""},{"$f":"IF(PREENCHER!E22=\"\",\"\",IF(COUNTIF(PREENCHER!$AG22:$AI22,PREENCHER!E22)=0,CONCATENATE(PREENCHER!AQ22,#REF!),PREENCHER!E22))","v":""},{"$f":"IF(PREENCHER!F22=\"\",\"\",IF(COUNTIF(PREENCHER!$AG22:$AI22,PREENCHER!F22)=0,CONCATENATE(PREENCHER!AR22,#REF!),PREENCHER!F22))","v":""},{"$f":"IF(PREENCHER!G22=\"\",\"\",IF(COUNTIF(PREENCHER!$AG22:$AI22,PREENCHER!G22)=0,CONCATENATE(PREENCHER!AS22,#REF!),PREENCHER!G22))","v":""},{"$f":"IF(PREENCHER!H22=\"\",\"\",IF(COUNTIF(PREENCHER!$AG22:$AI22,PREENCHER!H22)=0,CONCATENATE(PREENCHER!AT22,#REF!),PREENCHER!H22))","v":""},{"$f":"IF(PREENCHER!I22=\"\",\"\",IF(COUNTIF(PREENCHER!$AG22:$AI22,PREENCHER!I22)=0,CONCATENATE(PREENCHER!AU22,#REF!),PREENCHER!I22))","v":""},{"$f":"IF(PREENCHER!J22=\"\",\"\",IF(COUNTIF(PREENCHER!$AG22:$AI22,PREENCHER!J22)=0,CONCATENATE(PREENCHER!AV22,#REF!),PREENCHER!J22))","v":""},{"$f":"IF(PREENCHER!K22=\"\",\"\",IF(COUNTIF(PREENCHER!$AG22:$AI22,PREENCHER!K22)=0,CONCATENATE(PREENCHER!AW22,#REF!),PREENCHER!K22))","v":""},{"$f":"IF(PREENCHER!L22=\"\",\"\",IF(COUNTIF(PREENCHER!$AG22:$AI22,PREENCHER!L22)=0,CONCATENATE(PREENCHER!AX22,#REF!),PREENCHER!L22))","v":""},{"$f":"IF(PREENCHER!M22=\"\",\"\",IF(COUNTIF(PREENCHER!$AG22:$AI22,PREENCHER!M22)=0,CONCATENATE(PREENCHER!AY22,#REF!),PREENCHER!M22))","v":""},{"$f":"IF(PREENCHER!N22=\"\",\"\",IF(COUNTIF(PREENCHER!$AG22:$AI22,PREENCHER!N22)=0,CONCATENATE(PREENCHER!AZ22,#REF!),PREENCHER!N22))","v":""},{"$f":"IF(ISERROR(ROUND(AVERAGE(E22:N22),2)),\"\",ROUND(AVERAGE(E22:N22),2))","v":""},{"$f":"IF(ISERROR(ROUND(O22*D22,2)),\"\",ROUND(O22*D22,2))","v":""},null,null,{"$f":"IF(ISERROR(MEDIAN(E22:N22)),\"\",MEDIAN(E22:N22))","v":""},{"$f":"IF(ISERROR(STDEV(E22:N22)),\"\",STDEV(E22:N22))","v":""},{"$f":"IF(ISERROR(T22/O22),\"\",T22/O22)","v":""}]
[{"$f":"IF(PREENCHER!A23=\"\",\"\",PREENCHER!A23)","v":""},{"$f":"IF(PREENCHER!B23=\"\",\"\",PREENCHER!B23)","v":""},{"$f":"IF(PREENCHER!C23=\"\",\"\",PREENCHER!C23)","v":""},{"$f":"IF(PREENCHER!D23=\"\",\"\",PREENCHER!D23)","v":""},{"$f":"IF(PREENCHER!E23=\"\",\"\",IF(COUNTIF(PREENCHER!$AG23:$AI23,PREENCHER!E23)=0,CONCATENATE(PREENCHER!AQ23,#REF!),PREENCHER!E23))","v":""},{"$f":"IF(PREENCHER!F23=\"\",\"\",IF(COUNTIF(PREENCHER!$AG23:$AI23,PREENCHER!F23)=0,CONCATENATE(PREENCHER!AR23,#REF!),PREENCHER!F23))","v":""},{"$f":"IF(PREENCHER!G23=\"\",\"\",IF(COUNTIF(PREENCHER!$AG23:$AI23,PREENCHER!G23)=0,CONCATENATE(PREENCHER!AS23,#REF!),PREENCHER!G23))","v":""},{"$f":"IF(PREENCHER!H23=\"\",\"\",IF(COUNTIF(PREENCHER!$AG23:$AI23,PREENCHER!H23)=0,CONCATENATE(PREENCHER!AT23,#REF!),PREENCHER!H23))","v":""},{"$f":"IF(PREENCHER!I23=\"\",\"\",IF(COUNTIF(PREENCHER!$AG23:$AI23,PREENCHER!I23)=0,CONCATENATE(PREENCHER!AU23,#REF!),PREENCHER!I23))","v":""},{"$f":"IF(PREENCHER!J23=\"\",\"\",IF(COUNTIF(PREENCHER!$AG23:$AI23,PREENCHER!J23)=0,CONCATENATE(PREENCHER!AV23,#REF!),PREENCHER!J23))","v":""},{"$f":"IF(PREENCHER!K23=\"\",\"\",IF(COUNTIF(PREENCHER!$AG23:$AI23,PREENCHER!K23)=0,CONCATENATE(PREENCHER!AW23,#REF!),PREENCHER!K23))","v":""},{"$f":"IF(PREENCHER!L23=\"\",\"\",IF(COUNTIF(PREENCHER!$AG23:$AI23,PREENCHER!L23)=0,CONCATENATE(PREENCHER!AX23,#REF!),PREENCHER!L23))","v":""},{"$f":"IF(PREENCHER!M23=\"\",\"\",IF(COUNTIF(PREENCHER!$AG23:$AI23,PREENCHER!M23)=0,CONCATENATE(PREENCHER!AY23,#REF!),PREENCHER!M23))","v":""},{"$f":"IF(PREENCHER!N23=\"\",\"\",IF(COUNTIF(PREENCHER!$AG23:$AI23,PREENCHER!N23)=0,CONCATENATE(PREENCHER!AZ23,#REF!),PREENCHER!N23))","v":""},{"$f":"IF(ISERROR(ROUND(AVERAGE(E23:N23),2)),\"\",ROUND(AVERAGE(E23:N23),2))","v":""},{"$f":"IF(ISERROR(ROUND(O23*D23,2)),\"\",ROUND(O23*D23,2))","v":""},null,null,{"$f":"IF(ISERROR(MEDIAN(E23:N23)),\"\",MEDIAN(E23:N23))","v":""},{"$f":"IF(ISERROR(STDEV(E23:N23)),\"\",STDEV(E23:N23))","v":""},{"$f":"IF(ISERROR(T23/O23),\"\",T23/O23)","v":""}]
[{"$f":"IF(PREENCHER!A24=\"\",\"\",PREENCHER!A24)","v":""},{"$f":"IF(PREENCHER!B24=\"\",\"\",PREENCHER!B24)","v":""},{"$f":"IF(PREENCHER!C24=\"\",\"\",PREENCHER!C24)","v":""},{"$f":"IF(PREENCHER!D24=\"\",\"\",PREENCHER!D24)","v":""},{"$f":"IF(PREENCHER!E24=\"\",\"\",IF(COUNTIF(PREENCHER!$AG24:$AI24,PREENCHER!E24)=0,CONCATENATE(PREENCHER!AQ24,#REF!),PREENCHER!E24))","v":""},{"$f":"IF(PREENCHER!F24=\"\",\"\",IF(COUNTIF(PREENCHER!$AG24:$AI24,PREENCHER!F24)=0,CONCATENATE(PREENCHER!AR24,#REF!),PREENCHER!F24))","v":""},{"$f":"IF(PREENCHER!G24=\"\",\"\",IF(COUNTIF(PREENCHER!$AG24:$AI24,PREENCHER!G24)=0,CONCATENATE(PREENCHER!AS24,#REF!),PREENCHER!G24))","v":""},{"$f":"IF(PREENCHER!H24=\"\",\"\",IF(COUNTIF(PREENCHER!$AG24:$AI24,PREENCHER!H24)=0,CONCATENATE(PREENCHER!AT24,#REF!),PREENCHER!H24))","v":""},{"$f":"IF(PREENCHER!I24=\"\",\"\",IF(COUNTIF(PREENCHER!$AG24:$AI24,PREENCHER!I24)=0,CONCATENATE(PREENCHER!AU24,#REF!),PREENCHER!I24))","v":""},{"$f":"IF(PREENCHER!J24=\"\",\"\",IF(COUNTIF(PREENCHER!$AG24:$AI24,PREENCHER!J24)=0,CONCATENATE(PREENCHER!AV24,#REF!),PREENCHER!J24))","v":""},{"$f":"IF(PREENCHER!K24=\"\",\"\",IF(COUNTIF(PREENCHER!$AG24:$AI24,PREENCHER!K24)=0,CONCATENATE(PREENCHER!AW24,#REF!),PREENCHER!K24))","v":""},{"$f":"IF(PREENCHER!L24=\"\",\"\",IF(COUNTIF(PREENCHER!$AG24:$AI24,PREENCHER!L24)=0,CONCATENATE(PREENCHER!AX24,#REF!),PREENCHER!L24))","v":""},{"$f":"IF(PREENCHER!M24=\"\",\"\",IF(COUNTIF(PREENCHER!$AG24:$AI24,PREENCHER!M24)=0,CONCATENATE(PREENCHER!AY24,#REF!),PREENCHER!M24))","v":""},{"$f":"IF(PREENCHER!N24=\"\",\"\",IF(COUNTIF(PREENCHER!$AG24:$AI24,PREENCHER!N24)=0,CONCATENATE(PREENCHER!AZ24,#REF!),PREENCHER!N24))","v":""},{"$f":"IF(ISERROR(ROUND(AVERAGE(E24:N24),2)),\"\",ROUND(AVERAGE(E24:N24),2))","v":""},{"$f":"IF(ISERROR(ROUND(O24*D24,2)),\"\",ROUND(O24*D24,2))","v":""},null,null,{"$f":"IF(ISERROR(MEDIAN(E24:N24)),\"\",MEDIAN(E24:N24))","v":""},{"$f":"IF(ISERROR(STDEV(E24:N24)),\"\",STDEV(E24:N24))","v":""},{"$f":"IF(ISERROR(T24/O24),\"\",T24/O24)","v":""}]
[{"$f":"IF(PREENCHER!A25=\"\",\"\",PREENCHER!A25)","v":""},{"$f":"IF(PREENCHER!B25=\"\",\"\",PREENCHER!B25)","v":""},{"$f":"IF(PREENCHER!C25=\"\",\"\",PREENCHER!C25)","v":""},{"$f":"IF(PREENCHER!D25=\"\",\"\",PREENCHER!D25)","v":""},{"$f":"IF(PREENCHER!E25=\"\",\"\",IF(COUNTIF(PREENCHER!$AG25:$AI25,PREENCHER!E25)=0,CONCATENATE(PREENCHER!AQ25,#REF!),PREENCHER!E25))","v":""},{"$f":"IF(PREENCHER!F25=\"\",\"\",IF(COUNTIF(PREENCHER!$AG25:$AI25,PREENCHER!F25)=0,CONCATENATE(PREENCHER!AR25,#REF!),PREENCHER!F25))","v":""},{"$f":"IF(PREENCHER!G25=\"\",\"\",IF(COUNTIF(PREENCHER!$AG25:$AI25,PREENCHER!G25)=0,CONCATENATE(PREENCHER!AS25,#REF!),PREENCHER!G25))","v":""},{"$f":"IF(PREENCHER!H25=\"\",\"\",IF(COUNTIF(PREENCHER!$AG25:$AI25,PREENCHER!H25)=0,CONCATENATE(PREENCHER!AT25,#REF!),PREENCHER!H25))","v":""},{"$f":"IF(PREENCHER!I25=\"\",\"\",IF(COUNTIF(PREENCHER!$AG25:$AI25,PREENCHER!I25)=0,CONCATENATE(PREENCHER!AU25,#REF!),PREENCHER!I25))","v":""},{"$f":"IF(PREENCHER!J25=\"\",\"\",IF(COUNTIF(PREENCHER!$AG25:$AI25,PREENCHER!J25)=0,CONCATENATE(PREENCHER!AV25,#REF!),PREENCHER!J25))","v":""},{"$f":"IF(PREENCHER!K25=\"\",\"\",IF(COUNTIF(PREENCHER!$AG25:$AI25,PREENCHER!K25)=0,CONCATENATE(PREENCHER!AW25,#REF!),PREENCHER!K25))","v":""},{"$f":"IF(PREENCHER!L25=\"\",\"\",IF(COUNTIF(PREENCHER!$AG25:$AI25,PREENCHER!L25)=0,CONCATENATE(PREENCHER!AX25,#REF!),PREENCHER!L25))","v":""},{"$f":"IF(PREENCHER!M25=\"\",\"\",IF(COUNTIF(PREENCHER!$AG25:$AI25,PREENCHER!M25)=0,CONCATENATE(PREENCHER!AY25,#REF!),PREENCHER!M25))","v":""},{"$f":"IF(PREENCHER!N25=\"\",\"\",IF(COUNTIF(PREENCHER!$AG25:$AI25,PREENCHER!N25)=0,CONCATENATE(PREENCHER!AZ25,#REF!),PREENCHER!N25))","v":""},{"$f":"IF(ISERROR(ROUND(AVERAGE(E25:N25),2)),\"\",ROUND(AVERAGE(E25:N25),2))","v":""},{"$f":"IF(ISERROR(ROUND(O25*D25,2)),\"\",ROUND(O25*D25,2))","v":""},null,null,{"$f":"IF(ISERROR(MEDIAN(E25:N25)),\"\",MEDIAN(E25:N25))","v":""},{"$f":"IF(ISERROR(STDEV(E25:N25)),\"\",STDEV(E25:N25))","v":""},{"$f":"IF(ISERROR(T25/O25),\"\",T25/O25)","v":""}]
[{"$f":"IF(PREENCHER!A26=\"\",\"\",PREENCHER!A26)","v":""},{"$f":"IF(PREENCHER!B26=\"\",\"\",PREENCHER!B26)","v":""},{"$f":"IF(PREENCHER!C26=\"\",\"\",PREENCHER!C26)","v":""},{"$f":"IF(PREENCHER!D26=\"\",\"\",PREENCHER!D26)","v":""},{"$f":"IF(PREENCHER!E26=\"\",\"\",IF(COUNTIF(PREENCHER!$AG26:$AI26,PREENCHER!E26)=0,CONCATENATE(PREENCHER!AQ26,#REF!),PREENCHER!E26))","v":""},{"$f":"IF(PREENCHER!F26=\"\",\"\",IF(COUNTIF(PREENCHER!$AG26:$AI26,PREENCHER!F26)=0,CONCATENATE(PREENCHER!AR26,#REF!),PREENCHER!F26))","v":""},{"$f":"IF(PREENCHER!G26=\"\",\"\",IF(COUNTIF(PREENCHER!$AG26:$AI26,PREENCHER!G26)=0,CONCATENATE(PREENCHER!AS26,#REF!),PREENCHER!G26))","v":""},{"$f":"IF(PREENCHER!H26=\"\",\"\",IF(COUNTIF(PREENCHER!$AG26:$AI26,PREENCHER!H26)=0,CONCATENATE(PREENCHER!AT26,#REF!),PREENCHER!H26))","v":""},{"$f":"IF(PREENCHER!I26=\"\",\"\",IF(COUNTIF(PREENCHER!$AG26:$AI26,PREENCHER!I26)=0,CONCATENATE(PREENCHER!AU26,#REF!),PREENCHER!I26))","v":""},{"$f":"IF(PREENCHER!J26=\"\",\"\",IF(COUNTIF(PREENCHER!$AG26:$AI26,PREENCHER!J26)=0,CONCATENATE(PREENCHER!AV26,#REF!),PREENCHER!J26))","v":""},{"$f":"IF(PREENCHER!K26=\"\",\"\",IF(COUNTIF(PREENCHER!$AG26:$AI26,PREENCHER!K26)=0,CONCATENATE(PREENCHER!AW26,#REF!),PREENCHER!K26))","v":""},{"$f":"IF(PREENCHER!L26=\"\",\"\",IF(COUNTIF(PREENCHER!$AG26:$AI26,PREENCHER!L26)=0,CONCATENATE(PREENCHER!AX26,#REF!),PREENCHER!L26))","v":""},{"$f":"IF(PREENCHER!M26=\"\",\"\",IF(COUNTIF(PREENCHER!$AG26:$AI26,PREENCHER!M26)=0,CONCATENATE(PREENCHER!AY26,#REF!),PREENCHER!M26))","v":""},{"$f":"IF(PREENCHER!N26=\"\",\"\",IF(COUNTIF(PREENCHER!$AG26:$AI26,PREENCHER!N26)=0,CONCATENATE(PREENCHER!AZ26,#REF!),PREENCHER!N26))","v":""},{"$f":"IF(ISERROR(ROUND(AVERAGE(E26:N26),2)),\"\",ROUND(AVERAGE(E26:N26),2))","v":""},{"$f":"IF(ISERROR(ROUND(O26*D26,2)),\"\",ROUND(O26*D26,2))","v":""},null,null,{"$f":"IF(ISERROR(MEDIAN(E26:N26)),\"\",MEDIAN(E26:N26))","v":""},{"$f":"IF(ISERROR(STDEV(E26:N26)),\"\",STDEV(E26:N26))","v":""},{"$f":"IF(ISERROR(T26/O26),\"\",T26/O26)","v":""}]
[{"$f":"IF(PREENCHER!A27=\"\",\"\",PREENCHER!A27)","v":""},{"$f":"IF(PREENCHER!B27=\"\",\"\",PREENCHER!B27)","v":""},{"$f":"IF(PREENCHER!C27=\"\",\"\",PREENCHER!C27)","v":""},{"$f":"IF(PREENCHER!D27=\"\",\"\",PREENCHER!D27)","v":""},{"$f":"IF(PREENCHER!E27=\"\",\"\",IF(COUNTIF(PREENCHER!$AG27:$AI27,PREENCHER!E27)=0,CONCATENATE(PREENCHER!AQ27,#REF!),PREENCHER!E27))","v":""},{"$f":"IF(PREENCHER!F27=\"\",\"\",IF(COUNTIF(PREENCHER!$AG27:$AI27,PREENCHER!F27)=0,CONCATENATE(PREENCHER!AR27,#REF!),PREENCHER!F27))","v":""},{"$f":"IF(PREENCHER!G27=\"\",\"\",IF(COUNTIF(PREENCHER!$AG27:$AI27,PREENCHER!G27)=0,CONCATENATE(PREENCHER!AS27,#REF!),PREENCHER!G27))","v":""},{"$f":"IF(PREENCHER!H27=\"\",\"\",IF(COUNTIF(PREENCHER!$AG27:$AI27,PREENCHER!H27)=0,CONCATENATE(PREENCHER!AT27,#REF!),PREENCHER!H27))","v":""},{"$f":"IF(PREENCHER!I27=\"\",\"\",IF(COUNTIF(PREENCHER!$AG27:$AI27,PREENCHER!I27)=0,CONCATENATE(PREENCHER!AU27,#REF!),PREENCHER!I27))","v":""},{"$f":"IF(PREENCHER!J27=\"\",\"\",IF(COUNTIF(PREENCHER!$AG27:$AI27,PREENCHER!J27)=0,CONCATENATE(PREENCHER!AV27,#REF!),PREENCHER!J27))","v":""},{"$f":"IF(PREENCHER!K27=\"\",\"\",IF(COUNTIF(PREENCHER!$AG27:$AI27,PREENCHER!K27)=0,CONCATENATE(PREENCHER!AW27,#REF!),PREENCHER!K27))","v":""},{"$f":"IF(PREENCHER!L27=\"\",\"\",IF(COUNTIF(PREENCHER!$AG27:$AI27,PREENCHER!L27)=0,CONCATENATE(PREENCHER!AX27,#REF!),PREENCHER!L27))","v":""},{"$f":"IF(PREENCHER!M27=\"\",\"\",IF(COUNTIF(PREENCHER!$AG27:$AI27,PREENCHER!M27)=0,CONCATENATE(PREENCHER!AY27,#REF!),PREENCHER!M27))","v":""},{"$f":"IF(PREENCHER!N27=\"\",\"\",IF(COUNTIF(PREENCHER!$AG27:$AI27,PREENCHER!N27)=0,CONCATENATE(PREENCHER!AZ27,#REF!),PREENCHER!N27))","v":""},{"$f":"IF(ISERROR(ROUND(AVERAGE(E27:N27),2)),\"\",ROUND(AVERAGE(E27:N27),2))","v":""},{"$f":"IF(ISERROR(ROUND(O27*D27,2)),\"\",ROUND(O27*D27,2))","v":""},null,null,{"$f":"IF(ISERROR(MEDIAN(E27:N27)),\"\",MEDIAN(E27:N27))","v":""},{"$f":"IF(ISERROR(STDEV(E27:N27)),\"\",STDEV(E27:N27))","v":""},{"$f":"IF(ISERROR(T27/O27),\"\",T27/O27)","v":""}]
[{"$f":"IF(PREENCHER!A28=\"\",\"\",PREENCHER!A28)","v":""},{"$f":"IF(PREENCHER!B28=\"\",\"\",PREENCHER!B28)","v":""},{"$f":"IF(PREENCHER!C28=\"\",\"\",PREENCHER!C28)","v":""},{"$f":"IF(PREENCHER!D28=\"\",\"\",PREENCHER!D28)","v":""},{"$f":"IF(PREENCHER!E28=\"\",\"\",IF(COUNTIF(PREENCHER!$AG28:$AI28,PREENCHER!E28)=0,CONCATENATE(PREENCHER!AQ28,#REF!),PREENCHER!E28))","v":""},{"$f":"IF(PREENCHER!F28=\"\",\"\",IF(COUNTIF(PREENCHER!$AG28:$AI28,PREENCHER!F28)=0,CONCATENATE(PREENCHER!AR28,#REF!),PREENCHER!F28))","v":""},{"$f":"IF(PREENCHER!G28=\"\",\"\",IF(COUNTIF(PREENCHER!$AG28:$AI28,PREENCHER!G28)=0,CONCATENATE(PREENCHER!AS28,#REF!),PREENCHER!G28))","v":""},{"$f":"IF(PREENCHER!H28=\"\",\"\",IF(COUNTIF(PREENCHER!$AG28:$AI28,PREENCHER!H28)=0,CONCATENATE(PREENCHER!AT28,#REF!),PREENCHER!H28))","v":""},{"$f":"IF(PREENCHER!I28=\"\",\"\",IF(COUNTIF(PREENCHER!$AG28:$AI28,PREENCHER!I28)=0,CONCATENATE(PREENCHER!AU28,#REF!),PREENCHER!I28))","v":""},{"$f":"IF(PREENCHER!J28=\"\",\"\",IF(COUNTIF(PREENCHER!$AG28:$AI28,PREENCHER!J28)=0,CONCATENATE(PREENCHER!AV28,#REF!),PREENCHER!J28))","v":""},{"$f":"IF(PREENCHER!K28=\"\",\"\",IF(COUNTIF(PREENCHER!$AG28:$AI28,PREENCHER!K28)=0,CONCATENATE(PREENCHER!AW28,#REF!),PREENCHER!K28))","v":""},{"$f":"IF(PREENCHER!L28=\"\",\"\",IF(COUNTIF(PREENCHER!$AG28:$AI28,PREENCHER!L28)=0,CONCATENATE(PREENCHER!AX28,#REF!),PREENCHER!L28))","v":""},{"$f":"IF(PREENCHER!M28=\"\",\"\",IF(COUNTIF(PREENCHER!$AG28:$AI28,PREENCHER!M28)=0,CONCATENATE(PREENCHER!AY28,#REF!),PREENCHER!M28))","v":""},{"$f":"IF(PREENCHER!N28=\"\",\"\",IF(COUNTIF(PREENCHER!$AG28:$AI28,PREENCHER!N28)=0,CONCATENATE(PREENCHER!AZ28,#REF!),PREENCHER!N28))","v":""},{"$f":"IF(ISERROR(ROUND(AVERAGE(E28:N28),2)),\"\",ROUND(AVERAGE(E28:N28),2))","v":""},{"$f":"IF(ISERROR(ROUND(O28*D28,2)),\"\",ROUND(O28*D28,2))","v":""},null,null,{"$f":"IF(ISERROR(MEDIAN(E28:N28)),\"\",MEDIAN(E28:N28))","v":""},{"$f":"IF(ISERROR(STDEV(E28:N28)),\"\",STDEV(E28:N28))","v":""},{"$f":"IF(ISERROR(T28/O28),\"\",T28/O28)","v":""}]
[{"$f":"IF(PREENCHER!A29=\"\",\"\",PREENCHER!A29)","v":""},{"$f":"IF(PREENCHER!B29=\"\",\"\",PREENCHER!B29)","v":""},{"$f":"IF(PREENCHER!C29=\"\",\"\",PREENCHER!C29)","v":""},{"$f":"IF(PREENCHER!D29=\"\",\"\",PREENCHER!D29)","v":""},{"$f":"IF(PREENCHER!E29=\"\",\"\",IF(COUNTIF(PREENCHER!$AG29:$AI29,PREENCHER!E29)=0,CONCATENATE(PREENCHER!AQ29,#REF!),PREENCHER!E29))","v":""},{"$f":"IF(PREENCHER!F29=\"\",\"\",IF(COUNTIF(PREENCHER!$AG29:$AI29,PREENCHER!F29)=0,CONCATENATE(PREENCHER!AR29,#REF!),PREENCHER!F29))","v":""},{"$f":"IF(PREENCHER!G29=\"\",\"\",IF(COUNTIF(PREENCHER!$AG29:$AI29,PREENCHER!G29)=0,CONCATENATE(PREENCHER!AS29,#REF!),PREENCHER!G29))","v":""},{"$f":"IF(PREENCHER!H29=\"\",\"\",IF(COUNTIF(PREENCHER!$AG29:$AI29,PREENCHER!H29)=0,CONCATENATE(PREENCHER!AT29,#REF!),PREENCHER!H29))","v":""},{"$f":"IF(PREENCHER!I29=\"\",\"\",IF(COUNTIF(PREENCHER!$AG29:$AI29,PREENCHER!I29)=0,CONCATENATE(PREENCHER!AU29,#REF!),PREENCHER!I29))","v":""},{"$f":"IF(PREENCHER!J29=\"\",\"\",IF(COUNTIF(PREENCHER!$AG29:$AI29,PREENCHER!J29)=0,CONCATENATE(PREENCHER!AV29,#REF!),PREENCHER!J29))","v":""},{"$f":"IF(PREENCHER!K29=\"\",\"\",IF(COUNTIF(PREENCHER!$AG29:$AI29,PREENCHER!K29)=0,CONCATENATE(PREENCHER!AW29,#REF!),PREENCHER!K29))","v":""},{"$f":"IF(PREENCHER!L29=\"\",\"\",IF(COUNTIF(PREENCHER!$AG29:$AI29,PREENCHER!L29)=0,CONCATENATE(PREENCHER!AX29,#REF!),PREENCHER!L29))","v":""},{"$f":"IF(PREENCHER!M29=\"\",\"\",IF(COUNTIF(PREENCHER!$AG29:$AI29,PREENCHER!M29)=0,CONCATENATE(PREENCHER!AY29,#REF!),PREENCHER!M29))","v":""},{"$f":"IF(PREENCHER!N29=\"\",\"\",IF(COUNTIF(PREENCHER!$AG29:$AI29,PREENCHER!N29)=0,CONCATENATE(PREENCHER!AZ29,#REF!),PREENCHER!N29))","v":""},{"$f":"IF(ISERROR(ROUND(AVERAGE(E29:N29),2)),\"\",ROUND(AVERAGE(E29:N29),2))","v":""},{"$f":"IF(ISERROR(ROUND(O29*D29,2)),\"\",ROUND(O29*D29,2))","v":""},null,null,{"$f":"IF(ISERROR(MEDIAN(E29:N29)),\"\",MEDIAN(E29:N29))","v":""},{"$f":"IF(ISERROR(STDEV(E29:N29)),\"\",STDEV(E29:N29))","v":""},{"$f":"IF(ISERROR(T29/O29),\"\",T29/O29)","v":""}]
[{"$f":"IF(PREENCHER!A30=\"\",\"\",PREENCHER!A30)","v":""},{"$f":"IF(PREENCHER!B30=\"\",\"\",PREENCHER!B30)","v":""},{"$f":"IF(PREENCHER!C30=\"\",\"\",PREENCHER!C30)","v":""},{"$f":"IF(PREENCHER!D30=\"\",\"\",PREENCHER!D30)","v":""},{"$f":"IF(PREENCHER!E30=\"\",\"\",IF(COUNTIF(PREENCHER!$AG30:$AI30,PREENCHER!E30)=0,CONCATENATE(PREENCHER!AQ30,#REF!),PREENCHER!E30))","v":""},{"$f":"IF(PREENCHER!F30=\"\",\"\",IF(COUNTIF(PREENCHER!$AG30:$AI30,PREENCHER!F30)=0,CONCATENATE(PREENCHER!AR30,#REF!),PREENCHER!F30))","v":""},{"$f":"IF(PREENCHER!G30=\"\",\"\",IF(COUNTIF(PREENCHER!$AG30:$AI30,PREENCHER!G30)=0,CONCATENATE(PREENCHER!AS30,#REF!),PREENCHER!G30))","v":""},{"$f":"IF(PREENCHER!H30=\"\",\"\",IF(COUNTIF(PREENCHER!$AG30:$AI30,PREENCHER!H30)=0,CONCATENATE(PREENCHER!AT30,#REF!),PREENCHER!H30))","v":""},{"$f":"IF(PREENCHER!I30=\"\",\"\",IF(COUNTIF(PREENCHER!$AG30:$AI30,PREENCHER!I30)=0,CONCATENATE(PREENCHER!AU30,#REF!),PREENCHER!I30))","v":""},{"$f":"IF(PREENCHER!J30=\"\",\"\",IF(COUNTIF(PREENCHER!$AG30:$AI30,PREENCHER!J30)=0,CONCATENATE(PREENCHER!AV30,#REF!),PREENCHER!J30))","v":""},{"$f":"IF(PREENCHER!K30=\"\",\"\",IF(COUNTIF(PREENCHER!$AG30:$AI30,PREENCHER!K30)=0,CONCATENATE(PREENCHER!AW30,#REF!),PREENCHER!K30))","v":""},{"$f":"IF(PREENCHER!L30=\"\",\"\",IF(COUNTIF(PREENCHER!$AG30:$AI30,PREENCHER!L30)=0,CONCATENATE(PREENCHER!AX30,#REF!),PREENCHER!L30))","v":""},{"$f":"IF(PREENCHER!M30=\"\",\"\",IF(COUNTIF(PREENCHER!$AG30:$AI30,PREENCHER!M30)=0,CONCATENATE(PREENCHER!AY30,#REF!),PREENCHER!M30))","v":""},{"$f":"IF(PREENCHER!N30=\"\",\"\",IF(COUNTIF(PREENCHER!$AG30:$AI30,PREENCHER!N30)=0,CONCATENATE(PREENCHER!AZ30,#REF!),PREENCHER!N30))","v":""},{"$f":"IF(ISERROR(ROUND(AVERAGE(E30:N30),2)),\"\",ROUND(AVERAGE(E30:N30),2))","v":""},{"$f":"IF(ISERROR(ROUND(O30*D30,2)),\"\",ROUND(O30*D30,2))","v":""},null,null,{"$f":"IF(ISERROR(MEDIAN(E30:N30)),\"\",MEDIAN(E30:N30))","v":""},{"$f":"IF(ISERROR(STDEV(E30:N30)),\"\",STDEV(E30:N30))","v":""},{"$f":"IF(ISERROR(T30/O30),\"\",T30/O30)","v":""}]
[{"$f":"IF(PREENCHER!A31=\"\",\"\",PREENCHER!A31)","v":""},{"$f":"IF(PREENCHER!B31=\"\",\"\",PREENCHER!B31)","v":""},{"$f":"IF(PREENCHER!C31=\"\",\"\",PREENCHER!C31)","v":""},{"$f":"IF(PREENCHER!D31=\"\",\"\",PREENCHER!D31)","v":""},{"$f":"IF(PREENCHER!E31=\"\",\"\",IF(COUNTIF(PREENCHER!$AG31:$AI31,PREENCHER!E31)=0,CONCATENATE(PREENCHER!AQ31,#REF!),PREENCHER!E31))","v":""},{"$f":"IF(PREENCHER!F31=\"\",\"\",IF(COUNTIF(PREENCHER!$AG31:$AI31,PREENCHER!F31)=0,CONCATENATE(PREENCHER!AR31,#REF!),PREENCHER!F31))","v":""},{"$f":"IF(PREENCHER!G31=\"\",\"\",IF(COUNTIF(PREENCHER!$AG31:$AI31,PREENCHER!G31)=0,CONCATENATE(PREENCHER!AS31,#REF!),PREENCHER!G31))","v":""},{"$f":"IF(PREENCHER!H31=\"\",\"\",IF(COUNTIF(PREENCHER!$AG31:$AI31,PREENCHER!H31)=0,CONCATENATE(PREENCHER!AT31,#REF!),PREENCHER!H31))","v":""},{"$f":"IF(PREENCHER!I31=\"\",\"\",IF(COUNTIF(PREENCHER!$AG31:$AI31,PREENCHER!I31)=0,CONCATENATE(PREENCHER!AU31,#REF!),PREENCHER!I31))","v":""},{"$f":"IF(PREENCHER!J31=\"\",\"\",IF(COUNTIF(PREENCHER!$AG31:$AI31,PREENCHER!J31)=0,CONCATENATE(PREENCHER!AV31,#REF!),PREENCHER!J31))","v":""},{"$f":"IF(PREENCHER!K31=\"\",\"\",IF(COUNTIF(PREENCHER!$AG31:$AI31,PREENCHER!K31)=0,CONCATENATE(PREENCHER!AW31,#REF!),PREENCHER!K31))","v":""},{"$f":"IF(PREENCHER!L31=\"\",\"\",IF(COUNTIF(PREENCHER!$AG31:$AI31,PREENCHER!L31)=0,CONCATENATE(PREENCHER!AX31,#REF!),PREENCHER!L31))","v":""},{"$f":"IF(PREENCHER!M31=\"\",\"\",IF(COUNTIF(PREENCHER!$AG31:$AI31,PREENCHER!M31)=0,CONCATENATE(PREENCHER!AY31,#REF!),PREENCHER!M31))","v":""},{"$f":"IF(PREENCHER!N31=\"\",\"\",IF(COUNTIF(PREENCHER!$AG31:$AI31,PREENCHER!N31)=0,CONCATENATE(PREENCHER!AZ31,#REF!),PREENCHER!N31))","v":""},{"$f":"IF(ISERROR(ROUND(AVERAGE(E31:N31),2)),\"\",ROUND(AVERAGE(E31:N31),2))","v":""},{"$f":"IF(ISERROR(ROUND(O31*D31,2)),\"\",ROUND(O31*D31,2))","v":""},null,null,{"$f":"IF(ISERROR(MEDIAN(E31:N31)),\"\",MEDIAN(E31:N31))","v":""},{"$f":"IF(ISERROR(STDEV(E31:N31)),\"\",STDEV(E31:N31))","v":""},{"$f":"IF(ISERROR(T31/O31),\"\",T31/O31)","v":""}]
[{"$f":"IF(PREENCHER!A32=\"\",\"\",PREENCHER!A32)","v":""},{"$f":"IF(PREENCHER!B32=\"\",\"\",PREENCHER!B32)","v":""},{"$f":"IF(PREENCHER!C32=\"\",\"\",PREENCHER!C32)","v":""},{"$f":"IF(PREENCHER!D32=\"\",\"\",PREENCHER!D32)","v":""},{"$f":"IF(PREENCHER!E32=\"\",\"\",IF(COUNTIF(PREENCHER!$AG32:$AI32,PREENCHER!E32)=0,CONCATENATE(PREENCHER!AQ32,#REF!),PREENCHER!E32))","v":""},{"$f":"IF(PREENCHER!F32=\"\",\"\",IF(COUNTIF(PREENCHER!$AG32:$AI32,PREENCHER!F32)=0,CONCATENATE(PREENCHER!AR32,#REF!),PREENCHER!F32))","v":""},{"$f":"IF(PREENCHER!G32=\"\",\"\",IF(COUNTIF(PREENCHER!$AG32:$AI32,PREENCHER!G32)=0,CONCATENATE(PREENCHER!AS32,#REF!),PREENCHER!G32))","v":""},{"$f":"IF(PREENCHER!H32=\"\",\"\",IF(COUNTIF(PREENCHER!$AG32:$AI32,PREENCHER!H32)=0,CONCATENATE(PREENCHER!AT32,#REF!),PREENCHER!H32))","v":""},{"$f":"IF(PREENCHER!I32=\"\",\"\",IF(COUNTIF(PREENCHER!$AG32:$AI32,PREENCHER!I32)=0,CONCATENATE(PREENCHER!AU32,#REF!),PREENCHER!I32))","v":""},{"$f":"IF(PREENCHER!J32=\"\",\"\",IF(COUNTIF(PREENCHER!$AG32:$AI32,PREENCHER!J32)=0,CONCATENATE(PREENCHER!AV32,#REF!),PREENCHER!J32))","v":""},{"$f":"IF(PREENCHER!K32=\"\",\"\",IF(COUNTIF(PREENCHER!$AG32:$AI32,PREENCHER!K32)=0,CONCATENATE(PREENCHER!AW32,#REF!),PREENCHER!K32))","v":""},{"$f":"IF(PREENCHER!L32=\"\",\"\",IF(COUNTIF(PREENCHER!$AG32:$AI32,PREENCHER!L32)=0,CONCATENATE(PREENCHER!AX32,#REF!),PREENCHER!L32))","v":""},{"$f":"IF(PREENCHER!M32=\"\",\"\",IF(COUNTIF(PREENCHER!$AG32:$AI32,PREENCHER!M32)=0,CONCATENATE(PREENCHER!AY32,#REF!),PREENCHER!M32))","v":""},{"$f":"IF(PREENCHER!N32=\"\",\"\",IF(COUNTIF(PREENCHER!$AG32:$AI32,PREENCHER!N32)=0,CONCATENATE(PREENCHER!AZ32,#REF!),PREENCHER!N32))","v":""},{"$f":"IF(ISERROR(ROUND(AVERAGE(E32:N32),2)),\"\",ROUND(AVERAGE(E32:N32),2))","v":""},{"$f":"IF(ISERROR(ROUND(O32*D32,2)),\"\",ROUND(O32*D32,2))","v":""},null,null,{"$f":"IF(ISERROR(MEDIAN(E32:N32)),\"\",MEDIAN(E32:N32))","v":""},{"$f":"IF(ISERROR(STDEV(E32:N32)),\"\",STDEV(E32:N32))","v":""},{"$f":"IF(ISERROR(T32/O32),\"\",T32/O32)","v":""}]
[{"$f":"IF(PREENCHER!A33=\"\",\"\",PREENCHER!A33)","v":""},{"$f":"IF(PREENCHER!B33=\"\",\"\",PREENCHER!B33)","v":""},{"$f":"IF(PREENCHER!C33=\"\",\"\",PREENCHER!C33)","v":""},{"$f":"IF(PREENCHER!D33=\"\",\"\",PREENCHER!D33)","v":""},{"$f":"IF(PREENCHER!E33=\"\",\"\",IF(COUNTIF(PREENCHER!$AG33:$AI33,PREENCHER!E33)=0,CONCATENATE(PREENCHER!AQ33,#REF!),PREENCHER!E33))","v":""},{"$f":"IF(PREENCHER!F33=\"\",\"\",IF(COUNTIF(PREENCHER!$AG33:$AI33,PREENCHER!F33)=0,CONCATENATE(PREENCHER!AR33,#REF!),PREENCHER!F33))","v":""},{"$f":"IF(PREENCHER!G33=\"\",\"\",IF(COUNTIF(PREENCHER!$AG33:$AI33,PREENCHER!G33)=0,CONCATENATE(PREENCHER!AS33,#REF!),PREENCHER!G33))","v":""},{"$f":"IF(PREENCHER!H33=\"\",\"\",IF(COUNTIF(PREENCHER!$AG33:$AI33,PREENCHER!H33)=0,CONCATENATE(PREENCHER!AT33,#REF!),PREENCHER!H33))","v":""},{"$f":"IF(PREENCHER!I33=\"\",\"\",IF(COUNTIF(PREENCHER!$AG33:$AI33,PREENCHER!I33)=0,CONCATENATE(PREENCHER!AU33,#REF!),PREENCHER!I33))","v":""},{"$f":"IF(PREENCHER!J33=\"\",\"\",IF(COUNTIF(PREENCHER!$AG33:$AI33,PREENCHER!J33)=0,CONCATENATE(PREENCHER!AV33,#REF!),PREENCHER!J33))","v":""},{"$f":"IF(PREENCHER!K33=\"\",\"\",IF(COUNTIF(PREENCHER!$AG33:$AI33,PREENCHER!K33)=0,CONCATENATE(PREENCHER!AW33,#REF!),PREENCHER!K33))","v":""},{"$f":"IF(PREENCHER!L33=\"\",\"\",IF(COUNTIF(PREENCHER!$AG33:$AI33,PREENCHER!L33)=0,CONCATENATE(PREENCHER!AX33,#REF!),PREENCHER!L33))","v":""},{"$f":"IF(PREENCHER!M33=\"\",\"\",IF(COUNTIF(PREENCHER!$AG33:$AI33,PREENCHER!M33)=0,CONCATENATE(PREENCHER!AY33,#REF!),PREENCHER!M33))","v":""},{"$f":"IF(PREENCHER!N33=\"\",\"\",IF(COUNTIF(PREENCHER!$AG33:$AI33,PREENCHER!N33)=0,CONCATENATE(PREENCHER!AZ33,#REF!),PREENCHER!N33))","v":""},{"$f":"IF(ISERROR(ROUND(AVERAGE(E33:N33),2)),\"\",ROUND(AVERAGE(E33:N33),2))","v":""},{"$f":"IF(ISERROR(ROUND(O33*D33,2)),\"\",ROUND(O33*D33,2))","v":""},null,null,{"$f":"IF(ISERROR(MEDIAN(E33:N33)),\"\",MEDIAN(E33:N33))","v":""},{"$f":"IF(ISERROR(STDEV(E33:N33)),\"\",STDEV(E33:N33))","v":""},{"$f":"IF(ISERROR(T33/O33),\"\",T33/O33)","v":""}]
[{"$f":"IF(PREENCHER!A34=\"\",\"\",PREENCHER!A34)","v":""},{"$f":"IF(PREENCHER!B34=\"\",\"\",PREENCHER!B34)","v":""},{"$f":"IF(PREENCHER!C34=\"\",\"\",PREENCHER!C34)","v":""},{"$f":"IF(PREENCHER!D34=\"\",\"\",PREENCHER!D34)","v":""},{"$f":"IF(PREENCHER!E34=\"\",\"\",IF(COUNTIF(PREENCHER!$AG34:$AI34,PREENCHER!E34)=0,CONCATENATE(PREENCHER!AQ34,#REF!),PREENCHER!E34))","v":""},{"$f":"IF(PREENCHER!F34=\"\",\"\",IF(COUNTIF(PREENCHER!$AG34:$AI34,PREENCHER!F34)=0,CONCATENATE(PREENCHER!AR34,#REF!),PREENCHER!F34))","v":""},{"$f":"IF(PREENCHER!G34=\"\",\"\",IF(COUNTIF(PREENCHER!$AG34:$AI34,PREENCHER!G34)=0,CONCATENATE(PREENCHER!AS34,#REF!),PREENCHER!G34))","v":""},{"$f":"IF(PREENCHER!H34=\"\",\"\",IF(COUNTIF(PREENCHER!$AG34:$AI34,PREENCHER!H34)=0,CONCATENATE(PREENCHER!AT34,#REF!),PREENCHER!H34))","v":""},{"$f":"IF(PREENCHER!I34=\"\",\"\",IF(COUNTIF(PREENCHER!$AG34:$AI34,PREENCHER!I34)=0,CONCATENATE(PREENCHER!AU34,#REF!),PREENCHER!I34))","v":""},{"$f":"IF(PREENCHER!J34=\"\",\"\",IF(COUNTIF(PREENCHER!$AG34:$AI34,PREENCHER!J34)=0,CONCATENATE(PREENCHER!AV34,#REF!),PREENCHER!J34))","v":""},{"$f":"IF(PREENCHER!K34=\"\",\"\",IF(COUNTIF(PREENCHER!$AG34:$AI34,PREENCHER!K34)=0,CONCATENATE(PREENCHER!AW34,#REF!),PREENCHER!K34))","v":""},{"$f":"IF(PREENCHER!L34=\"\",\"\",IF(COUNTIF(PREENCHER!$AG34:$AI34,PREENCHER!L34)=0,CONCATENATE(PREENCHER!AX34,#REF!),PREENCHER!L34))","v":""},{"$f":"IF(PREENCHER!M34=\"\",\"\",IF(COUNTIF(PREENCHER!$AG34:$AI34,PREENCHER!M34)=0,CONCATENATE(PREENCHER!AY34,#REF!),PREENCHER!M34))","v":""},{"$f":"IF(PREENCHER!N34=\"\",\"\",IF(COUNTIF(PREENCHER!$AG34:$AI34,PREENCHER!N34)=0,CONCATENATE(PREENCHER!AZ34,#REF!),PREENCHER!N34))","v":""},{"$f":"IF(ISERROR(ROUND(AVERAGE(E34:N34),2)),\"\",ROUND(AVERAGE(E34:N34),2))","v":""},{"$f":"IF(ISERROR(ROUND(O34*D34,2)),\"\",ROUND(O34*D34,2))","v":""},null,null,{"$f":"IF(ISERROR(MEDIAN(E34:N34)),\"\",MEDIAN(E34:N34))","v":""},{"$f":"IF(ISERROR(STDEV(E34:N34)),\"\",STDEV(E34:N34))","v":""},{"$f":"IF(ISERROR(T34/O34),\"\",T34/O34)","v":""}]
[{"$f":"IF(PREENCHER!A35=\"\",\"\",PREENCHER!A35)","v":""},{"$f":"IF(PREENCHER!B35=\"\",\"\",PREENCHER!B35)","v":""},{"$f":"IF(PREENCHER!C35=\"\",\"\",PREENCHER!C35)","v":""},{"$f":"IF(PREENCHER!D35=\"\",\"\",PREENCHER!D35)","v":""},{"$f":"IF(PREENCHER!E35=\"\",\"\",IF(COUNTIF(PREENCHER!$AG35:$AI35,PREENCHER!E35)=0,CONCATENATE(PREENCHER!AQ35,#REF!),PREENCHER!E35))","v":""},{"$f":"IF(PREENCHER!F35=\"\",\"\",IF(COUNTIF(PREENCHER!$AG35:$AI35,PREENCHER!F35)=0,CONCATENATE(PREENCHER!AR35,#REF!),PREENCHER!F35))","v":""},{"$f":"IF(PREENCHER!G35=\"\",\"\",IF(COUNTIF(PREENCHER!$AG35:$AI35,PREENCHER!G35)=0,CONCATENATE(PREENCHER!AS35,#REF!),PREENCHER!G35))","v":""},{"$f":"IF(PREENCHER!H35=\"\",\"\",IF(COUNTIF(PREENCHER!$AG35:$AI35,PREENCHER!H35)=0,CONCATENATE(PREENCHER!AT35,#REF!),PREENCHER!H35))","v":""},{"$f":"IF(PREENCHER!I35=\"\",\"\",IF(COUNTIF(PREENCHER!$AG35:$AI35,PREENCHER!I35)=0,CONCATENATE(PREENCHER!AU35,#REF!),PREENCHER!I35))","v":""},{"$f":"IF(PREENCHER!J35=\"\",\"\",IF(COUNTIF(PREENCHER!$AG35:$AI35,PREENCHER!J35)=0,CONCATENATE(PREENCHER!AV35,#REF!),PREENCHER!J35))","v":""},{"$f":"IF(PREENCHER!K35=\"\",\"\",IF(COUNTIF(PREENCHER!$AG35:$AI35,PREENCHER!K35)=0,CONCATENATE(PREENCHER!AW35,#REF!),PREENCHER!K35))","v":""},{"$f":"IF(PREENCHER!L35=\"\",\"\",IF(COUNTIF(PREENCHER!$AG35:$AI35,PREENCHER!L35)=0,CONCATENATE(PREENCHER!AX35,#REF!),PREENCHER!L35))","v":""},{"$f":"IF(PREENCHER!M35=\"\",\"\",IF(COUNTIF(PREENCHER!$AG35:$AI35,PREENCHER!M35)=0,CONCATENATE(PREENCHER!AY35,#REF!),PREENCHER!M35))","v":""},{"$f":"IF(PREENCHER!N35=\"\",\"\",IF(COUNTIF(PREENCHER!$AG35:$AI35,PREENCHER!N35)=0,CONCATENATE(PREENCHER!AZ35,#REF!),PREENCHER!N35))","v":""},{"$f":"IF(ISERROR(ROUND(AVERAGE(E35:N35),2)),\"\",ROUND(AVERAGE(E35:N35),2))","v":""},{"$f":"IF(ISERROR(ROUND(O35*D35,2)),\"\",ROUND(O35*D35,2))","v":""},null,null,{"$f":"IF(ISERROR(MEDIAN(E35:N35)),\"\",MEDIAN(E35:N35))","v":""},{"$f":"IF(ISERROR(STDEV(E35:N35)),\"\",STDEV(E35:N35))","v":""},{"$f":"IF(ISERROR(T35/O35),\"\",T35/O35)","v":""}]
[{"$f":"IF(PREENCHER!A36=\"\",\"\",PREENCHER!A36)","v":""},{"$f":"IF(PREENCHER!B36=\"\",\"\",PREENCHER!B36)","v":""},{"$f":"IF(PREENCHER!C36=\"\",\"\",PREENCHER!C36)","v":""},{"$f":"IF(PREENCHER!D36=\"\",\"\",PREENCHER!D36)","v":""},{"$f":"IF(PREENCHER!E36=\"\",\"\",IF(COUNTIF(PREENCHER!$AG36:$AI36,PREENCHER!E36)=0,CONCATENATE(PREENCHER!AQ36,#REF!),PREENCHER!E36))","v":""},{"$f":"IF(PREENCHER!F36=\"\",\"\",IF(COUNTIF(PREENCHER!$AG36:$AI36,PREENCHER!F36)=0,CONCATENATE(PREENCHER!AR36,#REF!),PREENCHER!F36))","v":""},{"$f":"IF(PREENCHER!G36=\"\",\"\",IF(COUNTIF(PREENCHER!$AG36:$AI36,PREENCHER!G36)=0,CONCATENATE(PREENCHER!AS36,#REF!),PREENCHER!G36))","v":""},{"$f":"IF(PREENCHER!H36=\"\",\"\",IF(COUNTIF(PREENCHER!$AG36:$AI36,PREENCHER!H36)=0,CONCATENATE(PREENCHER!AT36,#REF!),PREENCHER!H36))","v":""},{"$f":"IF(PREENCHER!I36=\"\",\"\",IF(COUNTIF(PREENCHER!$AG36:$AI36,PREENCHER!I36)=0,CONCATENATE(PREENCHER!AU36,#REF!),PREENCHER!I36))","v":""},{"$f":"IF(PREENCHER!J36=\"\",\"\",IF(COUNTIF(PREENCHER!$AG36:$AI36,PREENCHER!J36)=0,CONCATENATE(PREENCHER!AV36,#REF!),PREENCHER!J36))","v":""},{"$f":"IF(PREENCHER!K36=\"\",\"\",IF(COUNTIF(PREENCHER!$AG36:$AI36,PREENCHER!K36)=0,CONCATENATE(PREENCHER!AW36,#REF!),PREENCHER!K36))","v":""},{"$f":"IF(PREENCHER!L36=\"\",\"\",IF(COUNTIF(PREENCHER!$AG36:$AI36,PREENCHER!L36)=0,CONCATENATE(PREENCHER!AX36,#REF!),PREENCHER!L36))","v":""},{"$f":"IF(PREENCHER!M36=\"\",\"\",IF(COUNTIF(PREENCHER!$AG36:$AI36,PREENCHER!M36)=0,CONCATENATE(PREENCHER!AY36,#REF!),PREENCHER!M36))","v":""},{"$f":"IF(PREENCHER!N36=\"\",\"\",IF(COUNTIF(PREENCHER!$AG36:$AI36,PREENCHER!N36)=0,CONCATENATE(PREENCHER!AZ36,#REF!),PREENCHER!N36))","v":""},{"$f":"IF(ISERROR(ROUND(AVERAGE(E36:N36),2)),\"\",ROUND(AVERAGE(E36:N36),2))","v":""},{"$f":"IF(ISERROR(ROUND(O36*D36,2)),\"\",ROUND(O36*D36,2))","v":""},null,null,{"$f":"IF(ISERROR(MEDIAN(E36:N36)),\"\",MEDIAN(E36:N36))","v":""},{"$f":"IF(ISERROR(STDEV(E36:N36)),\"\",STDEV(E36:N36))","v":""},{"$f":"IF(ISERROR(T36/O36),\"\",T36/O36)","v":""}]
[{"$f":"IF(PREENCHER!A37=\"\",\"\",PREENCHER!A37)","v":""},{"$f":"IF(PREENCHER!B37=\"\",\"\",PREENCHER!B37)","v":""},{"$f":"IF(PREENCHER!C37=\"\",\"\",PREENCHER!C37)","v":""},{"$f":"IF(PREENCHER!D37=\"\",\"\",PREENCHER!D37)","v":""},{"$f":"IF(PREENCHER!E37=\"\",\"\",IF(COUNTIF(PREENCHER!$AG37:$AI37,PREENCHER!E37)=0,CONCATENATE(PREENCHER!AQ37,#REF!),PREENCHER!E37))","v":""},{"$f":"IF(PREENCHER!F37=\"\",\"\",IF(COUNTIF(PREENCHER!$AG37:$AI37,PREENCHER!F37)=0,CONCATENATE(PREENCHER!AR37,#REF!),PREENCHER!F37))","v":""},{"$f":"IF(PREENCHER!G37=\"\",\"\",IF(COUNTIF(PREENCHER!$AG37:$AI37,PREENCHER!G37)=0,CONCATENATE(PREENCHER!AS37,#REF!),PREENCHER!G37))","v":""},{"$f":"IF(PREENCHER!H37=\"\",\"\",IF(COUNTIF(PREENCHER!$AG37:$AI37,PREENCHER!H37)=0,CONCATENATE(PREENCHER!AT37,#REF!),PREENCHER!H37))","v":""},{"$f":"IF(PREENCHER!I37=\"\",\"\",IF(COUNTIF(PREENCHER!$AG37:$AI37,PREENCHER!I37)=0,CONCATENATE(PREENCHER!AU37,#REF!),PREENCHER!I37))","v":""},{"$f":"IF(PREENCHER!J37=\"\",\"\",IF(COUNTIF(PREENCHER!$AG37:$AI37,PREENCHER!J37)=0,CONCATENATE(PREENCHER!AV37,#REF!),PREENCHER!J37))","v":""},{"$f":"IF(PREENCHER!K37=\"\",\"\",IF(COUNTIF(PREENCHER!$AG37:$AI37,PREENCHER!K37)=0,CONCATENATE(PREENCHER!AW37,#REF!),PREENCHER!K37))","v":""},{"$f":"IF(PREENCHER!L37=\"\",\"\",IF(COUNTIF(PREENCHER!$AG37:$AI37,PREENCHER!L37)=0,CONCATENATE(PREENCHER!AX37,#REF!),PREENCHER!L37))","v":""},{"$f":"IF(PREENCHER!M37=\"\",\"\",IF(COUNTIF(PREENCHER!$AG37:$AI37,PREENCHER!M37)=0,CONCATENATE(PREENCHER!AY37,#REF!),PREENCHER!M37))","v":""},{"$f":"IF(PREENCHER!N37=\"\",\"\",IF(COUNTIF(PREENCHER!$AG37:$AI37,PREENCHER!N37)=0,CONCATENATE(PREENCHER!AZ37,#REF!),PREENCHER!N37))","v":""},{"$f":"IF(ISERROR(ROUND(AVERAGE(E37:N37),2)),\"\",ROUND(AVERAGE(E37:N37),2))","v":""},{"$f":"IF(ISERROR(ROUND(O37*D37,2)),\"\",ROUND(O37*D37,2))","v":""},null,null,{"$f":"IF(ISERROR(MEDIAN(E37:N37)),\"\",MEDIAN(E37:N37))","v":""},{"$f":"IF(ISERROR(STDEV(E37:N37)),\"\",STDEV(E37:N37))","v":""},{"$f":"IF(ISERROR(T37/O37),\"\",T37/O37)","v":""}]
[{"$f":"IF(PREENCHER!A38=\"\",\"\",PREENCHER!A38)","v":""},{"$f":"IF(PREENCHER!B38=\"\",\"\",PREENCHER!B38)","v":""},{"$f":"IF(PREENCHER!C38=\"\",\"\",PREENCHER!C38)","v":""},{"$f":"IF(PREENCHER!D38=\"\",\"\",PREENCHER!D38)","v":""},{"$f":"IF(PREENCHER!E38=\"\",\"\",IF(COUNTIF(PREENCHER!$AG38:$AI38,PREENCHER!E38)=0,CONCATENATE(PREENCHER!AQ38,#REF!),PREENCHER!E38))","v":""},{"$f":"IF(PREENCHER!F38=\"\",\"\",IF(COUNTIF(PREENCHER!$AG38:$AI38,PREENCHER!F38)=0,CONCATENATE(PREENCHER!AR38,#REF!),PREENCHER!F38))","v":""},{"$f":"IF(PREENCHER!G38=\"\",\"\",IF(COUNTIF(PREENCHER!$AG38:$AI38,PREENCHER!G38)=0,CONCATENATE(PREENCHER!AS38,#REF!),PREENCHER!G38))","v":""},{"$f":"IF(PREENCHER!H38=\"\",\"\",IF(COUNTIF(PREENCHER!$AG38:$AI38,PREENCHER!H38)=0,CONCATENATE(PREENCHER!AT38,#REF!),PREENCHER!H38))","v":""},{"$f":"IF(PREENCHER!I38=\"\",\"\",IF(COUNTIF(PREENCHER!$AG38:$AI38,PREENCHER!I38)=0,CONCATENATE(PREENCHER!AU38,#REF!),PREENCHER!I38))","v":""},{"$f":"IF(PREENCHER!J38=\"\",\"\",IF(COUNTIF(PREENCHER!$AG38:$AI38,PREENCHER!J38)=0,CONCATENATE(PREENCHER!AV38,#REF!),PREENCHER!J38))","v":""},{"$f":"IF(PREENCHER!K38=\"\",\"\",IF(COUNTIF(PREENCHER!$AG38:$AI38,PREENCHER!K38)=0,CONCATENATE(PREENCHER!AW38,#REF!),PREENCHER!K38))","v":""},{"$f":"IF(PREENCHER!L38=\"\",\"\",IF(COUNTIF(PREENCHER!$AG38:$AI38,PREENCHER!L38)=0,CONCATENATE(PREENCHER!AX38,#REF!),PREENCHER!L38))","v":""},{"$f":"IF(PREENCHER!M38=\"\",\"\",IF(COUNTIF(PREENCHER!$AG38:$AI38,PREENCHER!M38)=0,CONCATENATE(PREENCHER!AY38,#REF!),PREENCHER!M38))","v":""},{"$f":"IF(PREENCHER!N38=\"\",\"\",IF(COUNTIF(PREENCHER!$AG38:$AI38,PREENCHER!N38)=0,CONCATENATE(PREENCHER!AZ38,#REF!),PREENCHER!N38))","v":""},{"$f":"IF(ISERROR(ROUND(AVERAGE(E38:N38),2)),\"\",ROUND(AVERAGE(E38:N38),2))","v":""},{"$f":"IF(ISERROR(ROUND(O38*D38,2)),\"\",ROUND(O38*D38,2))","v":""},null,null,{"$f":"IF(ISERROR(MEDIAN(E38:N38)),\"\",MEDIAN(E38:N38))","v":""},{"$f":"IF(ISERROR(STDEV(E38:N38)),\"\",STDEV(E38:N38))","v":""},{"$f":"IF(ISERROR(T38/O38),\"\",T38/O38)","v":""}]
[{"$f":"IF(PREENCHER!A39=\"\",\"\",PREENCHER!A39)","v":""},{"$f":"IF(PREENCHER!B39=\"\",\"\",PREENCHER!B39)","v":""},{"$f":"IF(PREENCHER!C39=\"\",\"\",PREENCHER!C39)","v":""},{"$f":"IF(PREENCHER!D39=\"\",\"\",PREENCHER!D39)","v":""},{"$f":"IF(PREENCHER!E39=\"\",\"\",IF(COUNTIF(PREENCHER!$AG39:$AI39,PREENCHER!E39)=0,CONCATENATE(PREENCHER!AQ39,#REF!),PREENCHER!E39))","v":""},{"$f":"IF(PREENCHER!F39=\"\",\"\",IF(COUNTIF(PREENCHER!$AG39:$AI39,PREENCHER!F39)=0,CONCATENATE(PREENCHER!AR39,#REF!),PREENCHER!F39))","v":""},{"$f":"IF(PREENCHER!G39=\"\",\"\",IF(COUNTIF(PREENCHER!$AG39:$AI39,PREENCHER!G39)=0,CONCATENATE(PREENCHER!AS39,#REF!),PREENCHER!G39))","v":""},{"$f":"IF(PREENCHER!H39=\"\",\"\",IF(COUNTIF(PREENCHER!$AG39:$AI39,PREENCHER!H39)=0,CONCATENATE(PREENCHER!AT39,#REF!),PREENCHER!H39))","v":""},{"$f":"IF(PREENCHER!I39=\"\",\"\",IF(COUNTIF(PREENCHER!$AG39:$AI39,PREENCHER!I39)=0,CONCATENATE(PREENCHER!AU39,#REF!),PREENCHER!I39))","v":""},{"$f":"IF(PREENCHER!J39=\"\",\"\",IF(COUNTIF(PREENCHER!$AG39:$AI39,PREENCHER!J39)=0,CONCATENATE(PREENCHER!AV39,#REF!),PREENCHER!J39))","v":""},{"$f":"IF(PREENCHER!K39=\"\",\"\",IF(COUNTIF(PREENCHER!$AG39:$AI39,PREENCHER!K39)=0,CONCATENATE(PREENCHER!AW39,#REF!),PREENCHER!K39))","v":""},{"$f":"IF(PREENCHER!L39=\"\",\"\",IF(COUNTIF(PREENCHER!$AG39:$AI39,PREENCHER!L39)=0,CONCATENATE(PREENCHER!AX39,#REF!),PREENCHER!L39))","v":""},{"$f":"IF(PREENCHER!M39=\"\",\"\",IF(COUNTIF(PREENCHER!$AG39:$AI39,PREENCHER!M39)=0,CONCATENATE(PREENCHER!AY39,#REF!),PREENCHER!M39))","v":""},{"$f":"IF(PREENCHER!N39=\"\",\"\",IF(COUNTIF(PREENCHER!$AG39:$AI39,PREENCHER!N39)=0,CONCATENATE(PREENCHER!AZ39,#REF!),PREENCHER!N39))","v":""},{"$f":"IF(ISERROR(ROUND(AVERAGE(E39:N39),2)),\"\",ROUND(AVERAGE(E39:N39),2))","v":""},{"$f":"IF(ISERROR(ROUND(O39*D39,2)),\"\",ROUND(O39*D39,2))","v":""},null,null,{"$f":"IF(ISERROR(MEDIAN(E39:N39)),\"\",MEDIAN(E39:N39))","v":""},{"$f":"IF(ISERROR(STDEV(E39:N39)),\"\",STDEV(E39:N39))","v":""},{"$f":"IF(ISERROR(T39/O39),\"\",T39/O39)","v":""}]
[{"$f":"IF(PREENCHER!A40=\"\",\"\",PREENCHER!A40)","v":""},{"$f":"IF(PREENCHER!B40=\"\",\"\",PREENCHER!B40)","v":""},{"$f":"IF(PREENCHER!C40=\"\",\"\",PREENCHER!C40)","v":""},{"$f":"IF(PREENCHER!D40=\"\",\"\",PREENCHER!D40)","v":""},{"$f":"IF(PREENCHER!E40=\"\",\"\",IF(COUNTIF(PREENCHER!$AG40:$AI40,PREENCHER!E40)=0,CONCATENATE(PREENCHER!AQ40,#REF!),PREENCHER!E40))","v":""},{"$f":"IF(PREENCHER!F40=\"\",\"\",IF(COUNTIF(PREENCHER!$AG40:$AI40,PREENCHER!F40)=0,CONCATENATE(PREENCHER!AR40,#REF!),PREENCHER!F40))","v":""},{"$f":"IF(PREENCHER!G40=\"\",\"\",IF(COUNTIF(PREENCHER!$AG40:$AI40,PREENCHER!G40)=0,CONCATENATE(PREENCHER!AS40,#REF!),PREENCHER!G40))","v":""},{"$f":"IF(PREENCHER!H40=\"\",\"\",IF(COUNTIF(PREENCHER!$AG40:$AI40,PREENCHER!H40)=0,CONCATENATE(PREENCHER!AT40,#REF!),PREENCHER!H40))","v":""},{"$f":"IF(PREENCHER!I40=\"\",\"\",IF(COUNTIF(PREENCHER!$AG40:$AI40,PREENCHER!I40)=0,CONCATENATE(PREENCHER!AU40,#REF!),PREENCHER!I40))","v":""},{"$f":"IF(PREENCHER!J40=\"\",\"\",IF(COUNTIF(PREENCHER!$AG40:$AI40,PREENCHER!J40)=0,CONCATENATE(PREENCHER!AV40,#REF!),PREENCHER!J40))","v":""},{"$f":"IF(PREENCHER!K40=\"\",\"\",IF(COUNTIF(PREENCHER!$AG40:$AI40,PREENCHER!K40)=0,CONCATENATE(PREENCHER!AW40,#REF!),PREENCHER!K40))","v":""},{"$f":"IF(PREENCHER!L40=\"\",\"\",IF(COUNTIF(PREENCHER!$AG40:$AI40,PREENCHER!L40)=0,CONCATENATE(PREENCHER!AX40,#REF!),PREENCHER!L40))","v":""},{"$f":"IF(PREENCHER!M40=\"\",\"\",IF(COUNTIF(PREENCHER!$AG40:$AI40,PREENCHER!M40)=0,CONCATENATE(PREENCHER!AY40,#REF!),PREENCHER!M40))","v":""},{"$f":"IF(PREENCHER!N40=\"\",\"\",IF(COUNTIF(PREENCHER!$AG40:$AI40,PREENCHER!N40)=0,CONCATENATE(PREENCHER!AZ40,#REF!),PREENCHER!N40))","v":""},{"$f":"IF(ISERROR(ROUND(AVERAGE(E40:N40),2)),\"\",ROUND(AVERAGE(E40:N40),2))","v":""},{"$f":"IF(ISERROR(ROUND(O40*D40,2)),\"\",ROUND(O40*D40,2))","v":""},null,null,{"$f":"IF(ISERROR(MEDIAN(E40:N40)),\"\",MEDIAN(E40:N40))","v":""},{"$f":"IF(ISERROR(STDEV(E40:N40)),\"\",STDEV(E40:N40))","v":""},{"$f":"IF(ISERROR(T40/O40),\"\",T40/O40)","v":""}]
[{"$f":"IF(PREENCHER!A41=\"\",\"\",PREENCHER!A41)","v":""},{"$f":"IF(PREENCHER!B41=\"\",\"\",PREENCHER!B41)","v":""},{"$f":"IF(PREENCHER!C41=\"\",\"\",PREENCHER!C41)","v":""},{"$f":"IF(PREENCHER!D41=\"\",\"\",PREENCHER!D41)","v":""},{"$f":"IF(PREENCHER!E41=\"\",\"\",IF(COUNTIF(PREENCHER!$AG41:$AI41,PREENCHER!E41)=0,CONCATENATE(PREENCHER!AQ41,#REF!),PREENCHER!E41))","v":""},{"$f":"IF(PREENCHER!F41=\"\",\"\",IF(COUNTIF(PREENCHER!$AG41:$AI41,PREENCHER!F41)=0,CONCATENATE(PREENCHER!AR41,#REF!),PREENCHER!F41))","v":""},{"$f":"IF(PREENCHER!G41=\"\",\"\",IF(COUNTIF(PREENCHER!$AG41:$AI41,PREENCHER!G41)=0,CONCATENATE(PREENCHER!AS41,#REF!),PREENCHER!G41))","v":""},{"$f":"IF(PREENCHER!H41=\"\",\"\",IF(COUNTIF(PREENCHER!$AG41:$AI41,PREENCHER!H41)=0,CONCATENATE(PREENCHER!AT41,#REF!),PREENCHER!H41))","v":""},{"$f":"IF(PREENCHER!I41=\"\",\"\",IF(COUNTIF(PREENCHER!$AG41:$AI41,PREENCHER!I41)=0,CONCATENATE(PREENCHER!AU41,#REF!),PREENCHER!I41))","v":""},{"$f":"IF(PREENCHER!J41=\"\",\"\",IF(COUNTIF(PREENCHER!$AG41:$AI41,PREENCHER!J41)=0,CONCATENATE(PREENCHER!AV41,#REF!),PREENCHER!J41))","v":""},{"$f":"IF(PREENCHER!K41=\"\",\"\",IF(COUNTIF(PREENCHER!$AG41:$AI41,PREENCHER!K41)=0,CONCATENATE(PREENCHER!AW41,#REF!),PREENCHER!K41))","v":""},{"$f":"IF(PREENCHER!L41=\"\",\"\",IF(COUNTIF(PREENCHER!$AG41:$AI41,PREENCHER!L41)=0,CONCATENATE(PREENCHER!AX41,#REF!),PREENCHER!L41))","v":""},{"$f":"IF(PREENCHER!M41=\"\",\"\",IF(COUNTIF(PREENCHER!$AG41:$AI41,PREENCHER!M41)=0,CONCATENATE(PREENCHER!AY41,#REF!),PREENCHER!M41))","v":""},{"$f":"IF(PREENCHER!N41=\"\",\"\",IF(COUNTIF(PREENCHER!$AG41:$AI41,PREENCHER!N41)=0,CONCATENATE(PREENCHER!AZ41,#REF!),PREENCHER!N41))","v":""},{"$f":"IF(ISERROR(ROUND(AVERAGE(E41:N41),2)),\"\",ROUND(AVERAGE(E41:N41),2))","v":""},{"$f":"IF(ISERROR(ROUND(O41*D41,2)),\"\",ROUND(O41*D41,2))","v":""},null,null,{"$f":"IF(ISERROR(MEDIAN(E41:N41)),\"\",MEDIAN(E41:N41))","v":""},{"$f":"IF(ISERROR(STDEV(E41:N41)),\"\",STDEV(E41:N41))","v":""},{"$f":"IF(ISERROR(T41/O41),\"\",T41/O41)","v":""}]
[{"$f":"IF(PREENCHER!A42=\"\",\"\",PREENCHER!A42)","v":""},{"$f":"IF(PREENCHER!B42=\"\",\"\",PREENCHER!B42)","v":""},{"$f":"IF(PREENCHER!C42=\"\",\"\",PREENCHER!C42)","v":""},{"$f":"IF(PREENCHER!D42=\"\",\"\",PREENCHER!D42)","v":""},{"$f":"IF(PREENCHER!E42=\"\",\"\",IF(COUNTIF(PREENCHER!$AG42:$AI42,PREENCHER!E42)=0,CONCATENATE(PREENCHER!AQ42,#REF!),PREENCHER!E42))","v":""},{"$f":"IF(PREENCHER!F42=\"\",\"\",IF(COUNTIF(PREENCHER!$AG42:$AI42,PREENCHER!F42)=0,CONCATENATE(PREENCHER!AR42,#REF!),PREENCHER!F42))","v":""},{"$f":"IF(PREENCHER!G42=\"\",\"\",IF(COUNTIF(PREENCHER!$AG42:$AI42,PREENCHER!G42)=0,CONCATENATE(PREENCHER!AS42,#REF!),PREENCHER!G42))","v":""},{"$f":"IF(PREENCHER!H42=\"\",\"\",IF(COUNTIF(PREENCHER!$AG42:$AI42,PREENCHER!H42)=0,CONCATENATE(PREENCHER!AT42,#REF!),PREENCHER!H42))","v":""},{"$f":"IF(PREENCHER!I42=\"\",\"\",IF(COUNTIF(PREENCHER!$AG42:$AI42,PREENCHER!I42)=0,CONCATENATE(PREENCHER!AU42,#REF!),PREENCHER!I42))","v":""},{"$f":"IF(PREENCHER!J42=\"\",\"\",IF(COUNTIF(PREENCHER!$AG42:$AI42,PREENCHER!J42)=0,CONCATENATE(PREENCHER!AV42,#REF!),PREENCHER!J42))","v":""},{"$f":"IF(PREENCHER!K42=\"\",\"\",IF(COUNTIF(PREENCHER!$AG42:$AI42,PREENCHER!K42)=0,CONCATENATE(PREENCHER!AW42,#REF!),PREENCHER!K42))","v":""},{"$f":"IF(PREENCHER!L42=\"\",\"\",IF(COUNTIF(PREENCHER!$AG42:$AI42,PREENCHER!L42)=0,CONCATENATE(PREENCHER!AX42,#REF!),PREENCHER!L42))","v":""},{"$f":"IF(PREENCHER!M42=\"\",\"\",IF(COUNTIF(PREENCHER!$AG42:$AI42,PREENCHER!M42)=0,CONCATENATE(PREENCHER!AY42,#REF!),PREENCHER!M42))","v":""},{"$f":"IF(PREENCHER!N42=\"\",\"\",IF(COUNTIF(PREENCHER!$AG42:$AI42,PREENCHER!N42)=0,CONCATENATE(PREENCHER!AZ42,#REF!),PREENCHER!N42))","v":""},{"$f":"IF(ISERROR(ROUND(AVERAGE(E42:N42),2)),\"\",ROUND(AVERAGE(E42:N42),2))","v":""},{"$f":"IF(ISERROR(ROUND(O42*D42,2)),\"\",ROUND(O42*D42,2))","v":""},null,null,{"$f":"IF(ISERROR(MEDIAN(E42:N42)),\"\",MEDIAN(E42:N42))","v":""},{"$f":"IF(ISERROR(STDEV(E42:N42)),\"\",STDEV(E42:N42))","v":""},{"$f":"IF(ISERROR(T42/O42),\"\",T42/O42)","v":""}]
[{"$f":"IF(PREENCHER!A43=\"\",\"\",PREENCHER!A43)","v":""},{"$f":"IF(PREENCHER!B43=\"\",\"\",PREENCHER!B43)","v":""},{"$f":"IF(PREENCHER!C43=\"\",\"\",PREENCHER!C43)","v":""},{"$f":"IF(PREENCHER!D43=\"\",\"\",PREENCHER!D43)","v":""},{"$f":"IF(PREENCHER!E43=\"\",\"\",IF(COUNTIF(PREENCHER!$AG43:$AI43,PREENCHER!E43)=0,CONCATENATE(PREENCHER!AQ43,#REF!),PREENCHER!E43))","v":""},{"$f":"IF(PREENCHER!F43=\"\",\"\",IF(COUNTIF(PREENCHER!$AG43:$AI43,PREENCHER!F43)=0,CONCATENATE(PREENCHER!AR43,#REF!),PREENCHER!F43))","v":""},{"$f":"IF(PREENCHER!G43=\"\",\"\",IF(COUNTIF(PREENCHER!$AG43:$AI43,PREENCHER!G43)=0,CONCATENATE(PREENCHER!AS43,#REF!),PREENCHER!G43))","v":""},{"$f":"IF(PREENCHER!H43=\"\",\"\",IF(COUNTIF(PREENCHER!$AG43:$AI43,PREENCHER!H43)=0,CONCATENATE(PREENCHER!AT43,#REF!),PREENCHER!H43))","v":""},{"$f":"IF(PREENCHER!I43=\"\",\"\",IF(COUNTIF(PREENCHER!$AG43:$AI43,PREENCHER!I43)=0,CONCATENATE(PREENCHER!AU43,#REF!),PREENCHER!I43))","v":""},{"$f":"IF(PREENCHER!J43=\"\",\"\",IF(COUNTIF(PREENCHER!$AG43:$AI43,PREENCHER!J43)=0,CONCATENATE(PREENCHER!AV43,#REF!),PREENCHER!J43))","v":""},{"$f":"IF(PREENCHER!K43=\"\",\"\",IF(COUNTIF(PREENCHER!$AG43:$AI43,PREENCHER!K43)=0,CONCATENATE(PREENCHER!AW43,#REF!),PREENCHER!K43))","v":""},{"$f":"IF(PREENCHER!L43=\"\",\"\",IF(COUNTIF(PREENCHER!$AG43:$AI43,PREENCHER!L43)=0,CONCATENATE(PREENCHER!AX43,#REF!),PREENCHER!L43))","v":""},{"$f":"IF(PREENCHER!M43=\"\",\"\",IF(COUNTIF(PREENCHER!$AG43:$AI43,PREENCHER!M43)=0,CONCATENATE(PREENCHER!AY43,#REF!),PREENCHER!M43))","v":""},{"$f":"IF(PREENCHER!N43=\"\",\"\",IF(COUNTIF(PREENCHER!$AG43:$AI43,PREENCHER!N43)=0,CONCATENATE(PREENCHER!AZ43,#REF!),PREENCHER!N43))","v":""},{"$f":"IF(ISERROR(ROUND(AVERAGE(E43:N43),2)),\"\",ROUND(AVERAGE(E43:N43),2))","v":""},{"$f":"IF(ISERROR(ROUND(O43*D43,2)),\"\",ROUND(O43*D43,2))","v":""},null,null,{"$f":"IF(ISERROR(MEDIAN(E43:N43)),\"\",MEDIAN(E43:N43))","v":""},{"$f":"IF(ISERROR(STDEV(E43:N43)),\"\",STDEV(E43:N43))","v":""},{"$f":"IF(ISERROR(T43/O43),\"\",T43/O43)","v":""}]
[{"$f":"IF(PREENCHER!A44=\"\",\"\",PREENCHER!A44)","v":""},{"$f":"IF(PREENCHER!B44=\"\",\"\",PREENCHER!B44)","v":""},{"$f":"IF(PREENCHER!C44=\"\",\"\",PREENCHER!C44)","v":""},{"$f":"IF(PREENCHER!D44=\"\",\"\",PREENCHER!D44)","v":""},{"$f":"IF(PREENCHER!E44=\"\",\"\",IF(COUNTIF(PREENCHER!$AG44:$AI44,PREENCHER!E44)=0,CONCATENATE(PREENCHER!AQ44,#REF!),PREENCHER!E44))","v":""},{"$f":"IF(PREENCHER!F44=\"\",\"\",IF(COUNTIF(PREENCHER!$AG44:$AI44,PREENCHER!F44)=0,CONCATENATE(PREENCHER!AR44,#REF!),PREENCHER!F44))","v":""},{"$f":"IF(PREENCHER!G44=\"\",\"\",IF(COUNTIF(PREENCHER!$AG44:$AI44,PREENCHER!G44)=0,CONCATENATE(PREENCHER!AS44,#REF!),PREENCHER!G44))","v":""},{"$f":"IF(PREENCHER!H44=\"\",\"\",IF(COUNTIF(PREENCHER!$AG44:$AI44,PREENCHER!H44)=0,CONCATENATE(PREENCHER!AT44,#REF!),PREENCHER!H44))","v":""},{"$f":"IF(PREENCHER!I44=\"\",\"\",IF(COUNTIF(PREENCHER!$AG44:$AI44,PREENCHER!I44)=0,CONCATENATE(PREENCHER!AU44,#REF!),PREENCHER!I44))","v":""},{"$f":"IF(PREENCHER!J44=\"\",\"\",IF(COUNTIF(PREENCHER!$AG44:$AI44,PREENCHER!J44)=0,CONCATENATE(PREENCHER!AV44,#REF!),PREENCHER!J44))","v":""},{"$f":"IF(PREENCHER!K44=\"\",\"\",IF(COUNTIF(PREENCHER!$AG44:$AI44,PREENCHER!K44)=0,CONCATENATE(PREENCHER!AW44,#REF!),PREENCHER!K44))","v":""},{"$f":"IF(PREENCHER!L44=\"\",\"\",IF(COUNTIF(PREENCHER!$AG44:$AI44,PREENCHER!L44)=0,CONCATENATE(PREENCHER!AX44,#REF!),PREENCHER!L44))","v":""},{"$f":"IF(PREENCHER!M44=\"\",\"\",IF(COUNTIF(PREENCHER!$AG44:$AI44,PREENCHER!M44)=0,CONCATENATE(PREENCHER!AY44,#REF!),PREENCHER!M44))","v":""},{"$f":"IF(PREENCHER!N44=\"\",\"\",IF(COUNTIF(PREENCHER!$AG44:$AI44,PREENCHER!N44)=0,CONCATENATE(PREENCHER!AZ44,#REF!),PREENCHER!N44))","v":""},{"$f":"IF(ISERROR(ROUND(AVERAGE(E44:N44),2)),\"\",ROUND(AVERAGE(E44:N44),2))","v":""},{"$f":"IF(ISERROR(ROUND(O44*D44,2)),\"\",ROUND(O44*D44,2))","v":""},null,null,{"$f":"IF(ISERROR(MEDIAN(E44:N44)),\"\",MEDIAN(E44:N44))","v":""},{"$f":"IF(ISERROR(STDEV(E44:N44)),\"\",STDEV(E44:N44))","v":""},{"$f":"IF(ISERROR(T44/O44),\"\",T44/O44)","v":""}]
[{"$f":"IF(PREENCHER!A45=\"\",\"\",PREENCHER!A45)","v":""},{"$f":"IF(PREENCHER!B45=\"\",\"\",PREENCHER!B45)","v":""},{"$f":"IF(PREENCHER!C45=\"\",\"\",PREENCHER!C45)","v":""},{"$f":"IF(PREENCHER!D45=\"\",\"\",PREENCHER!D45)","v":""},{"$f":"IF(PREENCHER!E45=\"\",\"\",IF(COUNTIF(PREENCHER!$AG45:$AI45,PREENCHER!E45)=0,CONCATENATE(PREENCHER!AQ45,#REF!),PREENCHER!E45))","v":""},{"$f":"IF(PREENCHER!F45=\"\",\"\",IF(COUNTIF(PREENCHER!$AG45:$AI45,PREENCHER!F45)=0,CONCATENATE(PREENCHER!AR45,#REF!),PREENCHER!F45))","v":""},{"$f":"IF(PREENCHER!G45=\"\",\"\",IF(COUNTIF(PREENCHER!$AG45:$AI45,PREENCHER!G45)=0,CONCATENATE(PREENCHER!AS45,#REF!),PREENCHER!G45))","v":""},{"$f":"IF(PREENCHER!H45=\"\",\"\",IF(COUNTIF(PREENCHER!$AG45:$AI45,PREENCHER!H45)=0,CONCATENATE(PREENCHER!AT45,#REF!),PREENCHER!H45))","v":""},{"$f":"IF(PREENCHER!I45=\"\",\"\",IF(COUNTIF(PREENCHER!$AG45:$AI45,PREENCHER!I45)=0,CONCATENATE(PREENCHER!AU45,#REF!),PREENCHER!I45))","v":""},{"$f":"IF(PREENCHER!J45=\"\",\"\",IF(COUNTIF(PREENCHER!$AG45:$AI45,PREENCHER!J45)=0,CONCATENATE(PREENCHER!AV45,#REF!),PREENCHER!J45))","v":""},{"$f":"IF(PREENCHER!K45=\"\",\"\",IF(COUNTIF(PREENCHER!$AG45:$AI45,PREENCHER!K45)=0,CONCATENATE(PREENCHER!AW45,#REF!),PREENCHER!K45))","v":""},{"$f":"IF(PREENCHER!L45=\"\",\"\",IF(COUNTIF(PREENCHER!$AG45:$AI45,PREENCHER!L45)=0,CONCATENATE(PREENCHER!AX45,#REF!),PREENCHER!L45))","v":""},{"$f":"IF(PREENCHER!M45=\"\",\"\",IF(COUNTIF(PREENCHER!$AG45:$AI45,PREENCHER!M45)=0,CONCATENATE(PREENCHER!AY45,#REF!),PREENCHER!M45))","v":""},{"$f":"IF(PREENCHER!N45=\"\",\"\",IF(COUNTIF(PREENCHER!$AG45:$AI45,PREENCHER!N45)=0,CONCATENATE(PREENCHER!AZ45,#REF!),PREENCHER!N45))","v":""},{"$f":"IF(ISERROR(ROUND(AVERAGE(E45:N45),2)),\"\",ROUND(AVERAGE(E45:N45),2))","v":""},{"$f":"IF(ISERROR(ROUND(O45*D45,2)),\"\",ROUND(O45*D45,2))","v":""},null,null,{"$f":"IF(ISERROR(MEDIAN(E45:N45)),\"\",MEDIAN(E45:N45))","v":""},{"$f":"IF(ISERROR(STDEV(E45:N45)),\"\",STDEV(E45:N45))","v":""},{"$f":"IF(ISERROR(T45/O45),\"\",T45/O45)","v":""}]
[{"$f":"IF(PREENCHER!A46=\"\",\"\",PREENCHER!A46)","v":""},{"$f":"IF(PREENCHER!B46=\"\",\"\",PREENCHER!B46)","v":""},{"$f":"IF(PREENCHER!C46=\"\",\"\",PREENCHER!C46)","v":""},{"$f":"IF(PREENCHER!D46=\"\",\"\",PREENCHER!D46)","v":""},{"$f":"IF(PREENCHER!E46=\"\",\"\",IF(COUNTIF(PREENCHER!$AG46:$AI46,PREENCHER!E46)=0,CONCATENATE(PREENCHER!AQ46,#REF!),PREENCHER!E46))","v":""},{"$f":"IF(PREENCHER!F46=\"\",\"\",IF(COUNTIF(PREENCHER!$AG46:$AI46,PREENCHER!F46)=0,CONCATENATE(PREENCHER!AR46,#REF!),PREENCHER!F46))","v":""},{"$f":"IF(PREENCHER!G46=\"\",\"\",IF(COUNTIF(PREENCHER!$AG46:$AI46,PREENCHER!G46)=0,CONCATENATE(PREENCHER!AS46,#REF!),PREENCHER!G46))","v":""},{"$f":"IF(PREENCHER!H46=\"\",\"\",IF(COUNTIF(PREENCHER!$AG46:$AI46,PREENCHER!H46)=0,CONCATENATE(PREENCHER!AT46,#REF!),PREENCHER!H46))","v":""},{"$f":"IF(PREENCHER!I46=\"\",\"\",IF(COUNTIF(PREENCHER!$AG46:$AI46,PREENCHER!I46)=0,CONCATENATE(PREENCHER!AU46,#REF!),PREENCHER!I46))","v":""},{"$f":"IF(PREENCHER!J46=\"\",\"\",IF(COUNTIF(PREENCHER!$AG46:$AI46,PREENCHER!J46)=0,CONCATENATE(PREENCHER!AV46,#REF!),PREENCHER!J46))","v":""},{"$f":"IF(PREENCHER!K46=\"\",\"\",IF(COUNTIF(PREENCHER!$AG46:$AI46,PREENCHER!K46)=0,CONCATENATE(PREENCHER!AW46,#REF!),PREENCHER!K46))","v":""},{"$f":"IF(PREENCHER!L46=\"\",\"\",IF(COUNTIF(PREENCHER!$AG46:$AI46,PREENCHER!L46)=0,CONCATENATE(PREENCHER!AX46,#REF!),PREENCHER!L46))","v":""},{"$f":"IF(PREENCHER!M46=\"\",\"\",IF(COUNTIF(PREENCHER!$AG46:$AI46,PREENCHER!M46)=0,CONCATENATE(PREENCHER!AY46,#REF!),PREENCHER!M46))","v":""},{"$f":"IF(PREENCHER!N46=\"\",\"\",IF(COUNTIF(PREENCHER!$AG46:$AI46,PREENCHER!N46)=0,CONCATENATE(PREENCHER!AZ46,#REF!),PREENCHER!N46))","v":""},{"$f":"IF(ISERROR(ROUND(AVERAGE(E46:N46),2)),\"\",ROUND(AVERAGE(E46:N46),2))","v":""},{"$f":"IF(ISERROR(ROUND(O46*D46,2)),\"\",ROUND(O46*D46,2))","v":""},null,null,{"$f":"IF(ISERROR(MEDIAN(E46:N46)),\"\",MEDIAN(E46:N46))","v":""},{"$f":"IF(ISERROR(STDEV(E46:N46)),\"\",STDEV(E46:N46))","v":""},{"$f":"IF(ISERROR(T46/O46),\"\",T46/O46)","v":""}]
[{"$f":"IF(PREENCHER!A47=\"\",\"\",PREENCHER!A47)","v":""},{"$f":"IF(PREENCHER!B47=\"\",\"\",PREENCHER!B47)","v":""},{"$f":"IF(PREENCHER!C47=\"\",\"\",PREENCHER!C47)","v":""},{"$f":"IF(PREENCHER!D47=\"\",\"\",PREENCHER!D47)","v":""},{"$f":"IF(PREENCHER!E47=\"\",\"\",IF(COUNTIF(PREENCHER!$AG47:$AI47,PREENCHER!E47)=0,CONCATENATE(PREENCHER!AQ47,#REF!),PREENCHER!E47))","v":""},{"$f":"IF(PREENCHER!F47=\"\",\"\",IF(COUNTIF(PREENCHER!$AG47:$AI47,PREENCHER!F47)=0,CONCATENATE(PREENCHER!AR47,#REF!),PREENCHER!F47))","v":""},{"$f":"IF(PREENCHER!G47=\"\",\"\",IF(COUNTIF(PREENCHER!$AG47:$AI47,PREENCHER!G47)=0,CONCATENATE(PREENCHER!AS47,#REF!),PREENCHER!G47))","v":""},{"$f":"IF(PREENCHER!H47=\"\",\"\",IF(COUNTIF(PREENCHER!$AG47:$AI47,PREENCHER!H47)=0,CONCATENATE(PREENCHER!AT47,#REF!),PREENCHER!H47))","v":""},{"$f":"IF(PREENCHER!I47=\"\",\"\",IF(COUNTIF(PREENCHER!$AG47:$AI47,PREENCHER!I47)=0,CONCATENATE(PREENCHER!AU47,#REF!),PREENCHER!I47))","v":""},{"$f":"IF(PREENCHER!J47=\"\",\"\",IF(COUNTIF(PREENCHER!$AG47:$AI47,PREENCHER!J47)=0,CONCATENATE(PREENCHER!AV47,#REF!),PREENCHER!J47))","v":""},{"$f":"IF(PREENCHER!K47=\"\",\"\",IF(COUNTIF(PREENCHER!$AG47:$AI47,PREENCHER!K47)=0,CONCATENATE(PREENCHER!AW47,#REF!),PREENCHER!K47))","v":""},{"$f":"IF(PREENCHER!L47=\"\",\"\",IF(COUNTIF(PREENCHER!$AG47:$AI47,PREENCHER!L47)=0,CONCATENATE(PREENCHER!AX47,#REF!),PREENCHER!L47))","v":""},{"$f":"IF(PREENCHER!M47=\"\",\"\",IF(COUNTIF(PREENCHER!$AG47:$AI47,PREENCHER!M47)=0,CONCATENATE(PREENCHER!AY47,#REF!),PREENCHER!M47))","v":""},{"$f":"IF(PREENCHER!N47=\"\",\"\",IF(COUNTIF(PREENCHER!$AG47:$AI47,PREENCHER!N47)=0,CONCATENATE(PREENCHER!AZ47,#REF!),PREENCHER!N47))","v":""},{"$f":"IF(ISERROR(ROUND(AVERAGE(E47:N47),2)),\"\",ROUND(AVERAGE(E47:N47),2))","v":""},{"$f":"IF(ISERROR(ROUND(O47*D47,2)),\"\",ROUND(O47*D47,2))","v":""},null,null,{"$f":"IF(ISERROR(MEDIAN(E47:N47)),\"\",MEDIAN(E47:N47))","v":""},{"$f":"IF(ISERROR(STDEV(E47:N47)),\"\",STDEV(E47:N47))","v":""},{"$f":"IF(ISERROR(T47/O47),\"\",T47/O47)","v":""}]
[{"$f":"IF(PREENCHER!A48=\"\",\"\",PREENCHER!A48)","v":""},{"$f":"IF(PREENCHER!B48=\"\",\"\",PREENCHER!B48)","v":""},{"$f":"IF(PREENCHER!C48=\"\",\"\",PREENCHER!C48)","v":""},{"$f":"IF(PREENCHER!D48=\"\",\"\",PREENCHER!D48)","v":""},{"$f":"IF(PREENCHER!E48=\"\",\"\",IF(COUNTIF(PREENCHER!$AG48:$AI48,PREENCHER!E48)=0,CONCATENATE(PREENCHER!AQ48,#REF!),PREENCHER!E48))","v":""},{"$f":"IF(PREENCHER!F48=\"\",\"\",IF(COUNTIF(PREENCHER!$AG48:$AI48,PREENCHER!F48)=0,CONCATENATE(PREENCHER!AR48,#REF!),PREENCHER!F48))","v":""},{"$f":"IF(PREENCHER!G48=\"\",\"\",IF(COUNTIF(PREENCHER!$AG48:$AI48,PREENCHER!G48)=0,CONCATENATE(PREENCHER!AS48,#REF!),PREENCHER!G48))","v":""},{"$f":"IF(PREENCHER!H48=\"\",\"\",IF(COUNTIF(PREENCHER!$AG48:$AI48,PREENCHER!H48)=0,CONCATENATE(PREENCHER!AT48,#REF!),PREENCHER!H48))","v":""},{"$f":"IF(PREENCHER!I48=\"\",\"\",IF(COUNTIF(PREENCHER!$AG48:$AI48,PREENCHER!I48)=0,CONCATENATE(PREENCHER!AU48,#REF!),PREENCHER!I48))","v":""},{"$f":"IF(PREENCHER!J48=\"\",\"\",IF(COUNTIF(PREENCHER!$AG48:$AI48,PREENCHER!J48)=0,CONCATENATE(PREENCHER!AV48,#REF!),PREENCHER!J48))","v":""},{"$f":"IF(PREENCHER!K48=\"\",\"\",IF(COUNTIF(PREENCHER!$AG48:$AI48,PREENCHER!K48)=0,CONCATENATE(PREENCHER!AW48,#REF!),PREENCHER!K48))","v":""},{"$f":"IF(PREENCHER!L48=\"\",\"\",IF(COUNTIF(PREENCHER!$AG48:$AI48,PREENCHER!L48)=0,CONCATENATE(PREENCHER!AX48,#REF!),PREENCHER!L48))","v":""},{"$f":"IF(PREENCHER!M48=\"\",\"\",IF(COUNTIF(PREENCHER!$AG48:$AI48,PREENCHER!M48)=0,CONCATENATE(PREENCHER!AY48,#REF!),PREENCHER!M48))","v":""},{"$f":"IF(PREENCHER!N48=\"\",\"\",IF(COUNTIF(PREENCHER!$AG48:$AI48,PREENCHER!N48)=0,CONCATENATE(PREENCHER!AZ48,#REF!),PREENCHER!N48))","v":""},{"$f":"IF(ISERROR(ROUND(AVERAGE(E48:N48),2)),\"\",ROUND(AVERAGE(E48:N48),2))","v":""},{"$f":"IF(ISERROR(ROUND(O48*D48,2)),\"\",ROUND(O48*D48,2))","v":""},null,null,{"$f":"IF(ISERROR(MEDIAN(E48:N48)),\"\",MEDIAN(E48:N48))","v":""},{"$f":"IF(ISERROR(STDEV(E48:N48)),\"\",STDEV(E48:N48))","v":""},{"$f":"IF(ISERROR(T48/O48),\"\",T48/O48)","v":""}]
[{"$f":"IF(PREENCHER!A49=\"\",\"\",PREENCHER!A49)","v":""},{"$f":"IF(PREENCHER!B49=\"\",\"\",PREENCHER!B49)","v":""},{"$f":"IF(PREENCHER!C49=\"\",\"\",PREENCHER!C49)","v":""},{"$f":"IF(PREENCHER!D49=\"\",\"\",PREENCHER!D49)","v":""},{"$f":"IF(PREENCHER!E49=\"\",\"\",IF(COUNTIF(PREENCHER!$AG49:$AI49,PREENCHER!E49)=0,CONCATENATE(PREENCHER!AQ49,#REF!),PREENCHER!E49))","v":""},{"$f":"IF(PREENCHER!F49=\"\",\"\",IF(COUNTIF(PREENCHER!$AG49:$AI49,PREENCHER!F49)=0,CONCATENATE(PREENCHER!AR49,#REF!),PREENCHER!F49))","v":""},{"$f":"IF(PREENCHER!G49=\"\",\"\",IF(COUNTIF(PREENCHER!$AG49:$AI49,PREENCHER!G49)=0,CONCATENATE(PREENCHER!AS49,#REF!),PREENCHER!G49))","v":""},{"$f":"IF(PREENCHER!H49=\"\",\"\",IF(COUNTIF(PREENCHER!$AG49:$AI49,PREENCHER!H49)=0,CONCATENATE(PREENCHER!AT49,#REF!),PREENCHER!H49))","v":""},{"$f":"IF(PREENCHER!I49=\"\",\"\",IF(COUNTIF(PREENCHER!$AG49:$AI49,PREENCHER!I49)=0,CONCATENATE(PREENCHER!AU49,#REF!),PREENCHER!I49))","v":""},{"$f":"IF(PREENCHER!J49=\"\",\"\",IF(COUNTIF(PREENCHER!$AG49:$AI49,PREENCHER!J49)=0,CONCATENATE(PREENCHER!AV49,#REF!),PREENCHER!J49))","v":""},{"$f":"IF(PREENCHER!K49=\"\",\"\",IF(COUNTIF(PREENCHER!$AG49:$AI49,PREENCHER!K49)=0,CONCATENATE(PREENCHER!AW49,#REF!),PREENCHER!K49))","v":""},{"$f":"IF(PREENCHER!L49=\"\",\"\",IF(COUNTIF(PREENCHER!$AG49:$AI49,PREENCHER!L49)=0,CONCATENATE(PREENCHER!AX49,#REF!),PREENCHER!L49))","v":""},{"$f":"IF(PREENCHER!M49=\"\",\"\",IF(COUNTIF(PREENCHER!$AG49:$AI49,PREENCHER!M49)=0,CONCATENATE(PREENCHER!AY49,#REF!),PREENCHER!M49))","v":""},{"$f":"IF(PREENCHER!N49=\"\",\"\",IF(COUNTIF(PREENCHER!$AG49:$AI49,PREENCHER!N49)=0,CONCATENATE(PREENCHER!AZ49,#REF!),PREENCHER!N49))","v":""},{"$f":"IF(ISERROR(ROUND(AVERAGE(E49:N49),2)),\"\",ROUND(AVERAGE(E49:N49),2))","v":""},{"$f":"IF(ISERROR(ROUND(O49*D49,2)),\"\",ROUND(O49*D49,2))","v":""},null,null,{"$f":"IF(ISERROR(MEDIAN(E49:N49)),\"\",MEDIAN(E49:N49))","v":""},{"$f":"IF(ISERROR(STDEV(E49:N49)),\"\",STDEV(E49:N49))","v":""},{"$f":"IF(ISERROR(T49/O49),\"\",T49/O49)","v":""}]
[{"$f":"IF(PREENCHER!A50=\"\",\"\",PREENCHER!A50)","v":""},{"$f":"IF(PREENCHER!B50=\"\",\"\",PREENCHER!B50)","v":""},{"$f":"IF(PREENCHER!C50=\"\",\"\",PREENCHER!C50)","v":""},{"$f":"IF(PREENCHER!D50=\"\",\"\",PREENCHER!D50)","v":""},{"$f":"IF(PREENCHER!E50=\"\",\"\",IF(COUNTIF(PREENCHER!$AG50:$AI50,PREENCHER!E50)=0,CONCATENATE(PREENCHER!AQ50,#REF!),PREENCHER!E50))","v":""},{"$f":"IF(PREENCHER!F50=\"\",\"\",IF(COUNTIF(PREENCHER!$AG50:$AI50,PREENCHER!F50)=0,CONCATENATE(PREENCHER!AR50,#REF!),PREENCHER!F50))","v":""},{"$f":"IF(PREENCHER!G50=\"\",\"\",IF(COUNTIF(PREENCHER!$AG50:$AI50,PREENCHER!G50)=0,CONCATENATE(PREENCHER!AS50,#REF!),PREENCHER!G50))","v":""},{"$f":"IF(PREENCHER!H50=\"\",\"\",IF(COUNTIF(PREENCHER!$AG50:$AI50,PREENCHER!H50)=0,CONCATENATE(PREENCHER!AT50,#REF!),PREENCHER!H50))","v":""},{"$f":"IF(PREENCHER!I50=\"\",\"\",IF(COUNTIF(PREENCHER!$AG50:$AI50,PREENCHER!I50)=0,CONCATENATE(PREENCHER!AU50,#REF!),PREENCHER!I50))","v":""},{"$f":"IF(PREENCHER!J50=\"\",\"\",IF(COUNTIF(PREENCHER!$AG50:$AI50,PREENCHER!J50)=0,CONCATENATE(PREENCHER!AV50,#REF!),PREENCHER!J50))","v":""},{"$f":"IF(PREENCHER!K50=\"\",\"\",IF(COUNTIF(PREENCHER!$AG50:$AI50,PREENCHER!K50)=0,CONCATENATE(PREENCHER!AW50,#REF!),PREENCHER!K50))","v":""},{"$f":"IF(PREENCHER!L50=\"\",\"\",IF(COUNTIF(PREENCHER!$AG50:$AI50,PREENCHER!L50)=0,CONCATENATE(PREENCHER!AX50,#REF!),PREENCHER!L50))","v":""},{"$f":"IF(PREENCHER!M50=\"\",\"\",IF(COUNTIF(PREENCHER!$AG50:$AI50,PREENCHER!M50)=0,CONCATENATE(PREENCHER!AY50,#REF!),PREENCHER!M50))","v":""},{"$f":"IF(PREENCHER!N50=\"\",\"\",IF(COUNTIF(PREENCHER!$AG50:$AI50,PREENCHER!N50)=0,CONCATENATE(PREENCHER!AZ50,#REF!),PREENCHER!N50))","v":""},{"$f":"IF(ISERROR(ROUND(AVERAGE(E50:N50),2)),\"\",ROUND(AVERAGE(E50:N50),2))","v":""},{"$f":"IF(ISERROR(ROUND(O50*D50,2)),\"\",ROUND(O50*D50,2))","v":""},null,null,{"$f":"IF(ISERROR(MEDIAN(E50:N50)),\"\",MEDIAN(E50:N50))","v":""},{"$f":"IF(ISERROR(STDEV(E50:N50)),\"\",STDEV(E50:N50))","v":""},{"$f":"IF(ISERROR(T50/O50),\"\",T50/O50)","v":""}]
[{"$f":"IF(PREENCHER!A51=\"\",\"\",PREENCHER!A51)","v":""},{"$f":"IF(PREENCHER!B51=\"\",\"\",PREENCHER!B51)","v":""},{"$f":"IF(PREENCHER!C51=\"\",\"\",PREENCHER!C51)","v":""},{"$f":"IF(PREENCHER!D51=\"\",\"\",PREENCHER!D51)","v":""},{"$f":"IF(PREENCHER!E51=\"\",\"\",IF(COUNTIF(PREENCHER!$AG51:$AI51,PREENCHER!E51)=0,CONCATENATE(PREENCHER!AQ51,#REF!),PREENCHER!E51))","v":""},{"$f":"IF(PREENCHER!F51=\"\",\"\",IF(COUNTIF(PREENCHER!$AG51:$AI51,PREENCHER!F51)=0,CONCATENATE(PREENCHER!AR51,#REF!),PREENCHER!F51))","v":""},{"$f":"IF(PREENCHER!G51=\"\",\"\",IF(COUNTIF(PREENCHER!$AG51:$AI51,PREENCHER!G51)=0,CONCATENATE(PREENCHER!AS51,#REF!),PREENCHER!G51))","v":""},{"$f":"IF(PREENCHER!H51=\"\",\"\",IF(COUNTIF(PREENCHER!$AG51:$AI51,PREENCHER!H51)=0,CONCATENATE(PREENCHER!AT51,#REF!),PREENCHER!H51))","v":""},{"$f":"IF(PREENCHER!I51=\"\",\"\",IF(COUNTIF(PREENCHER!$AG51:$AI51,PREENCHER!I51)=0,CONCATENATE(PREENCHER!AU51,#REF!),PREENCHER!I51))","v":""},{"$f":"IF(PREENCHER!J51=\"\",\"\",IF(COUNTIF(PREENCHER!$AG51:$AI51,PREENCHER!J51)=0,CONCATENATE(PREENCHER!AV51,#REF!),PREENCHER!J51))","v":""},{"$f":"IF(PREENCHER!K51=\"\",\"\",IF(COUNTIF(PREENCHER!$AG51:$AI51,PREENCHER!K51)=0,CONCATENATE(PREENCHER!AW51,#REF!),PREENCHER!K51))","v":""},{"$f":"IF(PREENCHER!L51=\"\",\"\",IF(COUNTIF(PREENCHER!$AG51:$AI51,PREENCHER!L51)=0,CONCATENATE(PREENCHER!AX51,#REF!),PREENCHER!L51))","v":""},{"$f":"IF(PREENCHER!M51=\"\",\"\",IF(COUNTIF(PREENCHER!$AG51:$AI51,PREENCHER!M51)=0,CONCATENATE(PREENCHER!AY51,#REF!),PREENCHER!M51))","v":""},{"$f":"IF(PREENCHER!N51=\"\",\"\",IF(COUNTIF(PREENCHER!$AG51:$AI51,PREENCHER!N51)=0,CONCATENATE(PREENCHER!AZ51,#REF!),PREENCHER!N51))","v":""},{"$f":"IF(ISERROR(ROUND(AVERAGE(E51:N51),2)),\"\",ROUND(AVERAGE(E51:N51),2))","v":""},{"$f":"IF(ISERROR(ROUND(O51*D51,2)),\"\",ROUND(O51*D51,2))","v":""},null,null,{"$f":"IF(ISERROR(MEDIAN(E51:N51)),\"\",MEDIAN(E51:N51))","v":""},{"$f":"IF(ISERROR(STDEV(E51:N51)),\"\",STDEV(E51:N51))","v":""},{"$f":"IF(ISERROR(T51/O51),\"\",T51/O51)","v":""}]
[{"$f":"IF(PREENCHER!A52=\"\",\"\",PREENCHER!A52)","v":""},{"$f":"IF(PREENCHER!B52=\"\",\"\",PREENCHER!B52)","v":""},{"$f":"IF(PREENCHER!C52=\"\",\"\",PREENCHER!C52)","v":""},{"$f":"IF(PREENCHER!D52=\"\",\"\",PREENCHER!D52)","v":""},{"$f":"IF(PREENCHER!E52=\"\",\"\",IF(COUNTIF(PREENCHER!$AG52:$AI52,PREENCHER!E52)=0,CONCATENATE(PREENCHER!AQ52,#REF!),PREENCHER!E52))","v":""},{"$f":"IF(PREENCHER!F52=\"\",\"\",IF(COUNTIF(PREENCHER!$AG52:$AI52,PREENCHER!F52)=0,CONCATENATE(PREENCHER!AR52,#REF!),PREENCHER!F52))","v":""},{"$f":"IF(PREENCHER!G52=\"\",\"\",IF(COUNTIF(PREENCHER!$AG52:$AI52,PREENCHER!G52)=0,CONCATENATE(PREENCHER!AS52,#REF!),PREENCHER!G52))","v":""},{"$f":"IF(PREENCHER!H52=\"\",\"\",IF(COUNTIF(PREENCHER!$AG52:$AI52,PREENCHER!H52)=0,CONCATENATE(PREENCHER!AT52,#REF!),PREENCHER!H52))","v":""},{"$f":"IF(PREENCHER!I52=\"\",\"\",IF(COUNTIF(PREENCHER!$AG52:$AI52,PREENCHER!I52)=0,CONCATENATE(PREENCHER!AU52,#REF!),PREENCHER!I52))","v":""},{"$f":"IF(PREENCHER!J52=\"\",\"\",IF(COUNTIF(PREENCHER!$AG52:$AI52,PREENCHER!J52)=0,CONCATENATE(PREENCHER!AV52,#REF!),PREENCHER!J52))","v":""},{"$f":"IF(PREENCHER!K52=\"\",\"\",IF(COUNTIF(PREENCHER!$AG52:$AI52,PREENCHER!K52)=0,CONCATENATE(PREENCHER!AW52,#REF!),PREENCHER!K52))","v":""},{"$f":"IF(PREENCHER!L52=\"\",\"\",IF(COUNTIF(PREENCHER!$AG52:$AI52,PREENCHER!L52)=0,CONCATENATE(PREENCHER!AX52,#REF!),PREENCHER!L52))","v":""},{"$f":"IF(PREENCHER!M52=\"\",\"\",IF(COUNTIF(PREENCHER!$AG52:$AI52,PREENCHER!M52)=0,CONCATENATE(PREENCHER!AY52,#REF!),PREENCHER!M52))","v":""},{"$f":"IF(PREENCHER!N52=\"\",\"\",IF(COUNTIF(PREENCHER!$AG52:$AI52,PREENCHER!N52)=0,CONCATENATE(PREENCHER!AZ52,#REF!),PREENCHER!N52))","v":""},{"$f":"IF(ISERROR(ROUND(AVERAGE(E52:N52),2)),\"\",ROUND(AVERAGE(E52:N52),2))","v":""},{"$f":"IF(ISERROR(ROUND(O52*D52,2)),\"\",ROUND(O52*D52,2))","v":""},null,null,{"$f":"IF(ISERROR(MEDIAN(E52:N52)),\"\",MEDIAN(E52:N52))","v":""},{"$f":"IF(ISERROR(STDEV(E52:N52)),\"\",STDEV(E52:N52))","v":""},{"$f":"IF(ISERROR(T52/O52),\"\",T52/O52)","v":""}]
[{"$f":"IF(PREENCHER!A53=\"\",\"\",PREENCHER!A53)","v":""},{"$f":"IF(PREENCHER!B53=\"\",\"\",PREENCHER!B53)","v":""},{"$f":"IF(PREENCHER!C53=\"\",\"\",PREENCHER!C53)","v":""},{"$f":"IF(PREENCHER!D53=\"\",\"\",PREENCHER!D53)","v":""},{"$f":"IF(PREENCHER!E53=\"\",\"\",IF(COUNTIF(PREENCHER!$AG53:$AI53,PREENCHER!E53)=0,CONCATENATE(PREENCHER!AQ53,#REF!),PREENCHER!E53))","v":""},{"$f":"IF(PREENCHER!F53=\"\",\"\",IF(COUNTIF(PREENCHER!$AG53:$AI53,PREENCHER!F53)=0,CONCATENATE(PREENCHER!AR53,#REF!),PREENCHER!F53))","v":""},{"$f":"IF(PREENCHER!G53=\"\",\"\",IF(COUNTIF(PREENCHER!$AG53:$AI53,PREENCHER!G53)=0,CONCATENATE(PREENCHER!AS53,#REF!),PREENCHER!G53))","v":""},{"$f":"IF(PREENCHER!H53=\"\",\"\",IF(COUNTIF(PREENCHER!$AG53:$AI53,PREENCHER!H53)=0,CONCATENATE(PREENCHER!AT53,#REF!),PREENCHER!H53))","v":""},{"$f":"IF(PREENCHER!I53=\"\",\"\",IF(COUNTIF(PREENCHER!$AG53:$AI53,PREENCHER!I53)=0,CONCATENATE(PREENCHER!AU53,#REF!),PREENCHER!I53))","v":""},{"$f":"IF(PREENCHER!J53=\"\",\"\",IF(COUNTIF(PREENCHER!$AG53:$AI53,PREENCHER!J53)=0,CONCATENATE(PREENCHER!AV53,#REF!),PREENCHER!J53))","v":""},{"$f":"IF(PREENCHER!K53=\"\",\"\",IF(COUNTIF(PREENCHER!$AG53:$AI53,PREENCHER!K53)=0,CONCATENATE(PREENCHER!AW53,#REF!),PREENCHER!K53))","v":""},{"$f":"IF(PREENCHER!L53=\"\",\"\",IF(COUNTIF(PREENCHER!$AG53:$AI53,PREENCHER!L53)=0,CONCATENATE(PREENCHER!AX53,#REF!),PREENCHER!L53))","v":""},{"$f":"IF(PREENCHER!M53=\"\",\"\",IF(COUNTIF(PREENCHER!$AG53:$AI53,PREENCHER!M53)=0,CONCATENATE(PREENCHER!AY53,#REF!),PREENCHER!M53))","v":""},{"$f":"IF(PREENCHER!N53=\"\",\"\",IF(COUNTIF(PREENCHER!$AG53:$AI53,PREENCHER!N53)=0,CONCATENATE(PREENCHER!AZ53,#REF!),PREENCHER!N53))","v":""},{"$f":"IF(ISERROR(ROUND(AVERAGE(E53:N53),2)),\"\",ROUND(AVERAGE(E53:N53),2))","v":""},{"$f":"IF(ISERROR(ROUND(O53*D53,2)),\"\",ROUND(O53*D53,2))","v":""},null,null,{"$f":"IF(ISERROR(MEDIAN(E53:N53)),\"\",MEDIAN(E53:N53))","v":""},{"$f":"IF(ISERROR(STDEV(E53:N53)),\"\",STDEV(E53:N53))","v":""},{"$f":"IF(ISERROR(T53/O53),\"\",T53/O53)","v":""}]
[{"$f":"IF(PREENCHER!A54=\"\",\"\",PREENCHER!A54)","v":""},{"$f":"IF(PREENCHER!B54=\"\",\"\",PREENCHER!B54)","v":""},{"$f":"IF(PREENCHER!C54=\"\",\"\",PREENCHER!C54)","v":""},{"$f":"IF(PREENCHER!D54=\"\",\"\",PREENCHER!D54)","v":""},{"$f":"IF(PREENCHER!E54=\"\",\"\",IF(COUNTIF(PREENCHER!$AG54:$AI54,PREENCHER!E54)=0,CONCATENATE(PREENCHER!AQ54,#REF!),PREENCHER!E54))","v":""},{"$f":"IF(PREENCHER!F54=\"\",\"\",IF(COUNTIF(PREENCHER!$AG54:$AI54,PREENCHER!F54)=0,CONCATENATE(PREENCHER!AR54,#REF!),PREENCHER!F54))","v":""},{"$f":"IF(PREENCHER!G54=\"\",\"\",IF(COUNTIF(PREENCHER!$AG54:$AI54,PREENCHER!G54)=0,CONCATENATE(PREENCHER!AS54,#REF!),PREENCHER!G54))","v":""},{"$f":"IF(PREENCHER!H54=\"\",\"\",IF(COUNTIF(PREENCHER!$AG54:$AI54,PREENCHER!H54)=0,CONCATENATE(PREENCHER!AT54,#REF!),PREENCHER!H54))","v":""},{"$f":"IF(PREENCHER!I54=\"\",\"\",IF(COUNTIF(PREENCHER!$AG54:$AI54,PREENCHER!I54)=0,CONCATENATE(PREENCHER!AU54,#REF!),PREENCHER!I54))","v":""},{"$f":"IF(PREENCHER!J54=\"\",\"\",IF(COUNTIF(PREENCHER!$AG54:$AI54,PREENCHER!J54)=0,CONCATENATE(PREENCHER!AV54,#REF!),PREENCHER!J54))","v":""},{"$f":"IF(PREENCHER!K54=\"\",\"\",IF(COUNTIF(PREENCHER!$AG54:$AI54,PREENCHER!K54)=0,CONCATENATE(PREENCHER!AW54,#REF!),PREENCHER!K54))","v":""},{"$f":"IF(PREENCHER!L54=\"\",\"\",IF(COUNTIF(PREENCHER!$AG54:$AI54,PREENCHER!L54)=0,CONCATENATE(PREENCHER!AX54,#REF!),PREENCHER!L54))","v":""},{"$f":"IF(PREENCHER!M54=\"\",\"\",IF(COUNTIF(PREENCHER!$AG54:$AI54,PREENCHER!M54)=0,CONCATENATE(PREENCHER!AY54,#REF!),PREENCHER!M54))","v":""},{"$f":"IF(PREENCHER!N54=\"\",\"\",IF(COUNTIF(PREENCHER!$AG54:$AI54,PREENCHER!N54)=0,CONCATENATE(PREENCHER!AZ54,#REF!),PREENCHER!N54))","v":""},{"$f":"IF(ISERROR(ROUND(AVERAGE(E54:N54),2)),\"\",ROUND(AVERAGE(E54:N54),2))","v":""},{"$f":"IF(ISERROR(ROUND(O54*D54,2)),\"\",ROUND(O54*D54,2))","v":""},null,null,{"$f":"IF(ISERROR(MEDIAN(E54:N54)),\"\",MEDIAN(E54:N54))","v":""},{"$f":"IF(ISERROR(STDEV(E54:N54)),\"\",STDEV(E54:N54))","v":""},{"$f":"IF(ISERROR(T54/O54),\"\",T54/O54)","v":""}]
[{"$f":"IF(PREENCHER!A55=\"\",\"\",PREENCHER!A55)","v":""},{"$f":"IF(PREENCHER!B55=\"\",\"\",PREENCHER!B55)","v":""},{"$f":"IF(PREENCHER!C55=\"\",\"\",PREENCHER!C55)","v":""},{"$f":"IF(PREENCHER!D55=\"\",\"\",PREENCHER!D55)","v":""},{"$f":"IF(PREENCHER!E55=\"\",\"\",IF(COUNTIF(PREENCHER!$AG55:$AI55,PREENCHER!E55)=0,CONCATENATE(PREENCHER!AQ55,#REF!),PREENCHER!E55))","v":""},{"$f":"IF(PREENCHER!F55=\"\",\"\",IF(COUNTIF(PREENCHER!$AG55:$AI55,PREENCHER!F55)=0,CONCATENATE(PREENCHER!AR55,#REF!),PREENCHER!F55))","v":""},{"$f":"IF(PREENCHER!G55=\"\",\"\",IF(COUNTIF(PREENCHER!$AG55:$AI55,PREENCHER!G55)=0,CONCATENATE(PREENCHER!AS55,#REF!),PREENCHER!G55))","v":""},{"$f":"IF(PREENCHER!H55=\"\",\"\",IF(COUNTIF(PREENCHER!$AG55:$AI55,PREENCHER!H55)=0,CONCATENATE(PREENCHER!AT55,#REF!),PREENCHER!H55))","v":""},{"$f":"IF(PREENCHER!I55=\"\",\"\",IF(COUNTIF(PREENCHER!$AG55:$AI55,PREENCHER!I55)=0,CONCATENATE(PREENCHER!AU55,#REF!),PREENCHER!I55))","v":""},{"$f":"IF(PREENCHER!J55=\"\",\"\",IF(COUNTIF(PREENCHER!$AG55:$AI55,PREENCHER!J55)=0,CONCATENATE(PREENCHER!AV55,#REF!),PREENCHER!J55))","v":""},{"$f":"IF(PREENCHER!K55=\"\",\"\",IF(COUNTIF(PREENCHER!$AG55:$AI55,PREENCHER!K55)=0,CONCATENATE(PREENCHER!AW55,#REF!),PREENCHER!K55))","v":""},{"$f":"IF(PREENCHER!L55=\"\",\"\",IF(COUNTIF(PREENCHER!$AG55:$AI55,PREENCHER!L55)=0,CONCATENATE(PREENCHER!AX55,#REF!),PREENCHER!L55))","v":""},{"$f":"IF(PREENCHER!M55=\"\",\"\",IF(COUNTIF(PREENCHER!$AG55:$AI55,PREENCHER!M55)=0,CONCATENATE(PREENCHER!AY55,#REF!),PREENCHER!M55))","v":""},{"$f":"IF(PREENCHER!N55=\"\",\"\",IF(COUNTIF(PREENCHER!$AG55:$AI55,PREENCHER!N55)=0,CONCATENATE(PREENCHER!AZ55,#REF!),PREENCHER!N55))","v":""},{"$f":"IF(ISERROR(ROUND(AVERAGE(E55:N55),2)),\"\",ROUND(AVERAGE(E55:N55),2))","v":""},{"$f":"IF(ISERROR(ROUND(O55*D55,2)),\"\",ROUND(O55*D55,2))","v":""},null,null,{"$f":"IF(ISERROR(MEDIAN(E55:N55)),\"\",MEDIAN(E55:N55))","v":""},{"$f":"IF(ISERROR(STDEV(E55:N55)),\"\",STDEV(E55:N55))","v":""},{"$f":"IF(ISERROR(T55/O55),\"\",T55/O55)","v":""}]
[{"$f":"IF(PREENCHER!A56=\"\",\"\",PREENCHER!A56)","v":""},{"$f":"IF(PREENCHER!B56=\"\",\"\",PREENCHER!B56)","v":""},{"$f":"IF(PREENCHER!C56=\"\",\"\",PREENCHER!C56)","v":""},{"$f":"IF(PREENCHER!D56=\"\",\"\",PREENCHER!D56)","v":""},{"$f":"IF(PREENCHER!E56=\"\",\"\",IF(COUNTIF(PREENCHER!$AG56:$AI56,PREENCHER!E56)=0,CONCATENATE(PREENCHER!AQ56,#REF!),PREENCHER!E56))","v":""},{"$f":"IF(PREENCHER!F56=\"\",\"\",IF(COUNTIF(PREENCHER!$AG56:$AI56,PREENCHER!F56)=0,CONCATENATE(PREENCHER!AR56,#REF!),PREENCHER!F56))","v":""},{"$f":"IF(PREENCHER!G56=\"\",\"\",IF(COUNTIF(PREENCHER!$AG56:$AI56,PREENCHER!G56)=0,CONCATENATE(PREENCHER!AS56,#REF!),PREENCHER!G56))","v":""},{"$f":"IF(PREENCHER!H56=\"\",\"\",IF(COUNTIF(PREENCHER!$AG56:$AI56,PREENCHER!H56)=0,CONCATENATE(PREENCHER!AT56,#REF!),PREENCHER!H56))","v":""},{"$f":"IF(PREENCHER!I56=\"\",\"\",IF(COUNTIF(PREENCHER!$AG56:$AI56,PREENCHER!I56)=0,CONCATENATE(PREENCHER!AU56,#REF!),PREENCHER!I56))","v":""},{"$f":"IF(PREENCHER!J56=\"\",\"\",IF(COUNTIF(PREENCHER!$AG56:$AI56,PREENCHER!J56)=0,CONCATENATE(PREENCHER!AV56,#REF!),PREENCHER!J56))","v":""},{"$f":"IF(PREENCHER!K56=\"\",\"\",IF(COUNTIF(PREENCHER!$AG56:$AI56,PREENCHER!K56)=0,CONCATENATE(PREENCHER!AW56,#REF!),PREENCHER!K56))","v":""},{"$f":"IF(PREENCHER!L56=\"\",\"\",IF(COUNTIF(PREENCHER!$AG56:$AI56,PREENCHER!L56)=0,CONCATENATE(PREENCHER!AX56,#REF!),PREENCHER!L56))","v":""},{"$f":"IF(PREENCHER!M56=\"\",\"\",IF(COUNTIF(PREENCHER!$AG56:$AI56,PREENCHER!M56)=0,CONCATENATE(PREENCHER!AY56,#REF!),PREENCHER!M56))","v":""},{"$f":"IF(PREENCHER!N56=\"\",\"\",IF(COUNTIF(PREENCHER!$AG56:$AI56,PREENCHER!N56)=0,CONCATENATE(PREENCHER!AZ56,#REF!),PREENCHER!N56))","v":""},{"$f":"IF(ISERROR(ROUND(AVERAGE(E56:N56),2)),\"\",ROUND(AVERAGE(E56:N56),2))","v":""},{"$f":"IF(ISERROR(ROUND(O56*D56,2)),\"\",ROUND(O56*D56,2))","v":""},null,null,{"$f":"IF(ISERROR(MEDIAN(E56:N56)),\"\",MEDIAN(E56:N56))","v":""},{"$f":"IF(ISERROR(STDEV(E56:N56)),\"\",STDEV(E56:N56))","v":""},{"$f":"IF(ISERROR(T56/O56),\"\",T56/O56)","v":""}]
[{"$f":"IF(PREENCHER!A57=\"\",\"\",PREENCHER!A57)","v":""},{"$f":"IF(PREENCHER!B57=\"\",\"\",PREENCHER!B57)","v":""},{"$f":"IF(PREENCHER!C57=\"\",\"\",PREENCHER!C57)","v":""},{"$f":"IF(PREENCHER!D57=\"\",\"\",PREENCHER!D57)","v":""},{"$f":"IF(PREENCHER!E57=\"\",\"\",IF(COUNTIF(PREENCHER!$AG57:$AI57,PREENCHER!E57)=0,CONCATENATE(PREENCHER!AQ57,#REF!),PREENCHER!E57))","v":""},{"$f":"IF(PREENCHER!F57=\"\",\"\",IF(COUNTIF(PREENCHER!$AG57:$AI57,PREENCHER!F57)=0,CONCATENATE(PREENCHER!AR57,#REF!),PREENCHER!F57))","v":""},{"$f":"IF(PREENCHER!G57=\"\",\"\",IF(COUNTIF(PREENCHER!$AG57:$AI57,PREENCHER!G57)=0,CONCATENATE(PREENCHER!AS57,#REF!),PREENCHER!G57))","v":""},{"$f":"IF(PREENCHER!H57=\"\",\"\",IF(COUNTIF(PREENCHER!$AG57:$AI57,PREENCHER!H57)=0,CONCATENATE(PREENCHER!AT57,#REF!),PREENCHER!H57))","v":""},{"$f":"IF(PREENCHER!I57=\"\",\"\",IF(COUNTIF(PREENCHER!$AG57:$AI57,PREENCHER!I57)=0,CONCATENATE(PREENCHER!AU57,#REF!),PREENCHER!I57))","v":""},{"$f":"IF(PREENCHER!J57=\"\",\"\",IF(COUNTIF(PREENCHER!$AG57:$AI57,PREENCHER!J57)=0,CONCATENATE(PREENCHER!AV57,#REF!),PREENCHER!J57))","v":""},{"$f":"IF(PREENCHER!K57=\"\",\"\",IF(COUNTIF(PREENCHER!$AG57:$AI57,PREENCHER!K57)=0,CONCATENATE(PREENCHER!AW57,#REF!),PREENCHER!K57))","v":""},{"$f":"IF(PREENCHER!L57=\"\",\"\",IF(COUNTIF(PREENCHER!$AG57:$AI57,PREENCHER!L57)=0,CONCATENATE(PREENCHER!AX57,#REF!),PREENCHER!L57))","v":""},{"$f":"IF(PREENCHER!M57=\"\",\"\",IF(COUNTIF(PREENCHER!$AG57:$AI57,PREENCHER!M57)=0,CONCATENATE(PREENCHER!AY57,#REF!),PREENCHER!M57))","v":""},{"$f":"IF(PREENCHER!N57=\"\",\"\",IF(COUNTIF(PREENCHER!$AG57:$AI57,PREENCHER!N57)=0,CONCATENATE(PREENCHER!AZ57,#REF!),PREENCHER!N57))","v":""},{"$f":"IF(ISERROR(ROUND(AVERAGE(E57:N57),2)),\"\",ROUND(AVERAGE(E57:N57),2))","v":""},{"$f":"IF(ISERROR(ROUND(O57*D57,2)),\"\",ROUND(O57*D57,2))","v":""},null,null,{"$f":"IF(ISERROR(MEDIAN(E57:N57)),\"\",MEDIAN(E57:N57))","v":""},{"$f":"IF(ISERROR(STDEV(E57:N57)),\"\",STDEV(E57:N57))","v":""},{"$f":"IF(ISERROR(T57/O57),\"\",T57/O57)","v":""}]
[{"$f":"IF(PREENCHER!A58=\"\",\"\",PREENCHER!A58)","v":""},{"$f":"IF(PREENCHER!B58=\"\",\"\",PREENCHER!B58)","v":""},{"$f":"IF(PREENCHER!C58=\"\",\"\",PREENCHER!C58)","v":""},{"$f":"IF(PREENCHER!D58=\"\",\"\",PREENCHER!D58)","v":""},{"$f":"IF(PREENCHER!E58=\"\",\"\",IF(COUNTIF(PREENCHER!$AG58:$AI58,PREENCHER!E58)=0,CONCATENATE(PREENCHER!AQ58,#REF!),PREENCHER!E58))","v":""},{"$f":"IF(PREENCHER!F58=\"\",\"\",IF(COUNTIF(PREENCHER!$AG58:$AI58,PREENCHER!F58)=0,CONCATENATE(PREENCHER!AR58,#REF!),PREENCHER!F58))","v":""},{"$f":"IF(PREENCHER!G58=\"\",\"\",IF(COUNTIF(PREENCHER!$AG58:$AI58,PREENCHER!G58)=0,CONCATENATE(PREENCHER!AS58,#REF!),PREENCHER!G58))","v":""},{"$f":"IF(PREENCHER!H58=\"\",\"\",IF(COUNTIF(PREENCHER!$AG58:$AI58,PREENCHER!H58)=0,CONCATENATE(PREENCHER!AT58,#REF!),PREENCHER!H58))","v":""},{"$f":"IF(PREENCHER!I58=\"\",\"\",IF(COUNTIF(PREENCHER!$AG58:$AI58,PREENCHER!I58)=0,CONCATENATE(PREENCHER!AU58,#REF!),PREENCHER!I58))","v":""},{"$f":"IF(PREENCHER!J58=\"\",\"\",IF(COUNTIF(PREENCHER!$AG58:$AI58,PREENCHER!J58)=0,CONCATENATE(PREENCHER!AV58,#REF!),PREENCHER!J58))","v":""},{"$f":"IF(PREENCHER!K58=\"\",\"\",IF(COUNTIF(PREENCHER!$AG58:$AI58,PREENCHER!K58)=0,CONCATENATE(PREENCHER!AW58,#REF!),PREENCHER!K58))","v":""},{"$f":"IF(PREENCHER!L58=\"\",\"\",IF(COUNTIF(PREENCHER!$AG58:$AI58,PREENCHER!L58)=0,CONCATENATE(PREENCHER!AX58,#REF!),PREENCHER!L58))","v":""},{"$f":"IF(PREENCHER!M58=\"\",\"\",IF(COUNTIF(PREENCHER!$AG58:$AI58,PREENCHER!M58)=0,CONCATENATE(PREENCHER!AY58,#REF!),PREENCHER!M58))","v":""},{"$f":"IF(PREENCHER!N58=\"\",\"\",IF(COUNTIF(PREENCHER!$AG58:$AI58,PREENCHER!N58)=0,CONCATENATE(PREENCHER!AZ58,#REF!),PREENCHER!N58))","v":""},{"$f":"IF(ISERROR(ROUND(AVERAGE(E58:N58),2)),\"\",ROUND(AVERAGE(E58:N58),2))","v":""},{"$f":"IF(ISERROR(ROUND(O58*D58,2)),\"\",ROUND(O58*D58,2))","v":""},null,null,{"$f":"IF(ISERROR(MEDIAN(E58:N58)),\"\",MEDIAN(E58:N58))","v":""},{"$f":"IF(ISERROR(STDEV(E58:N58)),\"\",STDEV(E58:N58))","v":""},{"$f":"IF(ISERROR(T58/O58),\"\",T58/O58)","v":""}]
[{"$f":"IF(PREENCHER!A59=\"\",\"\",PREENCHER!A59)","v":""},{"$f":"IF(PREENCHER!B59=\"\",\"\",PREENCHER!B59)","v":""},{"$f":"IF(PREENCHER!C59=\"\",\"\",PREENCHER!C59)","v":""},{"$f":"IF(PREENCHER!D59=\"\",\"\",PREENCHER!D59)","v":""},{"$f":"IF(PREENCHER!E59=\"\",\"\",IF(COUNTIF(PREENCHER!$AG59:$AI59,PREENCHER!E59)=0,CONCATENATE(PREENCHER!AQ59,#REF!),PREENCHER!E59))","v":""},{"$f":"IF(PREENCHER!F59=\"\",\"\",IF(COUNTIF(PREENCHER!$AG59:$AI59,PREENCHER!F59)=0,CONCATENATE(PREENCHER!AR59,#REF!),PREENCHER!F59))","v":""},{"$f":"IF(PREENCHER!G59=\"\",\"\",IF(COUNTIF(PREENCHER!$AG59:$AI59,PREENCHER!G59)=0,CONCATENATE(PREENCHER!AS59,#REF!),PREENCHER!G59))","v":""},{"$f":"IF(PREENCHER!H59=\"\",\"\",IF(COUNTIF(PREENCHER!$AG59:$AI59,PREENCHER!H59)=0,CONCATENATE(PREENCHER!AT59,#REF!),PREENCHER!H59))","v":""},{"$f":"IF(PREENCHER!I59=\"\",\"\",IF(COUNTIF(PREENCHER!$AG59:$AI59,PREENCHER!I59)=0,CONCATENATE(PREENCHER!AU59,#REF!),PREENCHER!I59))","v":""},{"$f":"IF(PREENCHER!J59=\"\",\"\",IF(COUNTIF(PREENCHER!$AG59:$AI59,PREENCHER!J59)=0,CONCATENATE(PREENCHER!AV59,#REF!),PREENCHER!J59))","v":""},{"$f":"IF(PREENCHER!K59=\"\",\"\",IF(COUNTIF(PREENCHER!$AG59:$AI59,PREENCHER!K59)=0,CONCATENATE(PREENCHER!AW59,#REF!),PREENCHER!K59))","v":""},{"$f":"IF(PREENCHER!L59=\"\",\"\",IF(COUNTIF(PREENCHER!$AG59:$AI59,PREENCHER!L59)=0,CONCATENATE(PREENCHER!AX59,#REF!),PREENCHER!L59))","v":""},{"$f":"IF(PREENCHER!M59=\"\",\"\",IF(COUNTIF(PREENCHER!$AG59:$AI59,PREENCHER!M59)=0,CONCATENATE(PREENCHER!AY59,#REF!),PREENCHER!M59))","v":""},{"$f":"IF(PREENCHER!N59=\"\",\"\",IF(COUNTIF(PREENCHER!$AG59:$AI59,PREENCHER!N59)=0,CONCATENATE(PREENCHER!AZ59,#REF!),PREENCHER!N59))","v":""},{"$f":"IF(ISERROR(ROUND(AVERAGE(E59:N59),2)),\"\",ROUND(AVERAGE(E59:N59),2))","v":""},{"$f":"IF(ISERROR(ROUND(O59*D59,2)),\"\",ROUND(O59*D59,2))","v":""},null,null,{"$f":"IF(ISERROR(MEDIAN(E59:N59)),\"\",MEDIAN(E59:N59))","v":""},{"$f":"IF(ISERROR(STDEV(E59:N59)),\"\",STDEV(E59:N59))","v":""},{"$f":"IF(ISERROR(T59/O59),\"\",T59/O59)","v":""}]
[{"$f":"IF(PREENCHER!A60=\"\",\"\",PREENCHER!A60)","v":""},{"$f":"IF(PREENCHER!B60=\"\",\"\",PREENCHER!B60)","v":""},{"$f":"IF(PREENCHER!C60=\"\",\"\",PREENCHER!C60)","v":""},{"$f":"IF(PREENCHER!D60=\"\",\"\",PREENCHER!D60)","v":""},{"$f":"IF(PREENCHER!E60=\"\",\"\",IF(COUNTIF(PREENCHER!$AG60:$AI60,PREENCHER!E60)=0,CONCATENATE(PREENCHER!AQ60,#REF!),PREENCHER!E60))","v":""},{"$f":"IF(PREENCHER!F60=\"\",\"\",IF(COUNTIF(PREENCHER!$AG60:$AI60,PREENCHER!F60)=0,CONCATENATE(PREENCHER!AR60,#REF!),PREENCHER!F60))","v":""},{"$f":"IF(PREENCHER!G60=\"\",\"\",IF(COUNTIF(PREENCHER!$AG60:$AI60,PREENCHER!G60)=0,CONCATENATE(PREENCHER!AS60,#REF!),PREENCHER!G60))","v":""},{"$f":"IF(PREENCHER!H60=\"\",\"\",IF(COUNTIF(PREENCHER!$AG60:$AI60,PREENCHER!H60)=0,CONCATENATE(PREENCHER!AT60,#REF!),PREENCHER!H60))","v":""},{"$f":"IF(PREENCHER!I60=\"\",\"\",IF(COUNTIF(PREENCHER!$AG60:$AI60,PREENCHER!I60)=0,CONCATENATE(PREENCHER!AU60,#REF!),PREENCHER!I60))","v":""},{"$f":"IF(PREENCHER!J60=\"\",\"\",IF(COUNTIF(PREENCHER!$AG60:$AI60,PREENCHER!J60)=0,CONCATENATE(PREENCHER!AV60,#REF!),PREENCHER!J60))","v":""},{"$f":"IF(PREENCHER!K60=\"\",\"\",IF(COUNTIF(PREENCHER!$AG60:$AI60,PREENCHER!K60)=0,CONCATENATE(PREENCHER!AW60,#REF!),PREENCHER!K60))","v":""},{"$f":"IF(PREENCHER!L60=\"\",\"\",IF(COUNTIF(PREENCHER!$AG60:$AI60,PREENCHER!L60)=0,CONCATENATE(PREENCHER!AX60,#REF!),PREENCHER!L60))","v":""},{"$f":"IF(PREENCHER!M60=\"\",\"\",IF(COUNTIF(PREENCHER!$AG60:$AI60,PREENCHER!M60)=0,CONCATENATE(PREENCHER!AY60,#REF!),PREENCHER!M60))","v":""},{"$f":"IF(PREENCHER!N60=\"\",\"\",IF(COUNTIF(PREENCHER!$AG60:$AI60,PREENCHER!N60)=0,CONCATENATE(PREENCHER!AZ60,#REF!),PREENCHER!N60))","v":""},{"$f":"IF(ISERROR(ROUND(AVERAGE(E60:N60),2)),\"\",ROUND(AVERAGE(E60:N60),2))","v":""},{"$f":"IF(ISERROR(ROUND(O60*D60,2)),\"\",ROUND(O60*D60,2))","v":""},null,null,{"$f":"IF(ISERROR(MEDIAN(E60:N60)),\"\",MEDIAN(E60:N60))","v":""},{"$f":"IF(ISERROR(STDEV(E60:N60)),\"\",STDEV(E60:N60))","v":""},{"$f":"IF(ISERROR(T60/O60),\"\",T60/O60)","v":""}]
[{"$f":"IF(PREENCHER!A61=\"\",\"\",PREENCHER!A61)","v":""},{"$f":"IF(PREENCHER!B61=\"\",\"\",PREENCHER!B61)","v":""},{"$f":"IF(PREENCHER!C61=\"\",\"\",PREENCHER!C61)","v":""},{"$f":"IF(PREENCHER!D61=\"\",\"\",PREENCHER!D61)","v":""},{"$f":"IF(PREENCHER!E61=\"\",\"\",IF(COUNTIF(PREENCHER!$AG61:$AI61,PREENCHER!E61)=0,CONCATENATE(PREENCHER!AQ61,#REF!),PREENCHER!E61))","v":""},{"$f":"IF(PREENCHER!F61=\"\",\"\",IF(COUNTIF(PREENCHER!$AG61:$AI61,PREENCHER!F61)=0,CONCATENATE(PREENCHER!AR61,#REF!),PREENCHER!F61))","v":""},{"$f":"IF(PREENCHER!G61=\"\",\"\",IF(COUNTIF(PREENCHER!$AG61:$AI61,PREENCHER!G61)=0,CONCATENATE(PREENCHER!AS61,#REF!),PREENCHER!G61))","v":""},{"$f":"IF(PREENCHER!H61=\"\",\"\",IF(COUNTIF(PREENCHER!$AG61:$AI61,PREENCHER!H61)=0,CONCATENATE(PREENCHER!AT61,#REF!),PREENCHER!H61))","v":""},{"$f":"IF(PREENCHER!I61=\"\",\"\",IF(COUNTIF(PREENCHER!$AG61:$AI61,PREENCHER!I61)=0,CONCATENATE(PREENCHER!AU61,#REF!),PREENCHER!I61))","v":""},{"$f":"IF(PREENCHER!J61=\"\",\"\",IF(COUNTIF(PREENCHER!$AG61:$AI61,PREENCHER!J61)=0,CONCATENATE(PREENCHER!AV61,#REF!),PREENCHER!J61))","v":""},{"$f":"IF(PREENCHER!K61=\"\",\"\",IF(COUNTIF(PREENCHER!$AG61:$AI61,PREENCHER!K61)=0,CONCATENATE(PREENCHER!AW61,#REF!),PREENCHER!K61))","v":""},{"$f":"IF(PREENCHER!L61=\"\",\"\",IF(COUNTIF(PREENCHER!$AG61:$AI61,PREENCHER!L61)=0,CONCATENATE(PREENCHER!AX61,#REF!),PREENCHER!L61))","v":""},{"$f":"IF(PREENCHER!M61=\"\",\"\",IF(COUNTIF(PREENCHER!$AG61:$AI61,PREENCHER!M61)=0,CONCATENATE(PREENCHER!AY61,#REF!),PREENCHER!M61))","v":""},{"$f":"IF(PREENCHER!N61=\"\",\"\",IF(COUNTIF(PREENCHER!$AG61:$AI61,PREENCHER!N61)=0,CONCATENATE(PREENCHER!AZ61,#REF!),PREENCHER!N61))","v":""},{"$f":"IF(ISERROR(ROUND(AVERAGE(E61:N61),2)),\"\",ROUND(AVERAGE(E61:N61),2))","v":""},{"$f":"IF(ISERROR(ROUND(O61*D61,2)),\"\",ROUND(O61*D61,2))","v":""},null,null,{"$f":"IF(ISERROR(MEDIAN(E61:N61)),\"\",MEDIAN(E61:N61))","v":""},{"$f":"IF(ISERROR(STDEV(E61:N61)),\"\",STDEV(E61:N61))","v":""},{"$f":"IF(ISERROR(T61/O61),\"\",T61/O61)","v":""}]
[{"$f":"IF(PREENCHER!A62=\"\",\"\",PREENCHER!A62)","v":""},{"$f":"IF(PREENCHER!B62=\"\",\"\",PREENCHER!B62)","v":""},{"$f":"IF(PREENCHER!C62=\"\",\"\",PREENCHER!C62)","v":""},{"$f":"IF(PREENCHER!D62=\"\",\"\",PREENCHER!D62)","v":""},{"$f":"IF(PREENCHER!E62=\"\",\"\",IF(COUNTIF(PREENCHER!$AG62:$AI62,PREENCHER!E62)=0,CONCATENATE(PREENCHER!AQ62,#REF!),PREENCHER!E62))","v":""},{"$f":"IF(PREENCHER!F62=\"\",\"\",IF(COUNTIF(PREENCHER!$AG62:$AI62,PREENCHER!F62)=0,CONCATENATE(PREENCHER!AR62,#REF!),PREENCHER!F62))","v":""},{"$f":"IF(PREENCHER!G62=\"\",\"\",IF(COUNTIF(PREENCHER!$AG62:$AI62,PREENCHER!G62)=0,CONCATENATE(PREENCHER!AS62,#REF!),PREENCHER!G62))","v":""},{"$f":"IF(PREENCHER!H62=\"\",\"\",IF(COUNTIF(PREENCHER!$AG62:$AI62,PREENCHER!H62)=0,CONCATENATE(PREENCHER!AT62,#REF!),PREENCHER!H62))","v":""},{"$f":"IF(PREENCHER!I62=\"\",\"\",IF(COUNTIF(PREENCHER!$AG62:$AI62,PREENCHER!I62)=0,CONCATENATE(PREENCHER!AU62,#REF!),PREENCHER!I62))","v":""},{"$f":"IF(PREENCHER!J62=\"\",\"\",IF(COUNTIF(PREENCHER!$AG62:$AI62,PREENCHER!J62)=0,CONCATENATE(PREENCHER!AV62,#REF!),PREENCHER!J62))","v":""},{"$f":"IF(PREENCHER!K62=\"\",\"\",IF(COUNTIF(PREENCHER!$AG62:$AI62,PREENCHER!K62)=0,CONCATENATE(PREENCHER!AW62,#REF!),PREENCHER!K62))","v":""},{"$f":"IF(PREENCHER!L62=\"\",\"\",IF(COUNTIF(PREENCHER!$AG62:$AI62,PREENCHER!L62)=0,CONCATENATE(PREENCHER!AX62,#REF!),PREENCHER!L62))","v":""},{"$f":"IF(PREENCHER!M62=\"\",\"\",IF(COUNTIF(PREENCHER!$AG62:$AI62,PREENCHER!M62)=0,CONCATENATE(PREENCHER!AY62,#REF!),PREENCHER!M62))","v":""},{"$f":"IF(PREENCHER!N62=\"\",\"\",IF(COUNTIF(PREENCHER!$AG62:$AI62,PREENCHER!N62)=0,CONCATENATE(PREENCHER!AZ62,#REF!),PREENCHER!N62))","v":""},{"$f":"IF(ISERROR(ROUND(AVERAGE(E62:N62),2)),\"\",ROUND(AVERAGE(E62:N62),2))","v":""},{"$f":"IF(ISERROR(ROUND(O62*D62,2)),\"\",ROUND(O62*D62,2))","v":""},null,null,{"$f":"IF(ISERROR(MEDIAN(E62:N62)),\"\",MEDIAN(E62:N62))","v":""},{"$f":"IF(ISERROR(STDEV(E62:N62)),\"\",STDEV(E62:N62))","v":""},{"$f":"IF(ISERROR(T62/O62),\"\",T62/O62)","v":""}]
[{"$f":"IF(PREENCHER!A63=\"\",\"\",PREENCHER!A63)","v":""},{"$f":"IF(PREENCHER!B63=\"\",\"\",PREENCHER!B63)","v":""},{"$f":"IF(PREENCHER!C63=\"\",\"\",PREENCHER!C63)","v":""},{"$f":"IF(PREENCHER!D63=\"\",\"\",PREENCHER!D63)","v":""},{"$f":"IF(PREENCHER!E63=\"\",\"\",IF(COUNTIF(PREENCHER!$AG63:$AI63,PREENCHER!E63)=0,CONCATENATE(PREENCHER!AQ63,#REF!),PREENCHER!E63))","v":""},{"$f":"IF(PREENCHER!F63=\"\",\"\",IF(COUNTIF(PREENCHER!$AG63:$AI63,PREENCHER!F63)=0,CONCATENATE(PREENCHER!AR63,#REF!),PREENCHER!F63))","v":""},{"$f":"IF(PREENCHER!G63=\"\",\"\",IF(COUNTIF(PREENCHER!$AG63:$AI63,PREENCHER!G63)=0,CONCATENATE(PREENCHER!AS63,#REF!),PREENCHER!G63))","v":""},{"$f":"IF(PREENCHER!H63=\"\",\"\",IF(COUNTIF(PREENCHER!$AG63:$AI63,PREENCHER!H63)=0,CONCATENATE(PREENCHER!AT63,#REF!),PREENCHER!H63))","v":""},{"$f":"IF(PREENCHER!I63=\"\",\"\",IF(COUNTIF(PREENCHER!$AG63:$AI63,PREENCHER!I63)=0,CONCATENATE(PREENCHER!AU63,#REF!),PREENCHER!I63))","v":""},{"$f":"IF(PREENCHER!J63=\"\",\"\",IF(COUNTIF(PREENCHER!$AG63:$AI63,PREENCHER!J63)=0,CONCATENATE(PREENCHER!AV63,#REF!),PREENCHER!J63))","v":""},{"$f":"IF(PREENCHER!K63=\"\",\"\",IF(COUNTIF(PREENCHER!$AG63:$AI63,PREENCHER!K63)=0,CONCATENATE(PREENCHER!AW63,#REF!),PREENCHER!K63))","v":""},{"$f":"IF(PREENCHER!L63=\"\",\"\",IF(COUNTIF(PREENCHER!$AG63:$AI63,PREENCHER!L63)=0,CONCATENATE(PREENCHER!AX63,#REF!),PREENCHER!L63))","v":""},{"$f":"IF(PREENCHER!M63=\"\",\"\",IF(COUNTIF(PREENCHER!$AG63:$AI63,PREENCHER!M63)=0,CONCATENATE(PREENCHER!AY63,#REF!),PREENCHER!M63))","v":""},{"$f":"IF(PREENCHER!N63=\"\",\"\",IF(COUNTIF(PREENCHER!$AG63:$AI63,PREENCHER!N63)=0,CONCATENATE(PREENCHER!AZ63,#REF!),PREENCHER!N63))","v":""},{"$f":"IF(ISERROR(ROUND(AVERAGE(E63:N63),2)),\"\",ROUND(AVERAGE(E63:N63),2))","v":""},{"$f":"IF(ISERROR(ROUND(O63*D63,2)),\"\",ROUND(O63*D63,2))","v":""},null,null,{"$f":"IF(ISERROR(MEDIAN(E63:N63)),\"\",MEDIAN(E63:N63))","v":""},{"$f":"IF(ISERROR(STDEV(E63:N63)),\"\",STDEV(E63:N63))","v":""},{"$f":"IF(ISERROR(T63/O63),\"\",T63/O63)","v":""}]
[{"$f":"IF(PREENCHER!A64=\"\",\"\",PREENCHER!A64)","v":""},{"$f":"IF(PREENCHER!B64=\"\",\"\",PREENCHER!B64)","v":""},{"$f":"IF(PREENCHER!C64=\"\",\"\",PREENCHER!C64)","v":""},{"$f":"IF(PREENCHER!D64=\"\",\"\",PREENCHER!D64)","v":""},{"$f":"IF(PREENCHER!E64=\"\",\"\",IF(COUNTIF(PREENCHER!$AG64:$AI64,PREENCHER!E64)=0,CONCATENATE(PREENCHER!AQ64,#REF!),PREENCHER!E64))","v":""},{"$f":"IF(PREENCHER!F64=\"\",\"\",IF(COUNTIF(PREENCHER!$AG64:$AI64,PREENCHER!F64)=0,CONCATENATE(PREENCHER!AR64,#REF!),PREENCHER!F64))","v":""},{"$f":"IF(PREENCHER!G64=\"\",\"\",IF(COUNTIF(PREENCHER!$AG64:$AI64,PREENCHER!G64)=0,CONCATENATE(PREENCHER!AS64,#REF!),PREENCHER!G64))","v":""},{"$f":"IF(PREENCHER!H64=\"\",\"\",IF(COUNTIF(PREENCHER!$AG64:$AI64,PREENCHER!H64)=0,CONCATENATE(PREENCHER!AT64,#REF!),PREENCHER!H64))","v":""},{"$f":"IF(PREENCHER!I64=\"\",\"\",IF(COUNTIF(PREENCHER!$AG64:$AI64,PREENCHER!I64)=0,CONCATENATE(PREENCHER!AU64,#REF!),PREENCHER!I64))","v":""},{"$f":"IF(PREENCHER!J64=\"\",\"\",IF(COUNTIF(PREENCHER!$AG64:$AI64,PREENCHER!J64)=0,CONCATENATE(PREENCHER!AV64,#REF!),PREENCHER!J64))","v":""},{"$f":"IF(PREENCHER!K64=\"\",\"\",IF(COUNTIF(PREENCHER!$AG64:$AI64,PREENCHER!K64)=0,CONCATENATE(PREENCHER!AW64,#REF!),PREENCHER!K64))","v":""},{"$f":"IF(PREENCHER!L64=\"\",\"\",IF(COUNTIF(PREENCHER!$AG64:$AI64,PREENCHER!L64)=0,CONCATENATE(PREENCHER!AX64,#REF!),PREENCHER!L64))","v":""},{"$f":"IF(PREENCHER!M64=\"\",\"\",IF(COUNTIF(PREENCHER!$AG64:$AI64,PREENCHER!M64)=0,CONCATENATE(PREENCHER!AY64,#REF!),PREENCHER!M64))","v":""},{"$f":"IF(PREENCHER!N64=\"\",\"\",IF(COUNTIF(PREENCHER!$AG64:$AI64,PREENCHER!N64)=0,CONCATENATE(PREENCHER!AZ64,#REF!),PREENCHER!N64))","v":""},{"$f":"IF(ISERROR(ROUND(AVERAGE(E64:N64),2)),\"\",ROUND(AVERAGE(E64:N64),2))","v":""},{"$f":"IF(ISERROR(ROUND(O64*D64,2)),\"\",ROUND(O64*D64,2))","v":""},null,null,{"$f":"IF(ISERROR(MEDIAN(E64:N64)),\"\",MEDIAN(E64:N64))","v":""},{"$f":"IF(ISERROR(STDEV(E64:N64)),\"\",STDEV(E64:N64))","v":""},{"$f":"IF(ISERROR(T64/O64),\"\",T64/O64)","v":""}]
[{"$f":"IF(PREENCHER!A65=\"\",\"\",PREENCHER!A65)","v":""},{"$f":"IF(PREENCHER!B65=\"\",\"\",PREENCHER!B65)","v":""},{"$f":"IF(PREENCHER!C65=\"\",\"\",PREENCHER!C65)","v":""},{"$f":"IF(PREENCHER!D65=\"\",\"\",PREENCHER!D65)","v":""},{"$f":"IF(PREENCHER!E65=\"\",\"\",IF(COUNTIF(PREENCHER!$AG65:$AI65,PREENCHER!E65)=0,CONCATENATE(PREENCHER!AQ65,#REF!),PREENCHER!E65))","v":""},{"$f":"IF(PREENCHER!F65=\"\",\"\",IF(COUNTIF(PREENCHER!$AG65:$AI65,PREENCHER!F65)=0,CONCATENATE(PREENCHER!AR65,#REF!),PREENCHER!F65))","v":""},{"$f":"IF(PREENCHER!G65=\"\",\"\",IF(COUNTIF(PREENCHER!$AG65:$AI65,PREENCHER!G65)=0,CONCATENATE(PREENCHER!AS65,#REF!),PREENCHER!G65))","v":""},{"$f":"IF(PREENCHER!H65=\"\",\"\",IF(COUNTIF(PREENCHER!$AG65:$AI65,PREENCHER!H65)=0,CONCATENATE(PREENCHER!AT65,#REF!),PREENCHER!H65))","v":""},{"$f":"IF(PREENCHER!I65=\"\",\"\",IF(COUNTIF(PREENCHER!$AG65:$AI65,PREENCHER!I65)=0,CONCATENATE(PREENCHER!AU65,#REF!),PREENCHER!I65))","v":""},{"$f":"IF(PREENCHER!J65=\"\",\"\",IF(COUNTIF(PREENCHER!$AG65:$AI65,PREENCHER!J65)=0,CONCATENATE(PREENCHER!AV65,#REF!),PREENCHER!J65))","v":""},{"$f":"IF(PREENCHER!K65=\"\",\"\",IF(COUNTIF(PREENCHER!$AG65:$AI65,PREENCHER!K65)=0,CONCATENATE(PREENCHER!AW65,#REF!),PREENCHER!K65))","v":""},{"$f":"IF(PREENCHER!L65=\"\",\"\",IF(COUNTIF(PREENCHER!$AG65:$AI65,PREENCHER!L65)=0,CONCATENATE(PREENCHER!AX65,#REF!),PREENCHER!L65))","v":""},{"$f":"IF(PREENCHER!M65=\"\",\"\",IF(COUNTIF(PREENCHER!$AG65:$AI65,PREENCHER!M65)=0,CONCATENATE(PREENCHER!AY65,#REF!),PREENCHER!M65))","v":""},{"$f":"IF(PREENCHER!N65=\"\",\"\",IF(COUNTIF(PREENCHER!$AG65:$AI65,PREENCHER!N65)=0,CONCATENATE(PREENCHER!AZ65,#REF!),PREENCHER!N65))","v":""},{"$f":"IF(ISERROR(ROUND(AVERAGE(E65:N65),2)),\"\",ROUND(AVERAGE(E65:N65),2))","v":""},{"$f":"IF(ISERROR(ROUND(O65*D65,2)),\"\",ROUND(O65*D65,2))","v":""},null,null,{"$f":"IF(ISERROR(MEDIAN(E65:N65)),\"\",MEDIAN(E65:N65))","v":""},{"$f":"IF(ISERROR(STDEV(E65:N65)),\"\",STDEV(E65:N65))","v":""},{"$f":"IF(ISERROR(T65/O65),\"\",T65/O65)","v":""}]
[{"$f":"IF(PREENCHER!A66=\"\",\"\",PREENCHER!A66)","v":""},{"$f":"IF(PREENCHER!B66=\"\",\"\",PREENCHER!B66)","v":""},{"$f":"IF(PREENCHER!C66=\"\",\"\",PREENCHER!C66)","v":""},{"$f":"IF(PREENCHER!D66=\"\",\"\",PREENCHER!D66)","v":""},{"$f":"IF(PREENCHER!E66=\"\",\"\",IF(COUNTIF(PREENCHER!$AG66:$AI66,PREENCHER!E66)=0,CONCATENATE(PREENCHER!AQ66,#REF!),PREENCHER!E66))","v":""},{"$f":"IF(PREENCHER!F66=\"\",\"\",IF(COUNTIF(PREENCHER!$AG66:$AI66,PREENCHER!F66)=0,CONCATENATE(PREENCHER!AR66,#REF!),PREENCHER!F66))","v":""},{"$f":"IF(PREENCHER!G66=\"\",\"\",IF(COUNTIF(PREENCHER!$AG66:$AI66,PREENCHER!G66)=0,CONCATENATE(PREENCHER!AS66,#REF!),PREENCHER!G66))","v":""},{"$f":"IF(PREENCHER!H66=\"\",\"\",IF(COUNTIF(PREENCHER!$AG66:$AI66,PREENCHER!H66)=0,CONCATENATE(PREENCHER!AT66,#REF!),PREENCHER!H66))","v":""},{"$f":"IF(PREENCHER!I66=\"\",\"\",IF(COUNTIF(PREENCHER!$AG66:$AI66,PREENCHER!I66)=0,CONCATENATE(PREENCHER!AU66,#REF!),PREENCHER!I66))","v":""},{"$f":"IF(PREENCHER!J66=\"\",\"\",IF(COUNTIF(PREENCHER!$AG66:$AI66,PREENCHER!J66)=0,CONCATENATE(PREENCHER!AV66,#REF!),PREENCHER!J66))","v":""},{"$f":"IF(PREENCHER!K66=\"\",\"\",IF(COUNTIF(PREENCHER!$AG66:$AI66,PREENCHER!K66)=0,CONCATENATE(PREENCHER!AW66,#REF!),PREENCHER!K66))","v":""},{"$f":"IF(PREENCHER!L66=\"\",\"\",IF(COUNTIF(PREENCHER!$AG66:$AI66,PREENCHER!L66)=0,CONCATENATE(PREENCHER!AX66,#REF!),PREENCHER!L66))","v":""},{"$f":"IF(PREENCHER!M66=\"\",\"\",IF(COUNTIF(PREENCHER!$AG66:$AI66,PREENCHER!M66)=0,CONCATENATE(PREENCHER!AY66,#REF!),PREENCHER!M66))","v":""},{"$f":"IF(PREENCHER!N66=\"\",\"\",IF(COUNTIF(PREENCHER!$AG66:$AI66,PREENCHER!N66)=0,CONCATENATE(PREENCHER!AZ66,#REF!),PREENCHER!N66))","v":""},{"$f":"IF(ISERROR(ROUND(AVERAGE(E66:N66),2)),\"\",ROUND(AVERAGE(E66:N66),2))","v":""},{"$f":"IF(ISERROR(ROUND(O66*D66,2)),\"\",ROUND(O66*D66,2))","v":""},null,null,{"$f":"IF(ISERROR(MEDIAN(E66:N66)),\"\",MEDIAN(E66:N66))","v":""},{"$f":"IF(ISERROR(STDEV(E66:N66)),\"\",STDEV(E66:N66))","v":""},{"$f":"IF(ISERROR(T66/O66),\"\",T66/O66)","v":""}]
[{"$f":"IF(PREENCHER!A67=\"\",\"\",PREENCHER!A67)","v":""},{"$f":"IF(PREENCHER!B67=\"\",\"\",PREENCHER!B67)","v":""},{"$f":"IF(PREENCHER!C67=\"\",\"\",PREENCHER!C67)","v":""},{"$f":"IF(PREENCHER!D67=\"\",\"\",PREENCHER!D67)","v":""},{"$f":"IF(PREENCHER!E67=\"\",\"\",IF(COUNTIF(PREENCHER!$AG67:$AI67,PREENCHER!E67)=0,CONCATENATE(PREENCHER!AQ67,#REF!),PREENCHER!E67))","v":""},{"$f":"IF(PREENCHER!F67=\"\",\"\",IF(COUNTIF(PREENCHER!$AG67:$AI67,PREENCHER!F67)=0,CONCATENATE(PREENCHER!AR67,#REF!),PREENCHER!F67))","v":""},{"$f":"IF(PREENCHER!G67=\"\",\"\",IF(COUNTIF(PREENCHER!$AG67:$AI67,PREENCHER!G67)=0,CONCATENATE(PREENCHER!AS67,#REF!),PREENCHER!G67))","v":""},{"$f":"IF(PREENCHER!H67=\"\",\"\",IF(COUNTIF(PREENCHER!$AG67:$AI67,PREENCHER!H67)=0,CONCATENATE(PREENCHER!AT67,#REF!),PREENCHER!H67))","v":""},{"$f":"IF(PREENCHER!I67=\"\",\"\",IF(COUNTIF(PREENCHER!$AG67:$AI67,PREENCHER!I67)=0,CONCATENATE(PREENCHER!AU67,#REF!),PREENCHER!I67))","v":""},{"$f":"IF(PREENCHER!J67=\"\",\"\",IF(COUNTIF(PREENCHER!$AG67:$AI67,PREENCHER!J67)=0,CONCATENATE(PREENCHER!AV67,#REF!),PREENCHER!J67))","v":""},{"$f":"IF(PREENCHER!K67=\"\",\"\",IF(COUNTIF(PREENCHER!$AG67:$AI67,PREENCHER!K67)=0,CONCATENATE(PREENCHER!AW67,#REF!),PREENCHER!K67))","v":""},{"$f":"IF(PREENCHER!L67=\"\",\"\",IF(COUNTIF(PREENCHER!$AG67:$AI67,PREENCHER!L67)=0,CONCATENATE(PREENCHER!AX67,#REF!),PREENCHER!L67))","v":""},{"$f":"IF(PREENCHER!M67=\"\",\"\",IF(COUNTIF(PREENCHER!$AG67:$AI67,PREENCHER!M67)=0,CONCATENATE(PREENCHER!AY67,#REF!),PREENCHER!M67))","v":""},{"$f":"IF(PREENCHER!N67=\"\",\"\",IF(COUNTIF(PREENCHER!$AG67:$AI67,PREENCHER!N67)=0,CONCATENATE(PREENCHER!AZ67,#REF!),PREENCHER!N67))","v":""},{"$f":"IF(ISERROR(ROUND(AVERAGE(E67:N67),2)),\"\",ROUND(AVERAGE(E67:N67),2))","v":""},{"$f":"IF(ISERROR(ROUND(O67*D67,2)),\"\",ROUND(O67*D67,2))","v":""},null,null,{"$f":"IF(ISERROR(MEDIAN(E67:N67)),\"\",MEDIAN(E67:N67))","v":""},{"$f":"IF(ISERROR(STDEV(E67:N67)),\"\",STDEV(E67:N67))","v":""},{"$f":"IF(ISERROR(T67/O67),\"\",T67/O67)","v":""}]
["VALOR GLOBAL",null,null,null,null,null,null,null,null,null,null,null,null,null,null,{"$f":"IF(SUM(P8:P67)=0,\"\",SUM(P8:P67))","v":""}]

{"sheet":"Média 3º, 4º e 5º","index":3,"n_rows":68,"n_cols":21,"rows_kept":68,"cut":false,"hidden":true,"merged":[[5,18,5,20],[67,0,67,14]]}
[]
[]
[]
[]
[]
[null,null,null,null,null,null,null,null,null,null,null,null,null,null,null,null,null,null,"ANÁLISE ESTATÍSTICA"]
[{"$f":"PREENCHER!A6","v":"ITEM"},{"$f":"PREENCHER!B6","v":"ESPECIFICAÇÃO"},{"$f":"PREENCHER!C6","v":"UN"},{"$f":"PREENCHER!D6","v":"QTDE"},{"$f":"PREENCHER!E7","v":"PESQUISA 1"},{"$f":"preencher!#ref!","v":{"$error":"#NAME?"}},{"$f":"PREENCHER!F7","v":"PESQUISA 2"},{"$f":"PREENCHER!G7","v":"PESQUISA 3"},{"$f":"PREENCHER!H7","v":"PESQUISA 3"},{"$f":"PREENCHER!I7","v":"PESQUISA 5"},{"$f":"PREENCHER!K7","v":"PESQUISA 7"},{"$f":"PREENCHER!L7","v":"PESQUISA 8"},{"$f":"PREENCHER!M7","v":"PESQUISA 9"},{"$f":"PREENCHER!N7","v":"PESQUISA 10"},{"$f":"PREENCHER!O7","v":"UNITÁRIO"},{"$f":"PREENCHER!P7","v":"TOTAL"},{"$f":"PREENCHER!S6","v":"OBSERVAÇÃO"},null,"MEDIANA","DESVIO PADRÃO","COEFICIENTE DE VARIAÇÃO"]
[{"$f":"IF(PREENCHER!A8=\"\",\"\",PREENCHER!A8)","v":1},{"$f":"IF(PREENCHER!B8=\"\",\"\",PREENCHER!B8)","v":"PÃO DE QUEIJO CONGELADO"},{"$f":"IF(PREENCHER!C8=\"\",\"\",PREENCHER!C8)","v":"QUILO"},{"$f":"IF(PREENCHER!D8=\"\",\"\",PREENCHER!D8)","v":462},{"$f":"IF(PREENCHER!E8=\"\",\"\",IF(COUNTIF(PREENCHER!$AH8:$AJ8,PREENCHER!E8)=0,CONCATENATE(PREENCHER!AQ8,#REF!),PREENCHER!E8))","v":{"$error":"#REF!"}},{"$f":"IF(PREENCHER!F8=\"\",\"\",IF(COUNTIF(PREENCHER!$AH8:$AJ8,PREENCHER!F8)=0,CONCATENATE(PREENCHER!AR8,#REF!),PREENCHER!F8))","v":{"$error":"#REF!"}},{"$f":"IF(PREENCHER!G8=\"\",\"\",IF(COUNTIF(PREENCHER!$AH8:$AJ8,PREENCHER!G8)=0,CONCATENATE(PREENCHER!AS8,#REF!),PREENCHER!G8))","v":""},{"$f":"IF(PREENCHER!H8=\"\",\"\",IF(COUNTIF(PREENCHER!$AH8:$AJ8,PREENCHER!H8)=0,CONCATENATE(PREENCHER!AT8,#REF!),PREENCHER!H8))","v":41.65},{"$f":"IF(PREENCHER!I8=\"\",\"\",IF(COUNTIF(PREENCHER!$AH8:$AJ8,PREENCHER!I8)=0,CONCATENATE(PREENCHER!AU8,#REF!),PREENCHER!I8))","v":""},{"$f":"IF(PREENCHER!J8=\"\",\"\",IF(COUNTIF(PREENCHER!$AH8:$AJ8,PREENCHER!J8)=0,CONCATENATE(PREENCHER!AV8,#REF!),PREENCHER!J8))","v":""},{"$f":"IF(PREENCHER!K8=\"\",\"\",IF(COUNTIF(PREENCHER!$AH8:$AJ8,PREENCHER!K8)=0,CONCATENATE(PREENCHER!AW8,#REF!),PREENCHER!K8))","v":""},{"$f":"IF(PREENCHER!L8=\"\",\"\",IF(COUNTIF(PREENCHER!$AH8:$AJ8,PREENCHER!L8)=0,CONCATENATE(PREENCHER!AX8,#REF!),PREENCHER!L8))","v":""},{"$f":"IF(PREENCHER!M8=\"\",\"\",IF(COUNTIF(PREENCHER!$AH8:$AJ8,PREENCHER!M8)=0,CONCATENATE(PREENCHER!AY8,#REF!),PREENCHER!M8))","v":""},{"$f":"IF(PREENCHER!N8=\"\",\"\",IF(COUNTIF(PREENCHER!$AH8:$AJ8,PREENCHER!N8)=0,CONCATENATE(PREENCHER!AZ8,#REF!),PREENCHER!N8))","v":""},{"$f":"IF(ISERROR(ROUND(AVERAGE(E8:N8),2)),\"\",ROUND(AVERAGE(E8:N8),2))","v":""},{"$f":"IF(ISERROR(ROUND(O8*D8,2)),\"\",ROUND(O8*D8,2))","v":""},null,null,{"$f":"IF(ISERROR(MEDIAN(E8:N8)),\"\",MEDIAN(E8:N8))","v":""},{"$f":"IF(ISERROR(STDEV(E8:N8)),\"\",STDEV(E8:N8))","v":""},{"$f":"IF(ISERROR(T8/O8),\"\",T8/O8)","v":""}]
[{"$f":"IF(PREENCHER!A9=\"\",\"\",PREENCHER!A9)","v":2},{"$f":"IF(PREENCHER!B9=\"\",\"\",PREENCHER!B9)","v":"BOLO CASEIRO"},{"$f":"IF(PREENCHER!C9=\"\",\"\",PREENCHER!C9)","v":"UNIDADE"},{"$f":"IF(PREENCHER!D9=\"\",\"\",PREENCHER!D9)","v":40},{"$f":"IF(PREENCHER!E9=\"\",\"\",IF(COUNTIF(PREENCHER!$AH9:$AJ9,PREENCHER!E9)=0,CONCATENATE(PREENCHER!AQ9,#REF!),PREENCHER!E9))","v":{"$error":"#REF!"}},{"$f":"IF(PREENCHER!F9=\"\",\"\",IF(COUNTIF(PREENCHER!$AH9:$AJ9,PREENCHER!F9)=0,CONCATENATE(PREENCHER!AR9,#REF!),PREENCHER!F9))","v":22.69},{"$f":"IF(PREENCHER!G9=\"\",\"\",IF(COUNTIF(PREENCHER!$AH9:$AJ9,PREENCHER!G9)=0,CONCATENATE(PREENCHER!AS9,#REF!),PREENCHER!G9))","v":""},{"$f":"IF(PREENCHER!H9=\"\",\"\",IF(COUNTIF(PREENCHER!$AH9:$AJ9,PREENCHER!H9)=0,CONCATENATE(PREENCHER!AT9,#REF!),PREENCHER!H9))","v":30},{"$f":"IF(PREENCHER!I9=\"\",\"\",IF(COUNTIF(PREENCHER!$AH9:$AJ9,PREENCHER!I9)=0,CONCATENATE(PREENCHER!AU9,#REF!),PREENCHER!I9))","v":{"$error":"#REF!"}},{"$f":"IF(PREENCHER!J9=\"\",\"\",IF(COUNTIF(PREENCHER!$AH9:$AJ9,PREENCHER!J9)=0,CONCATENATE(PREENCHER!AV9,#REF!),PREENCHER!J9))","v":38.33},{"$f":"IF(PREENCHER!K9=\"\",\"\",IF(COUNTIF(PREENCHER!$AH9:$AJ9,PREENCHER!K9)=0,CONCATENATE(PREENCHER!AW9,#REF!),PREENCHER!K9))","v":""},{"$f":"IF(PREENCHER!L9=\"\",\"\",IF(COUNTIF(PREENCHER!$AH9:$AJ9,PREENCHER!L9)=0,CONCATENATE(PREENCHER!AX9,#REF!),PREENCHER!L9))","v":""},{"$f":"IF(PREENCHER!M9=\"\",\"\",IF(COUNTIF(PREENCHER!$AH9:$AJ9,PREENCHER!M9)=0,CONCATENATE(PREENCHER!AY9,#REF!),PREENCHER!M9))","v":""},{"$f":"IF(PREENCHER!N9=\"\",\"\",IF(COUNTIF(PREENCHER!$AH9:$AJ9,PREENCHER!N9)=0,CONCATENATE(PREENCHER!AZ9,#REF!),PREENCHER!N9))","v":""},{"$f":"IF(ISERROR(ROUND(AVERAGE(E9:N9),2)),\"\",ROUND(AVERAGE(E9:N9),2))","v":""},{"$f":"IF(ISERROR(ROUND(O9*D9,2)),\"\",ROUND(O9*D9,2))","v":""},null,null,{"$f":"IF(ISERROR(MEDIAN(E9:N9)),\"\",MEDIAN(E9:N9))","v":""},{"$f":"IF(ISERROR(STDEV(E9:N9)),\"\",STDEV(E9:N9))","v":""},{"$f":"IF(ISERROR(T9/O9),\"\",T9/O9)","v":""}]
[{"$f":"IF(PREENCHER!A10=\"\",\"\",PREENCHER!A10)","v":3},{"$f":"IF(PREENCHER!B10=\"\",\"\",PREENCHER!B10)","v":"SANDUÍCHE NATURAL"},{"$f":"IF(PREENCHER!C10=\"\",\"\",PREENCHER!C10)","v":"UNIDADE"},{"$f":"IF(PREENCHER!D10=\"\",\"\",PREENCHER!D10)","v":800},{"$f":"IF(PREENCHER!E10=\"\",\"\",IF(COUNTIF(PREENCHER!$AH10:$AJ10,PREENCHER!E10)=0,CONCATENATE(PREENCHER!AQ10,#REF!),PREENCHER!E10))","v":{"$error":"#REF!"}},{"$f":"IF(PREENCHER!F10=\"\",\"\",IF(COUNTIF(PREENCHER!$AH10:$AJ10,PREENCHER!F10)=0,CONCATENATE(PREENCHER!AR10,#REF!),PREENCHER!F10))","v":10.9},{"$f":"IF(PREENCHER!G10=\"\",\"\",IF(COUNTIF(PREENCHER!$AH10:$AJ10,PREENCHER!G10)=0,CONCATENATE(PREENCHER!AS10,#REF!),PREENCHER!G10))","v":""},{"$f":"IF(PREENCHER!H10=\"\",\"\",IF(COUNTIF(PREENCHER!$AH10:$AJ10,PREENCHER!H10)=0,CONCATENATE(PREENCHER!AT10,#REF!),PREENCHER!H10))","v":{"$error":"#REF!"}},{"$f":"IF(PREENCHER!I10=\"\",\"\",IF(COUNTIF(PREENCHER!$AH10:$AJ10,PREENCHER!I10)=0,CONCATENATE(PREENCHER!AU10,#REF!),PREENCHER!I10))","v":""},{"$f":"IF(PREENCHER!J10=\"\",\"\",IF(COUNTIF(PREENCHER!$AH10:$AJ10,PREENCHER!J10)=0,CONCATENATE(PREENCHER!AV10,#REF!),PREENCHER!J10))","v":""},{"$f":"IF(PREENCHER!K10=\"\",\"\",IF(COUNTIF(PREENCHER!$AH10:$AJ10,PREENCHER!K10)=0,CONCATENATE(PREENCHER!AW10,#REF!),PREENCHER!K10))","v":""},{"$f":"IF(PREENCHER!L10=\"\",\"\",IF(COUNTIF(PREENCHER!$AH10:$AJ10,PREENCHER!L10)=0,CONCATENATE(PREENCHER!AX10,#REF!),PREENCHER!L10))","v":""},{"$f":"IF(PREENCHER!M10=\"\",\"\",IF(COUNTIF(PREENCHER!$AH10:$AJ10,PREENCHER!M10)=0,CONCATENATE(PREENCHER!AY10,#REF!),PREENCHER!M10))","v":""},{"$f":"IF(PREENCHER!N10=\"\",\"\",IF(COUNTIF(PREENCHER!$AH10:$AJ10,PREENCHER!N10)=0,CONCATENATE(PREENCHER!AZ10,#REF!),PREENCHER!N10))","v":""},{"$f":"IF(ISERROR(ROUND(AVERAGE(E10:N10),2)),\"\",ROUND(AVERAGE(E10:N10),2))","v":""},{"$f":"IF(ISERROR(ROUND(O10*D10,2)),\"\",ROUND(O10*D10,2))","v":""},null,null,{"$f":"IF(ISERROR(MEDIAN(E10:N10)),\"\",MEDIAN(E10:N10))","v":""},{"$f":"IF(ISERROR(STDEV(E10:N10)),\"\",STDEV(E10:N10))","v":""},{"$f":"IF(ISERROR(T10/O10),\"\",T10/O10)","v":""}]
[{"$f":"IF(PREENCHER!A11=\"\",\"\",PREENCHER!A11)","v":4},{"$f":"IF(PREENCHER!B11=\"\",\"\",PREENCHER!B11)","v":"EMPADA DE FRANGO"},{"$f":"IF(PREENCHER!C11=\"\",\"\",PREENCHER!C11)","v":"CENTENA"},{"$f":"IF(PREENCHER!D11=\"\",\"\",PREENCHER!D11)","v":52},{"$f":"IF(PREENCHER!E11=\"\",\"\",IF(COUNTIF(PREENCHER!$AH11:$AJ11,PREENCHER!E11)=0,CONCATENATE(PREENCHER!AQ11,#REF!),PREENCHER!E11))","v":106},{"$f":"IF(PREENCHER!F11=\"\",\"\",IF(COUNTIF(PREENCHER!$AH11:$AJ11,PREENCHER!F11)=0,CONCATENATE(PREENCHER!AR11,#REF!),PREENCHER!F11))","v":{"$error":"#REF!"}},{"$f":"IF(PREENCHER!G11=\"\",\"\",IF(COUNTIF(PREENCHER!$AH11:$AJ11,PREENCHER!G11)=0,CONCATENATE(PREENCHER!AS11,#REF!),PREENCHER!G11))","v":""},{"$f":"IF(PREENCHER!H11=\"\",\"\",IF(COUNTIF(PREENCHER!$AH11:$AJ11,PREENCHER!H11)=0,CONCATENATE(PREENCHER!AT11,#REF!),PREENCHER!H11))","v":{"$error":"#REF!"}},{"$f":"IF(PREENCHER!I11=\"\",\"\",IF(COUNTIF(PREENCHER!$AH11:$AJ11,PREENCHER!I11)=0,CONCATENATE(PREENCHER!AU11,#REF!),PREENCHER!I11))","v":""},{"$f":"IF(PREENCHER!J11=\"\",\"\",IF(COUNTIF(PREENCHER!$AH11:$AJ11,PREENCHER!J11)=0,CONCATENATE(PREENCHER!AV11,#REF!),PREENCHER!J11))","v":""},{"$f":"IF(PREENCHER!K11=\"\",\"\",IF(COUNTIF(PREENCHER!$AH11:$AJ11,PREENCHER!K11)=0,CONCATENATE(PREENCHER!AW11,#REF!),PREENCHER!K11))","v":""},{"$f":"IF(PREENCHER!L11=\"\",\"\",IF(COUNTIF(PREENCHER!$AH11:$AJ11,PREENCHER!L11)=0,CONCATENATE(PREENCHER!AX11,#REF!),PREENCHER!L11))","v":""},{"$f":"IF(PREENCHER!M11=\"\",\"\",IF(COUNTIF(PREENCHER!$AH11:$AJ11,PREENCHER!M11)=0,CONCATENATE(PREENCHER!AY11,#REF!),PREENCHER!M11))","v":""},{"$f":"IF(PREENCHER!N11=\"\",\"\",IF(COUNTIF(PREENCHER!$AH11:$AJ11,PREENCHER!N11)=0,CONCATENATE(PREENCHER!AZ11,#REF!),PREENCHER!N11))","v":""},{"$f":"IF(ISERROR(ROUND(AVERAGE(E11:N11),2)),\"\",ROUND(AVERAGE(E11:N11),2))","v":""},{"$f":"IF(ISERROR(ROUND(O11*D11,2)),\"\",ROUND(O11*D11,2))","v":""},null,null,{"$f":"IF(ISERROR(MEDIAN(E11:N11)),\"\",MEDIAN(E11:N11))","v":""},{"$f":"IF(ISERROR(STDEV(E11:N11)),\"\",STDEV(E11:N11))","v":""},{"$f":"IF(ISERROR(T11/O11),\"\",T11/O11)","v":""}]
[{"$f":"IF(PREENCHER!A12=\"\",\"\",PREENCHER!A12)","v":5},{"$f":"IF(PREENCHER!B12=\"\",\"\",PREENCHER!B12)","v":"BROINHA DE MILHO"},{"$f":"IF(PREENCHER!C12=\"\",\"\",PREENCHER!C12)","v":"QUILO"},{"$f":"IF(PREENCHER!D12=\"\",\"\",PREENCHER!D12)","v":6},{"$f":"IF(PREENCHER!E12=\"\",\"\",IF(COUNTIF(PREENCHER!$AH12:$AJ12,PREENCHER!E12)=0,CONCATENATE(PREENCHER!AQ12,#REF!),PREENCHER!E12))","v":{"$error":"#REF!"}},{"$f":"IF(PREENCHER!F12=\"\",\"\",IF(COUNTIF(PREENCHER!$AH12:$AJ12,PREENCHER!F12)=0,CONCATENATE(PREENCHER!AR12,#REF!),PREENCHER!F12))","v":{"$error":"#REF!"}},{"$f":"IF(PREENCHER!G12=\"\",\"\",IF(COUNTIF(PREENCHER!$AH12:$AJ12,PREENCHER!G12)=0,CONCATENATE(PREENCHER!AS12,#REF!),PREENCHER!G12))","v":""},{"$f":"IF(PREENCHER!H12=\"\",\"\",IF(COUNTIF(PREENCHER!$AH12:$AJ12,PREENCHER!H12)=0,CONCATENATE(PREENCHER!AT12,#REF!),PREENCHER!H12))","v":32.99},{"$f":"IF(PREENCHER!I12=\"\",\"\",IF(COUNTIF(PREENCHER!$AH12:$AJ12,PREENCHER!I12)=0,CONCATENATE(PREENCHER!AU12,#REF!),PREENCHER!I12))","v":""},{"$f":"IF(PREENCHER!J12=\"\",\"\",IF(COUNTIF(PREENCHER!$AH12:$AJ12,PREENCHER!J12)=0,CONCATENATE(PREENCHER!AV12,#REF!),PREENCHER!J12))","v":""},{"$f":"IF(PREENCHER!K12=\"\",\"\",IF(COUNTIF(PREENCHER!$AH12:$AJ12,PREENCHER!K12)=0,CONCATENATE(PREENCHER!AW12,#REF!),PREENCHER!K12))","v":""},{"$f":"IF(PREENCHER!L12=\"\",\"\",IF(COUNTIF(PREENCHER!$AH12:$AJ12,PREENCHER!L12)=0,CONCATENATE(PREENCHER!AX12,#REF!),PREENCHER!L12))","v":""},{"$f":"IF(PREENCHER!M12=\"\",\"\",IF(COUNTIF(PREENCHER!$AH12:$AJ12,PREENCHER!M12)=0,CONCATENATE(PREENCHER!AY12,#REF!),PREENCHER!M12))","v":""},{"$f":"IF(PREENCHER!N12=\"\",\"\",IF(COUNTIF(PREENCHER!$AH12:$AJ12,PREENCHER!N12)=0,CONCATENATE(PREENCHER!AZ12,#REF!),PREENCHER!N12))","v":""},{"$f":"IF(ISERROR(ROUND(AVERAGE(E12:N12),2)),\"\",ROUND(AVERAGE(E12:N12),2))","v":""},{"$f":"IF(ISERROR(ROUND(O12*D12,2)),\"\",ROUND(O12*D12,2))","v":""},null,null,{"$f":"IF(ISERROR(MEDIAN(E12:N12)),\"\",MEDIAN(E12:N12))","v":""},{"$f":"IF(ISERROR(STDEV(E12:N12)),\"\",STDEV(E12:N12))","v":""},{"$f":"IF(ISERROR(T12/O12),\"\",T12/O12)","v":""}]
[{"$f":"IF(PREENCHER!A13=\"\",\"\",PREENCHER!A13)","v":6},{"$f":"IF(PREENCHER!B13=\"\",\"\",PREENCHER!B13)","v":"BOLINHO RECHEADO"},{"$f":"IF(PREENCHER!C13=\"\",\"\",PREENCHER!C13)","v":"UNIDADE"},{"$f":"IF(PREENCHER!D13=\"\",\"\",PREENCHER!D13)","v":1580},{"$f":"IF(PREENCHER!E13=\"\",\"\",IF(COUNTIF(PREENCHER!$AH13:$AJ13,PREENCHER!E13)=0,CONCATENATE(PREENCHER!AQ13,#REF!),PREENCHER!E13))","v":{"$error":"#REF!"}},{"$f":"IF(PREENCHER!F13=\"\",\"\",IF(COUNTIF(PREENCHER!$AH13:$AJ13,PREENCHER!F13)=0,CONCATENATE(PREENCHER!AR13,#REF!),PREENCHER!F13))","v":2.7},{"$f":"IF(PREENCHER!G13=\"\",\"\",IF(COUNTIF(PREENCHER!$AH13:$AJ13,PREENCHER!G13)=0,CONCATENATE(PREENCHER!AS13,#REF!),PREENCHER!G13))","v":""},{"$f":"IF(PREENCHER!H13=\"\",\"\",IF(COUNTIF(PREENCHER!$AH13:$AJ13,PREENCHER!H13)=0,CONCATENATE(PREENCHER!AT13,#REF!),PREENCHER!H13))","v":{"$error":"#REF!"}},{"$f":"IF(PREENCHER!I13=\"\",\"\",IF(COUNTIF(PREENCHER!$AH13:$AJ13,PREENCHER!I13)=0,CONCATENATE(PREENCHER!AU13,#REF!),PREENCHER!I13))","v":""},{"$f":"IF(PREENCHER!J13=\"\",\"\",IF(COUNTIF(PREENCHER!$AH13:$AJ13,PREENCHER!J13)=0,CONCATENATE(PREENCHER!AV13,#REF!),PREENCHER!J13))","v":""},{"$f":"IF(PREENCHER!K13=\"\",\"\",IF(COUNTIF(PREENCHER!$AH13:$AJ13,PREENCHER!K13)=0,CONCATENATE(PREENCHER!AW13,#REF!),PREENCHER!K13))","v":""},{"$f":"IF(PREENCHER!L13=\"\",\"\",IF(COUNTIF(PREENCHER!$AH13:$AJ13,PREENCHER!L13)=0,CONCATENATE(PREENCHER!AX13,#REF!),PREENCHER!L13))","v":""},{"$f":"IF(PREENCHER!M13=\"\",\"\",IF(COUNTIF(PREENCHER!$AH13:$AJ13,PREENCHER!M13)=0,CONCATENATE(PREENCHER!AY13,#REF!),PREENCHER!M13))","v":""},{"$f":"IF(PREENCHER!N13=\"\",\"\",IF(COUNTIF(PREENCHER!$AH13:$AJ13,PREENCHER!N13)=0,CONCATENATE(PREENCHER!AZ13,#REF!),PREENCHER!N13))","v":""},{"$f":"IF(ISERROR(ROUND(AVERAGE(E13:N13),2)),\"\",ROUND(AVERAGE(E13:N13),2))","v":""},{"$f":"IF(ISERROR(ROUND(O13*D13,2)),\"\",ROUND(O13*D13,2))","v":""},null,null,{"$f":"IF(ISERROR(MEDIAN(E13:N13)),\"\",MEDIAN(E13:N13))","v":""},{"$f":"IF(ISERROR(STDEV(E13:N13)),\"\",STDEV(E13:N13))","v":""},{"$f":"IF(ISERROR(T13/O13),\"\",T13/O13)","v":""}]
[{"$f":"IF(PREENCHER!A14=\"\",\"\",PREENCHER!A14)","v":7},{"$f":"IF(PREENCHER!B14=\"\",\"\",PREENCHER!B14)","v":"ESFIRRA DE CARNE"},{"$f":"IF(PREENCHER!C14=\"\",\"\",PREENCHER!C14)","v":"CENTENA"},{"$f":"IF(PREENCHER!D14=\"\",\"\",PREENCHER!D14)","v":7},{"$f":"IF(PREENCHER!E14=\"\",\"\",IF(COUNTIF(PREENCHER!$AH14:$AJ14,PREENCHER!E14)=0,CONCATENATE(PREENCHER!AQ14,#REF!),PREENCHER!E14))","v":100},{"$f":"IF(PREENCHER!F14=\"\",\"\",IF(COUNTIF(PREENCHER!$AH14:$AJ14,PREENCHER!F14)=0,CONCATENATE(PREENCHER!AR14,#REF!),PREENCHER!F14))","v":{"$error":"#REF!"}},{"$f":"IF(PREENCHER!G14=\"\",\"\",IF(COUNTIF(PREENCHER!$AH14:$AJ14,PREENCHER!G14)=0,CONCATENATE(PREENCHER!AS14,#REF!),PREENCHER!G14))","v":""},{"$f":"IF(PREENCHER!H14=\"\",\"\",IF(COUNTIF(PREENCHER!$AH14:$AJ14,PREENCHER!H14)=0,CONCATENATE(PREENCHER!AT14,#REF!),PREENCHER!H14))","v":{"$error":"#REF!"}},{"$f":"IF(PREENCHER!I14=\"\",\"\",IF(COUNTIF(PREENCHER!$AH14:$AJ14,PREENCHER!I14)=0,CONCATENATE(PREENCHER!AU14,#REF!),PREENCHER!I14))","v":""},{"$f":"IF(PREENCHER!J14=\"\",\"\",IF(COUNTIF(PREENCHER!$AH14:$AJ14,PREENCHER!J14)=0,CONCATENATE(PREENCHER!AV14,#REF!),PREENCHER!J14))","v":""},{"$f":"IF(PREENCHER!K14=\"\",\"\",IF(COUNTIF(PREENCHER!$AH14:$AJ14,PREENCHER!K14)=0,CONCATENATE(PREENCHER!AW14,#REF!),PREENCHER!K14))","v":""},{"$f":"IF(PREENCHER!L14=\"\",\"\",IF(COUNTIF(PREENCHER!$AH14:$AJ14,PREENCHER!L14)=0,CONCATENATE(PREENCHER!AX14,#REF!),PREENCHER!L14))","v":""},{"$f":"IF(PREENCHER!M14=\"\",\"\",IF(COUNTIF(PREENCHER!$AH14:$AJ14,PREENCHER!M14)=0,CONCATENATE(PREENCHER!AY14,#REF!),PREENCHER!M14))","v":""},{"$f":"IF(PREENCHER!N14=\"\",\"\",IF(COUNTIF(PREENCHER!$AH14:$AJ14,PREENCHER!N14)=0,CONCATENATE(PREENCHER!AZ14,#REF!),PREENCHER!N14))","v":""},{"$f":"IF(ISERROR(ROUND(AVERAGE(E14:N14),2)),\"\",ROUND(AVERAGE(E14:N14),2))","v":""},{"$f":"IF(ISERROR(ROUND(O14*D14,2)),\"\",ROUND(O14*D14,2))","v":""},null,null,{"$f":"IF(ISERROR(MEDIAN(E14:N14)),\"\",MEDIAN(E14:N14))","v":""},{"$f":"IF(ISERROR(STDEV(E14:N14)),\"\",STDEV(E14:N14))","v":""},{"$f":"IF(ISERROR(T14/O14),\"\",T14/O14)","v":""}]
[{"$f":"IF(PREENCHER!A15=\"\",\"\",PREENCHER!A15)","v":8},{"$f":"IF(PREENCHER!B15=\"\",\"\",PREENCHER!B15)","v":"BISCOITO CASEIRO"},{"$f":"IF(PREENCHER!C15=\"\",\"\",PREENCHER!C15)","v":"QUILO"},{"$f":"IF(PREENCHER!D15=\"\",\"\",PREENCHER!D15)","v":23},{"$f":"IF(PREENCHER!E15=\"\",\"\",IF(COUNTIF(PREENCHER!$AH15:$AJ15,PREENCHER!E15)=0,CONCATENATE(PREENCHER!AQ15,#REF!),PREENCHER!E15))","v":40},{"$f":"IF(PREENCHER!F15=\"\",\"\",IF(COUNTIF(PREENCHER!$AH15:$AJ15,PREENCHER!F15)=0,CONCATENATE(PREENCHER!AR15,#REF!),PREENCHER!F15))","v":{"$error":"#REF!"}},{"$f":"IF(PREENCHER!G15=\"\",\"\",IF(COUNTIF(PREENCHER!$AH15:$AJ15,PREENCHER!G15)=0,CONCATENATE(PREENCHER!AS15,#REF!),PREENCHER!G15))","v":""},{"$f":"IF(PREENCHER!H15=\"\",\"\",IF(COUNTIF(PREENCHER!$AH15:$AJ15,PREENCHER!H15)=0,CONCATENATE(PREENCHER!AT15,#REF!),PREENCHER!H15))","v":{"$error":"#REF!"}},{"$f":"IF(PREENCHER!I15=\"\",\"\",IF(COUNTIF(PREENCHER!$AH15:$AJ15,PREENCHER!I15)=0,CONCATENATE(PREENCHER!AU15,#REF!),PREENCHER!I15))","v":""},{"$f":"IF(PREENCHER!J15=\"\",\"\",IF(COUNTIF(PREENCHER!$AH15:$AJ15,PREENCHER!J15)=0,CONCATENATE(PREENCHER!AV15,#REF!),PREENCHER!J15))","v":""},{"$f":"IF(PREENCHER!K15=\"\",\"\",IF(COUNTIF(PREENCHER!$AH15:$AJ15,PREENCHER!K15)=0,CONCATENATE(PREENCHER!AW15,#REF!),PREENCHER!K15))","v":""},{"$f":"IF(PREENCHER!L15=\"\",\"\",IF(COUNTIF(PREENCHER!$AH15:$AJ15,PREENCHER!L15)=0,CONCATENATE(PREENCHER!AX15,#REF!),PREENCHER!L15))","v":""},{"$f":"IF(PREENCHER!M15=\"\",\"\",IF(COUNTIF(PREENCHER!$AH15:$AJ15,PREENCHER!M15)=0,CONCATENATE(PREENCHER!AY15,#REF!),PREENCHER!M15))","v":""},{"$f":"IF(PREENCHER!N15=\"\",\"\",IF(COUNTIF(PREENCHER!$AH15:$AJ15,PREENCHER!N15)=0,CONCATENATE(PREENCHER!AZ15,#REF!),PREENCHER!N15))","v":""},{"$f":"IF(ISERROR(ROUND(AVERAGE(E15:N15),2)),\"\",ROUND(AVERAGE(E15:N15),2))","v":""},{"$f":"IF(ISERROR(ROUND(O15*D15,2)),\"\",ROUND(O15*D15,2))","v":""},null,null,{"$f":"IF(ISERROR(MEDIAN(E15:N15)),\"\",MEDIAN(E15:N15))","v":""},{"$f":"IF(ISERROR(STDEV(E15:N15)),\"\",STDEV(E15:N15))","v":""},{"$f":"IF(ISERROR(T15/O15),\"\",T15/O15)","v":""}]
[{"$f":"IF(PREENCHER!A16=\"\",\"\",PREENCHER!A16)","v":9},{"$f":"IF(PREENCHER!B16=\"\",\"\",PREENCHER!B16)","v":"SUCO DE FRUTAS"},{"$f":"IF(PREENCHER!C16=\"\",\"\",PREENCHER!C16)","v":"LITRO"},{"$f":"IF(PREENCHER!D16=\"\",\"\",PREENCHER!D16)","v":364},{"$f":"IF(PREENCHER!E16=\"\",\"\",IF(COUNTIF(PREENCHER!$AH16:$AJ16,PREENCHER!E16)=0,CONCATENATE(PREENCHER!AQ16,#REF!),PREENCHER!E16))","v":{"$error":"#REF!"}},{"$f":"IF(PREENCHER!F16=\"\",\"\",IF(COUNTIF(PREENCHER!$AH16:$AJ16,PREENCHER!F16)=0,CONCATENATE(PREENCHER!AR16,#REF!),PREENCHER!F16))","v":{"$error":"#REF!"}},{"$f":"IF(PREENCHER!G16=\"\",\"\",IF(COUNTIF(PREENCHER!$AH16:$AJ16,PREENCHER!G16)=0,CONCATENATE(PREENCHER!AS16,#REF!),PREENCHER!G16))","v":""},{"$f":"IF(PREENCHER!H16=\"\",\"\",IF(COUNTIF(PREENCHER!$AH16:$AJ16,PREENCHER!H16)=0,CONCATENATE(PREENCHER!AT16,#REF!),PREENCHER!H16))","v":10.3},{"$f":"IF(PREENCHER!I16=\"\",\"\",IF(COUNTIF(PREENCHER!$AH16:$AJ16,PREENCHER!I16)=0,CONCATENATE(PREENCHER!AU16,#REF!),PREENCHER!I16))","v":""},{"$f":"IF(PREENCHER!J16=\"\",\"\",IF(COUNTIF(PREENCHER!$AH16:$AJ16,PREENCHER!J16)=0,CONCATENATE(PREENCHER!AV16,#REF!),PREENCHER!J16))","v":""},{"$f":"IF(PREENCHER!K16=\"\",\"\",IF(COUNTIF(PREENCHER!$AH16:$AJ16,PREENCHER!K16)=0,CONCATENATE(PREENCHER!AW16,#REF!),PREENCHER!K16))","v":""},{"$f":"IF(PREENCHER!L16=\"\",\"\",IF(COUNTIF(PREENCHER!$AH16:$AJ16,PREENCHER!L16)=0,CONCATENATE(PREENCHER!AX16,#REF!),PREENCHER!L16))","v":""},{"$f":"IF(PREENCHER!M16=\"\",\"\",IF(COUNTIF(PREENCHER!$AH16:$AJ16,PREENCHER!M16)=0,CONCATENATE(PREENCHER!AY16,#REF!),PREENCHER!M16))","v":""},{"$f":"IF(PREENCHER!N16=\"\",\"\",IF(COUNTIF(PREENCHER!$AH16:$AJ16,PREENCHER!N16)=0,CONCATENATE(PREENCHER!AZ16,#REF!),PREENCHER!N16))","v":""},{"$f":"IF(ISERROR(ROUND(AVERAGE(E16:N16),2)),\"\",ROUND(AVERAGE(E16:N16),2))","v":""},{"$f":"IF(ISERROR(ROUND(O16*D16,2)),\"\",ROUND(O16*D16,2))","v":""},null,null,{"$f":"IF(ISERROR(MEDIAN(E16:N16)),\"\",MEDIAN(E16:N16))","v":""},{"$f":"IF(ISERROR(STDEV(E16:N16)),\"\",STDEV(E16:N16))","v":""},{"$f":"IF(ISERROR(T16/O16),\"\",T16/O16)","v":""}]
[{"$f":"IF(PREENCHER!A17=\"\",\"\",PREENCHER!A17)","v":10},{"$f":"IF(PREENCHER!B17=\"\",\"\",PREENCHER!B17)","v":"SALADA DE FRUTAS"},{"$f":"IF(PREENCHER!C17=\"\",\"\",PREENCHER!C17)","v":"UNIDADE (150 GRAMAS)"},{"$f":"IF(PREENCHER!D17=\"\",\"\",PREENCHER!D17)","v":400},{"$f":"IF(PREENCHER!E17=\"\",\"\",IF(COUNTIF(PREENCHER!$AH17:$AJ17,PREENCHER!E17)=0,CONCATENATE(PREENCHER!AQ17,#REF!),PREENCHER!E17))","v":{"$error":"#REF!"}},{"$f":"IF(PREENCHER!F17=\"\",\"\",IF(COUNTIF(PREENCHER!$AH17:$AJ17,PREENCHER!F17)=0,CONCATENATE(PREENCHER!AR17,#REF!),PREENCHER!F17))","v":7.7},{"$f":"IF(PREENCHER!G17=\"\",\"\",IF(COUNTIF(PREENCHER!$AH17:$AJ17,PREENCHER!G17)=0,CONCATENATE(PREENCHER!AS17,#REF!),PREENCHER!G17))","v":""},{"$f":"IF(PREENCHER!H17=\"\",\"\",IF(COUNTIF(PREENCHER!$AH17:$AJ17,PREENCHER!H17)=0,CONCATENATE(PREENCHER!AT17,#REF!),PREENCHER!H17))","v":{"$error":"#REF!"}},{"$f":"IF(PREENCHER!I17=\"\",\"\",IF(COUNTIF(PREENCHER!$AH17:$AJ17,PREENCHER!I17)=0,CONCATENATE(PREENCHER!AU17,#REF!),PREENCHER!I17))","v":""},{"$f":"IF(PREENCHER!J17=\"\",\"\",IF(COUNTIF(PREENCHER!$AH17:$AJ17,PREENCHER!J17)=0,CONCATENATE(PREENCHER!AV17,#REF!),PREENCHER!J17))","v":""},{"$f":"IF(PREENCHER!K17=\"\",\"\",IF(COUNTIF(PREENCHER!$AH17:$AJ17,PREENCHER!K17)=0,CONCATENATE(PREENCHER!AW17,#REF!),PREENCHER!K17))","v":""},{"$f":"IF(PREENCHER!L17=\"\",\"\",IF(COUNTIF(PREENCHER!$AH17:$AJ17,PREENCHER!L17)=0,CONCATENATE(PREENCHER!AX17,#REF!),PREENCHER!L17))","v":""},{"$f":"IF(PREENCHER!M17=\"\",\"\",IF(COUNTIF(PREENCHER!$AH17:$AJ17,PREENCHER!M17)=0,CONCATENATE(PREENCHER!AY17,#REF!),PREENCHER!M17))","v":""},{"$f":"IF(PREENCHER!N17=\"\",\"\",IF(COUNTIF(PREENCHER!$AH17:$AJ17,PREENCHER!N17)=0,CONCATENATE(PREENCHER!AZ17,#REF!),PREENCHER!N17))","v":""},{"$f":"IF(ISERROR(ROUND(AVERAGE(E17:N17),2)),\"\",ROUND(AVERAGE(E17:N17),2))","v":""},{"$f":"IF(ISERROR(ROUND(O17*D17,2)),\"\",ROUND(O17*D17,2))","v":""},null,null,{"$f":"IF(ISERROR(MEDIAN(E17:N17)),\"\",MEDIAN(E17:N17))","v":""},{"$f":"IF(ISERROR(STDEV(E17:N17)),\"\",STDEV(E17:N17))","v":""},{"$f":"IF(ISERROR(T17/O17),\"\",T17/O17)","v":""}]
[{"$f":"IF(PREENCHER!A18=\"\",\"\",PREENCHER!A18)","v":11},{"$f":"IF(PREENCHER!B18=\"\",\"\",PREENCHER!B18)","v":"ENTREGAS"},{"$f":"IF(PREENCHER!C18=\"\",\"\",PREENCHER!C18)","v":"UNIDADE"},{"$f":"IF(PREENCHER!D18=\"\",\"\",PREENCHER!D18)","v":30},{"$f":"IF(PREENCHER!E18=\"\",\"\",IF(COUNTIF(PREENCHER!$AH18:$AJ18,PREENCHER!E18)=0,CONCATENATE(PREENCHER!AQ18,#REF!),PREENCHER!E18))","v":{"$error":"#REF!"}},{"$f":"IF(PREENCHER!F18=\"\",\"\",IF(COUNTIF(PREENCHER!$AH18:$AJ18,PREENCHER!F18)=0,CONCATENATE(PREENCHER!AR18,#REF!),PREENCHER!F18))","v":19},{"$f":"IF(PREENCHER!G18=\"\",\"\",IF(COUNTIF(PREENCHER!$AH18:$AJ18,PREENCHER!G18)=0,CONCATENATE(PREENCHER!AS18,#REF!),PREENCHER!G18))","v":""},{"$f":"IF(PREENCHER!H18=\"\",\"\",IF(COUNTIF(PREENCHER!$AH18:$AJ18,PREENCHER!H18)=0,CONCATENATE(PREENCHER!AT18,#REF!),PREENCHER!H18))","v":{"$error":"#REF!"}},{"$f":"IF(PREENCHER!I18=\"\",\"\",IF(COUNTIF(PREENCHER!$AH18:$AJ18,PREENCHER!I18)=0,CONCATENATE(PREENCHER!AU18,#REF!),PREENCHER!I18))","v":""},{"$f":"IF(PREENCHER!J18=\"\",\"\",IF(COUNTIF(PREENCHER!$AH18:$AJ18,PREENCHER!J18)=0,CONCATENATE(PREENCHER!AV18,#REF!),PREENCHER!J18))","v":""},{"$f":"IF(PREENCHER!K18=\"\",\"\",IF(COUNTIF(PREENCHER!$AH18:$AJ18,PREENCHER!K18)=0,CONCATENATE(PREENCHER!AW18,#REF!),PREENCHER!K18))","v":""},{"$f":"IF(PREENCHER!L18=\"\",\"\",IF(COUNTIF(PREENCHER!$AH18:$AJ18,PREENCHER!L18)=0,CONCATENATE(PREENCHER!AX18,#REF!),PREENCHER!L18))","v":""},{"$f":"IF(PREENCHER!M18=\"\",\"\",IF(COUNTIF(PREENCHER!$AH18:$AJ18,PREENCHER!M18)=0,CONCATENATE(PREENCHER!AY18,#REF!),PREENCHER!M18))","v":""},{"$f":"IF(PREENCHER!N18=\"\",\"\",IF(COUNTIF(PREENCHER!$AH18:$AJ18,PREENCHER!N18)=0,CONCATENATE(PREENCHER!AZ18,#REF!),PREENCHER!N18))","v":""},{"$f":"IF(ISERROR(ROUND(AVERAGE(E18:N18),2)),\"\",ROUND(AVERAGE(E18:N18),2))","v":""},{"$f":"IF(ISERROR(ROUND(O18*D18,2)),\"\",ROUND(O18*D18,2))","v":""},null,null,{"$f":"IF(ISERROR(MEDIAN(E18:N18)),\"\",MEDIAN(E18:N18))","v":""},{"$f":"IF(ISERROR(STDEV(E18:N18)),\"\",STDEV(E18:N18))","v":""},{"$f":"IF(ISERROR(T18/O18),\"\",T18/O18)","v":""}]
[{"$f":"IF(PREENCHER!A19=\"\",\"\",PREENCHER!A19)","v":""},{"$f":"IF(PREENCHER!B19=\"\",\"\",PREENCHER!B19)","v":""},{"$f":"IF(PREENCHER!C19=\"\",\"\",PREENCHER!C19)","v":""},{"$f":"IF(PREENCHER!D19=\"\",\"\",PREENCHER!D19)","v":""},{"$f":"IF(PREENCHER!E19=\"\",\"\",IF(COUNTIF(PREENCHER!$AH19:$AJ19,PREENCHER!E19)=0,CONCATENATE(PREENCHER!AQ19,#REF!),PREENCHER!E19))","v":""},{"$f":"IF(PREENCHER!F19=\"\",\"\",IF(COUNTIF(PREENCHER!$AH19:$AJ19,PREENCHER!F19)=0,CONCATENATE(PREENCHER!AR19,#REF!),PREENCHER!F19))","v":""},{"$f":"IF(PREENCHER!G19=\"\",\"\",IF(COUNTIF(PREENCHER!$AH19:$AJ19,PREENCHER!G19)=0,CONCATENATE(PREENCHER!AS19,#REF!),PREENCHER!G19))","v":""},{"$f":"IF(PREENCHER!H19=\"\",\"\",IF(COUNTIF(PREENCHER!$AH19:$AJ19,PREENCHER!H19)=0,CONCATENATE(PREENCHER!AT19,#REF!),PREENCHER!H19))","v":""},{"$f":"IF(PREENCHER!I19=\"\",\"\",IF(COUNTIF(PREENCHER!$AH19:$AJ19,PREENCHER!I19)=0,CONCATENATE(PREENCHER!AU19,#REF!),PREENCHER!I19))","v":""},{"$f":"IF(PREENCHER!J19=\"\",\"\",IF(COUNTIF(PREENCHER!$AH19:$AJ19,PREENCHER!J19)=0,CONCATENATE(PREENCHER!AV19,#REF!),PREENCHER!J19))","v":""},{"$f":"IF(PREENCHER!K19=\"\",\"\",IF(COUNTIF(PREENCHER!$AH19:$AJ19,PREENCHER!K19)=0,CONCATENATE(PREENCHER!AW19,#REF!),PREENCHER!K19))","v":""},{"$f":"IF(PREENCHER!L19=\"\",\"\",IF(COUNTIF(PREENCHER!$AH19:$AJ19,PREENCHER!L19)=0,CONCATENATE(PREENCHER!AX19,#REF!),PREENCHER!L19))","v":""},{"$f":"IF(PREENCHER!M19=\"\",\"\",IF(COUNTIF(PREENCHER!$AH19:$AJ19,PREENCHER!M19)=0,CONCATENATE(PREENCHER!AY19,#REF!),PREENCHER!M19))","v":""},{"$f":"IF(PREENCHER!N19=\"\",\"\",IF(COUNTIF(PREENCHER!$AH19:$AJ19,PREENCHER!N19)=0,CONCATENATE(PREENCHER!AZ19,#REF!),PREENCHER!N19))","v":""},{"$f":"IF(ISERROR(ROUND(AVERAGE(E19:N19),2)),\"\",ROUND(AVERAGE(E19:N19),2))","v":""},{"$f":"IF(ISERROR(ROUND(O19*D19,2)),\"\",ROUND(O19*D19,2))","v":""},null,null,{"$f":"IF(ISERROR(MEDIAN(E19:N19)),\"\",MEDIAN(E19:N19))","v":""},{"$f":"IF(ISERROR(STDEV(E19:N19)),\"\",STDEV(E19:N19))","v":""},{"$f":"IF(ISERROR(T19/O19),\"\",T19/O19)","v":""}]
[{"$f":"IF(PREENCHER!A20=\"\",\"\",PREENCHER!A20)","v":""},{"$f":"IF(PREENCHER!B20=\"\",\"\",PREENCHER!B20)","v":""},{"$f":"IF(PREENCHER!C20=\"\",\"\",PREENCHER!C20)","v":""},{"$f":"IF(PREENCHER!D20=\"\",\"\",PREENCHER!D20)","v":""},{"$f":"IF(PREENCHER!E20=\"\",\"\",IF(COUNTIF(PREENCHER!$AH20:$AJ20,PREENCHER!E20)=0,CONCATENATE(PREENCHER!AQ20,#REF!),PREENCHER!E20))","v":""},{"$f":"IF(PREENCHER!F20=\"\",\"\",IF(COUNTIF(PREENCHER!$AH20:$AJ20,PREENCHER!F20)=0,CONCATENATE(PREENCHER!AR20,#REF!),PREENCHER!F20))","v":""},{"$f":"IF(PREENCHER!G20=\"\",\"\",IF(COUNTIF(PREENCHER!$AH20:$AJ20,PREENCHER!G20)=0,CONCATENATE(PREENCHER!AS20,#REF!),PREENCHER!G20))","v":""},{"$f":"IF(PREENCHER!H20=\"\",\"\",IF(COUNTIF(PREENCHER!$AH20:$AJ20,PREENCHER!H20)=0,CONCATENATE(PREENCHER!AT20,#REF!),PREENCHER!H20))","v":""},{"$f":"IF(PREENCHER!I20=\"\",\"\",IF(COUNTIF(PREENCHER!$AH20:$AJ20,PREENCHER!I20)=0,CONCATENATE(PREENCHER!AU20,#REF!),PREENCHER!I20))","v":""},{"$f":"IF(PREENCHER!J20=\"\",\"\",IF(COUNTIF(PREENCHER!$AH20:$AJ20,PREENCHER!J20)=0,CONCATENATE(PREENCHER!AV20,#REF!),PREENCHER!J20))","v":""},{"$f":"IF(PREENCHER!K20=\"\",\"\",IF(COUNTIF(PREENCHER!$AH20:$AJ20,PREENCHER!K20)=0,CONCATENATE(PREENCHER!AW20,#REF!),PREENCHER!K20))","v":""},{"$f":"IF(PREENCHER!L20=\"\",\"\",IF(COUNTIF(PREENCHER!$AH20:$AJ20,PREENCHER!L20)=0,CONCATENATE(PREENCHER!AX20,#REF!),PREENCHER!L20))","v":""},{"$f":"IF(PREENCHER!M20=\"\",\"\",IF(COUNTIF(PREENCHER!$AH20:$AJ20,PREENCHER!M20)=0,CONCATENATE(PREENCHER!AY20,#REF!),PREENCHER!M20))","v":""},{"$f":"IF(PREENCHER!N20=\"\",\"\",IF(COUNTIF(PREENCHER!$AH20:$AJ20,PREENCHER!N20)=0,CONCATENATE(PREENCHER!AZ20,#REF!),PREENCHER!N20))","v":""},{"$f":"IF(ISERROR(ROUND(AVERAGE(E20:N20),2)),\"\",ROUND(AVERAGE(E20:N20),2))","v":""},{"$f":"IF(ISERROR(ROUND(O20*D20,2)),\"\",ROUND(O20*D20,2))","v":""},null,null,{"$f":"IF(ISERROR(MEDIAN(E20:N20)),\"\",MEDIAN(E20:N20))","v":""},{"$f":"IF(ISERROR(STDEV(E20:N20)),\"\",STDEV(E20:N20))","v":""},{"$f":"IF(ISERROR(T20/O20),\"\",T20/O20)","v":""}]
[{"$f":"IF(PREENCHER!A21=\"\",\"\",PREENCHER!A21)","v":""},{"$f":"IF(PREENCHER!B21=\"\",\"\",PREENCHER!B21)","v":""},{"$f":"IF(PREENCHER!C21=\"\",\"\",PREENCHER!C21)","v":""},{"$f":"IF(PREENCHER!D21=\"\",\"\",PREENCHER!D21)","v":""},{"$f":"IF(PREENCHER!E21=\"\",\"\",IF(COUNTIF(PREENCHER!$AH21:$AJ21,PREENCHER!E21)=0,CONCATENATE(PREENCHER!AQ21,#REF!),PREENCHER!E21))","v":""},{"$f":"IF(PREENCHER!F21=\"\",\"\",IF(COUNTIF(PREENCHER!$AH21:$AJ21,PREENCHER!F21)=0,CONCATENATE(PREENCHER!AR21,#REF!),PREENCHER!F21))","v":""},{"$f":"IF(PREENCHER!G21=\"\",\"\",IF(COUNTIF(PREENCHER!$AH21:$AJ21,PREENCHER!G21)=0,CONCATENATE(PREENCHER!AS21,#REF!),PREENCHER!G21))","v":""},{"$f":"IF(PREENCHER!H21=\"\",\"\",IF(COUNTIF(PREENCHER!$AH21:$AJ21,PREENCHER!H21)=0,CONCATENATE(PREENCHER!AT21,#REF!),PREENCHER!H21))","v":""},{"$f":"IF(PREENCHER!I21=\"\",\"\",IF(COUNTIF(PREENCHER!$AH21:$AJ21,PREENCHER!I21)=0,CONCATENATE(PREENCHER!AU21,#REF!),PREENCHER!I21))","v":""},{"$f":"IF(PREENCHER!J21=\"\",\"\",IF(COUNTIF(PREENCHER!$AH21:$AJ21,PREENCHER!J21)=0,CONCATENATE(PREENCHER!AV21,#REF!),PREENCHER!J21))","v":""},{"$f":"IF(PREENCHER!K21=\"\",\"\",IF(COUNTIF(PREENCHER!$AH21:$AJ21,PREENCHER!K21)=0,CONCATENATE(PREENCHER!AW21,#REF!),PREENCHER!K21))","v":""},{"$f":"IF(PREENCHER!L21=\"\",\"\",IF(COUNTIF(PREENCHER!$AH21:$AJ21,PREENCHER!L21)=0,CONCATENATE(PREENCHER!AX21,#REF!),PREENCHER!L21))","v":""},{"$f":"IF(PREENCHER!M21=\"\",\"\",IF(COUNTIF(PREENCHER!$AH21:$AJ21,PREENCHER!M21)=0,CONCATENATE(PREENCHER!AY21,#REF!),PREENCHER!M21))","v":""},{"$f":"IF(PREENCHER!N21=\"\",\"\",IF(COUNTIF(PREENCHER!$AH21:$AJ21,PREENCHER!N21)=0,CONCATENATE(PREENCHER!AZ21,#REF!),PREENCHER!N21))","v":""},{"$f":"IF(ISERROR(ROUND(AVERAGE(E21:N21),2)),\"\",ROUND(AVERAGE(E21:N21),2))","v":""},{"$f":"IF(ISERROR(ROUND(O21*D21,2)),\"\",ROUND(O21*D21,2))","v":""},null,null,{"$f":"IF(ISERROR(MEDIAN(E21:N21)),\"\",MEDIAN(E21:N21))","v":""},{"$f":"IF(ISERROR(STDEV(E21:N21)),\"\",STDEV(E21:N21))","v":""},{"$f":"IF(ISERROR(T21/O21),\"\",T21/O21)","v":""}]
[{"$f":"IF(PREENCHER!A22=\"\",\"\",PREENCHER!A22)","v":""},{"$f":"IF(PREENCHER!B22=\"\",\"\",PREENCHER!B22)","v":""},{"$f":"IF(PREENCHER!C22=\"\",\"\",PREENCHER!C22)","v":""},{"$f":"IF(PREENCHER!D22=\"\",\"\",PREENCHER!D22)","v":""},{"$f":"IF(PREENCHER!E22=\"\",\"\",IF(COUNTIF(PREENCHER!$AH22:$AJ22,PREENCHER!E22)=0,CONCATENATE(PREENCHER!AQ22,#REF!),PREENCHER!E22))","v":""},{"$f":"IF(PREENCHER!F22=\"\",\"\",IF(COUNTIF(PREENCHER!$AH22:$AJ22,PREENCHER!F22)=0,CONCATENATE(PREENCHER!AR22,#REF!),PREENCHER!F22))","v":""},{"$f":"IF(PREENCHER!G22=\"\",\"\",IF(COUNTIF(PREENCHER!$AH22:$AJ22,PREENCHER!G22)=0,CONCATENATE(PREENCHER!AS22,#REF!),PREENCHER!G22))","v":""},{"$f":"IF(PREENCHER!H22=\"\",\"\",IF(COUNTIF(PREENCHER!$AH22:$AJ22,PREENCHER!H22)=0,CONCATENATE(PREENCHER!AT22,#REF!),PREENCHER!H22))","v":""},{"$f":"IF(PREENCHER!I22=\"\",\"\",IF(COUNTIF(PREENCHER!$AH22:$AJ22,PREENCHER!I22)=0,CONCATENATE(PREENCHER!AU22,#REF!),PREENCHER!I22))","v":""},{"$f":"IF(PREENCHER!J22=\"\",\"\",IF(COUNTIF(PREENCHER!$AH22:$AJ22,PREENCHER!J22)=0,CONCATENATE(PREENCHER!AV22,#REF!),PREENCHER!J22))","v":""},{"$f":"IF(PREENCHER!K22=\"\",\"\",IF(COUNTIF(PREENCHER!$AH22:$AJ22,PREENCHER!K22)=0,CONCATENATE(PREENCHER!AW22,#REF!),PREENCHER!K22))","v":""},{"$f":"IF(PREENCHER!L22=\"\",\"\",IF(COUNTIF(PREENCHER!$AH22:$AJ22,PREENCHER!L22)=0,CONCATENATE(PREENCHER!AX22,#REF!),PREENCHER!L22))","v":""},{"$f":"IF(PREENCHER!M22=\"\",\"\",IF(COUNTIF(PREENCHER!$AH22:$AJ22,PREENCHER!M22)=0,CONCATENATE(PREENCHER!AY22,#REF!),PREENCHER!M22))","v":""},{"$f":"IF(PREENCHER!N22=\"\",\"\",IF(COUNTIF(PREENCHER!$AH22:$AJ22,PREENCHER!N22)=0,CONCATENATE(PREENCHER!AZ22,#REF!),PREENCHER!N22))","v":""},{"$f":"IF(ISERROR(ROUND(AVERAGE(E22:N22),2)),\"\",ROUND(AVERAGE(E22:N22),2))","v":""},{"$f":"IF(ISERROR(ROUND(O22*D22,2)),\"\",ROUND(O22*D22,2))","v":""},null,null,{"$f":"IF(ISERROR(MEDIAN(E22:N22)),\"\",MEDIAN(E22:N22))","v":""},{"$f":"IF(ISERROR(STDEV(E22:N22)),\"\",STDEV(E22:N22))","v":""},{"$f":"IF(ISERROR(T22/O22),\"\",T22/O22)","v":""}]
[{"$f":"IF(PREENCHER!A23=\"\",\"\",PREENCHER!A23)","v":""},{"$f":"IF(PREENCHER!B23=\"\",\"\",PREENCHER!B23)","v":""},{"$f":"IF(PREENCHER!C23=\"\",\"\",PREENCHER!C23)","v":""},{"$f":"IF(PREENCHER!D23=\"\",\"\",PREENCHER!D23)","v":""},{"$f":"IF(PREENCHER!E23=\"\",\"\",IF(COUNTIF(PREENCHER!$AH23:$AJ23,PREENCHER!E23)=0,CONCATENATE(PREENCHER!AQ23,#REF!),PREENCHER!E23))","v":""},{"$f":"IF(PREENCHER!F23=\"\",\"\",IF(COUNTIF(PREENCHER!$AH23:$AJ23,PREENCHER!F23)=0,CONCATENATE(PREENCHER!AR23,#REF!),PREENCHER!F23))","v":""},{"$f":"IF(PREENCHER!G23=\"\",\"\",IF(COUNTIF(PREENCHER!$AH23:$AJ23,PREENCHER!G23)=0,CONCATENATE(PREENCHER!AS23,#REF!),PREENCHER!G23))","v":""},{"$f":"IF(PREENCHER!H23=\"\",\"\",IF(COUNTIF(PREENCHER!$AH23:$AJ23,PREENCHER!H23)=0,CONCATENATE(PREENCHER!AT23,#REF!),PREENCHER!H23))","v":""},{"$f":"IF(PREENCHER!I23=\"\",\"\",IF(COUNTIF(PREENCHER!$AH23:$AJ23,PREENCHER!I23)=0,CONCATENATE(PREENCHER!AU23,#REF!),PREENCHER!I23))","v":""},{"$f":"IF(PREENCHER!J23=\"\",\"\",IF(COUNTIF(PREENCHER!$AH23:$AJ23,PREENCHER!J23)=0,CONCATENATE(PREENCHER!AV23,#REF!),PREENCHER!J23))","v":""},{"$f":"IF(PREENCHER!K23=\"\",\"\",IF(COUNTIF(PREENCHER!$AH23:$AJ23,PREENCHER!K23)=0,CONCATENATE(PREENCHER!AW23,#REF!),PREENCHER!K23))","v":""},{"$f":"IF(PREENCHER!L23=\"\",\"\",IF(COUNTIF(PREENCHER!$AH23:$AJ23,PREENCHER!L23)=0,CONCATENATE(PREENCHER!AX23,#REF!),PREENCHER!L23))","v":""},{"$f":"IF(PREENCHER!M23=\"\",\"\",IF(COUNTIF(PREENCHER!$AH23:$AJ23,PREENCHER!M23)=0,CONCATENATE(PREENCHER!AY23,#REF!),PREENCHER!M23))","v":""},{"$f":"IF(PREENCHER!N23=\"\",\"\",IF(COUNTIF(PREENCHER!$AH23:$AJ23,PREENCHER!N23)=0,CONCATENATE(PREENCHER!AZ23,#REF!),PREENCHER!N23))","v":""},{"$f":"IF(ISERROR(ROUND(AVERAGE(E23:N23),2)),\"\",ROUND(AVERAGE(E23:N23),2))","v":""},{"$f":"IF(ISERROR(ROUND(O23*D23,2)),\"\",ROUND(O23*D23,2))","v":""},null,null,{"$f":"IF(ISERROR(MEDIAN(E23:N23)),\"\",MEDIAN(E23:N23))","v":""},{"$f":"IF(ISERROR(STDEV(E23:N23)),\"\",STDEV(E23:N23))","v":""},{"$f":"IF(ISERROR(T23/O23),\"\",T23/O23)","v":""}]
[{"$f":"IF(PREENCHER!A24=\"\",\"\",PREENCHER!A24)","v":""},{"$f":"IF(PREENCHER!B24=\"\",\"\",PREENCHER!B24)","v":""},{"$f":"IF(PREENCHER!C24=\"\",\"\",PREENCHER!C24)","v":""},{"$f":"IF(PREENCHER!D24=\"\",\"\",PREENCHER!D24)","v":""},{"$f":"IF(PREENCHER!E24=\"\",\"\",IF(COUNTIF(PREENCHER!$AH24:$AJ24,PREENCHER!E24)=0,CONCATENATE(PREENCHER!AQ24,#REF!),PREENCHER!E24))","v":""},{"$f":"IF(PREENCHER!F24=\"\",\"\",IF(COUNTIF(PREENCHER!$AH24:$AJ24,PREENCHER!F24)=0,CONCATENATE(PREENCHER!AR24,#REF!),PREENCHER!F24))","v":""},{"$f":"IF(PREENCHER!G24=\"\",\"\",IF(COUNTIF(PREENCHER!$AH24:$AJ24,PREENCHER!G24)=0,CONCATENATE(PREENCHER!AS24,#REF!),PREENCHER!G24))","v":""},{"$f":"IF(PREENCHER!H24=\"\",\"\",IF(COUNTIF(PREENCHER!$AH24:$AJ24,PREENCHER!H24)=0,CONCATENATE(PREENCHER!AT24,#REF!),PREENCHER!H24))","v":""},{"$f":"IF(PREENCHER!I24=\"\",\"\",IF(COUNTIF(PREENCHER!$AH24:$AJ24,PREENCHER!I24)=0,CONCATENATE(PREENCHER!AU24,#REF!),PREENCHER!I24))","v":""},{"$f":"IF(PREENCHER!J24=\"\",\"\",IF(COUNTIF(PREENCHER!$AH24:$AJ24,PREENCHER!J24)=0,CONCATENATE(PREENCHER!AV24,#REF!),PREENCHER!J24))","v":""},{"$f":"IF(PREENCHER!K24=\"\",\"\",IF(COUNTIF(PREENCHER!$AH24:$AJ24,PREENCHER!K24)=0,CONCATENATE(PREENCHER!AW24,#REF!),PREENCHER!K24))","v":""},{"$f":"IF(PREENCHER!L24=\"\",\"\",IF(COUNTIF(PREENCHER!$AH24:$AJ24,PREENCHER!L24)=0,CONCATENATE(PREENCHER!AX24,#REF!),PREENCHER!L24))","v":""},{"$f":"IF(PREENCHER!M24=\"\",\"\",IF(COUNTIF(PREENCHER!$AH24:$AJ24,PREENCHER!M24)=0,CONCATENATE(PREENCHER!AY24,#REF!),PREENCHER!M24))","v":""},{"$f":"IF(PREENCHER!N24=\"\",\"\",IF(COUNTIF(PREENCHER!$AH24:$AJ24,PREENCHER!N24)=0,CONCATENATE(PREENCHER!AZ24,#REF!),PREENCHER!N24))","v":""},{"$f":"IF(ISERROR(ROUND(AVERAGE(E24:N24),2)),\"\",ROUND(AVERAGE(E24:N24),2))","v":""},{"$f":"IF(ISERROR(ROUND(O24*D24,2)),\"\",ROUND(O24*D24,2))","v":""},null,null,{"$f":"IF(ISERROR(MEDIAN(E24:N24)),\"\",MEDIAN(E24:N24))","v":""},{"$f":"IF(ISERROR(STDEV(E24:N24)),\"\",STDEV(E24:N24))","v":""},{"$f":"IF(ISERROR(T24/O24),\"\",T24/O24)","v":""}]
[{"$f":"IF(PREENCHER!A25=\"\",\"\",PREENCHER!A25)","v":""},{"$f":"IF(PREENCHER!B25=\"\",\"\",PREENCHER!B25)","v":""},{"$f":"IF(PREENCHER!C25=\"\",\"\",PREENCHER!C25)","v":""},{"$f":"IF(PREENCHER!D25=\"\",\"\",PREENCHER!D25)","v":""},{"$f":"IF(PREENCHER!E25=\"\",\"\",IF(COUNTIF(PREENCHER!$AH25:$AJ25,PREENCHER!E25)=0,CONCATENATE(PREENCHER!AQ25,#REF!),PREENCHER!E25))","v":""},{"$f":"IF(PREENCHER!F25=\"\",\"\",IF(COUNTIF(PREENCHER!$AH25:$AJ25,PREENCHER!F25)=0,CONCATENATE(PREENCHER!AR25,#REF!),PREENCHER!F25))","v":""},{"$f":"IF(PREENCHER!G25=\"\",\"\",IF(COUNTIF(PREENCHER!$AH25:$AJ25,PREENCHER!G25)=0,CONCATENATE(PREENCHER!AS25,#REF!),PREENCHER!G25))","v":""},{"$f":"IF(PREENCHER!H25=\"\",\"\",IF(COUNTIF(PREENCHER!$AH25:$AJ25,PREENCHER!H25)=0,CONCATENATE(PREENCHER!AT25,#REF!),PREENCHER!H25))","v":""},{"$f":"IF(PREENCHER!I25=\"\",\"\",IF(COUNTIF(PREENCHER!$AH25:$AJ25,PREENCHER!I25)=0,CONCATENATE(PREENCHER!AU25,#REF!),PREENCHER!I25))","v":""},{"$f":"IF(PREENCHER!J25=\"\",\"\",IF(COUNTIF(PREENCHER!$AH25:$AJ25,PREENCHER!J25)=0,CONCATENATE(PREENCHER!AV25,#REF!),PREENCHER!J25))","v":""},{"$f":"IF(PREENCHER!K25=\"\",\"\",IF(COUNTIF(PREENCHER!$AH25:$AJ25,PREENCHER!K25)=0,CONCATENATE(PREENCHER!AW25,#REF!),PREENCHER!K25))","v":""},{"$f":"IF(PREENCHER!L25=\"\",\"\",IF(COUNTIF(PREENCHER!$AH25:$AJ25,PREENCHER!L25)=0,CONCATENATE(PREENCHER!AX25,#REF!),PREENCHER!L25))","v":""},{"$f":"IF(PREENCHER!M25=\"\",\"\",IF(COUNTIF(PREENCHER!$AH25:$AJ25,PREENCHER!M25)=0,CONCATENATE(PREENCHER!AY25,#REF!),PREENCHER!M25))","v":""},{"$f":"IF(PREENCHER!N25=\"\",\"\",IF(COUNTIF(PREENCHER!$AH25:$AJ25,PREENCHER!N25)=0,CONCATENATE(PREENCHER!AZ25,#REF!),PREENCHER!N25))","v":""},{"$f":"IF(ISERROR(ROUND(AVERAGE(E25:N25),2)),\"\",ROUND(AVERAGE(E25:N25),2))","v":""},{"$f":"IF(ISERROR(ROUND(O25*D25,2)),\"\",ROUND(O25*D25,2))","v":""},null,null,{"$f":"IF(ISERROR(MEDIAN(E25:N25)),\"\",MEDIAN(E25:N25))","v":""},{"$f":"IF(ISERROR(STDEV(E25:N25)),\"\",STDEV(E25:N25))","v":""},{"$f":"IF(ISERROR(T25/O25),\"\",T25/O25)","v":""}]
[{"$f":"IF(PREENCHER!A26=\"\",\"\",PREENCHER!A26)","v":""},{"$f":"IF(PREENCHER!B26=\"\",\"\",PREENCHER!B26)","v":""},{"$f":"IF(PREENCHER!C26=\"\",\"\",PREENCHER!C26)","v":""},{"$f":"IF(PREENCHER!D26=\"\",\"\",PREENCHER!D26)","v":""},{"$f":"IF(PREENCHER!E26=\"\",\"\",IF(COUNTIF(PREENCHER!$AH26:$AJ26,PREENCHER!E26)=0,CONCATENATE(PREENCHER!AQ26,#REF!),PREENCHER!E26))","v":""},{"$f":"IF(PREENCHER!F26=\"\",\"\",IF(COUNTIF(PREENCHER!$AH26:$AJ26,PREENCHER!F26)=0,CONCATENATE(PREENCHER!AR26,#REF!),PREENCHER!F26))","v":""},{"$f":"IF(PREENCHER!G26=\"\",\"\",IF(COUNTIF(PREENCHER!$AH26:$AJ26,PREENCHER!G26)=0,CONCATENATE(PREENCHER!AS26,#REF!),PREENCHER!G26))","v":""},{"$f":"IF(PREENCHER!H26=\"\",\"\",IF(COUNTIF(PREENCHER!$AH26:$AJ26,PREENCHER!H26)=0,CONCATENATE(PREENCHER!AT26,#REF!),PREENCHER!H26))","v":""},{"$f":"IF(PREENCHER!I26=\"\",\"\",IF(COUNTIF(PREENCHER!$AH26:$AJ26,PREENCHER!I26)=0,CONCATENATE(PREENCHER!AU26,#REF!),PREENCHER!I26))","v":""},{"$f":"IF(PREENCHER!J26=\"\",\"\",IF(COUNTIF(PREENCHER!$AH26:$AJ26,PREENCHER!J26)=0,CONCATENATE(PREENCHER!AV26,#REF!),PREENCHER!J26))","v":""},{"$f":"IF(PREENCHER!K26=\"\",\"\",IF(COUNTIF(PREENCHER!$AH26:$AJ26,PREENCHER!K26)=0,CONCATENATE(PREENCHER!AW26,#REF!),PREENCHER!K26))","v":""},{"$f":"IF(PREENCHER!L26=\"\",\"\",IF(COUNTIF(PREENCHER!$AH26:$AJ26,PREENCHER!L26)=0,CONCATENATE(PREENCHER!AX26,#REF!),PREENCHER!L26))","v":""},{"$f":"IF(PREENCHER!M26=\"\",\"\",IF(COUNTIF(PREENCHER!$AH26:$AJ26,PREENCHER!M26)=0,CONCATENATE(PREENCHER!AY26,#REF!),PREENCHER!M26))","v":""},{"$f":"IF(PREENCHER!N26=\"\",\"\",IF(COUNTIF(PREENCHER!$AH26:$AJ26,PREENCHER!N26)=0,CONCATENATE(PREENCHER!AZ26,#REF!),PREENCHER!N26))","v":""},{"$f":"IF(ISERROR(ROUND(AVERAGE(E26:N26),2)),\"\",ROUND(AVERAGE(E26:N26),2))","v":""},{"$f":"IF(ISERROR(ROUND(O26*D26,2)),\"\",ROUND(O26*D26,2))","v":""},null,null,{"$f":"IF(ISERROR(MEDIAN(E26:N26)),\"\",MEDIAN(E26:N26))","v":""},{"$f":"IF(ISERROR(STDEV(E26:N26)),\"\",STDEV(E26:N26))","v":""},{"$f":"IF(ISERROR(T26/O26),\"\",T26/O26)","v":""}]
[{"$f":"IF(PREENCHER!A27=\"\",\"\",PREENCHER!A27)","v":""},{"$f":"IF(PREENCHER!B27=\"\",\"\",PREENCHER!B27)","v":""},{"$f":"IF(PREENCHER!C27=\"\",\"\",PREENCHER!C27)","v":""},{"$f":"IF(PREENCHER!D27=\"\",\"\",PREENCHER!D27)","v":""},{"$f":"IF(PREENCHER!E27=\"\",\"\",IF(COUNTIF(PREENCHER!$AH27:$AJ27,PREENCHER!E27)=0,CONCATENATE(PREENCHER!AQ27,#REF!),PREENCHER!E27))","v":""},{"$f":"IF(PREENCHER!F27=\"\",\"\",IF(COUNTIF(PREENCHER!$AH27:$AJ27,PREENCHER!F27)=0,CONCATENATE(PREENCHER!AR27,#REF!),PREENCHER!F27))","v":""},{"$f":"IF(PREENCHER!G27=\"\",\"\",IF(COUNTIF(PREENCHER!$AH27:$AJ27,PREENCHER!G27)=0,CONCATENATE(PREENCHER!AS27,#REF!),PREENCHER!G27))","v":""},{"$f":"IF(PREENCHER!H27=\"\",\"\",IF(COUNTIF(PREENCHER!$AH27:$AJ27,PREENCHER!H27)=0,CONCATENATE(PREENCHER!AT27,#REF!),PREENCHER!H27))","v":""},{"$f":"IF(PREENCHER!I27=\"\",\"\",IF(COUNTIF(PREENCHER!$AH27:$AJ27,PREENCHER!I27)=0,CONCATENATE(PREENCHER!AU27,#REF!),PREENCHER!I27))","v":""},{"$f":"IF(PREENCHER!J27=\"\",\"\",IF(COUNTIF(PREENCHER!$AH27:$AJ27,PREENCHER!J27)=0,CONCATENATE(PREENCHER!AV27,#REF!),PREENCHER!J27))","v":""},{"$f":"IF(PREENCHER!K27=\"\",\"\",IF(COUNTIF(PREENCHER!$AH27:$AJ27,PREENCHER!K27)=0,CONCATENATE(PREENCHER!AW27,#REF!),PREENCHER!K27))","v":""},{"$f":"IF(PREENCHER!L27=\"\",\"\",IF(COUNTIF(PREENCHER!$AH27:$AJ27,PREENCHER!L27)=0,CONCATENATE(PREENCHER!AX27,#REF!),PREENCHER!L27))","v":""},{"$f":"IF(PREENCHER!M27=\"\",\"\",IF(COUNTIF(PREENCHER!$AH27:$AJ27,PREENCHER!M27)=0,CONCATENATE(PREENCHER!AY27,#REF!),PREENCHER!M27))","v":""},{"$f":"IF(PREENCHER!N27=\"\",\"\",IF(COUNTIF(PREENCHER!$AH27:$AJ27,PREENCHER!N27)=0,CONCATENATE(PREENCHER!AZ27,#REF!),PREENCHER!N27))","v":""},{"$f":"IF(ISERROR(ROUND(AVERAGE(E27:N27),2)),\"\",ROUND(AVERAGE(E27:N27),2))","v":""},{"$f":"IF(ISERROR(ROUND(O27*D27,2)),\"\",ROUND(O27*D27,2))","v":""},null,null,{"$f":"IF(ISERROR(MEDIAN(E27:N27)),\"\",MEDIAN(E27:N27))","v":""},{"$f":"IF(ISERROR(STDEV(E27:N27)),\"\",STDEV(E27:N27))","v":""},{"$f":"IF(ISERROR(T27/O27),\"\",T27/O27)","v":""}]
[{"$f":"IF(PREENCHER!A28=\"\",\"\",PREENCHER!A28)","v":""},{"$f":"IF(PREENCHER!B28=\"\",\"\",PREENCHER!B28)","v":""},{"$f":"IF(PREENCHER!C28=\"\",\"\",PREENCHER!C28)","v":""},{"$f":"IF(PREENCHER!D28=\"\",\"\",PREENCHER!D28)","v":""},{"$f":"IF(PREENCHER!E28=\"\",\"\",IF(COUNTIF(PREENCHER!$AH28:$AJ28,PREENCHER!E28)=0,CONCATENATE(PREENCHER!AQ28,#REF!),PREENCHER!E28))","v":""},{"$f":"IF(PREENCHER!F28=\"\",\"\",IF(COUNTIF(PREENCHER!$AH28:$AJ28,PREENCHER!F28)=0,CONCATENATE(PREENCHER!AR28,#REF!),PREENCHER!F28))","v":""},{"$f":"IF(PREENCHER!G28=\"\",\"\",IF(COUNTIF(PREENCHER!$AH28:$AJ28,PREENCHER!G28)=0,CONCATENATE(PREENCHER!AS28,#REF!),PREENCHER!G28))","v":""},{"$f":"IF(PREENCHER!H28=\"\",\"\",IF(COUNTIF(PREENCHER!$AH28:$AJ28,PREENCHER!H28)=0,CONCATENATE(PREENCHER!AT28,#REF!),PREENCHER!H28))","v":""},{"$f":"IF(PREENCHER!I28=\"\",\"\",IF(COUNTIF(PREENCHER!$AH28:$AJ28,PREENCHER!I28)=0,CONCATENATE(PREENCHER!AU28,#REF!),PREENCHER!I28))","v":""},{"$f":"IF(PREENCHER!J28=\"\",\"\",IF(COUNTIF(PREENCHER!$AH28:$AJ28,PREENCHER!J28)=0,CONCATENATE(PREENCHER!AV28,#REF!),PREENCHER!J28))","v":""},{"$f":"IF(PREENCHER!K28=\"\",\"\",IF(COUNTIF(PREENCHER!$AH28:$AJ28,PREENCHER!K28)=0,CONCATENATE(PREENCHER!AW28,#REF!),PREENCHER!K28))","v":""},{"$f":"IF(PREENCHER!L28=\"\",\"\",IF(COUNTIF(PREENCHER!$AH28:$AJ28,PREENCHER!L28)=0,CONCATENATE(PREENCHER!AX28,#REF!),PREENCHER!L28))","v":""},{"$f":"IF(PREENCHER!M28=\"\",\"\",IF(COUNTIF(PREENCHER!$AH28:$AJ28,PREENCHER!M28)=0,CONCATENATE(PREENCHER!AY28,#REF!),PREENCHER!M28))","v":""},{"$f":"IF(PREENCHER!N28=\"\",\"\",IF(COUNTIF(PREENCHER!$AH28:$AJ28,PREENCHER!N28)=0,CONCATENATE(PREENCHER!AZ28,#REF!),PREENCHER!N28))","v":""},{"$f":"IF(ISERROR(ROUND(AVERAGE(E28:N28),2)),\"\",ROUND(AVERAGE(E28:N28),2))","v":""},{"$f":"IF(ISERROR(ROUND(O28*D28,2)),\"\",ROUND(O28*D28,2))","v":""},null,null,{"$f":"IF(ISERROR(MEDIAN(E28:N28)),\"\",MEDIAN(E28:N28))","v":""},{"$f":"IF(ISERROR(STDEV(E28:N28)),\"\",STDEV(E28:N28))","v":""},{"$f":"IF(ISERROR(T28/O28),\"\",T28/O28)","v":""}]
[{"$f":"IF(PREENCHER!A29=\"\",\"\",PREENCHER!A29)","v":""},{"$f":"IF(PREENCHER!B29=\"\",\"\",PREENCHER!B29)","v":""},{"$f":"IF(PREENCHER!C29=\"\",\"\",PREENCHER!C29)","v":""},{"$f":"IF(PREENCHER!D29=\"\",\"\",PREENCHER!D29)","v":""},{"$f":"IF(PREENCHER!E29=\"\",\"\",IF(COUNTIF(PREENCHER!$AH29:$AJ29,PREENCHER!E29)=0,CONCATENATE(PREENCHER!AQ29,#REF!),PREENCHER!E29))","v":""},{"$f":"IF(PREENCHER!F29=\"\",\"\",IF(COUNTIF(PREENCHER!$AH29:$AJ29,PREENCHER!F29)=0,CONCATENATE(PREENCHER!AR29,#REF!),PREENCHER!F29))","v":""},{"$f":"IF(PREENCHER!G29=\"\",\"\",IF(COUNTIF(PREENCHER!$AH29:$AJ29,PREENCHER!G29)=0,CONCATENATE(PREENCHER!AS29,#REF!),PREENCHER!G29))","v":""},{"$f":"IF(PREENCHER!H29=\"\",\"\",IF(COUNTIF(PREENCHER!$AH29:$AJ29,PREENCHER!H29)=0,CONCATENATE(PREENCHER!AT29,#REF!),PREENCHER!H29))","v":""},{"$f":"IF(PREENCHER!I29=\"\",\"\",IF(COUNTIF(PREENCHER!$AH29:$AJ29,PREENCHER!I29)=0,CONCATENATE(PREENCHER!AU29,#REF!),PREENCHER!I29))","v":""},{"$f":"IF(PREENCHER!J29=\"\",\"\",IF(COUNTIF(PREENCHER!$AH29:$AJ29,PREENCHER!J29)=0,CONCATENATE(PREENCHER!AV29,#REF!),PREENCHER!J29))","v":""},{"$f":"IF(PREENCHER!K29=\"\",\"\",IF(COUNTIF(PREENCHER!$AH29:$AJ29,PREENCHER!K29)=0,CONCATENATE(PREENCHER!AW29,#REF!),PREENCHER!K29))","v":""},{"$f":"IF(PREENCHER!L29=\"\",\"\",IF(COUNTIF(PREENCHER!$AH29:$AJ29,PREENCHER!L29)=0,CONCATENATE(PREENCHER!AX29,#REF!),PREENCHER!L29))","v":""},{"$f":"IF(PREENCHER!M29=\"\",\"\",IF(COUNTIF(PREENCHER!$AH29:$AJ29,PREENCHER!M29)=0,CONCATENATE(PREENCHER!AY29,#REF!),PREENCHER!M29))","v":""},{"$f":"IF(PREENCHER!N29=\"\",\"\",IF(COUNTIF(PREENCHER!$AH29:$AJ29,PREENCHER!N29)=0,CONCATENATE(PREENCHER!AZ29,#REF!),PREENCHER!N29))","v":""},{"$f":"IF(ISERROR(ROUND(AVERAGE(E29:N29),2)),\"\",ROUND(AVERAGE(E29:N29),2))","v":""},{"$f":"IF(ISERROR(ROUND(O29*D29,2)),\"\",ROUND(O29*D29,2))","v":""},null,null,{"$f":"IF(ISERROR(MEDIAN(E29:N29)),\"\",MEDIAN(E29:N29))","v":""},{"$f":"IF(ISERROR(STDEV(E29:N29)),\"\",STDEV(E29:N29))","v":""},{"$f":"IF(ISERROR(T29/O29),\"\",T29/O29)","v":""}]
[{"$f":"IF(PREENCHER!A30=\"\",\"\",PREENCHER!A30)","v":""},{"$f":"IF(PREENCHER!B30=\"\",\"\",PREENCHER!B30)","v":""},{"$f":"IF(PREENCHER!C30=\"\",\"\",PREENCHER!C30)","v":""},{"$f":"IF(PREENCHER!D30=\"\",\"\",PREENCHER!D30)","v":""},{"$f":"IF(PREENCHER!E30=\"\",\"\",IF(COUNTIF(PREENCHER!$AH30:$AJ30,PREENCHER!E30)=0,CONCATENATE(PREENCHER!AQ30,#REF!),PREENCHER!E30))","v":""},{"$f":"IF(PREENCHER!F30=\"\",\"\",IF(COUNTIF(PREENCHER!$AH30:$AJ30,PREENCHER!F30)=0,CONCATENATE(PREENCHER!AR30,#REF!),PREENCHER!F30))","v":""},{"$f":"IF(PREENCHER!G30=\"\",\"\",IF(COUNTIF(PREENCHER!$AH30:$AJ30,PREENCHER!G30)=0,CONCATENATE(PREENCHER!AS30,#REF!),PREENCHER!G30))","v":""},{"$f":"IF(PREENCHER!H30=\"\",\"\",IF(COUNTIF(PREENCHER!$AH30:$AJ30,PREENCHER!H30)=0,CONCATENATE(PREENCHER!AT30,#REF!),PREENCHER!H30))","v":""},{"$f":"IF(PREENCHER!I30=\"\",\"\",IF(COUNTIF(PREENCHER!$AH30:$AJ30,PREENCHER!I30)=0,CONCATENATE(PREENCHER!AU30,#REF!),PREENCHER!I30))","v":""},{"$f":"IF(PREENCHER!J30=\"\",\"\",IF(COUNTIF(PREENCHER!$AH30:$AJ30,PREENCHER!J30)=0,CONCATENATE(PREENCHER!AV30,#REF!),PREENCHER!J30))","v":""},{"$f":"IF(PREENCHER!K30=\"\",\"\",IF(COUNTIF(PREENCHER!$AH30:$AJ30,PREENCHER!K30)=0,CONCATENATE(PREENCHER!AW30,#REF!),PREENCHER!K30))","v":""},{"$f":"IF(PREENCHER!L30=\"\",\"\",IF(COUNTIF(PREENCHER!$AH30:$AJ30,PREENCHER!L30)=0,CONCATENATE(PREENCHER!AX30,#REF!),PREENCHER!L30))","v":""},{"$f":"IF(PREENCHER!M30=\"\",\"\",IF(COUNTIF(PREENCHER!$AH30:$AJ30,PREENCHER!M30)=0,CONCATENATE(PREENCHER!AY30,#REF!),PREENCHER!M30))","v":""},{"$f":"IF(PREENCHER!N30=\"\",\"\",IF(COUNTIF(PREENCHER!$AH30:$AJ30,PREENCHER!N30)=0,CONCATENATE(PREENCHER!AZ30,#REF!),PREENCHER!N30))","v":""},{"$f":"IF(ISERROR(ROUND(AVERAGE(E30:N30),2)),\"\",ROUND(AVERAGE(E30:N30),2))","v":""},{"$f":"IF(ISERROR(ROUND(O30*D30,2)),\"\",ROUND(O30*D30,2))","v":""},null,null,{"$f":"IF(ISERROR(MEDIAN(E30:N30)),\"\",MEDIAN(E30:N30))","v":""},{"$f":"IF(ISERROR(STDEV(E30:N30)),\"\",STDEV(E30:N30))","v":""},{"$f":"IF(ISERROR(T30/O30),\"\",T30/O30)","v":""}]
[{"$f":"IF(PREENCHER!A31=\"\",\"\",PREENCHER!A31)","v":""},{"$f":"IF(PREENCHER!B31=\"\",\"\",PREENCHER!B31)","v":""},{"$f":"IF(PREENCHER!C31=\"\",\"\",PREENCHER!C31)","v":""},{"$f":"IF(PREENCHER!D31=\"\",\"\",PREENCHER!D31)","v":""},{"$f":"IF(PREENCHER!E31=\"\",\"\",IF(COUNTIF(PREENCHER!$AH31:$AJ31,PREENCHER!E31)=0,CONCATENATE(PREENCHER!AQ31,#REF!),PREENCHER!E31))","v":""},{"$f":"IF(PREENCHER!F31=\"\",\"\",IF(COUNTIF(PREENCHER!$AH31:$AJ31,PREENCHER!F31)=0,CONCATENATE(PREENCHER!AR31,#REF!),PREENCHER!F31))","v":""},{"$f":"IF(PREENCHER!G31=\"\",\"\",IF(COUNTIF(PREENCHER!$AH31:$AJ31,PREENCHER!G31)=0,CONCATENATE(PREENCHER!AS31,#REF!),PREENCHER!G31))","v":""},{"$f":"IF(PREENCHER!H31=\"\",\"\",IF(COUNTIF(PREENCHER!$AH31:$AJ31,PREENCHER!H31)=0,CONCATENATE(PREENCHER!AT31,#REF!),PREENCHER!H31))","v":""},{"$f":"IF(PREENCHER!I31=\"\",\"\",IF(COUNTIF(PREENCHER!$AH31:$AJ31,PREENCHER!I31)=0,CONCATENATE(PREENCHER!AU31,#REF!),PREENCHER!I31))","v":""},{"$f":"IF(PREENCHER!J31=\"\",\"\",IF(COUNTIF(PREENCHER!$AH31:$AJ31,PREENCHER!J31)=0,CONCATENATE(PREENCHER!AV31,#REF!),PREENCHER!J31))","v":""},{"$f":"IF(PREENCHER!K31=\"\",\"\",IF(COUNTIF(PREENCHER!$AH31:$AJ31,PREENCHER!K31)=0,CONCATENATE(PREENCHER!AW31,#REF!),PREENCHER!K31))","v":""},{"$f":"IF(PREENCHER!L31=\"\",\"\",IF(COUNTIF(PREENCHER!$AH31:$AJ31,PREENCHER!L31)=0,CONCATENATE(PREENCHER!AX31,#REF!),PREENCHER!L31))","v":""},{"$f":"IF(PREENCHER!M31=\"\",\"\",IF(COUNTIF(PREENCHER!$AH31:$AJ31,PREENCHER!M31)=0,CONCATENATE(PREENCHER!AY31,#REF!),PREENCHER!M31))","v":""},{"$f":"IF(PREENCHER!N31=\"\",\"\",IF(COUNTIF(PREENCHER!$AH31:$AJ31,PREENCHER!N31)=0,CONCATENATE(PREENCHER!AZ31,#REF!),PREENCHER!N31))","v":""},{"$f":"IF(ISERROR(ROUND(AVERAGE(E31:N31),2)),\"\",ROUND(AVERAGE(E31:N31),2))","v":""},{"$f":"IF(ISERROR(ROUND(O31*D31,2)),\"\",ROUND(O31*D31,2))","v":""},null,null,{"$f":"IF(ISERROR(MEDIAN(E31:N31)),\"\",MEDIAN(E31:N31))","v":""},{"$f":"IF(ISERROR(STDEV(E31:N31)),\"\",STDEV(E31:N31))","v":""},{"$f":"IF(ISERROR(T31/O31),\"\",T31/O31)","v":""}]
[{"$f":"IF(PREENCHER!A32=\"\",\"\",PREENCHER!A32)","v":""},{"$f":"IF(PREENCHER!B32=\"\",\"\",PREENCHER!B32)","v":""},{"$f":"IF(PREENCHER!C32=\"\",\"\",PREENCHER!C32)","v":""},{"$f":"IF(PREENCHER!D32=\"\",\"\",PREENCHER!D32)","v":""},{"$f":"IF(PREENCHER!E32=\"\",\"\",IF(COUNTIF(PREENCHER!$AH32:$AJ32,PREENCHER!E32)=0,CONCATENATE(PREENCHER!AQ32,#REF!),PREENCHER!E32))","v":""},{"$f":"IF(PREENCHER!F32=\"\",\"\",IF(COUNTIF(PREENCHER!$AH32:$AJ32,PREENCHER!F32)=0,CONCATENATE(PREENCHER!AR32,#REF!),PREENCHER!F32))","v":""},{"$f":"IF(PREENCHER!G32=\"\",\"\",IF(COUNTIF(PREENCHER!$AH32:$AJ32,PREENCHER!G32)=0,CONCATENATE(PREENCHER!AS32,#REF!),PREENCHER!G32))","v":""},{"$f":"IF(PREENCHER!H32=\"\",\"\",IF(COUNTIF(PREENCHER!$AH32:$AJ32,PREENCHER!H32)=0,CONCATENATE(PREENCHER!AT32,#REF!),PREENCHER!H32))","v":""},{"$f":"IF(PREENCHER!I32=\"\",\"\",IF(COUNTIF(PREENCHER!$AH32:$AJ32,PREENCHER!I32)=0,CONCATENATE(PREENCHER!AU32,#REF!),PREENCHER!I32))","v":""},{"$f":"IF(PREENCHER!J32=\"\",\"\",IF(COUNTIF(PREENCHER!$AH32:$AJ32,PREENCHER!J32)=0,CONCATENATE(PREENCHER!AV32,#REF!),PREENCHER!J32))","v":""},{"$f":"IF(PREENCHER!K32=\"\",\"\",IF(COUNTIF(PREENCHER!$AH32:$AJ32,PREENCHER!K32)=0,CONCATENATE(PREENCHER!AW32,#REF!),PREENCHER!K32))","v":""},{"$f":"IF(PREENCHER!L32=\"\",\"\",IF(COUNTIF(PREENCHER!$AH32:$AJ32,PREENCHER!L32)=0,CONCATENATE(PREENCHER!AX32,#REF!),PREENCHER!L32))","v":""},{"$f":"IF(PREENCHER!M32=\"\",\"\",IF(COUNTIF(PREENCHER!$AH32:$AJ32,PREENCHER!M32)=0,CONCATENATE(PREENCHER!AY32,#REF!),PREENCHER!M32))","v":""},{"$f":"IF(PREENCHER!N32=\"\",\"\",IF(COUNTIF(PREENCHER!$AH32:$AJ32,PREENCHER!N32)=0,CONCATENATE(PREENCHER!AZ32,#REF!),PREENCHER!N32))","v":""},{"$f":"IF(ISERROR(ROUND(AVERAGE(E32:N32),2)),\"\",ROUND(AVERAGE(E32:N32),2))","v":""},{"$f":"IF(ISERROR(ROUND(O32*D32,2)),\"\",ROUND(O32*D32,2))","v":""},null,null,{"$f":"IF(ISERROR(MEDIAN(E32:N32)),\"\",MEDIAN(E32:N32))","v":""},{"$f":"IF(ISERROR(STDEV(E32:N32)),\"\",STDEV(E32:N32))","v":""},{"$f":"IF(ISERROR(T32/O32),\"\",T32/O32)","v":""}]
[{"$f":"IF(PREENCHER!A33=\"\",\"\",PREENCHER!A33)","v":""},{"$f":"IF(PREENCHER!B33=\"\",\"\",PREENCHER!B33)","v":""},{"$f":"IF(PREENCHER!C33=\"\",\"\",PREENCHER!C33)","v":""},{"$f":"IF(PREENCHER!D33=\"\",\"\",PREENCHER!D33)","v":""},{"$f":"IF(PREENCHER!E33=\"\",\"\",IF(COUNTIF(PREENCHER!$AH33:$AJ33,PREENCHER!E33)=0,CONCATENATE(PREENCHER!AQ33,#REF!),PREENCHER!E33))","v":""},{"$f":"IF(PREENCHER!F33=\"\",\"\",IF(COUNTIF(PREENCHER!$AH33:$AJ33,PREENCHER!F33)=0,CONCATENATE(PREENCHER!AR33,#REF!),PREENCHER!F33))","v":""},{"$f":"IF(PREENCHER!G33=\"\",\"\",IF(COUNTIF(PREENCHER!$AH33:$AJ33,PREENCHER!G33)=0,CONCATENATE(PREENCHER!AS33,#REF!),PREENCHER!G33))","v":""},{"$f":"IF(PREENCHER!H33=\"\",\"\",IF(COUNTIF(PREENCHER!$AH33:$AJ33,PREENCHER!H33)=0,CONCATENATE(PREENCHER!AT33,#REF!),PREENCHER!H33))","v":""},{"$f":"IF(PREENCHER!I33=\"\",\"\",IF(COUNTIF(PREENCHER!$AH33:$AJ33,PREENCHER!I33)=0,CONCATENATE(PREENCHER!AU33,#REF!),PREENCHER!I33))","v":""},{"$f":"IF(PREENCHER!J33=\"\",\"\",IF(COUNTIF(PREENCHER!$AH33:$AJ33,PREENCHER!J33)=0,CONCATENATE(PREENCHER!AV33,#REF!),PREENCHER!J33))","v":""},{"$f":"IF(PREENCHER!K33=\"\",\"\",IF(COUNTIF(PREENCHER!$AH33:$AJ33,PREENCHER!K33)=0,CONCATENATE(PREENCHER!AW33,#REF!),PREENCHER!K33))","v":""},{"$f":"IF(PREENCHER!L33=\"\",\"\",IF(COUNTIF(PREENCHER!$AH33:$AJ33,PREENCHER!L33)=0,CONCATENATE(PREENCHER!AX33,#REF!),PREENCHER!L33))","v":""},{"$f":"IF(PREENCHER!M33=\"\",\"\",IF(COUNTIF(PREENCHER!$AH33:$AJ33,PREENCHER!M33)=0,CONCATENATE(PREENCHER!AY33,#REF!),PREENCHER!M33))","v":""},{"$f":"IF(PREENCHER!N33=\"\",\"\",IF(COUNTIF(PREENCHER!$AH33:$AJ33,PREENCHER!N33)=0,CONCATENATE(PREENCHER!AZ33,#REF!),PREENCHER!N33))","v":""},{"$f":"IF(ISERROR(ROUND(AVERAGE(E33:N33),2)),\"\",ROUND(AVERAGE(E33:N33),2))","v":""},{"$f":"IF(ISERROR(ROUND(O33*D33,2)),\"\",ROUND(O33*D33,2))","v":""},null,null,{"$f":"IF(ISERROR(MEDIAN(E33:N33)),\"\",MEDIAN(E33:N33))","v":""},{"$f":"IF(ISERROR(STDEV(E33:N33)),\"\",STDEV(E33:N33))","v":""},{"$f":"IF(ISERROR(T33/O33),\"\",T33/O33)","v":""}]
[{"$f":"IF(PREENCHER!A34=\"\",\"\",PREENCHER!A34)","v":""},{"$f":"IF(PREENCHER!B34=\"\",\"\",PREENCHER!B34)","v":""},{"$f":"IF(PREENCHER!C34=\"\",\"\",PREENCHER!C34)","v":""},{"$f":"IF(PREENCHER!D34=\"\",\"\",PREENCHER!D34)","v":""},{"$f":"IF(PREENCHER!E34=\"\",\"\",IF(COUNTIF(PREENCHER!$AH34:$AJ34,PREENCHER!E34)=0,CONCATENATE(PREENCHER!AQ34,#REF!),PREENCHER!E34))","v":""},{"$f":"IF(PREENCHER!F34=\"\",\"\",IF(COUNTIF(PREENCHER!$AH34:$AJ34,PREENCHER!F34)=0,CONCATENATE(PREENCHER!AR34,#REF!),PREENCHER!F34))","v":""},{"$f":"IF(PREENCHER!G34=\"\",\"\",IF(COUNTIF(PREENCHER!$AH34:$AJ34,PREENCHER!G34)=0,CONCATENATE(PREENCHER!AS34,#REF!),PREENCHER!G34))","v":""},{"$f":"IF(PREENCHER!H34=\"\",\"\",IF(COUNTIF(PREENCHER!$AH34:$AJ34,PREENCHER!H34)=0,CONCATENATE(PREENCHER!AT34,#REF!),PREENCHER!H34))","v":""},{"$f":"IF(PREENCHER!I34=\"\",\"\",IF(COUNTIF(PREENCHER!$AH34:$AJ34,PREENCHER!I34)=0,CONCATENATE(PREENCHER!AU34,#REF!),PREENCHER!I34))","v":""},{"$f":"IF(PREENCHER!J34=\"\",\"\",IF(COUNTIF(PREENCHER!$AH34:$AJ34,PREENCHER!J34)=0,CONCATENATE(PREENCHER!AV34,#REF!),PREENCHER!J34))","v":""},{"$f":"IF(PREENCHER!K34=\"\",\"\",IF(COUNTIF(PREENCHER!$AH34:$AJ34,PREENCHER!K34)=0,CONCATENATE(PREENCHER!AW34,#REF!),PREENCHER!K34))","v":""},{"$f":"IF(PREENCHER!L34=\"\",\"\",IF(COUNTIF(PREENCHER!$AH34:$AJ34,PREENCHER!L34)=0,CONCATENATE(PREENCHER!AX34,#REF!),PREENCHER!L34))","v":""},{"$f":"IF(PREENCHER!M34=\"\",\"\",IF(COUNTIF(PREENCHER!$AH34:$AJ34,PREENCHER!M34)=0,CONCATENATE(PREENCHER!AY34,#REF!),PREENCHER!M34))","v":""},{"$f":"IF(PREENCHER!N34=\"\",\"\",IF(COUNTIF(PREENCHER!$AH34:$AJ34,PREENCHER!N34)=0,CONCATENATE(PREENCHER!AZ34,#REF!),PREENCHER!N34))","v":""},{"$f":"IF(ISERROR(ROUND(AVERAGE(E34:N34),2)),\"\",ROUND(AVERAGE(E34:N34),2))","v":""},{"$f":"IF(ISERROR(ROUND(O34*D34,2)),\"\",ROUND(O34*D34,2))","v":""},null,null,{"$f":"IF(ISERROR(MEDIAN(E34:N34)),\"\",MEDIAN(E34:N34))","v":""},{"$f":"IF(ISERROR(STDEV(E34:N34)),\"\",STDEV(E34:N34))","v":""},{"$f":"IF(ISERROR(T34/O34),\"\",T34/O34)","v":""}]
[{"$f":"IF(PREENCHER!A35=\"\",\"\",PREENCHER!A35)","v":""},{"$f":"IF(PREENCHER!B35=\"\",\"\",PREENCHER!B35)","v":""},{"$f":"IF(PREENCHER!C35=\"\",\"\",PREENCHER!C35)","v":""},{"$f":"IF(PREENCHER!D35=\"\",\"\",PREENCHER!D35)","v":""},{"$f":"IF(PREENCHER!E35=\"\",\"\",IF(COUNTIF(PREENCHER!$AH35:$AJ35,PREENCHER!E35)=0,CONCATENATE(PREENCHER!AQ35,#REF!),PREENCHER!E35))","v":""},{"$f":"IF(PREENCHER!F35=\"\",\"\",IF(COUNTIF(PREENCHER!$AH35:$AJ35,PREENCHER!F35)=0,CONCATENATE(PREENCHER!AR35,#REF!),PREENCHER!F35))","v":""},{"$f":"IF(PREENCHER!G35=\"\",\"\",IF(COUNTIF(PREENCHER!$AH35:$AJ35,PREENCHER!G35)=0,CONCATENATE(PREENCHER!AS35,#REF!),PREENCHER!G35))","v":""},{"$f":"IF(PREENCHER!H35=\"\",\"\",IF(COUNTIF(PREENCHER!$AH35:$AJ35,PREENCHER!H35)=0,CONCATENATE(PREENCHER!AT35,#REF!),PREENCHER!H35))","v":""},{"$f":"IF(PREENCHER!I35=\"\",\"\",IF(COUNTIF(PREENCHER!$AH35:$AJ35,PREENCHER!I35)=0,CONCATENATE(PREENCHER!AU35,#REF!),PREENCHER!I35))","v":""},{"$f":"IF(PREENCHER!J35=\"\",\"\",IF(COUNTIF(PREENCHER!$AH35:$AJ35,PREENCHER!J35)=0,CONCATENATE(PREENCHER!AV35,#REF!),PREENCHER!J35))","v":""},{"$f":"IF(PREENCHER!K35=\"\",\"\",IF(COUNTIF(PREENCHER!$AH35:$AJ35,PREENCHER!K35)=0,CONCATENATE(PREENCHER!AW35,#REF!),PREENCHER!K35))","v":""},{"$f":"IF(PREENCHER!L35=\"\",\"\",IF(COUNTIF(PREENCHER!$AH35:$AJ35,PREENCHER!L35)=0,CONCATENATE(PREENCHER!AX35,#REF!),PREENCHER!L35))","v":""},{"$f":"IF(PREENCHER!M35=\"\",\"\",IF(COUNTIF(PREENCHER!$AH35:$AJ35,PREENCHER!M35)=0,CONCATENATE(PREENCHER!AY35,#REF!),PREENCHER!M35))","v":""},{"$f":"IF(PREENCHER!N35=\"\",\"\",IF(COUNTIF(PREENCHER!$AH35:$AJ35,PREENCHER!N35)=0,CONCATENATE(PREENCHER!AZ35,#REF!),PREENCHER!N35))","v":""},{"$f":"IF(ISERROR(ROUND(AVERAGE(E35:N35),2)),\"\",ROUND(AVERAGE(E35:N35),2))","v":""},{"$f":"IF(ISERROR(ROUND(O35*D35,2)),\"\",ROUND(O35*D35,2))","v":""},null,null,{"$f":"IF(ISERROR(MEDIAN(E35:N35)),\"\",MEDIAN(E35:N35))","v":""},{"$f":"IF(ISERROR(STDEV(E35:N35)),\"\",STDEV(E35:N35))","v":""},{"$f":"IF(ISERROR(T35/O35),\"\",T35/O35)","v":""}]
[{"$f":"IF(PREENCHER!A36=\"\",\"\",PREENCHER!A36)","v":""},{"$f":"IF(PREENCHER!B36=\"\",\"\",PREENCHER!B36)","v":""},{"$f":"IF(PREENCHER!C36=\"\",\"\",PREENCHER!C36)","v":""},{"$f":"IF(PREENCHER!D36=\"\",\"\",PREENCHER!D36)","v":""},{"$f":"IF(PREENCHER!E36=\"\",\"\",IF(COUNTIF(PREENCHER!$AH36:$AJ36,PREENCHER!E36)=0,CONCATENATE(PREENCHER!AQ36,#REF!),PREENCHER!E36))","v":""},{"$f":"IF(PREENCHER!F36=\"\",\"\",IF(COUNTIF(PREENCHER!$AH36:$AJ36,PREENCHER!F36)=0,CONCATENATE(PREENCHER!AR36,#REF!),PREENCHER!F36))","v":""},{"$f":"IF(PREENCHER!G36=\"\",\"\",IF(COUNTIF(PREENCHER!$AH36:$AJ36,PREENCHER!G36)=0,CONCATENATE(PREENCHER!AS36,#REF!),PREENCHER!G36))","v":""},{"$f":"IF(PREENCHER!H36=\"\",\"\",IF(COUNTIF(PREENCHER!$AH36:$AJ36,PREENCHER!H36)=0,CONCATENATE(PREENCHER!AT36,#REF!),PREENCHER!H36))","v":""},{"$f":"IF(PREENCHER!I36=\"\",\"\",IF(COUNTIF(PREENCHER!$AH36:$AJ36,PREENCHER!I36)=0,CONCATENATE(PREENCHER!AU36,#REF!),PREENCHER!I36))","v":""},{"$f":"IF(PREENCHER!J36=\"\",\"\",IF(COUNTIF(PREENCHER!$AH36:$AJ36,PREENCHER!J36)=0,CONCATENATE(PREENCHER!AV36,#REF!),PREENCHER!J36))","v":""},{"$f":"IF(PREENCHER!K36=\"\",\"\",IF(COUNTIF(PREENCHER!$AH36:$AJ36,PREENCHER!K36)=0,CONCATENATE(PREENCHER!AW36,#REF!),PREENCHER!K36))","v":""},{"$f":"IF(PREENCHER!L36=\"\",\"\",IF(COUNTIF(PREENCHER!$AH36:$AJ36,PREENCHER!L36)=0,CONCATENATE(PREENCHER!AX36,#REF!),PREENCHER!L36))","v":""},{"$f":"IF(PREENCHER!M36=\"\",\"\",IF(COUNTIF(PREENCHER!$AH36:$AJ36,PREENCHER!M36)=0,CONCATENATE(PREENCHER!AY36,#REF!),PREENCHER!M36))","v":""},{"$f":"IF(PREENCHER!N36=\"\",\"\",IF(COUNTIF(PREENCHER!$AH36:$AJ36,PREENCHER!N36)=0,CONCATENATE(PREENCHER!AZ36,#REF!),PREENCHER!N36))","v":""},{"$f":"IF(ISERROR(ROUND(AVERAGE(E36:N36),2)),\"\",ROUND(AVERAGE(E36:N36),2))","v":""},{"$f":"IF(ISERROR(ROUND(O36*D36,2)),\"\",ROUND(O36*D36,2))","v":""},null,null,{"$f":"IF(ISERROR(MEDIAN(E36:N36)),\"\",MEDIAN(E36:N36))","v":""},{"$f":"IF(ISERROR(STDEV(E36:N36)),\"\",STDEV(E36:N36))","v":""},{"$f":"IF(ISERROR(T36/O36),\"\",T36/O36)","v":""}]
[{"$f":"IF(PREENCHER!A37=\"\",\"\",PREENCHER!A37)","v":""},{"$f":"IF(PREENCHER!B37=\"\",\"\",PREENCHER!B37)","v":""},{"$f":"IF(PREENCHER!C37=\"\",\"\",PREENCHER!C37)","v":""},{"$f":"IF(PREENCHER!D37=\"\",\"\",PREENCHER!D37)","v":""},{"$f":"IF(PREENCHER!E37=\"\",\"\",IF(COUNTIF(PREENCHER!$AH37:$AJ37,PREENCHER!E37)=0,CONCATENATE(PREENCHER!AQ37,#REF!),PREENCHER!E37))","v":""},{"$f":"IF(PREENCHER!F37=\"\",\"\",IF(COUNTIF(PREENCHER!$AH37:$AJ37,PREENCHER!F37)=0,CONCATENATE(PREENCHER!AR37,#REF!),PREENCHER!F37))","v":""},{"$f":"IF(PREENCHER!G37=\"\",\"\",IF(COUNTIF(PREENCHER!$AH37:$AJ37,PREENCHER!G37)=0,CONCATENATE(PREENCHER!AS37,#REF!),PREENCHER!G37))","v":""},{"$f":"IF(PREENCHER!H37=\"\",\"\",IF(COUNTIF(PREENCHER!$AH37:$AJ37,PREENCHER!H37)=0,CONCATENATE(PREENCHER!AT37,#REF!),PREENCHER!H37))","v":""},{"$f":"IF(PREENCHER!I37=\"\",\"\",IF(COUNTIF(PREENCHER!$AH37:$AJ37,PREENCHER!I37)=0,CONCATENATE(PREENCHER!AU37,#REF!),PREENCHER!I37))","v":""},{"$f":"IF(PREENCHER!J37=\"\",\"\",IF(COUNTIF(PREENCHER!$AH37:$AJ37,PREENCHER!J37)=0,CONCATENATE(PREENCHER!AV37,#REF!),PREENCHER!J37))","v":""},{"$f":"IF(PREENCHER!K37=\"\",\"\",IF(COUNTIF(PREENCHER!$AH37:$AJ37,PREENCHER!K37)=0,CONCATENATE(PREENCHER!AW37,#REF!),PREENCHER!K37))","v":""},{"$f":"IF(PREENCHER!L37=\"\",\"\",IF(COUNTIF(PREENCHER!$AH37:$AJ37,PREENCHER!L37)=0,CONCATENATE(PREENCHER!AX37,#REF!),PREENCHER!L37))","v":""},{"$f":"IF(PREENCHER!M37=\"\",\"\",IF(COUNTIF(PREENCHER!$AH37:$AJ37,PREENCHER!M37)=0,CONCATENATE(PREENCHER!AY37,#REF!),PREENCHER!M37))","v":""},{"$f":"IF(PREENCHER!N37=\"\",\"\",IF(COUNTIF(PREENCHER!$AH37:$AJ37,PREENCHER!N37)=0,CONCATENATE(PREENCHER!AZ37,#REF!),PREENCHER!N37))","v":""},{"$f":"IF(ISERROR(ROUND(AVERAGE(E37:N37),2)),\"\",ROUND(AVERAGE(E37:N37),2))","v":""},{"$f":"IF(ISERROR(ROUND(O37*D37,2)),\"\",ROUND(O37*D37,2))","v":""},null,null,{"$f":"IF(ISERROR(MEDIAN(E37:N37)),\"\",MEDIAN(E37:N37))","v":""},{"$f":"IF(ISERROR(STDEV(E37:N37)),\"\",STDEV(E37:N37))","v":""},{"$f":"IF(ISERROR(T37/O37),\"\",T37/O37)","v":""}]
[{"$f":"IF(PREENCHER!A38=\"\",\"\",PREENCHER!A38)","v":""},{"$f":"IF(PREENCHER!B38=\"\",\"\",PREENCHER!B38)","v":""},{"$f":"IF(PREENCHER!C38=\"\",\"\",PREENCHER!C38)","v":""},{"$f":"IF(PREENCHER!D38=\"\",\"\",PREENCHER!D38)","v":""},{"$f":"IF(PREENCHER!E38=\"\",\"\",IF(COUNTIF(PREENCHER!$AH38:$AJ38,PREENCHER!E38)=0,CONCATENATE(PREENCHER!AQ38,#REF!),PREENCHER!E38))","v":""},{"$f":"IF(PREENCHER!F38=\"\",\"\",IF(COUNTIF(PREENCHER!$AH38:$AJ38,PREENCHER!F38)=0,CONCATENATE(PREENCHER!AR38,#REF!),PREENCHER!F38))","v":""},{"$f":"IF(PREENCHER!G38=\"\",\"\",IF(COUNTIF(PREENCHER!$AH38:$AJ38,PREENCHER!G38)=0,CONCATENATE(PREENCHER!AS38,#REF!),PREENCHER!G38))","v":""},{"$f":"IF(PREENCHER!H38=\"\",\"\",IF(COUNTIF(PREENCHER!$AH38:$AJ38,PREENCHER!H38)=0,CONCATENATE(PREENCHER!AT38,#REF!),PREENCHER!H38))","v":""},{"$f":"IF(PREENCHER!I38=\"\",\"\",IF(COUNTIF(PREENCHER!$AH38:$AJ38,PREENCHER!I38)=0,CONCATENATE(PREENCHER!AU38,#REF!),PREENCHER!I38))","v":""},{"$f":"IF(PREENCHER!J38=\"\",\"\",IF(COUNTIF(PREENCHER!$AH38:$AJ38,PREENCHER!J38)=0,CONCATENATE(PREENCHER!AV38,#REF!),PREENCHER!J38))","v":""},{"$f":"IF(PREENCHER!K38=\"\",\"\",IF(COUNTIF(PREENCHER!$AH38:$AJ38,PREENCHER!K38)=0,CONCATENATE(PREENCHER!AW38,#REF!),PREENCHER!K38))","v":""},{"$f":"IF(PREENCHER!L38=\"\",\"\",IF(COUNTIF(PREENCHER!$AH38:$AJ38,PREENCHER!L38)=0,CONCATENATE(PREENCHER!AX38,#REF!),PREENCHER!L38))","v":""},{"$f":"IF(PREENCHER!M38=\"\",\"\",IF(COUNTIF(PREENCHER!$AH38:$AJ38,PREENCHER!M38)=0,CONCATENATE(PREENCHER!AY38,#REF!),PREENCHER!M38))","v":""},{"$f":"IF(PREENCHER!N38=\"\",\"\",IF(COUNTIF(PREENCHER!$AH38:$AJ38,PREENCHER!N38)=0,CONCATENATE(PREENCHER!AZ38,#REF!),PREENCHER!N38))","v":""},{"$f":"IF(ISERROR(ROUND(AVERAGE(E38:N38),2)),\"\",ROUND(AVERAGE(E38:N38),2))","v":""},{"$f":"IF(ISERROR(ROUND(O38*D38,2)),\"\",ROUND(O38*D38,2))","v":""},null,null,{"$f":"IF(ISERROR(MEDIAN(E38:N38)),\"\",MEDIAN(E38:N38))","v":""},{"$f":"IF(ISERROR(STDEV(E38:N38)),\"\",STDEV(E38:N38))","v":""},{"$f":"IF(ISERROR(T38/O38),\"\",T38/O38)","v":""}]
[{"$f":"IF(PREENCHER!A39=\"\",\"\",PREENCHER!A39)","v":""},{"$f":"IF(PREENCHER!B39=\"\",\"\",PREENCHER!B39)","v":""},{"$f":"IF(PREENCHER!C39=\"\",\"\",PREENCHER!C39)","v":""},{"$f":"IF(PREENCHER!D39=\"\",\"\",PREENCHER!D39)","v":""},{"$f":"IF(PREENCHER!E39=\"\",\"\",IF(COUNTIF(PREENCHER!$AH39:$AJ39,PREENCHER!E39)=0,CONCATENATE(PREENCHER!AQ39,#REF!),PREENCHER!E39))","v":""},{"$f":"IF(PREENCHER!F39=\"\",\"\",IF(COUNTIF(PREENCHER!$AH39:$AJ39,PREENCHER!F39)=0,CONCATENATE(PREENCHER!AR39,#REF!),PREENCHER!F39))","v":""},{"$f":"IF(PREENCHER!G39=\"\",\"\",IF(COUNTIF(PREENCHER!$AH39:$AJ39,PREENCHER!G39)=0,CONCATENATE(PREENCHER!AS39,#REF!),PREENCHER!G39))","v":""},{"$f":"IF(PREENCHER!H39=\"\",\"\",IF(COUNTIF(PREENCHER!$AH39:$AJ39,PREENCHER!H39)=0,CONCATENATE(PREENCHER!AT39,#REF!),PREENCHER!H39))","v":""},{"$f":"IF(PREENCHER!I39=\"\",\"\",IF(COUNTIF(PREENCHER!$AH39:$AJ39,PREENCHER!I39)=0,CONCATENATE(PREENCHER!AU39,#REF!),PREENCHER!I39))","v":""},{"$f":"IF(PREENCHER!J39=\"\",\"\",IF(COUNTIF(PREENCHER!$AH39:$AJ39,PREENCHER!J39)=0,CONCATENATE(PREENCHER!AV39,#REF!),PREENCHER!J39))","v":""},{"$f":"IF(PREENCHER!K39=\"\",\"\",IF(COUNTIF(PREENCHER!$AH39:$AJ39,PREENCHER!K39)=0,CONCATENATE(PREENCHER!AW39,#REF!),PREENCHER!K39))","v":""},{"$f":"IF(PREENCHER!L39=\"\",\"\",IF(COUNTIF(PREENCHER!$AH39:$AJ39,PREENCHER!L39)=0,CONCATENATE(PREENCHER!AX39,#REF!),PREENCHER!L39))","v":""},{"$f":"IF(PREENCHER!M39=\"\",\"\",IF(COUNTIF(PREENCHER!$AH39:$AJ39,PREENCHER!M39)=0,CONCATENATE(PREENCHER!AY39,#REF!),PREENCHER!M39))","v":""},{"$f":"IF(PREENCHER!N39=\"\",\"\",IF(COUNTIF(PREENCHER!$AH39:$AJ39,PREENCHER!N39)=0,CONCATENATE(PREENCHER!AZ39,#REF!),PREENCHER!N39))","v":""},{"$f":"IF(ISERROR(ROUND(AVERAGE(E39:N39),2)),\"\",ROUND(AVERAGE(E39:N39),2))","v":""},{"$f":"IF(ISERROR(ROUND(O39*D39,2)),\"\",ROUND(O39*D39,2))","v":""},null,null,{"$f":"IF(ISERROR(MEDIAN(E39:N39)),\"\",MEDIAN(E39:N39))","v":""},{"$f":"IF(ISERROR(STDEV(E39:N39)),\"\",STDEV(E39:N39))","v":""},{"$f":"IF(ISERROR(T39/O39),\"\",T39/O39)","v":""}]
[{"$f":"IF(PREENCHER!A40=\"\",\"\",PREENCHER!A40)","v":""},{"$f":"IF(PREENCHER!B40=\"\",\"\",PREENCHER!B40)","v":""},{"$f":"IF(PREENCHER!C40=\"\",\"\",PREENCHER!C40)","v":""},{"$f":"IF(PREENCHER!D40=\"\",\"\",PREENCHER!D40)","v":""},{"$f":"IF(PREENCHER!E40=\"\",\"\",IF(COUNTIF(PREENCHER!$AH40:$AJ40,PREENCHER!E40)=0,CONCATENATE(PREENCHER!AQ40,#REF!),PREENCHER!E40))","v":""},{"$f":"IF(PREENCHER!F40=\"\",\"\",IF(COUNTIF(PREENCHER!$AH40:$AJ40,PREENCHER!F40)=0,CONCATENATE(PREENCHER!AR40,#REF!),PREENCHER!F40))","v":""},{"$f":"IF(PREENCHER!G40=\"\",\"\",IF(COUNTIF(PREENCHER!$AH40:$AJ40,PREENCHER!G40)=0,CONCATENATE(PREENCHER!AS40,#REF!),PREENCHER!G40))","v":""},{"$f":"IF(PREENCHER!H40=\"\",\"\",IF(COUNTIF(PREENCHER!$AH40:$AJ40,PREENCHER!H40)=0,CONCATENATE(PREENCHER!AT40,#REF!),PREENCHER!H40))","v":""},{"$f":"IF(PREENCHER!I40=\"\",\"\",IF(COUNTIF(PREENCHER!$AH40:$AJ40,PREENCHER!I40)=0,CONCATENATE(PREENCHER!AU40,#REF!),PREENCHER!I40))","v":""},{"$f":"IF(PREENCHER!J40=\"\",\"\",IF(COUNTIF(PREENCHER!$AH40:$AJ40,PREENCHER!J40)=0,CONCATENATE(PREENCHER!AV40,#REF!),PREENCHER!J40))","v":""},{"$f":"IF(PREENCHER!K40=\"\",\"\",IF(COUNTIF(PREENCHER!$AH40:$AJ40,PREENCHER!K40)=0,CONCATENATE(PREENCHER!AW40,#REF!),PREENCHER!K40))","v":""},{"$f":"IF(PREENCHER!L40=\"\",\"\",IF(COUNTIF(PREENCHER!$AH40:$AJ40,PREENCHER!L40)=0,CONCATENATE(PREENCHER!AX40,#REF!),PREENCHER!L40))","v":""},{"$f":"IF(PREENCHER!M40=\"\",\"\",IF(COUNTIF(PREENCHER!$AH40:$AJ40,PREENCHER!M40)=0,CONCATENATE(PREENCHER!AY40,#REF!),PREENCHER!M40))","v":""},{"$f":"IF(PREENCHER!N40=\"\",\"\",IF(COUNTIF(PREENCHER!$AH40:$AJ40,PREENCHER!N40)=0,CONCATENATE(PREENCHER!AZ40,#REF!),PREENCHER!N40))","v":""},{"$f":"IF(ISERROR(ROUND(AVERAGE(E40:N40),2)),\"\",ROUND(AVERAGE(E40:N40),2))","v":""},{"$f":"IF(ISERROR(ROUND(O40*D40,2)),\"\",ROUND(O40*D40,2))","v":""},null,null,{"$f":"IF(ISERROR(MEDIAN(E40:N40)),\"\",MEDIAN(E40:N40))","v":""},{"$f":"IF(ISERROR(STDEV(E40:N40)),\"\",STDEV(E40:N40))","v":""},{"$f":"IF(ISERROR(T40/O40),\"\",T40/O40)","v":""}]
[{"$f":"IF(PREENCHER!A41=\"\",\"\",PREENCHER!A41)","v":""},{"$f":"IF(PREENCHER!B41=\"\",\"\",PREENCHER!B41)","v":""},{"$f":"IF(PREENCHER!C41=\"\",\"\",PREENCHER!C41)","v":""},{"$f":"IF(PREENCHER!D41=\"\",\"\",PREENCHER!D41)","v":""},{"$f":"IF(PREENCHER!E41=\"\",\"\",IF(COUNTIF(PREENCHER!$AH41:$AJ41,PREENCHER!E41)=0,CONCATENATE(PREENCHER!AQ41,#REF!),PREENCHER!E41))","v":""},{"$f":"IF(PREENCHER!F41=\"\",\"\",IF(COUNTIF(PREENCHER!$AH41:$AJ41,PREENCHER!F41)=0,CONCATENATE(PREENCHER!AR41,#REF!),PREENCHER!F41))","v":""},{"$f":"IF(PREENCHER!G41=\"\",\"\",IF(COUNTIF(PREENCHER!$AH41:$AJ41,PREENCHER!G41)=0,CONCATENATE(PREENCHER!AS41,#REF!),PREENCHER!G41))","v":""},{"$f":"IF(PREENCHER!H41=\"\",\"\",IF(COUNTIF(PREENCHER!$AH41:$AJ41,PREENCHER!H41)=0,CONCATENATE(PREENCHER!AT41,#REF!),PREENCHER!H41))","v":""},{"$f":"IF(PREENCHER!I41=\"\",\"\",IF(COUNTIF(PREENCHER!$AH41:$AJ41,PREENCHER!I41)=0,CONCATENATE(PREENCHER!AU41,#REF!),PREENCHER!I41))","v":""},{"$f":"IF(PREENCHER!J41=\"\",\"\",IF(COUNTIF(PREENCHER!$AH41:$AJ41,PREENCHER!J41)=0,CONCATENATE(PREENCHER!AV41,#REF!),PREENCHER!J41))","v":""},{"$f":"IF(PREENCHER!K41=\"\",\"\",IF(COUNTIF(PREENCHER!$AH41:$AJ41,PREENCHER!K41)=0,CONCATENATE(PREENCHER!AW41,#REF!),PREENCHER!K41))","v":""},{"$f":"IF(PREENCHER!L41=\"\",\"\",IF(COUNTIF(PREENCHER!$AH41:$AJ41,PREENCHER!L41)=0,CONCATENATE(PREENCHER!AX41,#REF!),PREENCHER!L41))","v":""},{"$f":"IF(PREENCHER!M41=\"\",\"\",IF(COUNTIF(PREENCHER!$AH41:$AJ41,PREENCHER!M41)=0,CONCATENATE(PREENCHER!AY41,#REF!),PREENCHER!M41))","v":""},{"$f":"IF(PREENCHER!N41=\"\",\"\",IF(COUNTIF(PREENCHER!$AH41:$AJ41,PREENCHER!N41)=0,CONCATENATE(PREENCHER!AZ41,#REF!),PREENCHER!N41))","v":""},{"$f":"IF(ISERROR(ROUND(AVERAGE(E41:N41),2)),\"\",ROUND(AVERAGE(E41:N41),2))","v":""},{"$f":"IF(ISERROR(ROUND(O41*D41,2)),\"\",ROUND(O41*D41,2))","v":""},null,null,{"$f":"IF(ISERROR(MEDIAN(E41:N41)),\"\",MEDIAN(E41:N41))","v":""},{"$f":"IF(ISERROR(STDEV(E41:N41)),\"\",STDEV(E41:N41))","v":""},{"$f":"IF(ISERROR(T41/O41),\"\",T41/O41)","v":""}]
[{"$f":"IF(PREENCHER!A42=\"\",\"\",PREENCHER!A42)","v":""},{"$f":"IF(PREENCHER!B42=\"\",\"\",PREENCHER!B42)","v":""},{"$f":"IF(PREENCHER!C42=\"\",\"\",PREENCHER!C42)","v":""},{"$f":"IF(PREENCHER!D42=\"\",\"\",PREENCHER!D42)","v":""},{"$f":"IF(PREENCHER!E42=\"\",\"\",IF(COUNTIF(PREENCHER!$AH42:$AJ42,PREENCHER!E42)=0,CONCATENATE(PREENCHER!AQ42,#REF!),PREENCHER!E42))","v":""},{"$f":"IF(PREENCHER!F42=\"\",\"\",IF(COUNTIF(PREENCHER!$AH42:$AJ42,PREENCHER!F42)=0,CONCATENATE(PREENCHER!AR42,#REF!),PREENCHER!F42))","v":""},{"$f":"IF(PREENCHER!G42=\"\",\"\",IF(COUNTIF(PREENCHER!$AH42:$AJ42,PREENCHER!G42)=0,CONCATENATE(PREENCHER!AS42,#REF!),PREENCHER!G42))","v":""},{"$f":"IF(PREENCHER!H42=\"\",\"\",IF(COUNTIF(PREENCHER!$AH42:$AJ42,PREENCHER!H42)=0,CONCATENATE(PREENCHER!AT42,#REF!),PREENCHER!H42))","v":""},{"$f":"IF(PREENCHER!I42=\"\",\"\",IF(COUNTIF(PREENCHER!$AH42:$AJ42,PREENCHER!I42)=0,CONCATENATE(PREENCHER!AU42,#REF!),PREENCHER!I42))","v":""},{"$f":"IF(PREENCHER!J42=\"\",\"\",IF(COUNTIF(PREENCHER!$AH42:$AJ42,PREENCHER!J42)=0,CONCATENATE(PREENCHER!AV42,#REF!),PREENCHER!J42))","v":""},{"$f":"IF(PREENCHER!K42=\"\",\"\",IF(COUNTIF(PREENCHER!$AH42:$AJ42,PREENCHER!K42)=0,CONCATENATE(PREENCHER!AW42,#REF!),PREENCHER!K42))","v":""},{"$f":"IF(PREENCHER!L42=\"\",\"\",IF(COUNTIF(PREENCHER!$AH42:$AJ42,PREENCHER!L42)=0,CONCATENATE(PREENCHER!AX42,#REF!),PREENCHER!L42))","v":""},{"$f":"IF(PREENCHER!M42=\"\",\"\",IF(COUNTIF(PREENCHER!$AH42:$AJ42,PREENCHER!M42)=0,CONCATENATE(PREENCHER!AY42,#REF!),PREENCHER!M42))","v":""},{"$f":"IF(PREENCHER!N42=\"\",\"\",IF(COUNTIF(PREENCHER!$AH42:$AJ42,PREENCHER!N42)=0,CONCATENATE(PREENCHER!AZ42,#REF!),PREENCHER!N42))","v":""},{"$f":"IF(ISERROR(ROUND(AVERAGE(E42:N42),2)),\"\",ROUND(AVERAGE(E42:N42),2))","v":""},{"$f":"IF(ISERROR(ROUND(O42*D42,2)),\"\",ROUND(O42*D42,2))","v":""},null,null,{"$f":"IF(ISERROR(MEDIAN(E42:N42)),\"\",MEDIAN(E42:N42))","v":""},{"$f":"IF(ISERROR(STDEV(E42:N42)),\"\",STDEV(E42:N42))","v":""},{"$f":"IF(ISERROR(T42/O42),\"\",T42/O42)","v":""}]
[{"$f":"IF(PREENCHER!A43=\"\",\"\",PREENCHER!A43)","v":""},{"$f":"IF(PREENCHER!B43=\"\",\"\",PREENCHER!B43)","v":""},{"$f":"IF(PREENCHER!C43=\"\",\"\",PREENCHER!C43)","v":""},{"$f":"IF(PREENCHER!D43=\"\",\"\",PREENCHER!D43)","v":""},{"$f":"IF(PREENCHER!E43=\"\",\"\",IF(COUNTIF(PREENCHER!$AH43:$AJ43,PREENCHER!E43)=0,CONCATENATE(PREENCHER!AQ43,#REF!),PREENCHER!E43))","v":""},{"$f":"IF(PREENCHER!F43=\"\",\"\",IF(COUNTIF(PREENCHER!$AH43:$AJ43,PREENCHER!F43)=0,CONCATENATE(PREENCHER!AR43,#REF!),PREENCHER!F43))","v":""},{"$f":"IF(PREENCHER!G43=\"\",\"\",IF(COUNTIF(PREENCHER!$AH43:$AJ43,PREENCHER!G43)=0,CONCATENATE(PREENCHER!AS43,#REF!),PREENCHER!G43))","v":""},{"$f":"IF(PREENCHER!H43=\"\",\"\",IF(COUNTIF(PREENCHER!$AH43:$AJ43,PREENCHER!H43)=0,CONCATENATE(PREENCHER!AT43,#REF!),PREENCHER!H43))","v":""},{"$f":"IF(PREENCHER!I43=\"\",\"\",IF(COUNTIF(PREENCHER!$AH43:$AJ43,PREENCHER!I43)=0,CONCATENATE(PREENCHER!AU43,#REF!),PREENCHER!I43))","v":""},{"$f":"IF(PREENCHER!J43=\"\",\"\",IF(COUNTIF(PREENCHER!$AH43:$AJ43,PREENCHER!J43)=0,CONCATENATE(PREENCHER!AV43,#REF!),PREENCHER!J43))","v":""},{"$f":"IF(PREENCHER!K43=\"\",\"\",IF(COUNTIF(PREENCHER!$AH43:$AJ43,PREENCHER!K43)=0,CONCATENATE(PREENCHER!AW43,#REF!),PREENCHER!K43))","v":""},{"$f":"IF(PREENCHER!L43=\"\",\"\",IF(COUNTIF(PREENCHER!$AH43:$AJ43,PREENCHER!L43)=0,CONCATENATE(PREENCHER!AX43,#REF!),PREENCHER!L43))","v":""},{"$f":"IF(PREENCHER!M43=\"\",\"\",IF(COUNTIF(PREENCHER!$AH43:$AJ43,PREENCHER!M43)=0,CONCATENATE(PREENCHER!AY43,#REF!),PREENCHER!M43))","v":""},{"$f":"IF(PREENCHER!N43=\"\",\"\",IF(COUNTIF(PREENCHER!$AH43:$AJ43,PREENCHER!N43)=0,CONCATENATE(PREENCHER!AZ43,#REF!),PREENCHER!N43))","v":""},{"$f":"IF(ISERROR(ROUND(AVERAGE(E43:N43),2)),\"\",ROUND(AVERAGE(E43:N43),2))","v":""},{"$f":"IF(ISERROR(ROUND(O43*D43,2)),\"\",ROUND(O43*D43,2))","v":""},null,null,{"$f":"IF(ISERROR(MEDIAN(E43:N43)),\"\",MEDIAN(E43:N43))","v":""},{"$f":"IF(ISERROR(STDEV(E43:N43)),\"\",STDEV(E43:N43))","v":""},{"$f":"IF(ISERROR(T43/O43),\"\",T43/O43)","v":""}]
[{"$f":"IF(PREENCHER!A44=\"\",\"\",PREENCHER!A44)","v":""},{"$f":"IF(PREENCHER!B44=\"\",\"\",PREENCHER!B44)","v":""},{"$f":"IF(PREENCHER!C44=\"\",\"\",PREENCHER!C44)","v":""},{"$f":"IF(PREENCHER!D44=\"\",\"\",PREENCHER!D44)","v":""},{"$f":"IF(PREENCHER!E44=\"\",\"\",IF(COUNTIF(PREENCHER!$AH44:$AJ44,PREENCHER!E44)=0,CONCATENATE(PREENCHER!AQ44,#REF!),PREENCHER!E44))","v":""},{"$f":"IF(PREENCHER!F44=\"\",\"\",IF(COUNTIF(PREENCHER!$AH44:$AJ44,PREENCHER!F44)=0,CONCATENATE(PREENCHER!AR44,#REF!),PREENCHER!F44))","v":""},{"$f":"IF(PREENCHER!G44=\"\",\"\",IF(COUNTIF(PREENCHER!$AH44:$AJ44,PREENCHER!G44)=0,CONCATENATE(PREENCHER!AS44,#REF!),PREENCHER!G44))","v":""},{"$f":"IF(PREENCHER!H44=\"\",\"\",IF(COUNTIF(PREENCHER!$AH44:$AJ44,PREENCHER!H44)=0,CONCATENATE(PREENCHER!AT44,#REF!),PREENCHER!H44))","v":""},{"$f":"IF(PREENCHER!I44=\"\",\"\",IF(COUNTIF(PREENCHER!$AH44:$AJ44,PREENCHER!I44)=0,CONCATENATE(PREENCHER!AU44,#REF!),PREENCHER!I44))","v":""},{"$f":"IF(PREENCHER!J44=\"\",\"\",IF(COUNTIF(PREENCHER!$AH44:$AJ44,PREENCHER!J44)=0,CONCATENATE(PREENCHER!AV44,#REF!),PREENCHER!J44))","v":""},{"$f":"IF(PREENCHER!K44=\"\",\"\",IF(COUNTIF(PREENCHER!$AH44:$AJ44,PREENCHER!K44)=0,CONCATENATE(PREENCHER!AW44,#REF!),PREENCHER!K44))","v":""},{"$f":"IF(PREENCHER!L44=\"\",\"\",IF(COUNTIF(PREENCHER!$AH44:$AJ44,PREENCHER!L44)=0,CONCATENATE(PREENCHER!AX44,#REF!),PREENCHER!L44))","v":""},{"$f":"IF(PREENCHER!M44=\"\",\"\",IF(COUNTIF(PREENCHER!$AH44:$AJ44,PREENCHER!M44)=0,CONCATENATE(PREENCHER!AY44,#REF!),PREENCHER!M44))","v":""},{"$f":"IF(PREENCHER!N44=\"\",\"\",IF(COUNTIF(PREENCHER!$AH44:$AJ44,PREENCHER!N44)=0,CONCATENATE(PREENCHER!AZ44,#REF!),PREENCHER!N44))","v":""},{"$f":"IF(ISERROR(ROUND(AVERAGE(E44:N44),2)),\"\",ROUND(AVERAGE(E44:N44),2))","v":""},{"$f":"IF(ISERROR(ROUND(O44*D44,2)),\"\",ROUND(O44*D44,2))","v":""},null,null,{"$f":"IF(ISERROR(MEDIAN(E44:N44)),\"\",MEDIAN(E44:N44))","v":""},{"$f":"IF(ISERROR(STDEV(E44:N44)),\"\",STDEV(E44:N44))","v":""},{"$f":"IF(ISERROR(T44/O44),\"\",T44/O44)","v":""}]
[{"$f":"IF(PREENCHER!A45=\"\",\"\",PREENCHER!A45)","v":""},{"$f":"IF(PREENCHER!B45=\"\",\"\",PREENCHER!B45)","v":""},{"$f":"IF(PREENCHER!C45=\"\",\"\",PREENCHER!C45)","v":""},{"$f":"IF(PREENCHER!D45=\"\",\"\",PREENCHER!D45)","v":""},{"$f":"IF(PREENCHER!E45=\"\",\"\",IF(COUNTIF(PREENCHER!$AH45:$AJ45,PREENCHER!E45)=0,CONCATENATE(PREENCHER!AQ45,#REF!),PREENCHER!E45))","v":""},{"$f":"IF(PREENCHER!F45=\"\",\"\",IF(COUNTIF(PREENCHER!$AH45:$AJ45,PREENCHER!F45)=0,CONCATENATE(PREENCHER!AR45,#REF!),PREENCHER!F45))","v":""},{"$f":"IF(PREENCHER!G45=\"\",\"\",IF(COUNTIF(PREENCHER!$AH45:$AJ45,PREENCHER!G45)=0,CONCATENATE(PREENCHER!AS45,#REF!),PREENCHER!G45))","v":""},{"$f":"IF(PREENCHER!H45=\"\",\"\",IF(COUNTIF(PREENCHER!$AH45:$AJ45,PREENCHER!H45)=0,CONCATENATE(PREENCHER!AT45,#REF!),PREENCHER!H45))","v":""},{"$f":"IF(PREENCHER!I45=\"\",\"\",IF(COUNTIF(PREENCHER!$AH45:$AJ45,PREENCHER!I45)=0,CONCATENATE(PREENCHER!AU45,#REF!),PREENCHER!I45))","v":""},{"$f":"IF(PREENCHER!J45=\"\",\"\",IF(COUNTIF(PREENCHER!$AH45:$AJ45,PREENCHER!J45)=0,CONCATENATE(PREENCHER!AV45,#REF!),PREENCHER!J45))","v":""},{"$f":"IF(PREENCHER!K45=\"\",\"\",IF(COUNTIF(PREENCHER!$AH45:$AJ45,PREENCHER!K45)=0,CONCATENATE(PREENCHER!AW45,#REF!),PREENCHER!K45))","v":""},{"$f":"IF(PREENCHER!L45=\"\",\"\",IF(COUNTIF(PREENCHER!$AH45:$AJ45,PREENCHER!L45)=0,CONCATENATE(PREENCHER!AX45,#REF!),PREENCHER!L45))","v":""},{"$f":"IF(PREENCHER!M45=\"\",\"\",IF(COUNTIF(PREENCHER!$AH45:$AJ45,PREENCHER!M45)=0,CONCATENATE(PREENCHER!AY45,#REF!),PREENCHER!M45))","v":""},{"$f":"IF(PREENCHER!N45=\"\",\"\",IF(COUNTIF(PREENCHER!$AH45:$AJ45,PREENCHER!N45)=0,CONCATENATE(PREENCHER!AZ45,#REF!),PREENCHER!N45))","v":""},{"$f":"IF(ISERROR(ROUND(AVERAGE(E45:N45),2)),\"\",ROUND(AVERAGE(E45:N45),2))","v":""},{"$f":"IF(ISERROR(ROUND(O45*D45,2)),\"\",ROUND(O45*D45,2))","v":""},null,null,{"$f":"IF(ISERROR(MEDIAN(E45:N45)),\"\",MEDIAN(E45:N45))","v":""},{"$f":"IF(ISERROR(STDEV(E45:N45)),\"\",STDEV(E45:N45))","v":""},{"$f":"IF(ISERROR(T45/O45),\"\",T45/O45)","v":""}]
[{"$f":"IF(PREENCHER!A46=\"\",\"\",PREENCHER!A46)","v":""},{"$f":"IF(PREENCHER!B46=\"\",\"\",PREENCHER!B46)","v":""},{"$f":"IF(PREENCHER!C46=\"\",\"\",PREENCHER!C46)","v":""},{"$f":"IF(PREENCHER!D46=\"\",\"\",PREENCHER!D46)","v":""},{"$f":"IF(PREENCHER!E46=\"\",\"\",IF(COUNTIF(PREENCHER!$AH46:$AJ46,PREENCHER!E46)=0,CONCATENATE(PREENCHER!AQ46,#REF!),PREENCHER!E46))","v":""},{"$f":"IF(PREENCHER!F46=\"\",\"\",IF(COUNTIF(PREENCHER!$AH46:$AJ46,PREENCHER!F46)=0,CONCATENATE(PREENCHER!AR46,#REF!),PREENCHER!F46))","v":""},{"$f":"IF(PREENCHER!G46=\"\",\"\",IF(COUNTIF(PREENCHER!$AH46:$AJ46,PREENCHER!G46)=0,CONCATENATE(PREENCHER!AS46,#REF!),PREENCHER!G46))","v":""},{"$f":"IF(PREENCHER!H46=\"\",\"\",IF(COUNTIF(PREENCHER!$AH46:$AJ46,PREENCHER!H46)=0,CONCATENATE(PREENCHER!AT46,#REF!),PREENCHER!H46))","v":""},{"$f":"IF(PREENCHER!I46=\"\",\"\",IF(COUNTIF(PREENCHER!$AH46:$AJ46,PREENCHER!I46)=0,CONCATENATE(PREENCHER!AU46,#REF!),PREENCHER!I46))","v":""},{"$f":"IF(PREENCHER!J46=\"\",\"\",IF(COUNTIF(PREENCHER!$AH46:$AJ46,PREENCHER!J46)=0,CONCATENATE(PREENCHER!AV46,#REF!),PREENCHER!J46))","v":""},{"$f":"IF(PREENCHER!K46=\"\",\"\",IF(COUNTIF(PREENCHER!$AH46:$AJ46,PREENCHER!K46)=0,CONCATENATE(PREENCHER!AW46,#REF!),PREENCHER!K46))","v":""},{"$f":"IF(PREENCHER!L46=\"\",\"\",IF(COUNTIF(PREENCHER!$AH46:$AJ46,PREENCHER!L46)=0,CONCATENATE(PREENCHER!AX46,#REF!),PREENCHER!L46))","v":""},{"$f":"IF(PREENCHER!M46=\"\",\"\",IF(COUNTIF(PREENCHER!$AH46:$AJ46,PREENCHER!M46)=0,CONCATENATE(PREENCHER!AY46,#REF!),PREENCHER!M46))","v":""},{"$f":"IF(PREENCHER!N46=\"\",\"\",IF(COUNTIF(PREENCHER!$AH46:$AJ46,PREENCHER!N46)=0,CONCATENATE(PREENCHER!AZ46,#REF!),PREENCHER!N46))","v":""},{"$f":"IF(ISERROR(ROUND(AVERAGE(E46:N46),2)),\"\",ROUND(AVERAGE(E46:N46),2))","v":""},{"$f":"IF(ISERROR(ROUND(O46*D46,2)),\"\",ROUND(O46*D46,2))","v":""},null,null,{"$f":"IF(ISERROR(MEDIAN(E46:N46)),\"\",MEDIAN(E46:N46))","v":""},{"$f":"IF(ISERROR(STDEV(E46:N46)),\"\",STDEV(E46:N46))","v":""},{"$f":"IF(ISERROR(T46/O46),\"\",T46/O46)","v":""}]
[{"$f":"IF(PREENCHER!A47=\"\",\"\",PREENCHER!A47)","v":""},{"$f":"IF(PREENCHER!B47=\"\",\"\",PREENCHER!B47)","v":""},{"$f":"IF(PREENCHER!C47=\"\",\"\",PREENCHER!C47)","v":""},{"$f":"IF(PREENCHER!D47=\"\",\"\",PREENCHER!D47)","v":""},{"$f":"IF(PREENCHER!E47=\"\",\"\",IF(COUNTIF(PREENCHER!$AH47:$AJ47,PREENCHER!E47)=0,CONCATENATE(PREENCHER!AQ47,#REF!),PREENCHER!E47))","v":""},{"$f":"IF(PREENCHER!F47=\"\",\"\",IF(COUNTIF(PREENCHER!$AH47:$AJ47,PREENCHER!F47)=0,CONCATENATE(PREENCHER!AR47,#REF!),PREENCHER!F47))","v":""},{"$f":"IF(PREENCHER!G47=\"\",\"\",IF(COUNTIF(PREENCHER!$AH47:$AJ47,PREENCHER!G47)=0,CONCATENATE(PREENCHER!AS47,#REF!),PREENCHER!G47))","v":""},{"$f":"IF(PREENCHER!H47=\"\",\"\",IF(COUNTIF(PREENCHER!$AH47:$AJ47,PREENCHER!H47)=0,CONCATENATE(PREENCHER!AT47,#REF!),PREENCHER!H47))","v":""},{"$f":"IF(PREENCHER!I47=\"\",\"\",IF(COUNTIF(PREENCHER!$AH47:$AJ47,PREENCHER!I47)=0,CONCATENATE(PREENCHER!AU47,#REF!),PREENCHER!I47))","v":""},{"$f":"IF(PREENCHER!J47=\"\",\"\",IF(COUNTIF(PREENCHER!$AH47:$AJ47,PREENCHER!J47)=0,CONCATENATE(PREENCHER!AV47,#REF!),PREENCHER!J47))","v":""},{"$f":"IF(PREENCHER!K47=\"\",\"\",IF(COUNTIF(PREENCHER!$AH47:$AJ47,PREENCHER!K47)=0,CONCATENATE(PREENCHER!AW47,#REF!),PREENCHER!K47))","v":""},{"$f":"IF(PREENCHER!L47=\"\",\"\",IF(COUNTIF(PREENCHER!$AH47:$AJ47,PREENCHER!L47)=0,CONCATENATE(PREENCHER!AX47,#REF!),PREENCHER!L47))","v":""},{"$f":"IF(PREENCHER!M47=\"\",\"\",IF(COUNTIF(PREENCHER!$AH47:$AJ47,PREENCHER!M47)=0,CONCATENATE(PREENCHER!AY47,#REF!),PREENCHER!M47))","v":""},{"$f":"IF(PREENCHER!N47=\"\",\"\",IF(COUNTIF(PREENCHER!$AH47:$AJ47,PREENCHER!N47)=0,CONCATENATE(PREENCHER!AZ47,#REF!),PREENCHER!N47))","v":""},{"$f":"IF(ISERROR(ROUND(AVERAGE(E47:N47),2)),\"\",ROUND(AVERAGE(E47:N47),2))","v":""},{"$f":"IF(ISERROR(ROUND(O47*D47,2)),\"\",ROUND(O47*D47,2))","v":""},null,null,{"$f":"IF(ISERROR(MEDIAN(E47:N47)),\"\",MEDIAN(E47:N47))","v":""},{"$f":"IF(ISERROR(STDEV(E47:N47)),\"\",STDEV(E47:N47))","v":""},{"$f":"IF(ISERROR(T47/O47),\"\",T47/O47)","v":""}]
[{"$f":"IF(PREENCHER!A48=\"\",\"\",PREENCHER!A48)","v":""},{"$f":"IF(PREENCHER!B48=\"\",\"\",PREENCHER!B48)","v":""},{"$f":"IF(PREENCHER!C48=\"\",\"\",PREENCHER!C48)","v":""},{"$f":"IF(PREENCHER!D48=\"\",\"\",PREENCHER!D48)","v":""},{"$f":"IF(PREENCHER!E48=\"\",\"\",IF(COUNTIF(PREENCHER!$AH48:$AJ48,PREENCHER!E48)=0,CONCATENATE(PREENCHER!AQ48,#REF!),PREENCHER!E48))","v":""},{"$f":"IF(PREENCHER!F48=\"\",\"\",IF(COUNTIF(PREENCHER!$AH48:$AJ48,PREENCHER!F48)=0,CONCATENATE(PREENCHER!AR48,#REF!),PREENCHER!F48))","v":""},{"$f":"IF(PREENCHER!G48=\"\",\"\",IF(COUNTIF(PREENCHER!$AH48:$AJ48,PREENCHER!G48)=0,CONCATENATE(PREENCHER!AS48,#REF!),PREENCHER!G48))","v":""},{"$f":"IF(PREENCHER!H48=\"\",\"\",IF(COUNTIF(PREENCHER!$AH48:$AJ48,PREENCHER!H48)=0,CONCATENATE(PREENCHER!AT48,#REF!),PREENCHER!H48))","v":""},{"$f":"IF(PREENCHER!I48=\"\",\"\",IF(COUNTIF(PREENCHER!$AH48:$AJ48,PREENCHER!I48)=0,CONCATENATE(PREENCHER!AU48,#REF!),PREENCHER!I48))","v":""},{"$f":"IF(PREENCHER!J48=\"\",\"\",IF(COUNTIF(PREENCHER!$AH48:$AJ48,PREENCHER!J48)=0,CONCATENATE(PREENCHER!AV48,#REF!),PREENCHER!J48))","v":""},{"$f":"IF(PREENCHER!K48=\"\",\"\",IF(COUNTIF(PREENCHER!$AH48:$AJ48,PREENCHER!K48)=0,CONCATENATE(PREENCHER!AW48,#REF!),PREENCHER!K48))","v":""},{"$f":"IF(PREENCHER!L48=\"\",\"\",IF(COUNTIF(PREENCHER!$AH48:$AJ48,PREENCHER!L48)=0,CONCATENATE(PREENCHER!AX48,#REF!),PREENCHER!L48))","v":""},{"$f":"IF(PREENCHER!M48=\"\",\"\",IF(COUNTIF(PREENCHER!$AH48:$AJ48,PREENCHER!M48)=0,CONCATENATE(PREENCHER!AY48,#REF!),PREENCHER!M48))","v":""},{"$f":"IF(PREENCHER!N48=\"\",\"\",IF(COUNTIF(PREENCHER!$AH48:$AJ48,PREENCHER!N48)=0,CONCATENATE(PREENCHER!AZ48,#REF!),PREENCHER!N48))","v":""},{"$f":"IF(ISERROR(ROUND(AVERAGE(E48:N48),2)),\"\",ROUND(AVERAGE(E48:N48),2))","v":""},{"$f":"IF(ISERROR(ROUND(O48*D48,2)),\"\",ROUND(O48*D48,2))","v":""},null,null,{"$f":"IF(ISERROR(MEDIAN(E48:N48)),\"\",MEDIAN(E48:N48))","v":""},{"$f":"IF(ISERROR(STDEV(E48:N48)),\"\",STDEV(E48:N48))","v":""},{"$f":"IF(ISERROR(T48/O48),\"\",T48/O48)","v":""}]
[{"$f":"IF(PREENCHER!A49=\"\",\"\",PREENCHER!A49)","v":""},{"$f":"IF(PREENCHER!B49=\"\",\"\",PREENCHER!B49)","v":""},{"$f":"IF(PREENCHER!C49=\"\",\"\",PREENCHER!C49)","v":""},{"$f":"IF(PREENCHER!D49=\"\",\"\",PREENCHER!D49)","v":""},{"$f":"IF(PREENCHER!E49=\"\",\"\",IF(COUNTIF(PREENCHER!$AH49:$AJ49,PREENCHER!E49)=0,CONCATENATE(PREENCHER!AQ49,#REF!),PREENCHER!E49))","v":""},{"$f":"IF(PREENCHER!F49=\"\",\"\",IF(COUNTIF(PREENCHER!$AH49:$AJ49,PREENCHER!F49)=0,CONCATENATE(PREENCHER!AR49,#REF!),PREENCHER!F49))","v":""},{"$f":"IF(PREENCHER!G49=\"\",\"\",IF(COUNTIF(PREENCHER!$AH49:$AJ49,PREENCHER!G49)=0,CONCATENATE(PREENCHER!AS49,#REF!),PREENCHER!G49))","v":""},{"$f":"IF(PREENCHER!H49=\"\",\"\",IF(COUNTIF(PREENCHER!$AH49:$AJ49,PREENCHER!H49)=0,CONCATENATE(PREENCHER!AT49,#REF!),PREENCHER!H49))","v":""},{"$f":"IF(PREENCHER!I49=\"\",\"\",IF(COUNTIF(PREENCHER!$AH49:$AJ49,PREENCHER!I49)=0,CONCATENATE(PREENCHER!AU49,#REF!),PREENCHER!I49))","v":""},{"$f":"IF(PREENCHER!J49=\"\",\"\",IF(COUNTIF(PREENCHER!$AH49:$AJ49,PREENCHER!J49)=0,CONCATENATE(PREENCHER!AV49,#REF!),PREENCHER!J49))","v":""},{"$f":"IF(PREENCHER!K49=\"\",\"\",IF(COUNTIF(PREENCHER!$AH49:$AJ49,PREENCHER!K49)=0,CONCATENATE(PREENCHER!AW49,#REF!),PREENCHER!K49))","v":""},{"$f":"IF(PREENCHER!L49=\"\",\"\",IF(COUNTIF(PREENCHER!$AH49:$AJ49,PREENCHER!L49)=0,CONCATENATE(PREENCHER!AX49,#REF!),PREENCHER!L49))","v":""},{"$f":"IF(PREENCHER!M49=\"\",\"\",IF(COUNTIF(PREENCHER!$AH49:$AJ49,PREENCHER!M49)=0,CONCATENATE(PREENCHER!AY49,#REF!),PREENCHER!M49))","v":""},{"$f":"IF(PREENCHER!N49=\"\",\"\",IF(COUNTIF(PREENCHER!$AH49:$AJ49,PREENCHER!N49)=0,CONCATENATE(PREENCHER!AZ49,#REF!),PREENCHER!N49))","v":""},{"$f":"IF(ISERROR(ROUND(AVERAGE(E49:N49),2)),\"\",ROUND(AVERAGE(E49:N49),2))","v":""},{"$f":"IF(ISERROR(ROUND(O49*D49,2)),\"\",ROUND(O49*D49,2))","v":""},null,null,{"$f":"IF(ISERROR(MEDIAN(E49:N49)),\"\",MEDIAN(E49:N49))","v":""},{"$f":"IF(ISERROR(STDEV(E49:N49)),\"\",STDEV(E49:N49))","v":""},{"$f":"IF(ISERROR(T49/O49),\"\",T49/O49)","v":""}]
[{"$f":"IF(PREENCHER!A50=\"\",\"\",PREENCHER!A50)","v":""},{"$f":"IF(PREENCHER!B50=\"\",\"\",PREENCHER!B50)","v":""},{"$f":"IF(PREENCHER!C50=\"\",\"\",PREENCHER!C50)","v":""},{"$f":"IF(PREENCHER!D50=\"\",\"\",PREENCHER!D50)","v":""},{"$f":"IF(PREENCHER!E50=\"\",\"\",IF(COUNTIF(PREENCHER!$AH50:$AJ50,PREENCHER!E50)=0,CONCATENATE(PREENCHER!AQ50,#REF!),PREENCHER!E50))","v":""},{"$f":"IF(PREENCHER!F50=\"\",\"\",IF(COUNTIF(PREENCHER!$AH50:$AJ50,PREENCHER!F50)=0,CONCATENATE(PREENCHER!AR50,#REF!),PREENCHER!F50))","v":""},{"$f":"IF(PREENCHER!G50=\"\",\"\",IF(COUNTIF(PREENCHER!$AH50:$AJ50,PREENCHER!G50)=0,CONCATENATE(PREENCHER!AS50,#REF!),PREENCHER!G50))","v":""},{"$f":"IF(PREENCHER!H50=\"\",\"\",IF(COUNTIF(PREENCHER!$AH50:$AJ50,PREENCHER!H50)=0,CONCATENATE(PREENCHER!AT50,#REF!),PREENCHER!H50))","v":""},{"$f":"IF(PREENCHER!I50=\"\",\"\",IF(COUNTIF(PREENCHER!$AH50:$AJ50,PREENCHER!I50)=0,CONCATENATE(PREENCHER!AU50,#REF!),PREENCHER!I50))","v":""},{"$f":"IF(PREENCHER!J50=\"\",\"\",IF(COUNTIF(PREENCHER!$AH50:$AJ50,PREENCHER!J50)=0,CONCATENATE(PREENCHER!AV50,#REF!),PREENCHER!J50))","v":""},{"$f":"IF(PREENCHER!K50=\"\",\"\",IF(COUNTIF(PREENCHER!$AH50:$AJ50,PREENCHER!K50)=0,CONCATENATE(PREENCHER!AW50,#REF!),PREENCHER!K50))","v":""},{"$f":"IF(PREENCHER!L50=\"\",\"\",IF(COUNTIF(PREENCHER!$AH50:$AJ50,PREENCHER!L50)=0,CONCATENATE(PREENCHER!AX50,#REF!),PREENCHER!L50))","v":""},{"$f":"IF(PREENCHER!M50=\"\",\"\",IF(COUNTIF(PREENCHER!$AH50:$AJ50,PREENCHER!M50)=0,CONCATENATE(PREENCHER!AY50,#REF!),PREENCHER!M50))","v":""},{"$f":"IF(PREENCHER!N50=\"\",\"\",IF(COUNTIF(PREENCHER!$AH50:$AJ50,PREENCHER!N50)=0,CONCATENATE(PREENCHER!AZ50,#REF!),PREENCHER!N50))","v":""},{"$f":"IF(ISERROR(ROUND(AVERAGE(E50:N50),2)),\"\",ROUND(AVERAGE(E50:N50),2))","v":""},{"$f":"IF(ISERROR(ROUND(O50*D50,2)),\"\",ROUND(O50*D50,2))","v":""},null,null,{"$f":"IF(ISERROR(MEDIAN(E50:N50)),\"\",MEDIAN(E50:N50))","v":""},{"$f":"IF(ISERROR(STDEV(E50:N50)),\"\",STDEV(E50:N50))","v":""},{"$f":"IF(ISERROR(T50/O50),\"\",T50/O50)","v":""}]
[{"$f":"IF(PREENCHER!A51=\"\",\"\",PREENCHER!A51)","v":""},{"$f":"IF(PREENCHER!B51=\"\",\"\",PREENCHER!B51)","v":""},{"$f":"IF(PREENCHER!C51=\"\",\"\",PREENCHER!C51)","v":""},{"$f":"IF(PREENCHER!D51=\"\",\"\",PREENCHER!D51)","v":""},{"$f":"IF(PREENCHER!E51=\"\",\"\",IF(COUNTIF(PREENCHER!$AH51:$AJ51,PREENCHER!E51)=0,CONCATENATE(PREENCHER!AQ51,#REF!),PREENCHER!E51))","v":""},{"$f":"IF(PREENCHER!F51=\"\",\"\",IF(COUNTIF(PREENCHER!$AH51:$AJ51,PREENCHER!F51)=0,CONCATENATE(PREENCHER!AR51,#REF!),PREENCHER!F51))","v":""},{"$f":"IF(PREENCHER!G51=\"\",\"\",IF(COUNTIF(PREENCHER!$AH51:$AJ51,PREENCHER!G51)=0,CONCATENATE(PREENCHER!AS51,#REF!),PREENCHER!G51))","v":""},{"$f":"IF(PREENCHER!H51=\"\",\"\",IF(COUNTIF(PREENCHER!$AH51:$AJ51,PREENCHER!H51)=0,CONCATENATE(PREENCHER!AT51,#REF!),PREENCHER!H51))","v":""},{"$f":"IF(PREENCHER!I51=\"\",\"\",IF(COUNTIF(PREENCHER!$AH51:$AJ51,PREENCHER!I51)=0,CONCATENATE(PREENCHER!AU51,#REF!),PREENCHER!I51))","v":""},{"$f":"IF(PREENCHER!J51=\"\",\"\",IF(COUNTIF(PREENCHER!$AH51:$AJ51,PREENCHER!J51)=0,CONCATENATE(PREENCHER!AV51,#REF!),PREENCHER!J51))","v":""},{"$f":"IF(PREENCHER!K51=\"\",\"\",IF(COUNTIF(PREENCHER!$AH51:$AJ51,PREENCHER!K51)=0,CONCATENATE(PREENCHER!AW51,#REF!),PREENCHER!K51))","v":""},{"$f":"IF(PREENCHER!L51=\"\",\"\",IF(COUNTIF(PREENCHER!$AH51:$AJ51,PREENCHER!L51)=0,CONCATENATE(PREENCHER!AX51,#REF!),PREENCHER!L51))","v":""},{"$f":"IF(PREENCHER!M51=\"\",\"\",IF(COUNTIF(PREENCHER!$AH51:$AJ51,PREENCHER!M51)=0,CONCATENATE(PREENCHER!AY51,#REF!),PREENCHER!M51))","v":""},{"$f":"IF(PREENCHER!N51=\"\",\"\",IF(COUNTIF(PREENCHER!$AH51:$AJ51,PREENCHER!N51)=0,CONCATENATE(PREENCHER!AZ51,#REF!),PREENCHER!N51))","v":""},{"$f":"IF(ISERROR(ROUND(AVERAGE(E51:N51),2)),\"\",ROUND(AVERAGE(E51:N51),2))","v":""},{"$f":"IF(ISERROR(ROUND(O51*D51,2)),\"\",ROUND(O51*D51,2))","v":""},null,null,{"$f":"IF(ISERROR(MEDIAN(E51:N51)),\"\",MEDIAN(E51:N51))","v":""},{"$f":"IF(ISERROR(STDEV(E51:N51)),\"\",STDEV(E51:N51))","v":""},{"$f":"IF(ISERROR(T51/O51),\"\",T51/O51)","v":""}]
[{"$f":"IF(PREENCHER!A52=\"\",\"\",PREENCHER!A52)","v":""},{"$f":"IF(PREENCHER!B52=\"\",\"\",PREENCHER!B52)","v":""},{"$f":"IF(PREENCHER!C52=\"\",\"\",PREENCHER!C52)","v":""},{"$f":"IF(PREENCHER!D52=\"\",\"\",PREENCHER!D52)","v":""},{"$f":"IF(PREENCHER!E52=\"\",\"\",IF(COUNTIF(PREENCHER!$AH52:$AJ52,PREENCHER!E52)=0,CONCATENATE(PREENCHER!AQ52,#REF!),PREENCHER!E52))","v":""},{"$f":"IF(PREENCHER!F52=\"\",\"\",IF(COUNTIF(PREENCHER!$AH52:$AJ52,PREENCHER!F52)=0,CONCATENATE(PREENCHER!AR52,#REF!),PREENCHER!F52))","v":""},{"$f":"IF(PREENCHER!G52=\"\",\"\",IF(COUNTIF(PREENCHER!$AH52:$AJ52,PREENCHER!G52)=0,CONCATENATE(PREENCHER!AS52,#REF!),PREENCHER!G52))","v":""},{"$f":"IF(PREENCHER!H52=\"\",\"\",IF(COUNTIF(PREENCHER!$AH52:$AJ52,PREENCHER!H52)=0,CONCATENATE(PREENCHER!AT52,#REF!),PREENCHER!H52))","v":""},{"$f":"IF(PREENCHER!I52=\"\",\"\",IF(COUNTIF(PREENCHER!$AH52:$AJ52,PREENCHER!I52)=0,CONCATENATE(PREENCHER!AU52,#REF!),PREENCHER!I52))","v":""},{"$f":"IF(PREENCHER!J52=\"\",\"\",IF(COUNTIF(PREENCHER!$AH52:$AJ52,PREENCHER!J52)=0,CONCATENATE(PREENCHER!AV52,#REF!),PREENCHER!J52))","v":""},{"$f":"IF(PREENCHER!K52=\"\",\"\",IF(COUNTIF(PREENCHER!$AH52:$AJ52,PREENCHER!K52)=0,CONCATENATE(PREENCHER!AW52,#REF!),PREENCHER!K52))","v":""},{"$f":"IF(PREENCHER!L52=\"\",\"\",IF(COUNTIF(PREENCHER!$AH52:$AJ52,PREENCHER!L52)=0,CONCATENATE(PREENCHER!AX52,#REF!),PREENCHER!L52))","v":""},{"$f":"IF(PREENCHER!M52=\"\",\"\",IF(COUNTIF(PREENCHER!$AH52:$AJ52,PREENCHER!M52)=0,CONCATENATE(PREENCHER!AY52,#REF!),PREENCHER!M52))","v":""},{"$f":"IF(PREENCHER!N52=\"\",\"\",IF(COUNTIF(PREENCHER!$AH52:$AJ52,PREENCHER!N52)=0,CONCATENATE(PREENCHER!AZ52,#REF!),PREENCHER!N52))","v":""},{"$f":"IF(ISERROR(ROUND(AVERAGE(E52:N52),2)),\"\",ROUND(AVERAGE(E52:N52),2))","v":""},{"$f":"IF(ISERROR(ROUND(O52*D52,2)),\"\",ROUND(O52*D52,2))","v":""},null,null,{"$f":"IF(ISERROR(MEDIAN(E52:N52)),\"\",MEDIAN(E52:N52))","v":""},{"$f":"IF(ISERROR(STDEV(E52:N52)),\"\",STDEV(E52:N52))","v":""},{"$f":"IF(ISERROR(T52/O52),\"\",T52/O52)","v":""}]
[{"$f":"IF(PREENCHER!A53=\"\",\"\",PREENCHER!A53)","v":""},{"$f":"IF(PREENCHER!B53=\"\",\"\",PREENCHER!B53)","v":""},{"$f":"IF(PREENCHER!C53=\"\",\"\",PREENCHER!C53)","v":""},{"$f":"IF(PREENCHER!D53=\"\",\"\",PREENCHER!D53)","v":""},{"$f":"IF(PREENCHER!E53=\"\",\"\",IF(COUNTIF(PREENCHER!$AH53:$AJ53,PREENCHER!E53)=0,CONCATENATE(PREENCHER!AQ53,#REF!),PREENCHER!E53))","v":""},{"$f":"IF(PREENCHER!F53=\"\",\"\",IF(COUNTIF(PREENCHER!$AH53:$AJ53,PREENCHER!F53)=0,CONCATENATE(PREENCHER!AR53,#REF!),PREENCHER!F53))","v":""},{"$f":"IF(PREENCHER!G53=\"\",\"\",IF(COUNTIF(PREENCHER!$AH53:$AJ53,PREENCHER!G53)=0,CONCATENATE(PREENCHER!AS53,#REF!),PREENCHER!G53))","v":""},{"$f":"IF(PREENCHER!H53=\"\",\"\",IF(COUNTIF(PREENCHER!$AH53:$AJ53,PREENCHER!H53)=0,CONCATENATE(PREENCHER!AT53,#REF!),PREENCHER!H53))","v":""},{"$f":"IF(PREENCHER!I53=\"\",\"\",IF(COUNTIF(PREENCHER!$AH53:$AJ53,PREENCHER!I53)=0,CONCATENATE(PREENCHER!AU53,#REF!),PREENCHER!I53))","v":""},{"$f":"IF(PREENCHER!J53=\"\",\"\",IF(COUNTIF(PREENCHER!$AH53:$AJ53,PREENCHER!J53)=0,CONCATENATE(PREENCHER!AV53,#REF!),PREENCHER!J53))","v":""},{"$f":"IF(PREENCHER!K53=\"\",\"\",IF(COUNTIF(PREENCHER!$AH53:$AJ53,PREENCHER!K53)=0,CONCATENATE(PREENCHER!AW53,#REF!),PREENCHER!K53))","v":""},{"$f":"IF(PREENCHER!L53=\"\",\"\",IF(COUNTIF(PREENCHER!$AH53:$AJ53,PREENCHER!L53)=0,CONCATENATE(PREENCHER!AX53,#REF!),PREENCHER!L53))","v":""},{"$f":"IF(PREENCHER!M53=\"\",\"\",IF(COUNTIF(PREENCHER!$AH53:$AJ53,PREENCHER!M53)=0,CONCATENATE(PREENCHER!AY53,#REF!),PREENCHER!M53))","v":""},{"$f":"IF(PREENCHER!N53=\"\",\"\",IF(COUNTIF(PREENCHER!$AH53:$AJ53,PREENCHER!N53)=0,CONCATENATE(PREENCHER!AZ53,#REF!),PREENCHER!N53))","v":""},{"$f":"IF(ISERROR(ROUND(AVERAGE(E53:N53),2)),\"\",ROUND(AVERAGE(E53:N53),2))","v":""},{"$f":"IF(ISERROR(ROUND(O53*D53,2)),\"\",ROUND(O53*D53,2))","v":""},null,null,{"$f":"IF(ISERROR(MEDIAN(E53:N53)),\"\",MEDIAN(E53:N53))","v":""},{"$f":"IF(ISERROR(STDEV(E53:N53)),\"\",STDEV(E53:N53))","v":""},{"$f":"IF(ISERROR(T53/O53),\"\",T53/O53)","v":""}]
[{"$f":"IF(PREENCHER!A54=\"\",\"\",PREENCHER!A54)","v":""},{"$f":"IF(PREENCHER!B54=\"\",\"\",PREENCHER!B54)","v":""},{"$f":"IF(PREENCHER!C54=\"\",\"\",PREENCHER!C54)","v":""},{"$f":"IF(PREENCHER!D54=\"\",\"\",PREENCHER!D54)","v":""},{"$f":"IF(PREENCHER!E54=\"\",\"\",IF(COUNTIF(PREENCHER!$AH54:$AJ54,PREENCHER!E54)=0,CONCATENATE(PREENCHER!AQ54,#REF!),PREENCHER!E54))","v":""},{"$f":"IF(PREENCHER!F54=\"\",\"\",IF(COUNTIF(PREENCHER!$AH54:$AJ54,PREENCHER!F54)=0,CONCATENATE(PREENCHER!AR54,#REF!),PREENCHER!F54))","v":""},{"$f":"IF(PREENCHER!G54=\"\",\"\",IF(COUNTIF(PREENCHER!$AH54:$AJ54,PREENCHER!G54)=0,CONCATENATE(PREENCHER!AS54,#REF!),PREENCHER!G54))","v":""},{"$f":"IF(PREENCHER!H54=\"\",\"\",IF(COUNTIF(PREENCHER!$AH54:$AJ54,PREENCHER!H54)=0,CONCATENATE(PREENCHER!AT54,#REF!),PREENCHER!H54))","v":""},{"$f":"IF(PREENCHER!I54=\"\",\"\",IF(COUNTIF(PREENCHER!$AH54:$AJ54,PREENCHER!I54)=0,CONCATENATE(PREENCHER!AU54,#REF!),PREENCHER!I54))","v":""},{"$f":"IF(PREENCHER!J54=\"\",\"\",IF(COUNTIF(PREENCHER!$AH54:$AJ54,PREENCHER!J54)=0,CONCATENATE(PREENCHER!AV54,#REF!),PREENCHER!J54))","v":""},{"$f":"IF(PREENCHER!K54=\"\",\"\",IF(COUNTIF(PREENCHER!$AH54:$AJ54,PREENCHER!K54)=0,CONCATENATE(PREENCHER!AW54,#REF!),PREENCHER!K54))","v":""},{"$f":"IF(PREENCHER!L54=\"\",\"\",IF(COUNTIF(PREENCHER!$AH54:$AJ54,PREENCHER!L54)=0,CONCATENATE(PREENCHER!AX54,#REF!),PREENCHER!L54))","v":""},{"$f":"IF(PREENCHER!M54=\"\",\"\",IF(COUNTIF(PREENCHER!$AH54:$AJ54,PREENCHER!M54)=0,CONCATENATE(PREENCHER!AY54,#REF!),PREENCHER!M54))","v":""},{"$f":"IF(PREENCHER!N54=\"\",\"\",IF(COUNTIF(PREENCHER!$AH54:$AJ54,PREENCHER!N54)=0,CONCATENATE(PREENCHER!AZ54,#REF!),PREENCHER!N54))","v":""},{"$f":"IF(ISERROR(ROUND(AVERAGE(E54:N54),2)),\"\",ROUND(AVERAGE(E54:N54),2))","v":""},{"$f":"IF(ISERROR(ROUND(O54*D54,2)),\"\",ROUND(O54*D54,2))","v":""},null,null,{"$f":"IF(ISERROR(MEDIAN(E54:N54)),\"\",MEDIAN(E54:N54))","v":""},{"$f":"IF(ISERROR(STDEV(E54:N54)),\"\",STDEV(E54:N54))","v":""},{"$f":"IF(ISERROR(T54/O54),\"\",T54/O54)","v":""}]
[{"$f":"IF(PREENCHER!A55=\"\",\"\",PREENCHER!A55)","v":""},{"$f":"IF(PREENCHER!B55=\"\",\"\",PREENCHER!B55)","v":""},{"$f":"IF(PREENCHER!C55=\"\",\"\",PREENCHER!C55)","v":""},{"$f":"IF(PREENCHER!D55=\"\",\"\",PREENCHER!D55)","v":""},{"$f":"IF(PREENCHER!E55=\"\",\"\",IF(COUNTIF(PREENCHER!$AH55:$AJ55,PREENCHER!E55)=0,CONCATENATE(PREENCHER!AQ55,#REF!),PREENCHER!E55))","v":""},{"$f":"IF(PREENCHER!F55=\"\",\"\",IF(COUNTIF(PREENCHER!$AH55:$AJ55,PREENCHER!F55)=0,CONCATENATE(PREENCHER!AR55,#REF!),PREENCHER!F55))","v":""},{"$f":"IF(PREENCHER!G55=\"\",\"\",IF(COUNTIF(PREENCHER!$AH55:$AJ55,PREENCHER!G55)=0,CONCATENATE(PREENCHER!AS55,#REF!),PREENCHER!G55))","v":""},{"$f":"IF(PREENCHER!H55=\"\",\"\",IF(COUNTIF(PREENCHER!$AH55:$AJ55,PREENCHER!H55)=0,CONCATENATE(PREENCHER!AT55,#REF!),PREENCHER!H55))","v":""},{"$f":"IF(PREENCHER!I55=\"\",\"\",IF(COUNTIF(PREENCHER!$AH55:$AJ55,PREENCHER!I55)=0,CONCATENATE(PREENCHER!AU55,#REF!),PREENCHER!I55))","v":""},{"$f":"IF(PREENCHER!J55=\"\",\"\",IF(COUNTIF(PREENCHER!$AH55:$AJ55,PREENCHER!J55)=0,CONCATENATE(PREENCHER!AV55,#REF!),PREENCHER!J55))","v":""},{"$f":"IF(PREENCHER!K55=\"\",\"\",IF(COUNTIF(PREENCHER!$AH55:$AJ55,PREENCHER!K55)=0,CONCATENATE(PREENCHER!AW55,#REF!),PREENCHER!K55))","v":""},{"$f":"IF(PREENCHER!L55=\"\",\"\",IF(COUNTIF(PREENCHER!$AH55:$AJ55,PREENCHER!L55)=0,CONCATENATE(PREENCHER!AX55,#REF!),PREENCHER!L55))","v":""},{"$f":"IF(PREENCHER!M55=\"\",\"\",IF(COUNTIF(PREENCHER!$AH55:$AJ55,PREENCHER!M55)=0,CONCATENATE(PREENCHER!AY55,#REF!),PREENCHER!M55))","v":""},{"$f":"IF(PREENCHER!N55=\"\",\"\",IF(COUNTIF(PREENCHER!$AH55:$AJ55,PREENCHER!N55)=0,CONCATENATE(PREENCHER!AZ55,#REF!),PREENCHER!N55))","v":""},{"$f":"IF(ISERROR(ROUND(AVERAGE(E55:N55),2)),\"\",ROUND(AVERAGE(E55:N55),2))","v":""},{"$f":"IF(ISERROR(ROUND(O55*D55,2)),\"\",ROUND(O55*D55,2))","v":""},null,null,{"$f":"IF(ISERROR(MEDIAN(E55:N55)),\"\",MEDIAN(E55:N55))","v":""},{"$f":"IF(ISERROR(STDEV(E55:N55)),\"\",STDEV(E55:N55))","v":""},{"$f":"IF(ISERROR(T55/O55),\"\",T55/O55)","v":""}]
[{"$f":"IF(PREENCHER!A56=\"\",\"\",PREENCHER!A56)","v":""},{"$f":"IF(PREENCHER!B56=\"\",\"\",PREENCHER!B56)","v":""},{"$f":"IF(PREENCHER!C56=\"\",\"\",PREENCHER!C56)","v":""},{"$f":"IF(PREENCHER!D56=\"\",\"\",PREENCHER!D56)","v":""},{"$f":"IF(PREENCHER!E56=\"\",\"\",IF(COUNTIF(PREENCHER!$AH56:$AJ56,PREENCHER!E56)=0,CONCATENATE(PREENCHER!AQ56,#REF!),PREENCHER!E56))","v":""},{"$f":"IF(PREENCHER!F56=\"\",\"\",IF(COUNTIF(PREENCHER!$AH56:$AJ56,PREENCHER!F56)=0,CONCATENATE(PREENCHER!AR56,#REF!),PREENCHER!F56))","v":""},{"$f":"IF(PREENCHER!G56=\"\",\"\",IF(COUNTIF(PREENCHER!$AH56:$AJ56,PREENCHER!G56)=0,CONCATENATE(PREENCHER!AS56,#REF!),PREENCHER!G56))","v":""},{"$f":"IF(PREENCHER!H56=\"\",\"\",IF(COUNTIF(PREENCHER!$AH56:$AJ56,PREENCHER!H56)=0,CONCATENATE(PREENCHER!AT56,#REF!),PREENCHER!H56))","v":""},{"$f":"IF(PREENCHER!I56=\"\",\"\",IF(COUNTIF(PREENCHER!$AH56:$AJ56,PREENCHER!I56)=0,CONCATENATE(PREENCHER!AU56,#REF!),PREENCHER!I56))","v":""},{"$f":"IF(PREENCHER!J56=\"\",\"\",IF(COUNTIF(PREENCHER!$AH56:$AJ56,PREENCHER!J56)=0,CONCATENATE(PREENCHER!AV56,#REF!),PREENCHER!J56))","v":""},{"$f":"IF(PREENCHER!K56=\"\",\"\",IF(COUNTIF(PREENCHER!$AH56:$AJ56,PREENCHER!K56)=0,CONCATENATE(PREENCHER!AW56,#REF!),PREENCHER!K56))","v":""},{"$f":"IF(PREENCHER!L56=\"\",\"\",IF(COUNTIF(PREENCHER!$AH56:$AJ56,PREENCHER!L56)=0,CONCATENATE(PREENCHER!AX56,#REF!),PREENCHER!L56))","v":""},{"$f":"IF(PREENCHER!M56=\"\",\"\",IF(COUNTIF(PREENCHER!$AH56:$AJ56,PREENCHER!M56)=0,CONCATENATE(PREENCHER!AY56,#REF!),PREENCHER!M56))","v":""},{"$f":"IF(PREENCHER!N56=\"\",\"\",IF(COUNTIF(PREENCHER!$AH56:$AJ56,PREENCHER!N56)=0,CONCATENATE(PREENCHER!AZ56,#REF!),PREENCHER!N56))","v":""},{"$f":"IF(ISERROR(ROUND(AVERAGE(E56:N56),2)),\"\",ROUND(AVERAGE(E56:N56),2))","v":""},{"$f":"IF(ISERROR(ROUND(O56*D56,2)),\"\",ROUND(O56*D56,2))","v":""},null,null,{"$f":"IF(ISERROR(MEDIAN(E56:N56)),\"\",MEDIAN(E56:N56))","v":""},{"$f":"IF(ISERROR(STDEV(E56:N56)),\"\",STDEV(E56:N56))","v":""},{"$f":"IF(ISERROR(T56/O56),\"\",T56/O56)","v":""}]
[{"$f":"IF(PREENCHER!A57=\"\",\"\",PREENCHER!A57)","v":""},{"$f":"IF(PREENCHER!B57=\"\",\"\",PREENCHER!B57)","v":""},{"$f":"IF(PREENCHER!C57=\"\",\"\",PREENCHER!C57)","v":""},{"$f":"IF(PREENCHER!D57=\"\",\"\",PREENCHER!D57)","v":""},{"$f":"IF(PREENCHER!E57=\"\",\"\",IF(COUNTIF(PREENCHER!$AH57:$AJ57,PREENCHER!E57)=0,CONCATENATE(PREENCHER!AQ57,#REF!),PREENCHER!E57))","v":""},{"$f":"IF(PREENCHER!F57=\"\",\"\",IF(COUNTIF(PREENCHER!$AH57:$AJ57,PREENCHER!F57)=0,CONCATENATE(PREENCHER!AR57,#REF!),PREENCHER!F57))","v":""},{"$f":"IF(PREENCHER!G57=\"\",\"\",IF(COUNTIF(PREENCHER!$AH57:$AJ57,PREENCHER!G57)=0,CONCATENATE(PREENCHER!AS57,#REF!),PREENCHER!G57))","v":""},{"$f":"IF(PREENCHER!H57=\"\",\"\",IF(COUNTIF(PREENCHER!$AH57:$AJ57,PREENCHER!H57)=0,CONCATENATE(PREENCHER!AT57,#REF!),PREENCHER!H57))","v":""},{"$f":"IF(PREENCHER!I57=\"\",\"\",IF(COUNTIF(PREENCHER!$AH57:$AJ57,PREENCHER!I57)=0,CONCATENATE(PREENCHER!AU57,#REF!),PREENCHER!I57))","v":""},{"$f":"IF(PREENCHER!J57=\"\",\"\",IF(COUNTIF(PREENCHER!$AH57:$AJ57,PREENCHER!J57)=0,CONCATENATE(PREENCHER!AV57,#REF!),PREENCHER!J57))","v":""},{"$f":"IF(PREENCHER!K57=\"\",\"\",IF(COUNTIF(PREENCHER!$AH57:$AJ57,PREENCHER!K57)=0,CONCATENATE(PREENCHER!AW57,#REF!),PREENCHER!K57))","v":""},{"$f":"IF(PREENCHER!L57=\"\",\"\",IF(COUNTIF(PREENCHER!$AH57:$AJ57,PREENCHER!L57)=0,CONCATENATE(PREENCHER!AX57,#REF!),PREENCHER!L57))","v":""},{"$f":"IF(PREENCHER!M57=\"\",\"\",IF(COUNTIF(PREENCHER!$AH57:$AJ57,PREENCHER!M57)=0,CONCATENATE(PREENCHER!AY57,#REF!),PREENCHER!M57))","v":""},{"$f":"IF(PREENCHER!N57=\"\",\"\",IF(COUNTIF(PREENCHER!$AH57:$AJ57,PREENCHER!N57)=0,CONCATENATE(PREENCHER!AZ57,#REF!),PREENCHER!N57))","v":""},{"$f":"IF(ISERROR(ROUND(AVERAGE(E57:N57),2)),\"\",ROUND(AVERAGE(E57:N57),2))","v":""},{"$f":"IF(ISERROR(ROUND(O57*D57,2)),\"\",ROUND(O57*D57,2))","v":""},null,null,{"$f":"IF(ISERROR(MEDIAN(E57:N57)),\"\",MEDIAN(E57:N57))","v":""},{"$f":"IF(ISERROR(STDEV(E57:N57)),\"\",STDEV(E57:N57))","v":""},{"$f":"IF(ISERROR(T57/O57),\"\",T57/O57)","v":""}]
[{"$f":"IF(PREENCHER!A58=\"\",\"\",PREENCHER!A58)","v":""},{"$f":"IF(PREENCHER!B58=\"\",\"\",PREENCHER!B58)","v":""},{"$f":"IF(PREENCHER!C58=\"\",\"\",PREENCHER!C58)","v":""},{"$f":"IF(PREENCHER!D58=\"\",\"\",PREENCHER!D58)","v":""},{"$f":"IF(PREENCHER!E58=\"\",\"\",IF(COUNTIF(PREENCHER!$AH58:$AJ58,PREENCHER!E58)=0,CONCATENATE(PREENCHER!AQ58,#REF!),PREENCHER!E58))","v":""},{"$f":"IF(PREENCHER!F58=\"\",\"\",IF(COUNTIF(PREENCHER!$AH58:$AJ58,PREENCHER!F58)=0,CONCATENATE(PREENCHER!AR58,#REF!),PREENCHER!F58))","v":""},{"$f":"IF(PREENCHER!G58=\"\",\"\",IF(COUNTIF(PREENCHER!$AH58:$AJ58,PREENCHER!G58)=0,CONCATENATE(PREENCHER!AS58,#REF!),PREENCHER!G58))","v":""},{"$f":"IF(PREENCHER!H58=\"\",\"\",IF(COUNTIF(PREENCHER!$AH58:$AJ58,PREENCHER!H58)=0,CONCATENATE(PREENCHER!AT58,#REF!),PREENCHER!H58))","v":""},{"$f":"IF(PREENCHER!I58=\"\",\"\",IF(COUNTIF(PREENCHER!$AH58:$AJ58,PREENCHER!I58)=0,CONCATENATE(PREENCHER!AU58,#REF!),PREENCHER!I58))","v":""},{"$f":"IF(PREENCHER!J58=\"\",\"\",IF(COUNTIF(PREENCHER!$AH58:$AJ58,PREENCHER!J58)=0,CONCATENATE(PREENCHER!AV58,#REF!),PREENCHER!J58))","v":""},{"$f":"IF(PREENCHER!K58=\"\",\"\",IF(COUNTIF(PREENCHER!$AH58:$AJ58,PREENCHER!K58)=0,CONCATENATE(PREENCHER!AW58,#REF!),PREENCHER!K58))","v":""},{"$f":"IF(PREENCHER!L58=\"\",\"\",IF(COUNTIF(PREENCHER!$AH58:$AJ58,PREENCHER!L58)=0,CONCATENATE(PREENCHER!AX58,#REF!),PREENCHER!L58))","v":""},{"$f":"IF(PREENCHER!M58=\"\",\"\",IF(COUNTIF(PREENCHER!$AH58:$AJ58,PREENCHER!M58)=0,CONCATENATE(PREENCHER!AY58,#REF!),PREENCHER!M58))","v":""},{"$f":"IF(PREENCHER!N58=\"\",\"\",IF(COUNTIF(PREENCHER!$AH58:$AJ58,PREENCHER!N58)=0,CONCATENATE(PREENCHER!AZ58,#REF!),PREENCHER!N58))","v":""},{"$f":"IF(ISERROR(ROUND(AVERAGE(E58:N58),2)),\"\",ROUND(AVERAGE(E58:N58),2))","v":""},{"$f":"IF(ISERROR(ROUND(O58*D58,2)),\"\",ROUND(O58*D58,2))","v":""},null,null,{"$f":"IF(ISERROR(MEDIAN(E58:N58)),\"\",MEDIAN(E58:N58))","v":""},{"$f":"IF(ISERROR(STDEV(E58:N58)),\"\",STDEV(E58:N58))","v":""},{"$f":"IF(ISERROR(T58/O58),\"\",T58/O58)","v":""}]
[{"$f":"IF(PREENCHER!A59=\"\",\"\",PREENCHER!A59)","v":""},{"$f":"IF(PREENCHER!B59=\"\",\"\",PREENCHER!B59)","v":""},{"$f":"IF(PREENCHER!C59=\"\",\"\",PREENCHER!C59)","v":""},{"$f":"IF(PREENCHER!D59=\"\",\"\",PREENCHER!D59)","v":""},{"$f":"IF(PREENCHER!E59=\"\",\"\",IF(COUNTIF(PREENCHER!$AH59:$AJ59,PREENCHER!E59)=0,CONCATENATE(PREENCHER!AQ59,#REF!),PREENCHER!E59))","v":""},{"$f":"IF(PREENCHER!F59=\"\",\"\",IF(COUNTIF(PREENCHER!$AH59:$AJ59,PREENCHER!F59)=0,CONCATENATE(PREENCHER!AR59,#REF!),PREENCHER!F59))","v":""},{"$f":"IF(PREENCHER!G59=\"\",\"\",IF(COUNTIF(PREENCHER!$AH59:$AJ59,PREENCHER!G59)=0,CONCATENATE(PREENCHER!AS59,#REF!),PREENCHER!G59))","v":""},{"$f":"IF(PREENCHER!H59=\"\",\"\",IF(COUNTIF(PREENCHER!$AH59:$AJ59,PREENCHER!H59)=0,CONCATENATE(PREENCHER!AT59,#REF!),PREENCHER!H59))","v":""},{"$f":"IF(PREENCHER!I59=\"\",\"\",IF(COUNTIF(PREENCHER!$AH59:$AJ59,PREENCHER!I59)=0,CONCATENATE(PREENCHER!AU59,#REF!),PREENCHER!I59))","v":""},{"$f":"IF(PREENCHER!J59=\"\",\"\",IF(COUNTIF(PREENCHER!$AH59:$AJ59,PREENCHER!J59)=0,CONCATENATE(PREENCHER!AV59,#REF!),PREENCHER!J59))","v":""},{"$f":"IF(PREENCHER!K59=\"\",\"\",IF(COUNTIF(PREENCHER!$AH59:$AJ59,PREENCHER!K59)=0,CONCATENATE(PREENCHER!AW59,#REF!),PREENCHER!K59))","v":""},{"$f":"IF(PREENCHER!L59=\"\",\"\",IF(COUNTIF(PREENCHER!$AH59:$AJ59,PREENCHER!L59)=0,CONCATENATE(PREENCHER!AX59,#REF!),PREENCHER!L59))","v":""},{"$f":"IF(PREENCHER!M59=\"\",\"\",IF(COUNTIF(PREENCHER!$AH59:$AJ59,PREENCHER!M59)=0,CONCATENATE(PREENCHER!AY59,#REF!),PREENCHER!M59))","v":""},{"$f":"IF(PREENCHER!N59=\"\",\"\",IF(COUNTIF(PREENCHER!$AH59:$AJ59,PREENCHER!N59)=0,CONCATENATE(PREENCHER!AZ59,#REF!),PREENCHER!N59))","v":""},{"$f":"IF(ISERROR(ROUND(AVERAGE(E59:N59),2)),\"\",ROUND(AVERAGE(E59:N59),2))","v":""},{"$f":"IF(ISERROR(ROUND(O59*D59,2)),\"\",ROUND(O59*D59,2))","v":""},null,null,{"$f":"IF(ISERROR(MEDIAN(E59:N59)),\"\",MEDIAN(E59:N59))","v":""},{"$f":"IF(ISERROR(STDEV(E59:N59)),\"\",STDEV(E59:N59))","v":""},{"$f":"IF(ISERROR(T59/O59),\"\",T59/O59)","v":""}]
[{"$f":"IF(PREENCHER!A60=\"\",\"\",PREENCHER!A60)","v":""},{"$f":"IF(PREENCHER!B60=\"\",\"\",PREENCHER!B60)","v":""},{"$f":"IF(PREENCHER!C60=\"\",\"\",PREENCHER!C60)","v":""},{"$f":"IF(PREENCHER!D60=\"\",\"\",PREENCHER!D60)","v":""},{"$f":"IF(PREENCHER!E60=\"\",\"\",IF(COUNTIF(PREENCHER!$AH60:$AJ60,PREENCHER!E60)=0,CONCATENATE(PREENCHER!AQ60,#REF!),PREENCHER!E60))","v":""},{"$f":"IF(PREENCHER!F60=\"\",\"\",IF(COUNTIF(PREENCHER!$AH60:$AJ60,PREENCHER!F60)=0,CONCATENATE(PREENCHER!AR60,#REF!),PREENCHER!F60))","v":""},{"$f":"IF(PREENCHER!G60=\"\",\"\",IF(COUNTIF(PREENCHER!$AH60:$AJ60,PREENCHER!G60)=0,CONCATENATE(PREENCHER!AS60,#REF!),PREENCHER!G60))","v":""},{"$f":"IF(PREENCHER!H60=\"\",\"\",IF(COUNTIF(PREENCHER!$AH60:$AJ60,PREENCHER!H60)=0,CONCATENATE(PREENCHER!AT60,#REF!),PREENCHER!H60))","v":""},{"$f":"IF(PREENCHER!I60=\"\",\"\",IF(COUNTIF(PREENCHER!$AH60:$AJ60,PREENCHER!I60)=0,CONCATENATE(PREENCHER!AU60,#REF!),PREENCHER!I60))","v":""},{"$f":"IF(PREENCHER!J60=\"\",\"\",IF(COUNTIF(PREENCHER!$AH60:$AJ60,PREENCHER!J60)=0,CONCATENATE(PREENCHER!AV60,#REF!),PREENCHER!J60))","v":""},{"$f":"IF(PREENCHER!K60=\"\",\"\",IF(COUNTIF(PREENCHER!$AH60:$AJ60,PREENCHER!K60)=0,CONCATENATE(PREENCHER!AW60,#REF!),PREENCHER!K60))","v":""},{"$f":"IF(PREENCHER!L60=\"\",\"\",IF(COUNTIF(PREENCHER!$AH60:$AJ60,PREENCHER!L60)=0,CONCATENATE(PREENCHER!AX60,#REF!),PREENCHER!L60))","v":""},{"$f":"IF(PREENCHER!M60=\"\",\"\",IF(COUNTIF(PREENCHER!$AH60:$AJ60,PREENCHER!M60)=0,CONCATENATE(PREENCHER!AY60,#REF!),PREENCHER!M60))","v":""},{"$f":"IF(PREENCHER!N60=\"\",\"\",IF(COUNTIF(PREENCHER!$AH60:$AJ60,PREENCHER!N60)=0,CONCATENATE(PREENCHER!AZ60,#REF!),PREENCHER!N60))","v":""},{"$f":"IF(ISERROR(ROUND(AVERAGE(E60:N60),2)),\"\",ROUND(AVERAGE(E60:N60),2))","v":""},{"$f":"IF(ISERROR(ROUND(O60*D60,2)),\"\",ROUND(O60*D60,2))","v":""},null,null,{"$f":"IF(ISERROR(MEDIAN(E60:N60)),\"\",MEDIAN(E60:N60))","v":""},{"$f":"IF(ISERROR(STDEV(E60:N60)),\"\",STDEV(E60:N60))","v":""},{"$f":"IF(ISERROR(T60/O60),\"\",T60/O60)","v":""}]
[{"$f":"IF(PREENCHER!A61=\"\",\"\",PREENCHER!A61)","v":""},{"$f":"IF(PREENCHER!B61=\"\",\"\",PREENCHER!B61)","v":""},{"$f":"IF(PREENCHER!C61=\"\",\"\",PREENCHER!C61)","v":""},{"$f":"IF(PREENCHER!D61=\"\",\"\",PREENCHER!D61)","v":""},{"$f":"IF(PREENCHER!E61=\"\",\"\",IF(COUNTIF(PREENCHER!$AH61:$AJ61,PREENCHER!E61)=0,CONCATENATE(PREENCHER!AQ61,#REF!),PREENCHER!E61))","v":""},{"$f":"IF(PREENCHER!F61=\"\",\"\",IF(COUNTIF(PREENCHER!$AH61:$AJ61,PREENCHER!F61)=0,CONCATENATE(PREENCHER!AR61,#REF!),PREENCHER!F61))","v":""},{"$f":"IF(PREENCHER!G61=\"\",\"\",IF(COUNTIF(PREENCHER!$AH61:$AJ61,PREENCHER!G61)=0,CONCATENATE(PREENCHER!AS61,#REF!),PREENCHER!G61))","v":""},{"$f":"IF(PREENCHER!H61=\"\",\"\",IF(COUNTIF(PREENCHER!$AH61:$AJ61,PREENCHER!H61)=0,CONCATENATE(PREENCHER!AT61,#REF!),PREENCHER!H61))","v":""},{"$f":"IF(PREENCHER!I61=\"\",\"\",IF(COUNTIF(PREENCHER!$AH61:$AJ61,PREENCHER!I61)=0,CONCATENATE(PREENCHER!AU61,#REF!),PREENCHER!I61))","v":""},{"$f":"IF(PREENCHER!J61=\"\",\"\",IF(COUNTIF(PREENCHER!$AH61:$AJ61,PREENCHER!J61)=0,CONCATENATE(PREENCHER!AV61,#REF!),PREENCHER!J61))","v":""},{"$f":"IF(PREENCHER!K61=\"\",\"\",IF(COUNTIF(PREENCHER!$AH61:$AJ61,PREENCHER!K61)=0,CONCATENATE(PREENCHER!AW61,#REF!),PREENCHER!K61))","v":""},{"$f":"IF(PREENCHER!L61=\"\",\"\",IF(COUNTIF(PREENCHER!$AH61:$AJ61,PREENCHER!L61)=0,CONCATENATE(PREENCHER!AX61,#REF!),PREENCHER!L61))","v":""},{"$f":"IF(PREENCHER!M61=\"\",\"\",IF(COUNTIF(PREENCHER!$AH61:$AJ61,PREENCHER!M61)=0,CONCATENATE(PREENCHER!AY61,#REF!),PREENCHER!M61))","v":""},{"$f":"IF(PREENCHER!N61=\"\",\"\",IF(COUNTIF(PREENCHER!$AH61:$AJ61,PREENCHER!N61)=0,CONCATENATE(PREENCHER!AZ61,#REF!),PREENCHER!N61))","v":""},{"$f":"IF(ISERROR(ROUND(AVERAGE(E61:N61),2)),\"\",ROUND(AVERAGE(E61:N61),2))","v":""},{"$f":"IF(ISERROR(ROUND(O61*D61,2)),\"\",ROUND(O61*D61,2))","v":""},null,null,{"$f":"IF(ISERROR(MEDIAN(E61:N61)),\"\",MEDIAN(E61:N61))","v":""},{"$f":"IF(ISERROR(STDEV(E61:N61)),\"\",STDEV(E61:N61))","v":""},{"$f":"IF(ISERROR(T61/O61),\"\",T61/O61)","v":""}]
[{"$f":"IF(PREENCHER!A62=\"\",\"\",PREENCHER!A62)","v":""},{"$f":"IF(PREENCHER!B62=\"\",\"\",PREENCHER!B62)","v":""},{"$f":"IF(PREENCHER!C62=\"\",\"\",PREENCHER!C62)","v":""},{"$f":"IF(PREENCHER!D62=\"\",\"\",PREENCHER!D62)","v":""},{"$f":"IF(PREENCHER!E62=\"\",\"\",IF(COUNTIF(PREENCHER!$AH62:$AJ62,PREENCHER!E62)=0,CONCATENATE(PREENCHER!AQ62,#REF!),PREENCHER!E62))","v":""},{"$f":"IF(PREENCHER!F62=\"\",\"\",IF(COUNTIF(PREENCHER!$AH62:$AJ62,PREENCHER!F62)=0,CONCATENATE(PREENCHER!AR62,#REF!),PREENCHER!F62))","v":""},{"$f":"IF(PREENCHER!G62=\"\",\"\",IF(COUNTIF(PREENCHER!$AH62:$AJ62,PREENCHER!G62)=0,CONCATENATE(PREENCHER!AS62,#REF!),PREENCHER!G62))","v":""},{"$f":"IF(PREENCHER!H62=\"\",\"\",IF(COUNTIF(PREENCHER!$AH62:$AJ62,PREENCHER!H62)=0,CONCATENATE(PREENCHER!AT62,#REF!),PREENCHER!H62))","v":""},{"$f":"IF(PREENCHER!I62=\"\",\"\",IF(COUNTIF(PREENCHER!$AH62:$AJ62,PREENCHER!I62)=0,CONCATENATE(PREENCHER!AU62,#REF!),PREENCHER!I62))","v":""},{"$f":"IF(PREENCHER!J62=\"\",\"\",IF(COUNTIF(PREENCHER!$AH62:$AJ62,PREENCHER!J62)=0,CONCATENATE(PREENCHER!AV62,#REF!),PREENCHER!J62))","v":""},{"$f":"IF(PREENCHER!K62=\"\",\"\",IF(COUNTIF(PREENCHER!$AH62:$AJ62,PREENCHER!K62)=0,CONCATENATE(PREENCHER!AW62,#REF!),PREENCHER!K62))","v":""},{"$f":"IF(PREENCHER!L62=\"\",\"\",IF(COUNTIF(PREENCHER!$AH62:$AJ62,PREENCHER!L62)=0,CONCATENATE(PREENCHER!AX62,#REF!),PREENCHER!L62))","v":""},{"$f":"IF(PREENCHER!M62=\"\",\"\",IF(COUNTIF(PREENCHER!$AH62:$AJ62,PREENCHER!M62)=0,CONCATENATE(PREENCHER!AY62,#REF!),PREENCHER!M62))","v":""},{"$f":"IF(PREENCHER!N62=\"\",\"\",IF(COUNTIF(PREENCHER!$AH62:$AJ62,PREENCHER!N62)=0,CONCATENATE(PREENCHER!AZ62,#REF!),PREENCHER!N62))","v":""},{"$f":"IF(ISERROR(ROUND(AVERAGE(E62:N62),2)),\"\",ROUND(AVERAGE(E62:N62),2))","v":""},{"$f":"IF(ISERROR(ROUND(O62*D62,2)),\"\",ROUND(O62*D62,2))","v":""},null,null,{"$f":"IF(ISERROR(MEDIAN(E62:N62)),\"\",MEDIAN(E62:N62))","v":""},{"$f":"IF(ISERROR(STDEV(E62:N62)),\"\",STDEV(E62:N62))","v":""},{"$f":"IF(ISERROR(T62/O62),\"\",T62/O62)","v":""}]
[{"$f":"IF(PREENCHER!A63=\"\",\"\",PREENCHER!A63)","v":""},{"$f":"IF(PREENCHER!B63=\"\",\"\",PREENCHER!B63)","v":""},{"$f":"IF(PREENCHER!C63=\"\",\"\",PREENCHER!C63)","v":""},{"$f":"IF(PREENCHER!D63=\"\",\"\",PREENCHER!D63)","v":""},{"$f":"IF(PREENCHER!E63=\"\",\"\",IF(COUNTIF(PREENCHER!$AH63:$AJ63,PREENCHER!E63)=0,CONCATENATE(PREENCHER!AQ63,#REF!),PREENCHER!E63))","v":""},{"$f":"IF(PREENCHER!F63=\"\",\"\",IF(COUNTIF(PREENCHER!$AH63:$AJ63,PREENCHER!F63)=0,CONCATENATE(PREENCHER!AR63,#REF!),PREENCHER!F63))","v":""},{"$f":"IF(PREENCHER!G63=\"\",\"\",IF(COUNTIF(PREENCHER!$AH63:$AJ63,PREENCHER!G63)=0,CONCATENATE(PREENCHER!AS63,#REF!),PREENCHER!G63))","v":""},{"$f":"IF(PREENCHER!H63=\"\",\"\",IF(COUNTIF(PREENCHER!$AH63:$AJ63,PREENCHER!H63)=0,CONCATENATE(PREENCHER!AT63,#REF!),PREENCHER!H63))","v":""},{"$f":"IF(PREENCHER!I63=\"\",\"\",IF(COUNTIF(PREENCHER!$AH63:$AJ63,PREENCHER!I63)=0,CONCATENATE(PREENCHER!AU63,#REF!),PREENCHER!I63))","v":""},{"$f":"IF(PREENCHER!J63=\"\",\"\",IF(COUNTIF(PREENCHER!$AH63:$AJ63,PREENCHER!J63)=0,CONCATENATE(PREENCHER!AV63,#REF!),PREENCHER!J63))","v":""},{"$f":"IF(PREENCHER!K63=\"\",\"\",IF(COUNTIF(PREENCHER!$AH63:$AJ63,PREENCHER!K63)=0,CONCATENATE(PREENCHER!AW63,#REF!),PREENCHER!K63))","v":""},{"$f":"IF(PREENCHER!L63=\"\",\"\",IF(COUNTIF(PREENCHER!$AH63:$AJ63,PREENCHER!L63)=0,CONCATENATE(PREENCHER!AX63,#REF!),PREENCHER!L63))","v":""},{"$f":"IF(PREENCHER!M63=\"\",\"\",IF(COUNTIF(PREENCHER!$AH63:$AJ63,PREENCHER!M63)=0,CONCATENATE(PREENCHER!AY63,#REF!),PREENCHER!M63))","v":""},{"$f":"IF(PREENCHER!N63=\"\",\"\",IF(COUNTIF(PREENCHER!$AH63:$AJ63,PREENCHER!N63)=0,CONCATENATE(PREENCHER!AZ63,#REF!),PREENCHER!N63))","v":""},{"$f":"IF(ISERROR(ROUND(AVERAGE(E63:N63),2)),\"\",ROUND(AVERAGE(E63:N63),2))","v":""},{"$f":"IF(ISERROR(ROUND(O63*D63,2)),\"\",ROUND(O63*D63,2))","v":""},null,null,{"$f":"IF(ISERROR(MEDIAN(E63:N63)),\"\",MEDIAN(E63:N63))","v":""},{"$f":"IF(ISERROR(STDEV(E63:N63)),\"\",STDEV(E63:N63))","v":""},{"$f":"IF(ISERROR(T63/O63),\"\",T63/O63)","v":""}]
[{"$f":"IF(PREENCHER!A64=\"\",\"\",PREENCHER!A64)","v":""},{"$f":"IF(PREENCHER!B64=\"\",\"\",PREENCHER!B64)","v":""},{"$f":"IF(PREENCHER!C64=\"\",\"\",PREENCHER!C64)","v":""},{"$f":"IF(PREENCHER!D64=\"\",\"\",PREENCHER!D64)","v":""},{"$f":"IF(PREENCHER!E64=\"\",\"\",IF(COUNTIF(PREENCHER!$AH64:$AJ64,PREENCHER!E64)=0,CONCATENATE(PREENCHER!AQ64,#REF!),PREENCHER!E64))","v":""},{"$f":"IF(PREENCHER!F64=\"\",\"\",IF(COUNTIF(PREENCHER!$AH64:$AJ64,PREENCHER!F64)=0,CONCATENATE(PREENCHER!AR64,#REF!),PREENCHER!F64))","v":""},{"$f":"IF(PREENCHER!G64=\"\",\"\",IF(COUNTIF(PREENCHER!$AH64:$AJ64,PREENCHER!G64)=0,CONCATENATE(PREENCHER!AS64,#REF!),PREENCHER!G64))","v":""},{"$f":"IF(PREENCHER!H64=\"\",\"\",IF(COUNTIF(PREENCHER!$AH64:$AJ64,PREENCHER!H64)=0,CONCATENATE(PREENCHER!AT64,#REF!),PREENCHER!H64))","v":""},{"$f":"IF(PREENCHER!I64=\"\",\"\",IF(COUNTIF(PREENCHER!$AH64:$AJ64,PREENCHER!I64)=0,CONCATENATE(PREENCHER!AU64,#REF!),PREENCHER!I64))","v":""},{"$f":"IF(PREENCHER!J64=\"\",\"\",IF(COUNTIF(PREENCHER!$AH64:$AJ64,PREENCHER!J64)=0,CONCATENATE(PREENCHER!AV64,#REF!),PREENCHER!J64))","v":""},{"$f":"IF(PREENCHER!K64=\"\",\"\",IF(COUNTIF(PREENCHER!$AH64:$AJ64,PREENCHER!K64)=0,CONCATENATE(PREENCHER!AW64,#REF!),PREENCHER!K64))","v":""},{"$f":"IF(PREENCHER!L64=\"\",\"\",IF(COUNTIF(PREENCHER!$AH64:$AJ64,PREENCHER!L64)=0,CONCATENATE(PREENCHER!AX64,#REF!),PREENCHER!L64))","v":""},{"$f":"IF(PREENCHER!M64=\"\",\"\",IF(COUNTIF(PREENCHER!$AH64:$AJ64,PREENCHER!M64)=0,CONCATENATE(PREENCHER!AY64,#REF!),PREENCHER!M64))","v":""},{"$f":"IF(PREENCHER!N64=\"\",\"\",IF(COUNTIF(PREENCHER!$AH64:$AJ64,PREENCHER!N64)=0,CONCATENATE(PREENCHER!AZ64,#REF!),PREENCHER!N64))","v":""},{"$f":"IF(ISERROR(ROUND(AVERAGE(E64:N64),2)),\"\",ROUND(AVERAGE(E64:N64),2))","v":""},{"$f":"IF(ISERROR(ROUND(O64*D64,2)),\"\",ROUND(O64*D64,2))","v":""},null,null,{"$f":"IF(ISERROR(MEDIAN(E64:N64)),\"\",MEDIAN(E64:N64))","v":""},{"$f":"IF(ISERROR(STDEV(E64:N64)),\"\",STDEV(E64:N64))","v":""},{"$f":"IF(ISERROR(T64/O64),\"\",T64/O64)","v":""}]
[{"$f":"IF(PREENCHER!A65=\"\",\"\",PREENCHER!A65)","v":""},{"$f":"IF(PREENCHER!B65=\"\",\"\",PREENCHER!B65)","v":""},{"$f":"IF(PREENCHER!C65=\"\",\"\",PREENCHER!C65)","v":""},{"$f":"IF(PREENCHER!D65=\"\",\"\",PREENCHER!D65)","v":""},{"$f":"IF(PREENCHER!E65=\"\",\"\",IF(COUNTIF(PREENCHER!$AH65:$AJ65,PREENCHER!E65)=0,CONCATENATE(PREENCHER!AQ65,#REF!),PREENCHER!E65))","v":""},{"$f":"IF(PREENCHER!F65=\"\",\"\",IF(COUNTIF(PREENCHER!$AH65:$AJ65,PREENCHER!F65)=0,CONCATENATE(PREENCHER!AR65,#REF!),PREENCHER!F65))","v":""},{"$f":"IF(PREENCHER!G65=\"\",\"\",IF(COUNTIF(PREENCHER!$AH65:$AJ65,PREENCHER!G65)=0,CONCATENATE(PREENCHER!AS65,#REF!),PREENCHER!G65))","v":""},{"$f":"IF(PREENCHER!H65=\"\",\"\",IF(COUNTIF(PREENCHER!$AH65:$AJ65,PREENCHER!H65)=0,CONCATENATE(PREENCHER!AT65,#REF!),PREENCHER!H65))","v":""},{"$f":"IF(PREENCHER!I65=\"\",\"\",IF(COUNTIF(PREENCHER!$AH65:$AJ65,PREENCHER!I65)=0,CONCATENATE(PREENCHER!AU65,#REF!),PREENCHER!I65))","v":""},{"$f":"IF(PREENCHER!J65=\"\",\"\",IF(COUNTIF(PREENCHER!$AH65:$AJ65,PREENCHER!J65)=0,CONCATENATE(PREENCHER!AV65,#REF!),PREENCHER!J65))","v":""},{"$f":"IF(PREENCHER!K65=\"\",\"\",IF(COUNTIF(PREENCHER!$AH65:$AJ65,PREENCHER!K65)=0,CONCATENATE(PREENCHER!AW65,#REF!),PREENCHER!K65))","v":""},{"$f":"IF(PREENCHER!L65=\"\",\"\",IF(COUNTIF(PREENCHER!$AH65:$AJ65,PREENCHER!L65)=0,CONCATENATE(PREENCHER!AX65,#REF!),PREENCHER!L65))","v":""},{"$f":"IF(PREENCHER!M65=\"\",\"\",IF(COUNTIF(PREENCHER!$AH65:$AJ65,PREENCHER!M65)=0,CONCATENATE(PREENCHER!AY65,#REF!),PREENCHER!M65))","v":""},{"$f":"IF(PREENCHER!N65=\"\",\"\",IF(COUNTIF(PREENCHER!$AH65:$AJ65,PREENCHER!N65)=0,CONCATENATE(PREENCHER!AZ65,#REF!),PREENCHER!N65))","v":""},{"$f":"IF(ISERROR(ROUND(AVERAGE(E65:N65),2)),\"\",ROUND(AVERAGE(E65:N65),2))","v":""},{"$f":"IF(ISERROR(ROUND(O65*D65,2)),\"\",ROUND(O65*D65,2))","v":""},null,null,{"$f":"IF(ISERROR(MEDIAN(E65:N65)),\"\",MEDIAN(E65:N65))","v":""},{"$f":"IF(ISERROR(STDEV(E65:N65)),\"\",STDEV(E65:N65))","v":""},{"$f":"IF(ISERROR(T65/O65),\"\",T65/O65)","v":""}]
[{"$f":"IF(PREENCHER!A66=\"\",\"\",PREENCHER!A66)","v":""},{"$f":"IF(PREENCHER!B66=\"\",\"\",PREENCHER!B66)","v":""},{"$f":"IF(PREENCHER!C66=\"\",\"\",PREENCHER!C66)","v":""},{"$f":"IF(PREENCHER!D66=\"\",\"\",PREENCHER!D66)","v":""},{"$f":"IF(PREENCHER!E66=\"\",\"\",IF(COUNTIF(PREENCHER!$AH66:$AJ66,PREENCHER!E66)=0,CONCATENATE(PREENCHER!AQ66,#REF!),PREENCHER!E66))","v":""},{"$f":"IF(PREENCHER!F66=\"\",\"\",IF(COUNTIF(PREENCHER!$AH66:$AJ66,PREENCHER!F66)=0,CONCATENATE(PREENCHER!AR66,#REF!),PREENCHER!F66))","v":""},{"$f":"IF(PREENCHER!G66=\"\",\"\",IF(COUNTIF(PREENCHER!$AH66:$AJ66,PREENCHER!G66)=0,CONCATENATE(PREENCHER!AS66,#REF!),PREENCHER!G66))","v":""},{"$f":"IF(PREENCHER!H66=\"\",\"\",IF(COUNTIF(PREENCHER!$AH66:$AJ66,PREENCHER!H66)=0,CONCATENATE(PREENCHER!AT66,#REF!),PREENCHER!H66))","v":""},{"$f":"IF(PREENCHER!I66=\"\",\"\",IF(COUNTIF(PREENCHER!$AH66:$AJ66,PREENCHER!I66)=0,CONCATENATE(PREENCHER!AU66,#REF!),PREENCHER!I66))","v":""},{"$f":"IF(PREENCHER!J66=\"\",\"\",IF(COUNTIF(PREENCHER!$AH66:$AJ66,PREENCHER!J66)=0,CONCATENATE(PREENCHER!AV66,#REF!),PREENCHER!J66))","v":""},{"$f":"IF(PREENCHER!K66=\"\",\"\",IF(COUNTIF(PREENCHER!$AH66:$AJ66,PREENCHER!K66)=0,CONCATENATE(PREENCHER!AW66,#REF!),PREENCHER!K66))","v":""},{"$f":"IF(PREENCHER!L66=\"\",\"\",IF(COUNTIF(PREENCHER!$AH66:$AJ66,PREENCHER!L66)=0,CONCATENATE(PREENCHER!AX66,#REF!),PREENCHER!L66))","v":""},{"$f":"IF(PREENCHER!M66=\"\",\"\",IF(COUNTIF(PREENCHER!$AH66:$AJ66,PREENCHER!M66)=0,CONCATENATE(PREENCHER!AY66,#REF!),PREENCHER!M66))","v":""},{"$f":"IF(PREENCHER!N66=\"\",\"\",IF(COUNTIF(PREENCHER!$AH66:$AJ66,PREENCHER!N66)=0,CONCATENATE(PREENCHER!AZ66,#REF!),PREENCHER!N66))","v":""},{"$f":"IF(ISERROR(ROUND(AVERAGE(E66:N66),2)),\"\",ROUND(AVERAGE(E66:N66),2))","v":""},{"$f":"IF(ISERROR(ROUND(O66*D66,2)),\"\",ROUND(O66*D66,2))","v":""},null,null,{"$f":"IF(ISERROR(MEDIAN(E66:N66)),\"\",MEDIAN(E66:N66))","v":""},{"$f":"IF(ISERROR(STDEV(E66:N66)),\"\",STDEV(E66:N66))","v":""},{"$f":"IF(ISERROR(T66/O66),\"\",T66/O66)","v":""}]
[{"$f":"IF(PREENCHER!A67=\"\",\"\",PREENCHER!A67)","v":""},{"$f":"IF(PREENCHER!B67=\"\",\"\",PREENCHER!B67)","v":""},{"$f":"IF(PREENCHER!C67=\"\",\"\",PREENCHER!C67)","v":""},{"$f":"IF(PREENCHER!D67=\"\",\"\",PREENCHER!D67)","v":""},{"$f":"IF(PREENCHER!E67=\"\",\"\",IF(COUNTIF(PREENCHER!$AH67:$AJ67,PREENCHER!E67)=0,CONCATENATE(PREENCHER!AQ67,#REF!),PREENCHER!E67))","v":""},{"$f":"IF(PREENCHER!F67=\"\",\"\",IF(COUNTIF(PREENCHER!$AH67:$AJ67,PREENCHER!F67)=0,CONCATENATE(PREENCHER!AR67,#REF!),PREENCHER!F67))","v":""},{"$f":"IF(PREENCHER!G67=\"\",\"\",IF(COUNTIF(PREENCHER!$AH67:$AJ67,PREENCHER!G67)=0,CONCATENATE(PREENCHER!AS67,#REF!),PREENCHER!G67))","v":""},{"$f":"IF(PREENCHER!H67=\"\",\"\",IF(COUNTIF(PREENCHER!$AH67:$AJ67,PREENCHER!H67)=0,CONCATENATE(PREENCHER!AT67,#REF!),PREENCHER!H67))","v":""},{"$f":"IF(PREENCHER!I67=\"\",\"\",IF(COUNTIF(PREENCHER!$AH67:$AJ67,PREENCHER!I67)=0,CONCATENATE(PREENCHER!AU67,#REF!),PREENCHER!I67))","v":""},{"$f":"IF(PREENCHER!J67=\"\",\"\",IF(COUNTIF(PREENCHER!$AH67:$AJ67,PREENCHER!J67)=0,CONCATENATE(PREENCHER!AV67,#REF!),PREENCHER!J67))","v":""},{"$f":"IF(PREENCHER!K67=\"\",\"\",IF(COUNTIF(PREENCHER!$AH67:$AJ67,PREENCHER!K67)=0,CONCATENATE(PREENCHER!AW67,#REF!),PREENCHER!K67))","v":""},{"$f":"IF(PREENCHER!L67=\"\",\"\",IF(COUNTIF(PREENCHER!$AH67:$AJ67,PREENCHER!L67)=0,CONCATENATE(PREENCHER!AX67,#REF!),PREENCHER!L67))","v":""},{"$f":"IF(PREENCHER!M67=\"\",\"\",IF(COUNTIF(PREENCHER!$AH67:$AJ67,PREENCHER!M67)=0,CONCATENATE(PREENCHER!AY67,#REF!),PREENCHER!M67))","v":""},{"$f":"IF(PREENCHER!N67=\"\",\"\",IF(COUNTIF(PREENCHER!$AH67:$AJ67,PREENCHER!N67)=0,CONCATENATE(PREENCHER!AZ67,#REF!),PREENCHER!N67))","v":""},{"$f":"IF(ISERROR(ROUND(AVERAGE(E67:N67),2)),\"\",ROUND(AVERAGE(E67:N67),2))","v":""},{"$f":"IF(ISERROR(ROUND(O67*D67,2)),\"\",ROUND(O67*D67,2))","v":""},null,null,{"$f":"IF(ISERROR(MEDIAN(E67:N67)),\"\",MEDIAN(E67:N67))","v":""},{"$f":"IF(ISERROR(STDEV(E67:N67)),\"\",STDEV(E67:N67))","v":""},{"$f":"IF(ISERROR(T67/O67),\"\",T67/O67)","v":""}]
["VALOR GLOBAL",null,null,null,null,null,null,null,null,null,null,null,null,null,null,{"$f":"IF(SUM(P8:P67)=0,\"\",SUM(P8:P67))","v":""}]

{"sheet":"Média 4º, 5º e 6º","index":4,"n_rows":68,"n_cols":21,"rows_kept":68,"cut":false,"hidden":true,"merged":[[5,18,5,20],[67,0,67,14]]}
[]
[]
[]
[]
[]
[null,null,null,null,null,null,null,null,null,null,null,null,null,null,null,null,null,null,"ANÁLISE ESTATÍSTICA"]
[{"$f":"PREENCHER!A6","v":"ITEM"},{"$f":"PREENCHER!B6","v":"ESPECIFICAÇÃO"},{"$f":"PREENCHER!C6","v":"UN"},{"$f":"PREENCHER!D6","v":"QTDE"},{"$f":"PREENCHER!E7","v":"PESQUISA 1"},{"$f":"preencher!#ref!","v":{"$error":"#NAME?"}},{"$f":"PREENCHER!F7","v":"PESQUISA 2"},{"$f":"PREENCHER!G7","v":"PESQUISA 3"},{"$f":"PREENCHER!H7","v":"PESQUISA 3"},{"$f":"PREENCHER!I7","v":"PESQUISA 5"},{"$f":"PREENCHER!K7","v":"PESQUISA 7"},{"$f":"PREENCHER!L7","v":"PESQUISA 8"},{"$f":"PREENCHER!M7","v":"PESQUISA 9"},{"$f":"PREENCHER!N7","v":"PESQUISA 10"},{"$f":"PREENCHER!O7","v":"UNITÁRIO"},{"$f":"PREENCHER!P7","v":"TOTAL"},{"$f":"PREENCHER!S6","v":"OBSERVAÇÃO"},null,"MEDIANA","DESVIO PADRÃO","COEFICIENTE DE VARIAÇÃO"]
[{"$f":"IF(PREENCHER!A8=\"\",\"\",PREENCHER!A8)","v":1},{"$f":"IF(PREENCHER!B8=\"\",\"\",PREENCHER!B8)","v":"PÃO DE QUEIJO CONGELADO"},{"$f":"IF(PREENCHER!C8=\"\",\"\",PREENCHER!C8)","v":"QUILO"},{"$f":"IF(PREENCHER!D8=\"\",\"\",PREENCHER!D8)","v":462},{"$f":"IF(PREENCHER!E8=\"\",\"\",IF(COUNTIF(PREENCHER!$AI8:$AK8,PREENCHER!E8)=0,CONCATENATE(PREENCHER!AQ8,#REF!),PREENCHER!E8))","v":{"$error":"#REF!"}},{"$f":"IF(PREENCHER!F8=\"\",\"\",IF(COUNTIF(PREENCHER!$AI8:$AK8,PREENCHER!F8)=0,CONCATENATE(PREENCHER!AR8,#REF!),PREENCHER!F8))","v":{"$error":"#REF!"}},{"$f":"IF(PREENCHER!G8=\"\",\"\",IF(COUNTIF(PREENCHER!$AI8:$AK8,PREENCHER!G8)=0,CONCATENATE(PREENCHER!AS8,#REF!),PREENCHER!G8))","v":""},{"$f":"IF(PREENCHER!H8=\"\",\"\",IF(COUNTIF(PREENCHER!$AI8:$AK8,PREENCHER!H8)=0,CONCATENATE(PREENCHER!AT8,#REF!),PREENCHER!H8))","v":{"$error":"#REF!"}},{"$f":"IF(PREENCHER!I8=\"\",\"\",IF(COUNTIF(PREENCHER!$AI8:$AK8,PREENCHER!I8)=0,CONCATENATE(PREENCHER!AU8,#REF!),PREENCHER!I8))","v":""},{"$f":"IF(PREENCHER!J8=\"\",\"\",IF(COUNTIF(PREENCHER!$AI8:$AK8,PREENCHER!J8)=0,CONCATENATE(PREENCHER!AV8,#REF!),PREENCHER!J8))","v":""},{"$f":"IF(PREENCHER!K8=\"\",\"\",IF(COUNTIF(PREENCHER!$AI8:$AK8,PREENCHER!K8)=0,CONCATENATE(PREENCHER!AW8,#REF!),PREENCHER!K8))","v":""},{"$f":"IF(PREENCHER!L8=\"\",\"\",IF(COUNTIF(PREENCHER!$AI8:$AK8,PREENCHER!L8)=0,CONCATENATE(PREENCHER!AX8,#REF!),PREENCHER!L8))","v":""},{"$f":"IF(PREENCHER!M8=\"\",\"\",IF(COUNTIF(PREENCHER!$AI8:$AK8,PREENCHER!M8)=0,CONCATENATE(PREENCHER!AY8,#REF!),PREENCHER!M8))","v":""},{"$f":"IF(PREENCHER!N8=\"\",\"\",IF(COUNTIF(PREENCHER!$AI8:$AK8,PREENCHER!N8)=0,CONCATENATE(PREENCHER!AZ8,#REF!),PREENCHER!N8))","v":""},{"$f":"IF(ISERROR(ROUND(AVERAGE(E8:N8),2)),\"\",ROUND(AVERAGE(E8:N8),2))","v":""},{"$f":"IF(ISERROR(ROUND(O8*D8,2)),\"\",ROUND(O8*D8,2))","v":""},null,null,{"$f":"IF(ISERROR(MEDIAN(E8:N8)),\"\",MEDIAN(E8:N8))","v":""},{"$f":"IF(ISERROR(STDEV(E8:N8)),\"\",STDEV(E8:N8))","v":""},{"$f":"IF(ISERROR(T8/O8),\"\",T8/O8)","v":""}]
[{"$f":"IF(PREENCHER!A9=\"\",\"\",PREENCHER!A9)","v":2},{"$f":"IF(PREENCHER!B9=\"\",\"\",PREENCHER!B9)","v":"BOLO CASEIRO"},{"$f":"IF(PREENCHER!C9=\"\",\"\",PREENCHER!C9)","v":"UNIDADE"},{"$f":"IF(PREENCHER!D9=\"\",\"\",PREENCHER!D9)","v":40},{"$f":"IF(PREENCHER!E9=\"\",\"\",IF(COUNTIF(PREENCHER!$AI9:$AK9,PREENCHER!E9)=0,CONCATENATE(PREENCHER!AQ9,#REF!),PREENCHER!E9))","v":{"$error":"#REF!"}},{"$f":"IF(PREENCHER!F9=\"\",\"\",IF(COUNTIF(PREENCHER!$AI9:$AK9,PREENCHER!F9)=0,CONCATENATE(PREENCHER!AR9,#REF!),PREENCHER!F9))","v":{"$error":"#REF!"}},{"$f":"IF(PREENCHER!G9=\"\",\"\",IF(COUNTIF(PREENCHER!$AI9:$AK9,PREENCHER!G9)=0,CONCATENATE(PREENCHER!AS9,#REF!),PREENCHER!G9))","v":""},{"$f":"IF(PREENCHER!H9=\"\",\"\",IF(COUNTIF(PREENCHER!$AI9:$AK9,PREENCHER!H9)=0,CONCATENATE(PREENCHER!AT9,#REF!),PREENCHER!H9))","v":30},{"$f":"IF(PREENCHER!I9=\"\",\"\",IF(COUNTIF(PREENCHER!$AI9:$AK9,PREENCHER!I9)=0,CONCATENATE(PREENCHER!AU9,#REF!),PREENCHER!I9))","v":{"$error":"#REF!"}},{"$f":"IF(PREENCHER!J9=\"\",\"\",IF(COUNTIF(PREENCHER!$AI9:$AK9,PREENCHER!J9)=0,CONCATENATE(PREENCHER!AV9,#REF!),PREENCHER!J9))","v":38.33},{"$f":"IF(PREENCHER!K9=\"\",\"\",IF(COUNTIF(PREENCHER!$AI9:$AK9,PREENCHER!K9)=0,CONCATENATE(PREENCHER!AW9,#REF!),PREENCHER!K9))","v":""},{"$f":"IF(PREENCHER!L9=\"\",\"\",IF(COUNTIF(PREENCHER!$AI9:$AK9,PREENCHER!L9)=0,CONCATENATE(PREENCHER!AX9,#REF!),PREENCHER!L9))","v":""},{"$f":"IF(PREENCHER!M9=\"\",\"\",IF(COUNTIF(PREENCHER!$AI9:$AK9,PREENCHER!M9)=0,CONCATENATE(PREENCHER!AY9,#REF!),PREENCHER!M9))","v":""},{"$f":"IF(PREENCHER!N9=\"\",\"\",IF(COUNTIF(PREENCHER!$AI9:$AK9,PREENCHER!N9)=0,CONCATENATE(PREENCHER!AZ9,#REF!),PREENCHER!N9))","v":""},{"$f":"IF(ISERROR(ROUND(AVERAGE(E9:N9),2)),\"\",ROUND(AVERAGE(E9:N9),2))","v":""},{"$f":"IF(ISERROR(ROUND(O9*D9,2)),\"\",ROUND(O9*D9,2))","v":""},null,null,{"$f":"IF(ISERROR(MEDIAN(E9:N9)),\"\",MEDIAN(E9:N9))","v":""},{"$f":"IF(ISERROR(STDEV(E9:N9)),\"\",STDEV(E9:N9))","v":""},{"$f":"IF(ISERROR(T9/O9),\"\",T9/O9)","v":""}]
[{"$f":"IF(PREENCHER!A10=\"\",\"\",PREENCHER!A10)","v":3},{"$f":"IF(PREENCHER!B10=\"\",\"\",PREENCHER!B10)","v":"SANDUÍCHE NATURAL"},{"$f":"IF(PREENCHER!C10=\"\",\"\",PREENCHER!C10)","v":"UNIDADE"},{"$f":"IF(PREENCHER!D10=\"\",\"\",PREENCHER!D10)","v":800},{"$f":"IF(PREENCHER!E10=\"\",\"\",IF(COUNTIF(PREENCHER!$AI10:$AK10,PREENCHER!E10)=0,CONCATENATE(PREENCHER!AQ10,#REF!),PREENCHER!E10))","v":{"$error":"#REF!"}},{"$f":"IF(PREENCHER!F10=\"\",\"\",IF(COUNTIF(PREENCHER!$AI10:$AK10,PREENCHER!F10)=0,CONCATENATE(PREENCHER!AR10,#REF!),PREENCHER!F10))","v":{"$error":"#REF!"}},{"$f":"IF(PREENCHER!G10=\"\",\"\",IF(COUNTIF(PREENCHER!$AI10:$AK10,PREENCHER!G10)=0,CONCATENATE(PREENCHER!AS10,#REF!),PREENCHER!G10))","v":""},{"$f":"IF(PREENCHER!H10=\"\",\"\",IF(COUNTIF(PREENCHER!$AI10:$AK10,PREENCHER!H10)=0,CONCATENATE(PREENCHER!AT10,#REF!),PREENCHER!H10))","v":{"$error":"#REF!"}},{"$f":"IF(PREENCHER!I10=\"\",\"\",IF(COUNTIF(PREENCHER!$AI10:$AK10,PREENCHER!I10)=0,CONCATENATE(PREENCHER!AU10,#REF!),PREENCHER!I10))","v":""},{"$f":"IF(PREENCHER!J10=\"\",\"\",IF(COUNTIF(PREENCHER!$AI10:$AK10,PREENCHER!J10)=0,CONCATENATE(PREENCHER!AV10,#REF!),PREENCHER!J10))","v":""},{"$f":"IF(PREENCHER!K10=\"\",\"\",IF(COUNTIF(PREENCHER!$AI10:$AK10,PREENCHER!K10)=0,CONCATENATE(PREENCHER!AW10,#REF!),PREENCHER!K10))","v":""},{"$f":"IF(PREENCHER!L10=\"\",\"\",IF(COUNTIF(PREENCHER!$AI10:$AK10,PREENCHER!L10)=0,CONCATENATE(PREENCHER!AX10,#REF!),PREENCHER!L10))","v":""},{"$f":"IF(PREENCHER!M10=\"\",\"\",IF(COUNTIF(PREENCHER!$AI10:$AK10,PREENCHER!M10)=0,CONCATENATE(PREENCHER!AY10,#REF!),PREENCHER!M10))","v":""},{"$f":"IF(PREENCHER!N10=\"\",\"\",IF(COUNTIF(PREENCHER!$AI10:$AK10,PREENCHER!N10)=0,CONCATENATE(PREENCHER!AZ10,#REF!),PREENCHER!N10))","v":""},{"$f":"IF(ISERROR(ROUND(AVERAGE(E10:N10),2)),\"\",ROUND(AVERAGE(E10:N10),2))","v":""},{"$f":"IF(ISERROR(ROUND(O10*D10,2)),\"\",ROUND(O10*D10,2))","v":""},null,null,{"$f":"IF(ISERROR(MEDIAN(E10:N10)),\"\",MEDIAN(E10:N10))","v":""},{"$f":"IF(ISERROR(STDEV(E10:N10)),\"\",STDEV(E10:N10))","v":""},{"$f":"IF(ISERROR(T10/O10),\"\",T10/O10)","v":""}]
[{"$f":"IF(PREENCHER!A11=\"\",\"\",PREENCHER!A11)","v":4},{"$f":"IF(PREENCHER!B11=\"\",\"\",PREENCHER!B11)","v":"EMPADA DE FRANGO"},{"$f":"IF(PREENCHER!C11=\"\",\"\",PREENCHER!C11)","v":"CENTENA"},{"$f":"IF(PREENCHER!D11=\"\",\"\",PREENCHER!D11)","v":52},{"$f":"IF(PREENCHER!E11=\"\",\"\",IF(COUNTIF(PREENCHER!$AI11:$AK11,PREENCHER!E11)=0,CONCATENATE(PREENCHER!AQ11,#REF!),PREENCHER!E11))","v":{"$error":"#REF!"}},{"$f":"IF(PREENCHER!F11=\"\",\"\",IF(COUNTIF(PREENCHER!$AI11:$AK11,PREENCHER!F11)=0,CONCATENATE(PREENCHER!AR11,#REF!),PREENCHER!F11))","v":{"$error":"#REF!"}},{"$f":"IF(PREENCHER!G11=\"\",\"\",IF(COUNTIF(PREENCHER!$AI11:$AK11,PREENCHER!G11)=0,CONCATENATE(PREENCHER!AS11,#REF!),PREENCHER!G11))","v":""},{"$f":"IF(PREENCHER!H11=\"\",\"\",IF(COUNTIF(PREENCHER!$AI11:$AK11,PREENCHER!H11)=0,CONCATENATE(PREENCHER!AT11,#REF!),PREENCHER!H11))","v":{"$error":"#REF!"}},{"$f":"IF(PREENCHER!I11=\"\",\"\",IF(COUNTIF(PREENCHER!$AI11:$AK11,PREENCHER!I11)=0,CONCATENATE(PREENCHER!AU11,#REF!),PREENCHER!I11))","v":""},{"$f":"IF(PREENCHER!J11=\"\",\"\",IF(COUNTIF(PREENCHER!$AI11:$AK11,PREENCHER!J11)=0,CONCATENATE(PREENCHER!AV11,#REF!),PREENCHER!J11))","v":""},{"$f":"IF(PREENCHER!K11=\"\",\"\",IF(COUNTIF(PREENCHER!$AI11:$AK11,PREENCHER!K11)=0,CONCATENATE(PREENCHER!AW11,#REF!),PREENCHER!K11))","v":""},{"$f":"IF(PREENCHER!L11=\"\",\"\",IF(COUNTIF(PREENCHER!$AI11:$AK11,PREENCHER!L11)=0,CONCATENATE(PREENCHER!AX11,#REF!),PREENCHER!L11))","v":""},{"$f":"IF(PREENCHER!M11=\"\",\"\",IF(COUNTIF(PREENCHER!$AI11:$AK11,PREENCHER!M11)=0,CONCATENATE(PREENCHER!AY11,#REF!),PREENCHER!M11))","v":""},{"$f":"IF(PREENCHER!N11=\"\",\"\",IF(COUNTIF(PREENCHER!$AI11:$AK11,PREENCHER!N11)=0,CONCATENATE(PREENCHER!AZ11,#REF!),PREENCHER!N11))","v":""},{"$f":"IF(ISERROR(ROUND(AVERAGE(E11:N11),2)),\"\",ROUND(AVERAGE(E11:N11),2))","v":""},{"$f":"IF(ISERROR(ROUND(O11*D11,2)),\"\",ROUND(O11*D11,2))","v":""},null,null,{"$f":"IF(ISERROR(MEDIAN(E11:N11)),\"\",MEDIAN(E11:N11))","v":""},{"$f":"IF(ISERROR(STDEV(E11:N11)),\"\",STDEV(E11:N11))","v":""},{"$f":"IF(ISERROR(T11/O11),\"\",T11/O11)","v":""}]
[{"$f":"IF(PREENCHER!A12=\"\",\"\",PREENCHER!A12)","v":5},{"$f":"IF(PREENCHER!B12=\"\",\"\",PREENCHER!B12)","v":"BROINHA DE MILHO"},{"$f":"IF(PREENCHER!C12=\"\",\"\",PREENCHER!C12)","v":"QUILO"},{"$f":"IF(PREENCHER!D12=\"\",\"\",PREENCHER!D12)","v":6},{"$f":"IF(PREENCHER!E12=\"\",\"\",IF(COUNTIF(PREENCHER!$AI12:$AK12,PREENCHER!E12)=0,CONCATENATE(PREENCHER!AQ12,#REF!),PREENCHER!E12))","v":{"$error":"#REF!"}},{"$f":"IF(PREENCHER!F12=\"\",\"\",IF(COUNTIF(PREENCHER!$AI12:$AK12,PREENCHER!F12)=0,CONCATENATE(PREENCHER!AR12,#REF!),PREENCHER!F12))","v":{"$error":"#REF!"}},{"$f":"IF(PREENCHER!G12=\"\",\"\",IF(COUNTIF(PREENCHER!$AI12:$AK12,PREENCHER!G12)=0,CONCATENATE(PREENCHER!AS12,#REF!),PREENCHER!G12))","v":""},{"$f":"IF(PREENCHER!H12=\"\",\"\",IF(COUNTIF(PREENCHER!$AI12:$AK12,PREENCHER!H12)=0,CONCATENATE(PREENCHER!AT12,#REF!),PREENCHER!H12))","v":{"$error":"#REF!"}},{"$f":"IF(PREENCHER!I12=\"\",\"\",IF(COUNTIF(PREENCHER!$AI12:$AK12,PREENCHER!I12)=0,CONCATENATE(PREENCHER!AU12,#REF!),PREENCHER!I12))","v":""},{"$f":"IF(PREENCHER!J12=\"\",\"\",IF(COUNTIF(PREENCHER!$AI12:$AK12,PREENCHER!J12)=0,CONCATENATE(PREENCHER!AV12,#REF!),PREENCHER!J12))","v":""},{"$f":"IF(PREENCHER!K12=\"\",\"\",IF(COUNTIF(PREENCHER!$AI12:$AK12,PREENCHER!K12)=0,CONCATENATE(PREENCHER!AW12,#REF!),PREENCHER!K12))","v":""},{"$f":"IF(PREENCHER!L12=\"\",\"\",IF(COUNTIF(PREENCHER!$AI12:$AK12,PREENCHER!L12)=0,CONCATENATE(PREENCHER!AX12,#REF!),PREENCHER!L12))","v":""},{"$f":"IF(PREENCHER!M12=\"\",\"\",IF(COUNTIF(PREENCHER!$AI12:$AK12,PREENCHER!M12)=0,CONCATENATE(PREENCHER!AY12,#REF!),PREENCHER!M12))","v":""},{"$f":"IF(PREENCHER!N12=\"\",\"\",IF(COUNTIF(PREENCHER!$AI12:$AK12,PREENCHER!N12)=0,CONCATENATE(PREENCHER!AZ12,#REF!),PREENCHER!N12))","v":""},{"$f":"IF(ISERROR(ROUND(AVERAGE(E12:N12),2)),\"\",ROUND(AVERAGE(E12:N12),2))","v":""},{"$f":"IF(ISERROR(ROUND(O12*D12,2)),\"\",ROUND(O12*D12,2))","v":""},null,null,{"$f":"IF(ISERROR(MEDIAN(E12:N12)),\"\",MEDIAN(E12:N12))","v":""},{"$f":"IF(ISERROR(STDEV(E12:N12)),\"\",STDEV(E12:N12))","v":""},{"$f":"IF(ISERROR(T12/O12),\"\",T12/O12)","v":""}]
[{"$f":"IF(PREENCHER!A13=\"\",\"\",PREENCHER!A13)","v":6},{"$f":"IF(PREENCHER!B13=\"\",\"\",PREENCHER!B13)","v":"BOLINHO RECHEADO"},{"$f":"IF(PREENCHER!C13=\"\",\"\",PREENCHER!C13)","v":"UNIDADE"},{"$f":"IF(PREENCHER!D13=\"\",\"\",PREENCHER!D13)","v":1580},{"$f":"IF(PREENCHER!E13=\"\",\"\",IF(COUNTIF(PREENCHER!$AI13:$AK13,PREENCHER!E13)=0,CONCATENATE(PREENCHER!AQ13,#REF!),PREENCHER!E13))","v":{"$error":"#REF!"}},{"$f":"IF(PREENCHER!F13=\"\",\"\",IF(COUNTIF(PREENCHER!$AI13:$AK13,PREENCHER!F13)=0,CONCATENATE(PREENCHER!AR13,#REF!),PREENCHER!F13))","v":{"$error":"#REF!"}},{"$f":"IF(PREENCHER!G13=\"\",\"\",IF(COUNTIF(PREENCHER!$AI13:$AK13,PREENCHER!G13)=0,CONCATENATE(PREENCHER!AS13,#REF!),PREENCHER!G13))","v":""},{"$f":"IF(PREENCHER!H13=\"\",\"\",IF(COUNTIF(PREENCHER!$AI13:$AK13,PREENCHER!H13)=0,CONCATENATE(PREENCHER!AT13,#REF!),PREENCHER!H13))","v":{"$error":"#REF!"}},{"$f":"IF(PREENCHER!I13=\"\",\"\",IF(COUNTIF(PREENCHER!$AI13:$AK13,PREENCHER!I13)=0,CONCATENATE(PREENCHER!AU13,#REF!),PREENCHER!I13))","v":""},{"$f":"IF(PREENCHER!J13=\"\",\"\",IF(COUNTIF(PREENCHER!$AI13:$AK13,PREENCHER!J13)=0,CONCATENATE(PREENCHER!AV13,#REF!),PREENCHER!J13))","v":""},{"$f":"IF(PREENCHER!K13=\"\",\"\",IF(COUNTIF(PREENCHER!$AI13:$AK13,PREENCHER!K13)=0,CONCATENATE(PREENCHER!AW13,#REF!),PREENCHER!K13))","v":""},{"$f":"IF(PREENCHER!L13=\"\",\"\",IF(COUNTIF(PREENCHER!$AI13:$AK13,PREENCHER!L13)=0,CONCATENATE(PREENCHER!AX13,#REF!),PREENCHER!L13))","v":""},{"$f":"IF(PREENCHER!M13=\"\",\"\",IF(COUNTIF(PREENCHER!$AI13:$AK13,PREENCHER!M13)=0,CONCATENATE(PREENCHER!AY13,#REF!),PREENCHER!M13))","v":""},{"$f":"IF(PREENCHER!N13=\"\",\"\",IF(COUNTIF(PREENCHER!$AI13:$AK13,PREENCHER!N13)=0,CONCATENATE(PREENCHER!AZ13,#REF!),PREENCHER!N13))","v":""},{"$f":"IF(ISERROR(ROUND(AVERAGE(E13:N13),2)),\"\",ROUND(AVERAGE(E13:N13),2))","v":""},{"$f":"IF(ISERROR(ROUND(O13*D13,2)),\"\",ROUND(O13*D13,2))","v":""},null,null,{"$f":"IF(ISERROR(MEDIAN(E13:N13)),\"\",MEDIAN(E13:N13))","v":""},{"$f":"IF(ISERROR(STDEV(E13:N13)),\"\",STDEV(E13:N13))","v":""},{"$f":"IF(ISERROR(T13/O13),\"\",T13/O13)","v":""}]
[{"$f":"IF(PREENCHER!A14=\"\",\"\",PREENCHER!A14)","v":7},{"$f":"IF(PREENCHER!B14=\"\",\"\",PREENCHER!B14)","v":"ESFIRRA DE CARNE"},{"$f":"IF(PREENCHER!C14=\"\",\"\",PREENCHER!C14)","v":"CENTENA"},{"$f":"IF(PREENCHER!D14=\"\",\"\",PREENCHER!D14)","v":7},{"$f":"IF(PREENCHER!E14=\"\",\"\",IF(COUNTIF(PREENCHER!$AI14:$AK14,PREENCHER!E14)=0,CONCATENATE(PREENCHER!AQ14,#REF!),PREENCHER!E14))","v":{"$error":"#REF!"}},{"$f":"IF(PREENCHER!F14=\"\",\"\",IF(COUNTIF(PREENCHER!$AI14:$AK14,PREENCHER!F14)=0,CONCATENATE(PREENCHER!AR14,#REF!),PREENCHER!F14))","v":{"$error":"#REF!"}},{"$f":"IF(PREENCHER!G14=\"\",\"\",IF(COUNTIF(PREENCHER!$AI14:$AK14,PREENCHER!G14)=0,CONCATENATE(PREENCHER!AS14,#REF!),PREENCHER!G14))","v":""},{"$f":"IF(PREENCHER!H14=\"\",\"\",IF(COUNTIF(PREENCHER!$AI14:$AK14,PREENCHER!H14)=0,CONCATENATE(PREENCHER!AT14,#REF!),PREENCHER!H14))","v":{"$error":"#REF!"}},{"$f":"IF(PREENCHER!I14=\"\",\"\",IF(COUNTIF(PREENCHER!$AI14:$AK14,PREENCHER!I14)=0,CONCATENATE(PREENCHER!AU14,#REF!),PREENCHER!I14))","v":""},{"$f":"IF(PREENCHER!J14=\"\",\"\",IF(COUNTIF(PREENCHER!$AI14:$AK14,PREENCHER!J14)=0,CONCATENATE(PREENCHER!AV14,#REF!),PREENCHER!J14))","v":""},{"$f":"IF(PREENCHER!K14=\"\",\"\",IF(COUNTIF(PREENCHER!$AI14:$AK14,PREENCHER!K14)=0,CONCATENATE(PREENCHER!AW14,#REF!),PREENCHER!K14))","v":""},{"$f":"IF(PREENCHER!L14=\"\",\"\",IF(COUNTIF(PREENCHER!$AI14:$AK14,PREENCHER!L14)=0,CONCATENATE(PREENCHER!AX14,#REF!),PREENCHER!L14))","v":""},{"$f":"IF(PREENCHER!M14=\"\",\"\",IF(COUNTIF(PREENCHER!$AI14:$AK14,PREENCHER!M14)=0,CONCATENATE(PREENCHER!AY14,#REF!),PREENCHER!M14))","v":""},{"$f":"IF(PREENCHER!N14=\"\",\"\",IF(COUNTIF(PREENCHER!$AI14:$AK14,PREENCHER!N14)=0,CONCATENATE(PREENCHER!AZ14,#REF!),PREENCHER!N14))","v":""},{"$f":"IF(ISERROR(ROUND(AVERAGE(E14:N14),2)),\"\",ROUND(AVERAGE(E14:N14),2))","v":""},{"$f":"IF(ISERROR(ROUND(O14*D14,2)),\"\",ROUND(O14*D14,2))","v":""},null,null,{"$f":"IF(ISERROR(MEDIAN(E14:N14)),\"\",MEDIAN(E14:N14))","v":""},{"$f":"IF(ISERROR(STDEV(E14:N14)),\"\",STDEV(E14:N14))","v":""},{"$f":"IF(ISERROR(T14/O14),\"\",T14/O14)","v":""}]
[{"$f":"IF(PREENCHER!A15=\"\",\"\",PREENCHER!A15)","v":8},{"$f":"IF(PREENCHER!B15=\"\",\"\",PREENCHER!B15)","v":"BISCOITO CASEIRO"},{"$f":"IF(PREENCHER!C15=\"\",\"\",PREENCHER!C15)","v":"QUILO"},{"$f":"IF(PREENCHER!D15=\"\",\"\",PREENCHER!D15)","v":23},{"$f":"IF(PREENCHER!E15=\"\",\"\",IF(COUNTIF(PREENCHER!$AI15:$AK15,PREENCHER!E15)=0,CONCATENATE(PREENCHER!AQ15,#REF!),PREENCHER!E15))","v":{"$error":"#REF!"}},{"$f":"IF(PREENCHER!F15=\"\",\"\",IF(COUNTIF(PREENCHER!$AI15:$AK15,PREENCHER!F15)=0,CONCATENATE(PREENCHER!AR15,#REF!),PREENCHER!F15))","v":{"$error":"#REF!"}},{"$f":"IF(PREENCHER!G15=\"\",\"\",IF(COUNTIF(PREENCHER!$AI15:$AK15,PREENCHER!G15)=0,CONCATENATE(PREENCHER!AS15,#REF!),PREENCHER!G15))","v":""},{"$f":"IF(PREENCHER!H15=\"\",\"\",IF(COUNTIF(PREENCHER!$AI15:$AK15,PREENCHER!H15)=0,CONCATENATE(PREENCHER!AT15,#REF!),PREENCHER!H15))","v":{"$error":"#REF!"}},{"$f":"IF(PREENCHER!I15=\"\",\"\",IF(COUNTIF(PREENCHER!$AI15:$AK15,PREENCHER!I15)=0,CONCATENATE(PREENCHER!AU15,#REF!),PREENCHER!I15))","v":""},{"$f":"IF(PREENCHER!J15=\"\",\"\",IF(COUNTIF(PREENCHER!$AI15:$AK15,PREENCHER!J15)=0,CONCATENATE(PREENCHER!AV15,#REF!),PREENCHER!J15))","v":""},{"$f":"IF(PREENCHER!K15=\"\",\"\",IF(COUNTIF(PREENCHER!$AI15:$AK15,PREENCHER!K15)=0,CONCATENATE(PREENCHER!AW15,#REF!),PREENCHER!K15))","v":""},{"$f":"IF(PREENCHER!L15=\"\",\"\",IF(COUNTIF(PREENCHER!$AI15:$AK15,PREENCHER!L15)=0,CONCATENATE(PREENCHER!AX15,#REF!),PREENCHER!L15))","v":""},{"$f":"IF(PREENCHER!M15=\"\",\"\",IF(COUNTIF(PREENCHER!$AI15:$AK15,PREENCHER!M15)=0,CONCATENATE(PREENCHER!AY15,#REF!),PREENCHER!M15))","v":""},{"$f":"IF(PREENCHER!N15=\"\",\"\",IF(COUNTIF(PREENCHER!$AI15:$AK15,PREENCHER!N15)=0,CONCATENATE(PREENCHER!AZ15,#REF!),PREENCHER!N15))","v":""},{"$f":"IF(ISERROR(ROUND(AVERAGE(E15:N15),2)),\"\",ROUND(AVERAGE(E15:N15),2))","v":""},{"$f":"IF(ISERROR(ROUND(O15*D15,2)),\"\",ROUND(O15*D15,2))","v":""},null,null,{"$f":"IF(ISERROR(MEDIAN(E15:N15)),\"\",MEDIAN(E15:N15))","v":""},{"$f":"IF(ISERROR(STDEV(E15:N15)),\"\",STDEV(E15:N15))","v":""},{"$f":"IF(ISERROR(T15/O15),\"\",T15/O15)","v":""}]
[{"$f":"IF(PREENCHER!A16=\"\",\"\",PREENCHER!A16)","v":9},{"$f":"IF(PREENCHER!B16=\"\",\"\",PREENCHER!B16)","v":"SUCO DE FRUTAS"},{"$f":"IF(PREENCHER!C16=\"\",\"\",PREENCHER!C16)","v":"LITRO"},{"$f":"IF(PREENCHER!D16=\"\",\"\",PREENCHER!D16)","v":364},{"$f":"IF(PREENCHER!E16=\"\",\"\",IF(COUNTIF(PREENCHER!$AI16:$AK16,PREENCHER!E16)=0,CONCATENATE(PREENCHER!AQ16,#REF!),PREENCHER!E16))","v":{"$error":"#REF!"}},{"$f":"IF(PREENCHER!F16=\"\",\"\",IF(COUNTIF(PREENCHER!$AI16:$AK16,PREENCHER!F16)=0,CONCATENATE(PREENCHER!AR16,#REF!),PREENCHER!F16))","v":{"$error":"#REF!"}},{"$f":"IF(PREENCHER!G16=\"\",\"\",IF(COUNTIF(PREENCHER!$AI16:$AK16,PREENCHER!G16)=0,CONCATENATE(PREENCHER!AS16,#REF!),PREENCHER!G16))","v":""},{"$f":"IF(PREENCHER!H16=\"\",\"\",IF(COUNTIF(PREENCHER!$AI16:$AK16,PREENCHER!H16)=0,CONCATENATE(PREENCHER!AT16,#REF!),PREENCHER!H16))","v":{"$error":"#REF!"}},{"$f":"IF(PREENCHER!I16=\"\",\"\",IF(COUNTIF(PREENCHER!$AI16:$AK16,PREENCHER!I16)=0,CONCATENATE(PREENCHER!AU16,#REF!),PREENCHER!I16))","v":""},{"$f":"IF(PREENCHER!J16=\"\",\"\",IF(COUNTIF(PREENCHER!$AI16:$AK16,PREENCHER!J16)=0,CONCATENATE(PREENCHER!AV16,#REF!),PREENCHER!J16))","v":""},{"$f":"IF(PREENCHER!K16=\"\",\"\",IF(COUNTIF(PREENCHER!$AI16:$AK16,PREENCHER!K16)=0,CONCATENATE(PREENCHER!AW16,#REF!),PREENCHER!K16))","v":""},{"$f":"IF(PREENCHER!L16=\"\",\"\",IF(COUNTIF(PREENCHER!$AI16:$AK16,PREENCHER!L16)=0,CONCATENATE(PREENCHER!AX16,#REF!),PREENCHER!L16))","v":""},{"$f":"IF(PREENCHER!M16=\"\",\"\",IF(COUNTIF(PREENCHER!$AI16:$AK16,PREENCHER!M16)=0,CONCATENATE(PREENCHER!AY16,#REF!),PREENCHER!M16))","v":""},{"$f":"IF(PREENCHER!N16=\"\",\"\",IF(COUNTIF(PREENCHER!$AI16:$AK16,PREENCHER!N16)=0,CONCATENATE(PREENCHER!AZ16,#REF!),PREENCHER!N16))","v":""},{"$f":"IF(ISERROR(ROUND(AVERAGE(E16:N16),2)),\"\",ROUND(AVERAGE(E16:N16),2))","v":""},{"$f":"IF(ISERROR(ROUND(O16*D16,2)),\"\",ROUND(O16*D16,2))","v":""},null,null,{"$f":"IF(ISERROR(MEDIAN(E16:N16)),\"\",MEDIAN(E16:N16))","v":""},{"$f":"IF(ISERROR(STDEV(E16:N16)),\"\",STDEV(E16:N16))","v":""},{"$f":"IF(ISERROR(T16/O16),\"\",T16/O16)","v":""}]
[{"$f":"IF(PREENCHER!A17=\"\",\"\",PREENCHER!A17)","v":10},{"$f":"IF(PREENCHER!B17=\"\",\"\",PREENCHER!B17)","v":"SALADA DE FRUTAS"},{"$f":"IF(PREENCHER!C17=\"\",\"\",PREENCHER!C17)","v":"UNIDADE (150 GRAMAS)"},{"$f":"IF(PREENCHER!D17=\"\",\"\",PREENCHER!D17)","v":400},{"$f":"IF(PREENCHER!E17=\"\",\"\",IF(COUNTIF(PREENCHER!$AI17:$AK17,PREENCHER!E17)=0,CONCATENATE(PREENCHER!AQ17,#REF!),PREENCHER!E17))","v":{"$error":"#REF!"}},{"$f":"IF(PREENCHER!F17=\"\",\"\",IF(COUNTIF(PREENCHER!$AI17:$AK17,PREENCHER!F17)=0,CONCATENATE(PREENCHER!AR17,#REF!),PREENCHER!F17))","v":{"$error":"#REF!"}},{"$f":"IF(PREENCHER!G17=\"\",\"\",IF(COUNTIF(PREENCHER!$AI17:$AK17,PREENCHER!G17)=0,CONCATENATE(PREENCHER!AS17,#REF!),PREENCHER!G17))","v":""},{"$f":"IF(PREENCHER!H17=\"\",\"\",IF(COUNTIF(PREENCHER!$AI17:$AK17,PREENCHER!H17)=0,CONCATENATE(PREENCHER!AT17,#REF!),PREENCHER!H17))","v":{"$error":"#REF!"}},{"$f":"IF(PREENCHER!I17=\"\",\"\",IF(COUNTIF(PREENCHER!$AI17:$AK17,PREENCHER!I17)=0,CONCATENATE(PREENCHER!AU17,#REF!),PREENCHER!I17))","v":""},{"$f":"IF(PREENCHER!J17=\"\",\"\",IF(COUNTIF(PREENCHER!$AI17:$AK17,PREENCHER!J17)=0,CONCATENATE(PREENCHER!AV17,#REF!),PREENCHER!J17))","v":""},{"$f":"IF(PREENCHER!K17=\"\",\"\",IF(COUNTIF(PREENCHER!$AI17:$AK17,PREENCHER!K17)=0,CONCATENATE(PREENCHER!AW17,#REF!),PREENCHER!K17))","v":""},{"$f":"IF(PREENCHER!L17=\"\",\"\",IF(COUNTIF(PREENCHER!$AI17:$AK17,PREENCHER!L17)=0,CONCATENATE(PREENCHER!AX17,#REF!),PREENCHER!L17))","v":""},{"$f":"IF(PREENCHER!M17=\"\",\"\",IF(COUNTIF(PREENCHER!$AI17:$AK17,PREENCHER!M17)=0,CONCATENATE(PREENCHER!AY17,#REF!),PREENCHER!M17))","v":""},{"$f":"IF(PREENCHER!N17=\"\",\"\",IF(COUNTIF(PREENCHER!$AI17:$AK17,PREENCHER!N17)=0,CONCATENATE(PREENCHER!AZ17,#REF!),PREENCHER!N17))","v":""},{"$f":"IF(ISERROR(ROUND(AVERAGE(E17:N17),2)),\"\",ROUND(AVERAGE(E17:N17),2))","v":""},{"$f":"IF(ISERROR(ROUND(O17*D17,2)),\"\",ROUND(O17*D17,2))","v":""},null,null,{"$f":"IF(ISERROR(MEDIAN(E17:N17)),\"\",MEDIAN(E17:N17))","v":""},{"$f":"IF(ISERROR(STDEV(E17:N17)),\"\",STDEV(E17:N17))","v":""},{"$f":"IF(ISERROR(T17/O17),\"\",T17/O17)","v":""}]
[{"$f":"IF(PREENCHER!A18=\"\",\"\",PREENCHER!A18)","v":11},{"$f":"IF(PREENCHER!B18=\"\",\"\",PREENCHER!B18)","v":"ENTREGAS"},{"$f":"IF(PREENCHER!C18=\"\",\"\",PREENCHER!C18)","v":"UNIDADE"},{"$f":"IF(PREENCHER!D18=\"\",\"\",PREENCHER!D18)","v":30},{"$f":"IF(PREENCHER!E18=\"\",\"\",IF(COUNTIF(PREENCHER!$AI18:$AK18,PREENCHER!E18)=0,CONCATENATE(PREENCHER!AQ18,#REF!),PREENCHER!E18))","v":{"$error":"#REF!"}},{"$f":"IF(PREENCHER!F18=\"\",\"\",IF(COUNTIF(PREENCHER!$AI18:$AK18,PREENCHER!F18)=0,CONCATENATE(PREENCHER!AR18,#REF!),PREENCHER!F18))","v":{"$error":"#REF!"}},{"$f":"IF(PREENCHER!G18=\"\",\"\",IF(COUNTIF(PREENCHER!$AI18:$AK18,PREENCHER!G18)=0,CONCATENATE(PREENCHER!AS18,#REF!),PREENCHER!G18))","v":""},{"$f":"IF(PREENCHER!H18=\"\",\"\",IF(COUNTIF(PREENCHER!$AI18:$AK18,PREENCHER!H18)=0,CONCATENATE(PREENCHER!AT18,#REF!),PREENCHER!H18))","v":{"$error":"#REF!"}},{"$f":"IF(PREENCHER!I18=\"\",\"\",IF(COUNTIF(PREENCHER!$AI18:$AK18,PREENCHER!I18)=0,CONCATENATE(PREENCHER!AU18,#REF!),PREENCHER!I18))","v":""},{"$f":"IF(PREENCHER!J18=\"\",\"\",IF(COUNTIF(PREENCHER!$AI18:$AK18,PREENCHER!J18)=0,CONCATENATE(PREENCHER!AV18,#REF!),PREENCHER!J18))","v":""},{"$f":"IF(PREENCHER!K18=\"\",\"\",IF(COUNTIF(PREENCHER!$AI18:$AK18,PREENCHER!K18)=0,CONCATENATE(PREENCHER!AW18,#REF!),PREENCHER!K18))","v":""},{"$f":"IF(PREENCHER!L18=\"\",\"\",IF(COUNTIF(PREENCHER!$AI18:$AK18,PREENCHER!L18)=0,CONCATENATE(PREENCHER!AX18,#REF!),PREENCHER!L18))","v":""},{"$f":"IF(PREENCHER!M18=\"\",\"\",IF(COUNTIF(PREENCHER!$AI18:$AK18,PREENCHER!M18)=0,CONCATENATE(PREENCHER!AY18,#REF!),PREENCHER!M18))","v":""},{"$f":"IF(PREENCHER!N18=\"\",\"\",IF(COUNTIF(PREENCHER!$AI18:$AK18,PREENCHER!N18)=0,CONCATENATE(PREENCHER!AZ18,#REF!),PREENCHER!N18))","v":""},{"$f":"IF(ISERROR(ROUND(AVERAGE(E18:N18),2)),\"\",ROUND(AVERAGE(E18:N18),2))","v":""},{"$f":"IF(ISERROR(ROUND(O18*D18,2)),\"\",ROUND(O18*D18,2))","v":""},null,null,{"$f":"IF(ISERROR(MEDIAN(E18:N18)),\"\",MEDIAN(E18:N18))","v":""},{"$f":"IF(ISERROR(STDEV(E18:N18)),\"\",STDEV(E18:N18))","v":""},{"$f":"IF(ISERROR(T18/O18),\"\",T18/O18)","v":""}]
[{"$f":"IF(PREENCHER!A19=\"\",\"\",PREENCHER!A19)","v":""},{"$f":"IF(PREENCHER!B19=\"\",\"\",PREENCHER!B19)","v":""},{"$f":"IF(PREENCHER!C19=\"\",\"\",PREENCHER!C19)","v":""},{"$f":"IF(PREENCHER!D19=\"\",\"\",PREENCHER!D19)","v":""},{"$f":"IF(PREENCHER!E19=\"\",\"\",IF(COUNTIF(PREENCHER!$AI19:$AK19,PREENCHER!E19)=0,CONCATENATE(PREENCHER!AQ19,#REF!),PREENCHER!E19))","v":""},{"$f":"IF(PREENCHER!F19=\"\",\"\",IF(COUNTIF(PREENCHER!$AI19:$AK19,PREENCHER!F19)=0,CONCATENATE(PREENCHER!AR19,#REF!),PREENCHER!F19))","v":""},{"$f":"IF(PREENCHER!G19=\"\",\"\",IF(COUNTIF(PREENCHER!$AI19:$AK19,PREENCHER!G19)=0,CONCATENATE(PREENCHER!AS19,#REF!),PREENCHER!G19))","v":""},{"$f":"IF(PREENCHER!H19=\"\",\"\",IF(COUNTIF(PREENCHER!$AI19:$AK19,PREENCHER!H19)=0,CONCATENATE(PREENCHER!AT19,#REF!),PREENCHER!H19))","v":""},{"$f":"IF(PREENCHER!I19=\"\",\"\",IF(COUNTIF(PREENCHER!$AI19:$AK19,PREENCHER!I19)=0,CONCATENATE(PREENCHER!AU19,#REF!),PREENCHER!I19))","v":""},{"$f":"IF(PREENCHER!J19=\"\",\"\",IF(COUNTIF(PREENCHER!$AI19:$AK19,PREENCHER!J19)=0,CONCATENATE(PREENCHER!AV19,#REF!),PREENCHER!J19))","v":""},{"$f":"IF(PREENCHER!K19=\"\",\"\",IF(COUNTIF(PREENCHER!$AI19:$AK19,PREENCHER!K19)=0,CONCATENATE(PREENCHER!AW19,#REF!),PREENCHER!K19))","v":""},{"$f":"IF(PREENCHER!L19=\"\",\"\",IF(COUNTIF(PREENCHER!$AI19:$AK19,PREENCHER!L19)=0,CONCATENATE(PREENCHER!AX19,#REF!),PREENCHER!L19))","v":""},{"$f":"IF(PREENCHER!M19=\"\",\"\",IF(COUNTIF(PREENCHER!$AI19:$AK19,PREENCHER!M19)=0,CONCATENATE(PREENCHER!AY19,#REF!),PREENCHER!M19))","v":""},{"$f":"IF(PREENCHER!N19=\"\",\"\",IF(COUNTIF(PREENCHER!$AI19:$AK19,PREENCHER!N19)=0,CONCATENATE(PREENCHER!AZ19,#REF!),PREENCHER!N19))","v":""},{"$f":"IF(ISERROR(ROUND(AVERAGE(E19:N19),2)),\"\",ROUND(AVERAGE(E19:N19),2))","v":""},{"$f":"IF(ISERROR(ROUND(O19*D19,2)),\"\",ROUND(O19*D19,2))","v":""},null,null,{"$f":"IF(ISERROR(MEDIAN(E19:N19)),\"\",MEDIAN(E19:N19))","v":""},{"$f":"IF(ISERROR(STDEV(E19:N19)),\"\",STDEV(E19:N19))","v":""},{"$f":"IF(ISERROR(T19/O19),\"\",T19/O19)","v":""}]
[{"$f":"IF(PREENCHER!A20=\"\",\"\",PREENCHER!A20)","v":""},{"$f":"IF(PREENCHER!B20=\"\",\"\",PREENCHER!B20)","v":""},{"$f":"IF(PREENCHER!C20=\"\",\"\",PREENCHER!C20)","v":""},{"$f":"IF(PREENCHER!D20=\"\",\"\",PREENCHER!D20)","v":""},{"$f":"IF(PREENCHER!E20=\"\",\"\",IF(COUNTIF(PREENCHER!$AI20:$AK20,PREENCHER!E20)=0,CONCATENATE(PREENCHER!AQ20,#REF!),PREENCHER!E20))","v":""},{"$f":"IF(PREENCHER!F20=\"\",\"\",IF(COUNTIF(PREENCHER!$AI20:$AK20,PREENCHER!F20)=0,CONCATENATE(PREENCHER!AR20,#REF!),PREENCHER!F20))","v":""},{"$f":"IF(PREENCHER!G20=\"\",\"\",IF(COUNTIF(PREENCHER!$AI20:$AK20,PREENCHER!G20)=0,CONCATENATE(PREENCHER!AS20,#REF!),PREENCHER!G20))","v":""},{"$f":"IF(PREENCHER!H20=\"\",\"\",IF(COUNTIF(PREENCHER!$AI20:$AK20,PREENCHER!H20)=0,CONCATENATE(PREENCHER!AT20,#REF!),PREENCHER!H20))","v":""},{"$f":"IF(PREENCHER!I20=\"\",\"\",IF(COUNTIF(PREENCHER!$AI20:$AK20,PREENCHER!I20)=0,CONCATENATE(PREENCHER!AU20,#REF!),PREENCHER!I20))","v":""},{"$f":"IF(PREENCHER!J20=\"\",\"\",IF(COUNTIF(PREENCHER!$AI20:$AK20,PREENCHER!J20)=0,CONCATENATE(PREENCHER!AV20,#REF!),PREENCHER!J20))","v":""},{"$f":"IF(PREENCHER!K20=\"\",\"\",IF(COUNTIF(PREENCHER!$AI20:$AK20,PREENCHER!K20)=0,CONCATENATE(PREENCHER!AW20,#REF!),PREENCHER!K20))","v":""},{"$f":"IF(PREENCHER!L20=\"\",\"\",IF(COUNTIF(PREENCHER!$AI20:$AK20,PREENCHER!L20)=0,CONCATENATE(PREENCHER!AX20,#REF!),PREENCHER!L20))","v":""},{"$f":"IF(PREENCHER!M20=\"\",\"\",IF(COUNTIF(PREENCHER!$AI20:$AK20,PREENCHER!M20)=0,CONCATENATE(PREENCHER!AY20,#REF!),PREENCHER!M20))","v":""},{"$f":"IF(PREENCHER!N20=\"\",\"\",IF(COUNTIF(PREENCHER!$AI20:$AK20,PREENCHER!N20)=0,CONCATENATE(PREENCHER!AZ20,#REF!),PREENCHER!N20))","v":""},{"$f":"IF(ISERROR(ROUND(AVERAGE(E20:N20),2)),\"\",ROUND(AVERAGE(E20:N20),2))","v":""},{"$f":"IF(ISERROR(ROUND(O20*D20,2)),\"\",ROUND(O20*D20,2))","v":""},null,null,{"$f":"IF(ISERROR(MEDIAN(E20:N20)),\"\",MEDIAN(E20:N20))","v":""},{"$f":"IF(ISERROR(STDEV(E20:N20)),\"\",STDEV(E20:N20))","v":""},{"$f":"IF(ISERROR(T20/O20),\"\",T20/O20)","v":""}]
[{"$f":"IF(PREENCHER!A21=\"\",\"\",PREENCHER!A21)","v":""},{"$f":"IF(PREENCHER!B21=\"\",\"\",PREENCHER!B21)","v":""},{"$f":"IF(PREENCHER!C21=\"\",\"\",PREENCHER!C21)","v":""},{"$f":"IF(PREENCHER!D21=\"\",\"\",PREENCHER!D21)","v":""},{"$f":"IF(PREENCHER!E21=\"\",\"\",IF(COUNTIF(PREENCHER!$AI21:$AK21,PREENCHER!E21)=0,CONCATENATE(PREENCHER!AQ21,#REF!),PREENCHER!E21))","v":""},{"$f":"IF(PREENCHER!F21=\"\",\"\",IF(COUNTIF(PREENCHER!$AI21:$AK21,PREENCHER!F21)=0,CONCATENATE(PREENCHER!AR21,#REF!),PREENCHER!F21))","v":""},{"$f":"IF(PREENCHER!G21=\"\",\"\",IF(COUNTIF(PREENCHER!$AI21:$AK21,PREENCHER!G21)=0,CONCATENATE(PREENCHER!AS21,#REF!),PREENCHER!G21))","v":""},{"$f":"IF(PREENCHER!H21=\"\",\"\",IF(COUNTIF(PREENCHER!$AI21:$AK21,PREENCHER!H21)=0,CONCATENATE(PREENCHER!AT21,#REF!),PREENCHER!H21))","v":""},{"$f":"IF(PREENCHER!I21=\"\",\"\",IF(COUNTIF(PREENCHER!$AI21:$AK21,PREENCHER!I21)=0,CONCATENATE(PREENCHER!AU21,#REF!),PREENCHER!I21))","v":""},{"$f":"IF(PREENCHER!J21=\"\",\"\",IF(COUNTIF(PREENCHER!$AI21:$AK21,PREENCHER!J21)=0,CONCATENATE(PREENCHER!AV21,#REF!),PREENCHER!J21))","v":""},{"$f":"IF(PREENCHER!K21=\"\",\"\",IF(COUNTIF(PREENCHER!$AI21:$AK21,PREENCHER!K21)=0,CONCATENATE(PREENCHER!AW21,#REF!),PREENCHER!K21))","v":""},{"$f":"IF(PREENCHER!L21=\"\",\"\",IF(COUNTIF(PREENCHER!$AI21:$AK21,PREENCHER!L21)=0,CONCATENATE(PREENCHER!AX21,#REF!),PREENCHER!L21))","v":""},{"$f":"IF(PREENCHER!M21=\"\",\"\",IF(COUNTIF(PREENCHER!$AI21:$AK21,PREENCHER!M21)=0,CONCATENATE(PREENCHER!AY21,#REF!),PREENCHER!M21))","v":""},{"$f":"IF(PREENCHER!N21=\"\",\"\",IF(COUNTIF(PREENCHER!$AI21:$AK21,PREENCHER!N21)=0,CONCATENATE(PREENCHER!AZ21,#REF!),PREENCHER!N21))","v":""},{"$f":"IF(ISERROR(ROUND(AVERAGE(E21:N21),2)),\"\",ROUND(AVERAGE(E21:N21),2))","v":""},{"$f":"IF(ISERROR(ROUND(O21*D21,2)),\"\",ROUND(O21*D21,2))","v":""},null,null,{"$f":"IF(ISERROR(MEDIAN(E21:N21)),\"\",MEDIAN(E21:N21))","v":""},{"$f":"IF(ISERROR(STDEV(E21:N21)),\"\",STDEV(E21:N21))","v":""},{"$f":"IF(ISERROR(T21/O21),\"\",T21/O21)","v":""}]
[{"$f":"IF(PREENCHER!A22=\"\",\"\",PREENCHER!A22)","v":""},{"$f":"IF(PREENCHER!B22=\"\",\"\",PREENCHER!B22)","v":""},{"$f":"IF(PREENCHER!C22=\"\",\"\",PREENCHER!C22)","v":""},{"$f":"IF(PREENCHER!D22=\"\",\"\",PREENCHER!D22)","v":""},{"$f":"IF(PREENCHER!E22=\"\",\"\",IF(COUNTIF(PREENCHER!$AI22:$AK22,PREENCHER!E22)=0,CONCATENATE(PREENCHER!AQ22,#REF!),PREENCHER!E22))","v":""},{"$f":"IF(PREENCHER!F22=\"\",\"\",IF(COUNTIF(PREENCHER!$AI22:$AK22,PREENCHER!F22)=0,CONCATENATE(PREENCHER!AR22,#REF!),PREENCHER!F22))","v":""},{"$f":"IF(PREENCHER!G22=\"\",\"\",IF(COUNTIF(PREENCHER!$AI22:$AK22,PREENCHER!G22)=0,CONCATENATE(PREENCHER!AS22,#REF!),PREENCHER!G22))","v":""},{"$f":"IF(PREENCHER!H22=\"\",\"\",IF(COUNTIF(PREENCHER!$AI22:$AK22,PREENCHER!H22)=0,CONCATENATE(PREENCHER!AT22,#REF!),PREENCHER!H22))","v":""},{"$f":"IF(PREENCHER!I22=\"\",\"\",IF(COUNTIF(PREENCHER!$AI22:$AK22,PREENCHER!I22)=0,CONCATENATE(PREENCHER!AU22,#REF!),PREENCHER!I22))","v":""},{"$f":"IF(PREENCHER!J22=\"\",\"\",IF(COUNTIF(PREENCHER!$AI22:$AK22,PREENCHER!J22)=0,CONCATENATE(PREENCHER!AV22,#REF!),PREENCHER!J22))","v":""},{"$f":"IF(PREENCHER!K22=\"\",\"\",IF(COUNTIF(PREENCHER!$AI22:$AK22,PREENCHER!K22)=0,CONCATENATE(PREENCHER!AW22,#REF!),PREENCHER!K22))","v":""},{"$f":"IF(PREENCHER!L22=\"\",\"\",IF(COUNTIF(PREENCHER!$AI22:$AK22,PREENCHER!L22)=0,CONCATENATE(PREENCHER!AX22,#REF!),PREENCHER!L22))","v":""},{"$f":"IF(PREENCHER!M22=\"\",\"\",IF(COUNTIF(PREENCHER!$AI22:$AK22,PREENCHER!M22)=0,CONCATENATE(PREENCHER!AY22,#REF!),PREENCHER!M22))","v":""},{"$f":"IF(PREENCHER!N22=\"\",\"\",IF(COUNTIF(PREENCHER!$AI22:$AK22,PREENCHER!N22)=0,CONCATENATE(PREENCHER!AZ22,#REF!),PREENCHER!N22))","v":""},{"$f":"IF(ISERROR(ROUND(AVERAGE(E22:N22),2)),\"\",ROUND(AVERAGE(E22:N22),2))","v":""},{"$f":"IF(ISERROR(ROUND(O22*D22,2)),\"\",ROUND(O22*D22,2))","v":""},null,null,{"$f":"IF(ISERROR(MEDIAN(E22:N22)),\"\",MEDIAN(E22:N22))","v":""},{"$f":"IF(ISERROR(STDEV(E22:N22)),\"\",STDEV(E22:N22))","v":""},{"$f":"IF(ISERROR(T22/O22),\"\",T22/O22)","v":""}]
[{"$f":"IF(PREENCHER!A23=\"\",\"\",PREENCHER!A23)","v":""},{"$f":"IF(PREENCHER!B23=\"\",\"\",PREENCHER!B23)","v":""},{"$f":"IF(PREENCHER!C23=\"\",\"\",PREENCHER!C23)","v":""},{"$f":"IF(PREENCHER!D23=\"\",\"\",PREENCHER!D23)","v":""},{"$f":"IF(PREENCHER!E23=\"\",\"\",IF(COUNTIF(PREENCHER!$AI23:$AK23,PREENCHER!E23)=0,CONCATENATE(PREENCHER!AQ23,#REF!),PREENCHER!E23))","v":""},{"$f":"IF(PREENCHER!F23=\"\",\"\",IF(COUNTIF(PREENCHER!$AI23:$AK23,PREENCHER!F23)=0,CONCATENATE(PREENCHER!AR23,#REF!),PREENCHER!F23))","v":""},{"$f":"IF(PREENCHER!G23=\"\",\"\",IF(COUNTIF(PREENCHER!$AI23:$AK23,PREENCHER!G23)=0,CONCATENATE(PREENCHER!AS23,#REF!),PREENCHER!G23))","v":""},{"$f":"IF(PREENCHER!H23=\"\",\"\",IF(COUNTIF(PREENCHER!$AI23:$AK23,PREENCHER!H23)=0,CONCATENATE(PREENCHER!AT23,#REF!),PREENCHER!H23))","v":""},{"$f":"IF(PREENCHER!I23=\"\",\"\",IF(COUNTIF(PREENCHER!$AI23:$AK23,PREENCHER!I23)=0,CONCATENATE(PREENCHER!AU23,#REF!),PREENCHER!I23))","v":""},{"$f":"IF(PREENCHER!J23=\"\",\"\",IF(COUNTIF(PREENCHER!$AI23:$AK23,PREENCHER!J23)=0,CONCATENATE(PREENCHER!AV23,#REF!),PREENCHER!J23))","v":""},{"$f":"IF(PREENCHER!K23=\"\",\"\",IF(COUNTIF(PREENCHER!$AI23:$AK23,PREENCHER!K23)=0,CONCATENATE(PREENCHER!AW23,#REF!),PREENCHER!K23))","v":""},{"$f":"IF(PREENCHER!L23=\"\",\"\",IF(COUNTIF(PREENCHER!$AI23:$AK23,PREENCHER!L23)=0,CONCATENATE(PREENCHER!AX23,#REF!),PREENCHER!L23))","v":""},{"$f":"IF(PREENCHER!M23=\"\",\"\",IF(COUNTIF(PREENCHER!$AI23:$AK23,PREENCHER!M23)=0,CONCATENATE(PREENCHER!AY23,#REF!),PREENCHER!M23))","v":""},{"$f":"IF(PREENCHER!N23=\"\",\"\",IF(COUNTIF(PREENCHER!$AI23:$AK23,PREENCHER!N23)=0,CONCATENATE(PREENCHER!AZ23,#REF!),PREENCHER!N23))","v":""},{"$f":"IF(ISERROR(ROUND(AVERAGE(E23:N23),2)),\"\",ROUND(AVERAGE(E23:N23),2))","v":""},{"$f":"IF(ISERROR(ROUND(O23*D23,2)),\"\",ROUND(O23*D23,2))","v":""},null,null,{"$f":"IF(ISERROR(MEDIAN(E23:N23)),\"\",MEDIAN(E23:N23))","v":""},{"$f":"IF(ISERROR(STDEV(E23:N23)),\"\",STDEV(E23:N23))","v":""},{"$f":"IF(ISERROR(T23/O23),\"\",T23/O23)","v":""}]
[{"$f":"IF(PREENCHER!A24=\"\",\"\",PREENCHER!A24)","v":""},{"$f":"IF(PREENCHER!B24=\"\",\"\",PREENCHER!B24)","v":""},{"$f":"IF(PREENCHER!C24=\"\",\"\",PREENCHER!C24)","v":""},{"$f":"IF(PREENCHER!D24=\"\",\"\",PREENCHER!D24)","v":""},{"$f":"IF(PREENCHER!E24=\"\",\"\",IF(COUNTIF(PREENCHER!$AI24:$AK24,PREENCHER!E24)=0,CONCATENATE(PREENCHER!AQ24,#REF!),PREENCHER!E24))","v":""},{"$f":"IF(PREENCHER!F24=\"\",\"\",IF(COUNTIF(PREENCHER!$AI24:$AK24,PREENCHER!F24)=0,CONCATENATE(PREENCHER!AR24,#REF!),PREENCHER!F24))","v":""},{"$f":"IF(PREENCHER!G24=\"\",\"\",IF(COUNTIF(PREENCHER!$AI24:$AK24,PREENCHER!G24)=0,CONCATENATE(PREENCHER!AS24,#REF!),PREENCHER!G24))","v":""},{"$f":"IF(PREENCHER!H24=\"\",\"\",IF(COUNTIF(PREENCHER!$AI24:$AK24,PREENCHER!H24)=0,CONCATENATE(PREENCHER!AT24,#REF!),PREENCHER!H24))","v":""},{"$f":"IF(PREENCHER!I24=\"\",\"\",IF(COUNTIF(PREENCHER!$AI24:$AK24,PREENCHER!I24)=0,CONCATENATE(PREENCHER!AU24,#REF!),PREENCHER!I24))","v":""},{"$f":"IF(PREENCHER!J24=\"\",\"\",IF(COUNTIF(PREENCHER!$AI24:$AK24,PREENCHER!J24)=0,CONCATENATE(PREENCHER!AV24,#REF!),PREENCHER!J24))","v":""},{"$f":"IF(PREENCHER!K24=\"\",\"\",IF(COUNTIF(PREENCHER!$AI24:$AK24,PREENCHER!K24)=0,CONCATENATE(PREENCHER!AW24,#REF!),PREENCHER!K24))","v":""},{"$f":"IF(PREENCHER!L24=\"\",\"\",IF(COUNTIF(PREENCHER!$AI24:$AK24,PREENCHER!L24)=0,CONCATENATE(PREENCHER!AX24,#REF!),PREENCHER!L24))","v":""},{"$f":"IF(PREENCHER!M24=\"\",\"\",IF(COUNTIF(PREENCHER!$AI24:$AK24,PREENCHER!M24)=0,CONCATENATE(PREENCHER!AY24,#REF!),PREENCHER!M24))","v":""},{"$f":"IF(PREENCHER!N24=\"\",\"\",IF(COUNTIF(PREENCHER!$AI24:$AK24,PREENCHER!N24)=0,CONCATENATE(PREENCHER!AZ24,#REF!),PREENCHER!N24))","v":""},{"$f":"IF(ISERROR(ROUND(AVERAGE(E24:N24),2)),\"\",ROUND(AVERAGE(E24:N24),2))","v":""},{"$f":"IF(ISERROR(ROUND(O24*D24,2)),\"\",ROUND(O24*D24,2))","v":""},null,null,{"$f":"IF(ISERROR(MEDIAN(E24:N24)),\"\",MEDIAN(E24:N24))","v":""},{"$f":"IF(ISERROR(STDEV(E24:N24)),\"\",STDEV(E24:N24))","v":""},{"$f":"IF(ISERROR(T24/O24),\"\",T24/O24)","v":""}]
[{"$f":"IF(PREENCHER!A25=\"\",\"\",PREENCHER!A25)","v":""},{"$f":"IF(PREENCHER!B25=\"\",\"\",PREENCHER!B25)","v":""},{"$f":"IF(PREENCHER!C25=\"\",\"\",PREENCHER!C25)","v":""},{"$f":"IF(PREENCHER!D25=\"\",\"\",PREENCHER!D25)","v":""},{"$f":"IF(PREENCHER!E25=\"\",\"\",IF(COUNTIF(PREENCHER!$AI25:$AK25,PREENCHER!E25)=0,CONCATENATE(PREENCHER!AQ25,#REF!),PREENCHER!E25))","v":""},{"$f":"IF(PREENCHER!F25=\"\",\"\",IF(COUNTIF(PREENCHER!$AI25:$AK25,PREENCHER!F25)=0,CONCATENATE(PREENCHER!AR25,#REF!),PREENCHER!F25))","v":""},{"$f":"IF(PREENCHER!G25=\"\",\"\",IF(COUNTIF(PREENCHER!$AI25:$AK25,PREENCHER!G25)=0,CONCATENATE(PREENCHER!AS25,#REF!),PREENCHER!G25))","v":""},{"$f":"IF(PREENCHER!H25=\"\",\"\",IF(COUNTIF(PREENCHER!$AI25:$AK25,PREENCHER!H25)=0,CONCATENATE(PREENCHER!AT25,#REF!),PREENCHER!H25))","v":""},{"$f":"IF(PREENCHER!I25=\"\",\"\",IF(COUNTIF(PREENCHER!$AI25:$AK25,PREENCHER!I25)=0,CONCATENATE(PREENCHER!AU25,#REF!),PREENCHER!I25))","v":""},{"$f":"IF(PREENCHER!J25=\"\",\"\",IF(COUNTIF(PREENCHER!$AI25:$AK25,PREENCHER!J25)=0,CONCATENATE(PREENCHER!AV25,#REF!),PREENCHER!J25))","v":""},{"$f":"IF(PREENCHER!K25=\"\",\"\",IF(COUNTIF(PREENCHER!$AI25:$AK25,PREENCHER!K25)=0,CONCATENATE(PREENCHER!AW25,#REF!),PREENCHER!K25))","v":""},{"$f":"IF(PREENCHER!L25=\"\",\"\",IF(COUNTIF(PREENCHER!$AI25:$AK25,PREENCHER!L25)=0,CONCATENATE(PREENCHER!AX25,#REF!),PREENCHER!L25))","v":""},{"$f":"IF(PREENCHER!M25=\"\",\"\",IF(COUNTIF(PREENCHER!$AI25:$AK25,PREENCHER!M25)=0,CONCATENATE(PREENCHER!AY25,#REF!),PREENCHER!M25))","v":""},{"$f":"IF(PREENCHER!N25=\"\",\"\",IF(COUNTIF(PREENCHER!$AI25:$AK25,PREENCHER!N25)=0,CONCATENATE(PREENCHER!AZ25,#REF!),PREENCHER!N25))","v":""},{"$f":"IF(ISERROR(ROUND(AVERAGE(E25:N25),2)),\"\",ROUND(AVERAGE(E25:N25),2))","v":""},{"$f":"IF(ISERROR(ROUND(O25*D25,2)),\"\",ROUND(O25*D25,2))","v":""},null,null,{"$f":"IF(ISERROR(MEDIAN(E25:N25)),\"\",MEDIAN(E25:N25))","v":""},{"$f":"IF(ISERROR(STDEV(E25:N25)),\"\",STDEV(E25:N25))","v":""},{"$f":"IF(ISERROR(T25/O25),\"\",T25/O25)","v":""}]
[{"$f":"IF(PREENCHER!A26=\"\",\"\",PREENCHER!A26)","v":""},{"$f":"IF(PREENCHER!B26=\"\",\"\",PREENCHER!B26)","v":""},{"$f":"IF(PREENCHER!C26=\"\",\"\",PREENCHER!C26)","v":""},{"$f":"IF(PREENCHER!D26=\"\",\"\",PREENCHER!D26)","v":""},{"$f":"IF(PREENCHER!E26=\"\",\"\",IF(COUNTIF(PREENCHER!$AI26:$AK26,PREENCHER!E26)=0,CONCATENATE(PREENCHER!AQ26,#REF!),PREENCHER!E26))","v":""},{"$f":"IF(PREENCHER!F26=\"\",\"\",IF(COUNTIF(PREENCHER!$AI26:$AK26,PREENCHER!F26)=0,CONCATENATE(PREENCHER!AR26,#REF!),PREENCHER!F26))","v":""},{"$f":"IF(PREENCHER!G26=\"\",\"\",IF(COUNTIF(PREENCHER!$AI26:$AK26,PREENCHER!G26)=0,CONCATENATE(PREENCHER!AS26,#REF!),PREENCHER!G26))","v":""},{"$f":"IF(PREENCHER!H26=\"\",\"\",IF(COUNTIF(PREENCHER!$AI26:$AK26,PREENCHER!H26)=0,CONCATENATE(PREENCHER!AT26,#REF!),PREENCHER!H26))","v":""},{"$f":"IF(PREENCHER!I26=\"\",\"\",IF(COUNTIF(PREENCHER!$AI26:$AK26,PREENCHER!I26)=0,CONCATENATE(PREENCHER!AU26,#REF!),PREENCHER!I26))","v":""},{"$f":"IF(PREENCHER!J26=\"\",\"\",IF(COUNTIF(PREENCHER!$AI26:$AK26,PREENCHER!J26)=0,CONCATENATE(PREENCHER!AV26,#REF!),PREENCHER!J26))","v":""},{"$f":"IF(PREENCHER!K26=\"\",\"\",IF(COUNTIF(PREENCHER!$AI26:$AK26,PREENCHER!K26)=0,CONCATENATE(PREENCHER!AW26,#REF!),PREENCHER!K26))","v":""},{"$f":"IF(PREENCHER!L26=\"\",\"\",IF(COUNTIF(PREENCHER!$AI26:$AK26,PREENCHER!L26)=0,CONCATENATE(PREENCHER!AX26,#REF!),PREENCHER!L26))","v":""},{"$f":"IF(PREENCHER!M26=\"\",\"\",IF(COUNTIF(PREENCHER!$AI26:$AK26,PREENCHER!M26)=0,CONCATENATE(PREENCHER!AY26,#REF!),PREENCHER!M26))","v":""},{"$f":"IF(PREENCHER!N26=\"\",\"\",IF(COUNTIF(PREENCHER!$AI26:$AK26,PREENCHER!N26)=0,CONCATENATE(PREENCHER!AZ26,#REF!),PREENCHER!N26))","v":""},{"$f":"IF(ISERROR(ROUND(AVERAGE(E26:N26),2)),\"\",ROUND(AVERAGE(E26:N26),2))","v":""},{"$f":"IF(ISERROR(ROUND(O26*D26,2)),\"\",ROUND(O26*D26,2))","v":""},null,null,{"$f":"IF(ISERROR(MEDIAN(E26:N26)),\"\",MEDIAN(E26:N26))","v":""},{"$f":"IF(ISERROR(STDEV(E26:N26)),\"\",STDEV(E26:N26))","v":""},{"$f":"IF(ISERROR(T26/O26),\"\",T26/O26)","v":""}]
[{"$f":"IF(PREENCHER!A27=\"\",\"\",PREENCHER!A27)","v":""},{"$f":"IF(PREENCHER!B27=\"\",\"\",PREENCHER!B27)","v":""},{"$f":"IF(PREENCHER!C27=\"\",\"\",PREENCHER!C27)","v":""},{"$f":"IF(PREENCHER!D27=\"\",\"\",PREENCHER!D27)","v":""},{"$f":"IF(PREENCHER!E27=\"\",\"\",IF(COUNTIF(PREENCHER!$AI27:$AK27,PREENCHER!E27)=0,CONCATENATE(PREENCHER!AQ27,#REF!),PREENCHER!E27))","v":""},{"$f":"IF(PREENCHER!F27=\"\",\"\",IF(COUNTIF(PREENCHER!$AI27:$AK27,PREENCHER!F27)=0,CONCATENATE(PREENCHER!AR27,#REF!),PREENCHER!F27))","v":""},{"$f":"IF(PREENCHER!G27=\"\",\"\",IF(COUNTIF(PREENCHER!$AI27:$AK27,PREENCHER!G27)=0,CONCATENATE(PREENCHER!AS27,#REF!),PREENCHER!G27))","v":""},{"$f":"IF(PREENCHER!H27=\"\",\"\",IF(COUNTIF(PREENCHER!$AI27:$AK27,PREENCHER!H27)=0,CONCATENATE(PREENCHER!AT27,#REF!),PREENCHER!H27))","v":""},{"$f":"IF(PREENCHER!I27=\"\",\"\",IF(COUNTIF(PREENCHER!$AI27:$AK27,PREENCHER!I27)=0,CONCATENATE(PREENCHER!AU27,#REF!),PREENCHER!I27))","v":""},{"$f":"IF(PREENCHER!J27=\"\",\"\",IF(COUNTIF(PREENCHER!$AI27:$AK27,PREENCHER!J27)=0,CONCATENATE(PREENCHER!AV27,#REF!),PREENCHER!J27))","v":""},{"$f":"IF(PREENCHER!K27=\"\",\"\",IF(COUNTIF(PREENCHER!$AI27:$AK27,PREENCHER!K27)=0,CONCATENATE(PREENCHER!AW27,#REF!),PREENCHER!K27))","v":""},{"$f":"IF(PREENCHER!L27=\"\",\"\",IF(COUNTIF(PREENCHER!$AI27:$AK27,PREENCHER!L27)=0,CONCATENATE(PREENCHER!AX27,#REF!),PREENCHER!L27))","v":""},{"$f":"IF(PREENCHER!M27=\"\",\"\",IF(COUNTIF(PREENCHER!$AI27:$AK27,PREENCHER!M27)=0,CONCATENATE(PREENCHER!AY27,#REF!),PREENCHER!M27))","v":""},{"$f":"IF(PREENCHER!N27=\"\",\"\",IF(COUNTIF(PREENCHER!$AI27:$AK27,PREENCHER!N27)=0,CONCATENATE(PREENCHER!AZ27,#REF!),PREENCHER!N27))","v":""},{"$f":"IF(ISERROR(ROUND(AVERAGE(E27:N27),2)),\"\",ROUND(AVERAGE(E27:N27),2))","v":""},{"$f":"IF(ISERROR(ROUND(O27*D27,2)),\"\",ROUND(O27*D27,2))","v":""},null,null,{"$f":"IF(ISERROR(MEDIAN(E27:N27)),\"\",MEDIAN(E27:N27))","v":""},{"$f":"IF(ISERROR(STDEV(E27:N27)),\"\",STDEV(E27:N27))","v":""},{"$f":"IF(ISERROR(T27/O27),\"\",T27/O27)","v":""}]
[{"$f":"IF(PREENCHER!A28=\"\",\"\",PREENCHER!A28)","v":""},{"$f":"IF(PREENCHER!B28=\"\",\"\",PREENCHER!B28)","v":""},{"$f":"IF(PREENCHER!C28=\"\",\"\",PREENCHER!C28)","v":""},{"$f":"IF(PREENCHER!D28=\"\",\"\",PREENCHER!D28)","v":""},{"$f":"IF(PREENCHER!E28=\"\",\"\",IF(COUNTIF(PREENCHER!$AI28:$AK28,PREENCHER!E28)=0,CONCATENATE(PREENCHER!AQ28,#REF!),PREENCHER!E28))","v":""},{"$f":"IF(PREENCHER!F28=\"\",\"\",IF(COUNTIF(PREENCHER!$AI28:$AK28,PREENCHER!F28)=0,CONCATENATE(PREENCHER!AR28,#REF!),PREENCHER!F28))","v":""},{"$f":"IF(PREENCHER!G28=\"\",\"\",IF(COUNTIF(PREENCHER!$AI28:$AK28,PREENCHER!G28)=0,CONCATENATE(PREENCHER!AS28,#REF!),PREENCHER!G28))","v":""},{"$f":"IF(PREENCHER!H28=\"\",\"\",IF(COUNTIF(PREENCHER!$AI28:$AK28,PREENCHER!H28)=0,CONCATENATE(PREENCHER!AT28,#REF!),PREENCHER!H28))","v":""},{"$f":"IF(PREENCHER!I28=\"\",\"\",IF(COUNTIF(PREENCHER!$AI28:$AK28,PREENCHER!I28)=0,CONCATENATE(PREENCHER!AU28,#REF!),PREENCHER!I28))","v":""},{"$f":"IF(PREENCHER!J28=\"\",\"\",IF(COUNTIF(PREENCHER!$AI28:$AK28,PREENCHER!J28)=0,CONCATENATE(PREENCHER!AV28,#REF!),PREENCHER!J28))","v":""},{"$f":"IF(PREENCHER!K28=\"\",\"\",IF(COUNTIF(PREENCHER!$AI28:$AK28,PREENCHER!K28)=0,CONCATENATE(PREENCHER!AW28,#REF!),PREENCHER!K28))","v":""},{"$f":"IF(PREENCHER!L28=\"\",\"\",IF(COUNTIF(PREENCHER!$AI28:$AK28,PREENCHER!L28)=0,CONCATENATE(PREENCHER!AX28,#REF!),PREENCHER!L28))","v":""},{"$f":"IF(PREENCHER!M28=\"\",\"\",IF(COUNTIF(PREENCHER!$AI28:$AK28,PREENCHER!M28)=0,CONCATENATE(PREENCHER!AY28,#REF!),PREENCHER!M28))","v":""},{"$f":"IF(PREENCHER!N28=\"\",\"\",IF(COUNTIF(PREENCHER!$AI28:$AK28,PREENCHER!N28)=0,CONCATENATE(PREENCHER!AZ28,#REF!),PREENCHER!N28))","v":""},{"$f":"IF(ISERROR(ROUND(AVERAGE(E28:N28),2)),\"\",ROUND(AVERAGE(E28:N28),2))","v":""},{"$f":"IF(ISERROR(ROUND(O28*D28,2)),\"\",ROUND(O28*D28,2))","v":""},null,null,{"$f":"IF(ISERROR(MEDIAN(E28:N28)),\"\",MEDIAN(E28:N28))","v":""},{"$f":"IF(ISERROR(STDEV(E28:N28)),\"\",STDEV(E28:N28))","v":""},{"$f":"IF(ISERROR(T28/O28),\"\",T28/O28)","v":""}]
[{"$f":"IF(PREENCHER!A29=\"\",\"\",PREENCHER!A29)","v":""},{"$f":"IF(PREENCHER!B29=\"\",\"\",PREENCHER!B29)","v":""},{"$f":"IF(PREENCHER!C29=\"\",\"\",PREENCHER!C29)","v":""},{"$f":"IF(PREENCHER!D29=\"\",\"\",PREENCHER!D29)","v":""},{"$f":"IF(PREENCHER!E29=\"\",\"\",IF(COUNTIF(PREENCHER!$AI29:$AK29,PREENCHER!E29)=0,CONCATENATE(PREENCHER!AQ29,#REF!),PREENCHER!E29))","v":""},{"$f":"IF(PREENCHER!F29=\"\",\"\",IF(COUNTIF(PREENCHER!$AI29:$AK29,PREENCHER!F29)=0,CONCATENATE(PREENCHER!AR29,#REF!),PREENCHER!F29))","v":""},{"$f":"IF(PREENCHER!G29=\"\",\"\",IF(COUNTIF(PREENCHER!$AI29:$AK29,PREENCHER!G29)=0,CONCATENATE(PREENCHER!AS29,#REF!),PREENCHER!G29))","v":""},{"$f":"IF(PREENCHER!H29=\"\",\"\",IF(COUNTIF(PREENCHER!$AI29:$AK29,PREENCHER!H29)=0,CONCATENATE(PREENCHER!AT29,#REF!),PREENCHER!H29))","v":""},{"$f":"IF(PREENCHER!I29=\"\",\"\",IF(COUNTIF(PREENCHER!$AI29:$AK29,PREENCHER!I29)=0,CONCATENATE(PREENCHER!AU29,#REF!),PREENCHER!I29))","v":""},{"$f":"IF(PREENCHER!J29=\"\",\"\",IF(COUNTIF(PREENCHER!$AI29:$AK29,PREENCHER!J29)=0,CONCATENATE(PREENCHER!AV29,#REF!),PREENCHER!J29))","v":""},{"$f":"IF(PREENCHER!K29=\"\",\"\",IF(COUNTIF(PREENCHER!$AI29:$AK29,PREENCHER!K29)=0,CONCATENATE(PREENCHER!AW29,#REF!),PREENCHER!K29))","v":""},{"$f":"IF(PREENCHER!L29=\"\",\"\",IF(COUNTIF(PREENCHER!$AI29:$AK29,PREENCHER!L29)=0,CONCATENATE(PREENCHER!AX29,#REF!),PREENCHER!L29))","v":""},{"$f":"IF(PREENCHER!M29=\"\",\"\",IF(COUNTIF(PREENCHER!$AI29:$AK29,PREENCHER!M29)=0,CONCATENATE(PREENCHER!AY29,#REF!),PREENCHER!M29))","v":""},{"$f":"IF(PREENCHER!N29=\"\",\"\",IF(COUNTIF(PREENCHER!$AI29:$AK29,PREENCHER!N29)=0,CONCATENATE(PREENCHER!AZ29,#REF!),PREENCHER!N29))","v":""},{"$f":"IF(ISERROR(ROUND(AVERAGE(E29:N29),2)),\"\",ROUND(AVERAGE(E29:N29),2))","v":""},{"$f":"IF(ISERROR(ROUND(O29*D29,2)),\"\",ROUND(O29*D29,2))","v":""},null,null,{"$f":"IF(ISERROR(MEDIAN(E29:N29)),\"\",MEDIAN(E29:N29))","v":""},{"$f":"IF(ISERROR(STDEV(E29:N29)),\"\",STDEV(E29:N29))","v":""},{"$f":"IF(ISERROR(T29/O29),\"\",T29/O29)","v":""}]
[{"$f":"IF(PREENCHER!A30=\"\",\"\",PREENCHER!A30)","v":""},{"$f":"IF(PREENCHER!B30=\"\",\"\",PREENCHER!B30)","v":""},{"$f":"IF(PREENCHER!C30=\"\",\"\",PREENCHER!C30)","v":""},{"$f":"IF(PREENCHER!D30=\"\",\"\",PREENCHER!D30)","v":""},{"$f":"IF(PREENCHER!E30=\"\",\"\",IF(COUNTIF(PREENCHER!$AI30:$AK30,PREENCHER!E30)=0,CONCATENATE(PREENCHER!AQ30,#REF!),PREENCHER!E30))","v":""},{"$f":"IF(PREENCHER!F30=\"\",\"\",IF(COUNTIF(PREENCHER!$AI30:$AK30,PREENCHER!F30)=0,CONCATENATE(PREENCHER!AR30,#REF!),PREENCHER!F30))","v":""},{"$f":"IF(PREENCHER!G30=\"\",\"\",IF(COUNTIF(PREENCHER!$AI30:$AK30,PREENCHER!G30)=0,CONCATENATE(PREENCHER!AS30,#REF!),PREENCHER!G30))","v":""},{"$f":"IF(PREENCHER!H30=\"\",\"\",IF(COUNTIF(PREENCHER!$AI30:$AK30,PREENCHER!H30)=0,CONCATENATE(PREENCHER!AT30,#REF!),PREENCHER!H30))","v":""},{"$f":"IF(PREENCHER!I30=\"\",\"\",IF(COUNTIF(PREENCHER!$AI30:$AK30,PREENCHER!I30)=0,CONCATENATE(PREENCHER!AU30,#REF!),PREENCHER!I30))","v":""},{"$f":"IF(PREENCHER!J30=\"\",\"\",IF(COUNTIF(PREENCHER!$AI30:$AK30,PREENCHER!J30)=0,CONCATENATE(PREENCHER!AV30,#REF!),PREENCHER!J30))","v":""},{"$f":"IF(PREENCHER!K30=\"\",\"\",IF(COUNTIF(PREENCHER!$AI30:$AK30,PREENCHER!K30)=0,CONCATENATE(PREENCHER!AW30,#REF!),PREENCHER!K30))","v":""},{"$f":"IF(PREENCHER!L30=\"\",\"\",IF(COUNTIF(PREENCHER!$AI30:$AK30,PREENCHER!L30)=0,CONCATENATE(PREENCHER!AX30,#REF!),PREENCHER!L30))","v":""},{"$f":"IF(PREENCHER!M30=\"\",\"\",IF(COUNTIF(PREENCHER!$AI30:$AK30,PREENCHER!M30)=0,CONCATENATE(PREENCHER!AY30,#REF!),PREENCHER!M30))","v":""},{"$f":"IF(PREENCHER!N30=\"\",\"\",IF(COUNTIF(PREENCHER!$AI30:$AK30,PREENCHER!N30)=0,CONCATENATE(PREENCHER!AZ30,#REF!),PREENCHER!N30))","v":""},{"$f":"IF(ISERROR(ROUND(AVERAGE(E30:N30),2)),\"\",ROUND(AVERAGE(E30:N30),2))","v":""},{"$f":"IF(ISERROR(ROUND(O30*D30,2)),\"\",ROUND(O30*D30,2))","v":""},null,null,{"$f":"IF(ISERROR(MEDIAN(E30:N30)),\"\",MEDIAN(E30:N30))","v":""},{"$f":"IF(ISERROR(STDEV(E30:N30)),\"\",STDEV(E30:N30))","v":""},{"$f":"IF(ISERROR(T30/O30),\"\",T30/O30)","v":""}]
[{"$f":"IF(PREENCHER!A31=\"\",\"\",PREENCHER!A31)","v":""},{"$f":"IF(PREENCHER!B31=\"\",\"\",PREENCHER!B31)","v":""},{"$f":"IF(PREENCHER!C31=\"\",\"\",PREENCHER!C31)","v":""},{"$f":"IF(PREENCHER!D31=\"\",\"\",PREENCHER!D31)","v":""},{"$f":"IF(PREENCHER!E31=\"\",\"\",IF(COUNTIF(PREENCHER!$AI31:$AK31,PREENCHER!E31)=0,CONCATENATE(PREENCHER!AQ31,#REF!),PREENCHER!E31))","v":""},{"$f":"IF(PREENCHER!F31=\"\",\"\",IF(COUNTIF(PREENCHER!$AI31:$AK31,PREENCHER!F31)=0,CONCATENATE(PREENCHER!AR31,#REF!),PREENCHER!F31))","v":""},{"$f":"IF(PREENCHER!G31=\"\",\"\",IF(COUNTIF(PREENCHER!$AI31:$AK31,PREENCHER!G31)=0,CONCATENATE(PREENCHER!AS31,#REF!),PREENCHER!G31))","v":""},{"$f":"IF(PREENCHER!H31=\"\",\"\",IF(COUNTIF(PREENCHER!$AI31:$AK31,PREENCHER!H31)=0,CONCATENATE(PREENCHER!AT31,#REF!),PREENCHER!H31))","v":""},{"$f":"IF(PREENCHER!I31=\"\",\"\",IF(COUNTIF(PREENCHER!$AI31:$AK31,PREENCHER!I31)=0,CONCATENATE(PREENCHER!AU31,#REF!),PREENCHER!I31))","v":""},{"$f":"IF(PREENCHER!J31=\"\",\"\",IF(COUNTIF(PREENCHER!$AI31:$AK31,PREENCHER!J31)=0,CONCATENATE(PREENCHER!AV31,#REF!),PREENCHER!J31))","v":""},{"$f":"IF(PREENCHER!K31=\"\",\"\",IF(COUNTIF(PREENCHER!$AI31:$AK31,PREENCHER!K31)=0,CONCATENATE(PREENCHER!AW31,#REF!),PREENCHER!K31))","v":""},{"$f":"IF(PREENCHER!L31=\"\",\"\",IF(COUNTIF(PREENCHER!$AI31:$AK31,PREENCHER!L31)=0,CONCATENATE(PREENCHER!AX31,#REF!),PREENCHER!L31))","v":""},{"$f":"IF(PREENCHER!M31=\"\",\"\",IF(COUNTIF(PREENCHER!$AI31:$AK31,PREENCHER!M31)=0,CONCATENATE(PREENCHER!AY31,#REF!),PREENCHER!M31))","v":""},{"$f":"IF(PREENCHER!N31=\"\",\"\",IF(COUNTIF(PREENCHER!$AI31:$AK31,PREENCHER!N31)=0,CONCATENATE(PREENCHER!AZ31,#REF!),PREENCHER!N31))","v":""},{"$f":"IF(ISERROR(ROUND(AVERAGE(E31:N31),2)),\"\",ROUND(AVERAGE(E31:N31),2))","v":""},{"$f":"IF(ISERROR(ROUND(O31*D31,2)),\"\",ROUND(O31*D31,2))","v":""},null,null,{"$f":"IF(ISERROR(MEDIAN(E31:N31)),\"\",MEDIAN(E31:N31))","v":""},{"$f":"IF(ISERROR(STDEV(E31:N31)),\"\",STDEV(E31:N31))","v":""},{"$f":"IF(ISERROR(T31/O31),\"\",T31/O31)","v":""}]
[{"$f":"IF(PREENCHER!A32=\"\",\"\",PREENCHER!A32)","v":""},{"$f":"IF(PREENCHER!B32=\"\",\"\",PREENCHER!B32)","v":""},{"$f":"IF(PREENCHER!C32=\"\",\"\",PREENCHER!C32)","v":""},{"$f":"IF(PREENCHER!D32=\"\",\"\",PREENCHER!D32)","v":""},{"$f":"IF(PREENCHER!E32=\"\",\"\",IF(COUNTIF(PREENCHER!$AI32:$AK32,PREENCHER!E32)=0,CONCATENATE(PREENCHER!AQ32,#REF!),PREENCHER!E32))","v":""},{"$f":"IF(PREENCHER!F32=\"\",\"\",IF(COUNTIF(PREENCHER!$AI32:$AK32,PREENCHER!F32)=0,CONCATENATE(PREENCHER!AR32,#REF!),PREENCHER!F32))","v":""},{"$f":"IF(PREENCHER!G32=\"\",\"\",IF(COUNTIF(PREENCHER!$AI32:$AK32,PREENCHER!G32)=0,CONCATENATE(PREENCHER!AS32,#REF!),PREENCHER!G32))","v":""},{"$f":"IF(PREENCHER!H32=\"\",\"\",IF(COUNTIF(PREENCHER!$AI32:$AK32,PREENCHER!H32)=0,CONCATENATE(PREENCHER!AT32,#REF!),PREENCHER!H32))","v":""},{"$f":"IF(PREENCHER!I32=\"\",\"\",IF(COUNTIF(PREENCHER!$AI32:$AK32,PREENCHER!I32)=0,CONCATENATE(PREENCHER!AU32,#REF!),PREENCHER!I32))","v":""},{"$f":"IF(PREENCHER!J32=\"\",\"\",IF(COUNTIF(PREENCHER!$AI32:$AK32,PREENCHER!J32)=0,CONCATENATE(PREENCHER!AV32,#REF!),PREENCHER!J32))","v":""},{"$f":"IF(PREENCHER!K32=\"\",\"\",IF(COUNTIF(PREENCHER!$AI32:$AK32,PREENCHER!K32)=0,CONCATENATE(PREENCHER!AW32,#REF!),PREENCHER!K32))","v":""},{"$f":"IF(PREENCHER!L32=\"\",\"\",IF(COUNTIF(PREENCHER!$AI32:$AK32,PREENCHER!L32)=0,CONCATENATE(PREENCHER!AX32,#REF!),PREENCHER!L32))","v":""},{"$f":"IF(PREENCHER!M32=\"\",\"\",IF(COUNTIF(PREENCHER!$AI32:$AK32,PREENCHER!M32)=0,CONCATENATE(PREENCHER!AY32,#REF!),PREENCHER!M32))","v":""},{"$f":"IF(PREENCHER!N32=\"\",\"\",IF(COUNTIF(PREENCHER!$AI32:$AK32,PREENCHER!N32)=0,CONCATENATE(PREENCHER!AZ32,#REF!),PREENCHER!N32))","v":""},{"$f":"IF(ISERROR(ROUND(AVERAGE(E32:N32),2)),\"\",ROUND(AVERAGE(E32:N32),2))","v":""},{"$f":"IF(ISERROR(ROUND(O32*D32,2)),\"\",ROUND(O32*D32,2))","v":""},null,null,{"$f":"IF(ISERROR(MEDIAN(E32:N32)),\"\",MEDIAN(E32:N32))","v":""},{"$f":"IF(ISERROR(STDEV(E32:N32)),\"\",STDEV(E32:N32))","v":""},{"$f":"IF(ISERROR(T32/O32),\"\",T32/O32)","v":""}]
[{"$f":"IF(PREENCHER!A33=\"\",\"\",PREENCHER!A33)","v":""},{"$f":"IF(PREENCHER!B33=\"\",\"\",PREENCHER!B33)","v":""},{"$f":"IF(PREENCHER!C33=\"\",\"\",PREENCHER!C33)","v":""},{"$f":"IF(PREENCHER!D33=\"\",\"\",PREENCHER!D33)","v":""},{"$f":"IF(PREENCHER!E33=\"\",\"\",IF(COUNTIF(PREENCHER!$AI33:$AK33,PREENCHER!E33)=0,CONCATENATE(PREENCHER!AQ33,#REF!),PREENCHER!E33))","v":""},{"$f":"IF(PREENCHER!F33=\"\",\"\",IF(COUNTIF(PREENCHER!$AI33:$AK33,PREENCHER!F33)=0,CONCATENATE(PREENCHER!AR33,#REF!),PREENCHER!F33))","v":""},{"$f":"IF(PREENCHER!G33=\"\",\"\",IF(COUNTIF(PREENCHER!$AI33:$AK33,PREENCHER!G33)=0,CONCATENATE(PREENCHER!AS33,#REF!),PREENCHER!G33))","v":""},{"$f":"IF(PREENCHER!H33=\"\",\"\",IF(COUNTIF(PREENCHER!$AI33:$AK33,PREENCHER!H33)=0,CONCATENATE(PREENCHER!AT33,#REF!),PREENCHER!H33))","v":""},{"$f":"IF(PREENCHER!I33=\"\",\"\",IF(COUNTIF(PREENCHER!$AI33:$AK33,PREENCHER!I33)=0,CONCATENATE(PREENCHER!AU33,#REF!),PREENCHER!I33))","v":""},{"$f":"IF(PREENCHER!J33=\"\",\"\",IF(COUNTIF(PREENCHER!$AI33:$AK33,PREENCHER!J33)=0,CONCATENATE(PREENCHER!AV33,#REF!),PREENCHER!J33))","v":""},{"$f":"IF(PREENCHER!K33=\"\",\"\",IF(COUNTIF(PREENCHER!$AI33:$AK33,PREENCHER!K33)=0,CONCATENATE(PREENCHER!AW33,#REF!),PREENCHER!K33))","v":""},{"$f":"IF(PREENCHER!L33=\"\",\"\",IF(COUNTIF(PREENCHER!$AI33:$AK33,PREENCHER!L33)=0,CONCATENATE(PREENCHER!AX33,#REF!),PREENCHER!L33))","v":""},{"$f":"IF(PREENCHER!M33=\"\",\"\",IF(COUNTIF(PREENCHER!$AI33:$AK33,PREENCHER!M33)=0,CONCATENATE(PREENCHER!AY33,#REF!),PREENCHER!M33))","v":""},{"$f":"IF(PREENCHER!N33=\"\",\"\",IF(COUNTIF(PREENCHER!$AI33:$AK33,PREENCHER!N33)=0,CONCATENATE(PREENCHER!AZ33,#REF!),PREENCHER!N33))","v":""},{"$f":"IF(ISERROR(ROUND(AVERAGE(E33:N33),2)),\"\",ROUND(AVERAGE(E33:N33),2))","v":""},{"$f":"IF(ISERROR(ROUND(O33*D33,2)),\"\",ROUND(O33*D33,2))","v":""},null,null,{"$f":"IF(ISERROR(MEDIAN(E33:N33)),\"\",MEDIAN(E33:N33))","v":""},{"$f":"IF(ISERROR(STDEV(E33:N33)),\"\",STDEV(E33:N33))","v":""},{"$f":"IF(ISERROR(T33/O33),\"\",T33/O33)","v":""}]
[{"$f":"IF(PREENCHER!A34=\"\",\"\",PREENCHER!A34)","v":""},{"$f":"IF(PREENCHER!B34=\"\",\"\",PREENCHER!B34)","v":""},{"$f":"IF(PREENCHER!C34=\"\",\"\",PREENCHER!C34)","v":""},{"$f":"IF(PREENCHER!D34=\"\",\"\",PREENCHER!D34)","v":""},{"$f":"IF(PREENCHER!E34=\"\",\"\",IF(COUNTIF(PREENCHER!$AI34:$AK34,PREENCHER!E34)=0,CONCATENATE(PREENCHER!AQ34,#REF!),PREENCHER!E34))","v":""},{"$f":"IF(PREENCHER!F34=\"\",\"\",IF(COUNTIF(PREENCHER!$AI34:$AK34,PREENCHER!F34)=0,CONCATENATE(PREENCHER!AR34,#REF!),PREENCHER!F34))","v":""},{"$f":"IF(PREENCHER!G34=\"\",\"\",IF(COUNTIF(PREENCHER!$AI34:$AK34,PREENCHER!G34)=0,CONCATENATE(PREENCHER!AS34,#REF!),PREENCHER!G34))","v":""},{"$f":"IF(PREENCHER!H34=\"\",\"\",IF(COUNTIF(PREENCHER!$AI34:$AK34,PREENCHER!H34)=0,CONCATENATE(PREENCHER!AT34,#REF!),PREENCHER!H34))","v":""},{"$f":"IF(PREENCHER!I34=\"\",\"\",IF(COUNTIF(PREENCHER!$AI34:$AK34,PREENCHER!I34)=0,CONCATENATE(PREENCHER!AU34,#REF!),PREENCHER!I34))","v":""},{"$f":"IF(PREENCHER!J34=\"\",\"\",IF(COUNTIF(PREENCHER!$AI34:$AK34,PREENCHER!J34)=0,CONCATENATE(PREENCHER!AV34,#REF!),PREENCHER!J34))","v":""},{"$f":"IF(PREENCHER!K34=\"\",\"\",IF(COUNTIF(PREENCHER!$AI34:$AK34,PREENCHER!K34)=0,CONCATENATE(PREENCHER!AW34,#REF!),PREENCHER!K34))","v":""},{"$f":"IF(PREENCHER!L34=\"\",\"\",IF(COUNTIF(PREENCHER!$AI34:$AK34,PREENCHER!L34)=0,CONCATENATE(PREENCHER!AX34,#REF!),PREENCHER!L34))","v":""},{"$f":"IF(PREENCHER!M34=\"\",\"\",IF(COUNTIF(PREENCHER!$AI34:$AK34,PREENCHER!M34)=0,CONCATENATE(PREENCHER!AY34,#REF!),PREENCHER!M34))","v":""},{"$f":"IF(PREENCHER!N34=\"\",\"\",IF(COUNTIF(PREENCHER!$AI34:$AK34,PREENCHER!N34)=0,CONCATENATE(PREENCHER!AZ34,#REF!),PREENCHER!N34))","v":""},{"$f":"IF(ISERROR(ROUND(AVERAGE(E34:N34),2)),\"\",ROUND(AVERAGE(E34:N34),2))","v":""},{"$f":"IF(ISERROR(ROUND(O34*D34,2)),\"\",ROUND(O34*D34,2))","v":""},null,null,{"$f":"IF(ISERROR(MEDIAN(E34:N34)),\"\",MEDIAN(E34:N34))","v":""},{"$f":"IF(ISERROR(STDEV(E34:N34)),\"\",STDEV(E34:N34))","v":""},{"$f":"IF(ISERROR(T34/O34),\"\",T34/O34)","v":""}]
[{"$f":"IF(PREENCHER!A35=\"\",\"\",PREENCHER!A35)","v":""},{"$f":"IF(PREENCHER!B35=\"\",\"\",PREENCHER!B35)","v":""},{"$f":"IF(PREENCHER!C35=\"\",\"\",PREENCHER!C35)","v":""},{"$f":"IF(PREENCHER!D35=\"\",\"\",PREENCHER!D35)","v":""},{"$f":"IF(PREENCHER!E35=\"\",\"\",IF(COUNTIF(PREENCHER!$AI35:$AK35,PREENCHER!E35)=0,CONCATENATE(PREENCHER!AQ35,#REF!),PREENCHER!E35))","v":""},{"$f":"IF(PREENCHER!F35=\"\",\"\",IF(COUNTIF(PREENCHER!$AI35:$AK35,PREENCHER!F35)=0,CONCATENATE(PREENCHER!AR35,#REF!),PREENCHER!F35))","v":""},{"$f":"IF(PREENCHER!G35=\"\",\"\",IF(COUNTIF(PREENCHER!$AI35:$AK35,PREENCHER!G35)=0,CONCATENATE(PREENCHER!AS35,#REF!),PREENCHER!G35))","v":""},{"$f":"IF(PREENCHER!H35=\"\",\"\",IF(COUNTIF(PREENCHER!$AI35:$AK35,PREENCHER!H35)=0,CONCATENATE(PREENCHER!AT35,#REF!),PREENCHER!H35))","v":""},{"$f":"IF(PREENCHER!I35=\"\",\"\",IF(COUNTIF(PREENCHER!$AI35:$AK35,PREENCHER!I35)=0,CONCATENATE(PREENCHER!AU35,#REF!),PREENCHER!I35))","v":""},{"$f":"IF(PREENCHER!J35=\"\",\"\",IF(COUNTIF(PREENCHER!$AI35:$AK35,PREENCHER!J35)=0,CONCATENATE(PREENCHER!AV35,#REF!),PREENCHER!J35))","v":""},{"$f":"IF(PREENCHER!K35=\"\",\"\",IF(COUNTIF(PREENCHER!$AI35:$AK35,PREENCHER!K35)=0,CONCATENATE(PREENCHER!AW35,#REF!),PREENCHER!K35))","v":""},{"$f":"IF(PREENCHER!L35=\"\",\"\",IF(COUNTIF(PREENCHER!$AI35:$AK35,PREENCHER!L35)=0,CONCATENATE(PREENCHER!AX35,#REF!),PREENCHER!L35))","v":""},{"$f":"IF(PREENCHER!M35=\"\",\"\",IF(COUNTIF(PREENCHER!$AI35:$AK35,PREENCHER!M35)=0,CONCATENATE(PREENCHER!AY35,#REF!),PREENCHER!M35))","v":""},{"$f":"IF(PREENCHER!N35=\"\",\"\",IF(COUNTIF(PREENCHER!$AI35:$AK35,PREENCHER!N35)=0,CONCATENATE(PREENCHER!AZ35,#REF!),PREENCHER!N35))","v":""},{"$f":"IF(ISERROR(ROUND(AVERAGE(E35:N35),2)),\"\",ROUND(AVERAGE(E35:N35),2))","v":""},{"$f":"IF(ISERROR(ROUND(O35*D35,2)),\"\",ROUND(O35*D35,2))","v":""},null,null,{"$f":"IF(ISERROR(MEDIAN(E35:N35)),\"\",MEDIAN(E35:N35))","v":""},{"$f":"IF(ISERROR(STDEV(E35:N35)),\"\",STDEV(E35:N35))","v":""},{"$f":"IF(ISERROR(T35/O35),\"\",T35/O35)","v":""}]
[{"$f":"IF(PREENCHER!A36=\"\",\"\",PREENCHER!A36)","v":""},{"$f":"IF(PREENCHER!B36=\"\",\"\",PREENCHER!B36)","v":""},{"$f":"IF(PREENCHER!C36=\"\",\"\",PREENCHER!C36)","v":""},{"$f":"IF(PREENCHER!D36=\"\",\"\",PREENCHER!D36)","v":""},{"$f":"IF(PREENCHER!E36=\"\",\"\",IF(COUNTIF(PREENCHER!$AI36:$AK36,PREENCHER!E36)=0,CONCATENATE(PREENCHER!AQ36,#REF!),PREENCHER!E36))","v":""},{"$f":"IF(PREENCHER!F36=\"\",\"\",IF(COUNTIF(PREENCHER!$AI36:$AK36,PREENCHER!F36)=0,CONCATENATE(PREENCHER!AR36,#REF!),PREENCHER!F36))","v":""},{"$f":"IF(PREENCHER!G36=\"\",\"\",IF(COUNTIF(PREENCHER!$AI36:$AK36,PREENCHER!G36)=0,CONCATENATE(PREENCHER!AS36,#REF!),PREENCHER!G36))","v":""},{"$f":"IF(PREENCHER!H36=\"\",\"\",IF(COUNTIF(PREENCHER!$AI36:$AK36,PREENCHER!H36)=0,CONCATENATE(PREENCHER!AT36,#REF!),PREENCHER!H36))","v":""},{"$f":"IF(PREENCHER!I36=\"\",\"\",IF(COUNTIF(PREENCHER!$AI36:$AK36,PREENCHER!I36)=0,CONCATENATE(PREENCHER!AU36,#REF!),PREENCHER!I36))","v":""},{"$f":"IF(PREENCHER!J36=\"\",\"\",IF(COUNTIF(PREENCHER!$AI36:$AK36,PREENCHER!J36)=0,CONCATENATE(PREENCHER!AV36,#REF!),PREENCHER!J36))","v":""},{"$f":"IF(PREENCHER!K36=\"\",\"\",IF(COUNTIF(PREENCHER!$AI36:$AK36,PREENCHER!K36)=0,CONCATENATE(PREENCHER!AW36,#REF!),PREENCHER!K36))","v":""},{"$f":"IF(PREENCHER!L36=\"\",\"\",IF(COUNTIF(PREENCHER!$AI36:$AK36,PREENCHER!L36)=0,CONCATENATE(PREENCHER!AX36,#REF!),PREENCHER!L36))","v":""},{"$f":"IF(PREENCHER!M36=\"\",\"\",IF(COUNTIF(PREENCHER!$AI36:$AK36,PREENCHER!M36)=0,CONCATENATE(PREENCHER!AY36,#REF!),PREENCHER!M36))","v":""},{"$f":"IF(PREENCHER!N36=\"\",\"\",IF(COUNTIF(PREENCHER!$AI36:$AK36,PREENCHER!N36)=0,CONCATENATE(PREENCHER!AZ36,#REF!),PREENCHER!N36))","v":""},{"$f":"IF(ISERROR(ROUND(AVERAGE(E36:N36),2)),\"\",ROUND(AVERAGE(E36:N36),2))","v":""},{"$f":"IF(ISERROR(ROUND(O36*D36,2)),\"\",ROUND(O36*D36,2))","v":""},null,null,{"$f":"IF(ISERROR(MEDIAN(E36:N36)),\"\",MEDIAN(E36:N36))","v":""},{"$f":"IF(ISERROR(STDEV(E36:N36)),\"\",STDEV(E36:N36))","v":""},{"$f":"IF(ISERROR(T36/O36),\"\",T36/O36)","v":""}]
[{"$f":"IF(PREENCHER!A37=\"\",\"\",PREENCHER!A37)","v":""},{"$f":"IF(PREENCHER!B37=\"\",\"\",PREENCHER!B37)","v":""},{"$f":"IF(PREENCHER!C37=\"\",\"\",PREENCHER!C37)","v":""},{"$f":"IF(PREENCHER!D37=\"\",\"\",PREENCHER!D37)","v":""},{"$f":"IF(PREENCHER!E37=\"\",\"\",IF(COUNTIF(PREENCHER!$AI37:$AK37,PREENCHER!E37)=0,CONCATENATE(PREENCHER!AQ37,#REF!),PREENCHER!E37))","v":""},{"$f":"IF(PREENCHER!F37=\"\",\"\",IF(COUNTIF(PREENCHER!$AI37:$AK37,PREENCHER!F37)=0,CONCATENATE(PREENCHER!AR37,#REF!),PREENCHER!F37))","v":""},{"$f":"IF(PREENCHER!G37=\"\",\"\",IF(COUNTIF(PREENCHER!$AI37:$AK37,PREENCHER!G37)=0,CONCATENATE(PREENCHER!AS37,#REF!),PREENCHER!G37))","v":""},{"$f":"IF(PREENCHER!H37=\"\",\"\",IF(COUNTIF(PREENCHER!$AI37:$AK37,PREENCHER!H37)=0,CONCATENATE(PREENCHER!AT37,#REF!),PREENCHER!H37))","v":""},{"$f":"IF(PREENCHER!I37=\"\",\"\",IF(COUNTIF(PREENCHER!$AI37:$AK37,PREENCHER!I37)=0,CONCATENATE(PREENCHER!AU37,#REF!),PREENCHER!I37))","v":""},{"$f":"IF(PREENCHER!J37=\"\",\"\",IF(COUNTIF(PREENCHER!$AI37:$AK37,PREENCHER!J37)=0,CONCATENATE(PREENCHER!AV37,#REF!),PREENCHER!J37))","v":""},{"$f":"IF(PREENCHER!K37=\"\",\"\",IF(COUNTIF(PREENCHER!$AI37:$AK37,PREENCHER!K37)=0,CONCATENATE(PREENCHER!AW37,#REF!),PREENCHER!K37))","v":""},{"$f":"IF(PREENCHER!L37=\"\",\"\",IF(COUNTIF(PREENCHER!$AI37:$AK37,PREENCHER!L37)=0,CONCATENATE(PREENCHER!AX37,#REF!),PREENCHER!L37))","v":""},{"$f":"IF(PREENCHER!M37=\"\",\"\",IF(COUNTIF(PREENCHER!$AI37:$AK37,PREENCHER!M37)=0,CONCATENATE(PREENCHER!AY37,#REF!),PREENCHER!M37))","v":""},{"$f":"IF(PREENCHER!N37=\"\",\"\",IF(COUNTIF(PREENCHER!$AI37:$AK37,PREENCHER!N37)=0,CONCATENATE(PREENCHER!AZ37,#REF!),PREENCHER!N37))","v":""},{"$f":"IF(ISERROR(ROUND(AVERAGE(E37:N37),2)),\"\",ROUND(AVERAGE(E37:N37),2))","v":""},{"$f":"IF(ISERROR(ROUND(O37*D37,2)),\"\",ROUND(O37*D37,2))","v":""},null,null,{"$f":"IF(ISERROR(MEDIAN(E37:N37)),\"\",MEDIAN(E37:N37))","v":""},{"$f":"IF(ISERROR(STDEV(E37:N37)),\"\",STDEV(E37:N37))","v":""},{"$f":"IF(ISERROR(T37/O37),\"\",T37/O37)","v":""}]
[{"$f":"IF(PREENCHER!A38=\"\",\"\",PREENCHER!A38)","v":""},{"$f":"IF(PREENCHER!B38=\"\",\"\",PREENCHER!B38)","v":""},{"$f":"IF(PREENCHER!C38=\"\",\"\",PREENCHER!C38)","v":""},{"$f":"IF(PREENCHER!D38=\"\",\"\",PREENCHER!D38)","v":""},{"$f":"IF(PREENCHER!E38=\"\",\"\",IF(COUNTIF(PREENCHER!$AI38:$AK38,PREENCHER!E38)=0,CONCATENATE(PREENCHER!AQ38,#REF!),PREENCHER!E38))","v":""},{"$f":"IF(PREENCHER!F38=\"\",\"\",IF(COUNTIF(PREENCHER!$AI38:$AK38,PREENCHER!F38)=0,CONCATENATE(PREENCHER!AR38,#REF!),PREENCHER!F38))","v":""},{"$f":"IF(PREENCHER!G38=\"\",\"\",IF(COUNTIF(PREENCHER!$AI38:$AK38,PREENCHER!G38)=0,CONCATENATE(PREENCHER!AS38,#REF!),PREENCHER!G38))","v":""},{"$f":"IF(PREENCHER!H38=\"\",\"\",IF(COUNTIF(PREENCHER!$AI38:$AK38,PREENCHER!H38)=0,CONCATENATE(PREENCHER!AT38,#REF!),PREENCHER!H38))","v":""},{"$f":"IF(PREENCHER!I38=\"\",\"\",IF(COUNTIF(PREENCHER!$AI38:$AK38,PREENCHER!I38)=0,CONCATENATE(PREENCHER!AU38,#REF!),PREENCHER!I38))","v":""},{"$f":"IF(PREENCHER!J38=\"\",\"\",IF(COUNTIF(PREENCHER!$AI38:$AK38,PREENCHER!J38)=0,CONCATENATE(PREENCHER!AV38,#REF!),PREENCHER!J38))","v":""},{"$f":"IF(PREENCHER!K38=\"\",\"\",IF(COUNTIF(PREENCHER!$AI38:$AK38,PREENCHER!K38)=0,CONCATENATE(PREENCHER!AW38,#REF!),PREENCHER!K38))","v":""},{"$f":"IF(PREENCHER!L38=\"\",\"\",IF(COUNTIF(PREENCHER!$AI38:$AK38,PREENCHER!L38)=0,CONCATENATE(PREENCHER!AX38,#REF!),PREENCHER!L38))","v":""},{"$f":"IF(PREENCHER!M38=\"\",\"\",IF(COUNTIF(PREENCHER!$AI38:$AK38,PREENCHER!M38)=0,CONCATENATE(PREENCHER!AY38,#REF!),PREENCHER!M38))","v":""},{"$f":"IF(PREENCHER!N38=\"\",\"\",IF(COUNTIF(PREENCHER!$AI38:$AK38,PREENCHER!N38)=0,CONCATENATE(PREENCHER!AZ38,#REF!),PREENCHER!N38))","v":""},{"$f":"IF(ISERROR(ROUND(AVERAGE(E38:N38),2)),\"\",ROUND(AVERAGE(E38:N38),2))","v":""},{"$f":"IF(ISERROR(ROUND(O38*D38,2)),\"\",ROUND(O38*D38,2))","v":""},null,null,{"$f":"IF(ISERROR(MEDIAN(E38:N38)),\"\",MEDIAN(E38:N38))","v":""},{"$f":"IF(ISERROR(STDEV(E38:N38)),\"\",STDEV(E38:N38))","v":""},{"$f":"IF(ISERROR(T38/O38),\"\",T38/O38)","v":""}]
[{"$f":"IF(PREENCHER!A39=\"\",\"\",PREENCHER!A39)","v":""},{"$f":"IF(PREENCHER!B39=\"\",\"\",PREENCHER!B39)","v":""},{"$f":"IF(PREENCHER!C39=\"\",\"\",PREENCHER!C39)","v":""},{"$f":"IF(PREENCHER!D39=\"\",\"\",PREENCHER!D39)","v":""},{"$f":"IF(PREENCHER!E39=\"\",\"\",IF(COUNTIF(PREENCHER!$AI39:$AK39,PREENCHER!E39)=0,CONCATENATE(PREENCHER!AQ39,#REF!),PREENCHER!E39))","v":""},{"$f":"IF(PREENCHER!F39=\"\",\"\",IF(COUNTIF(PREENCHER!$AI39:$AK39,PREENCHER!F39)=0,CONCATENATE(PREENCHER!AR39,#REF!),PREENCHER!F39))","v":""},{"$f":"IF(PREENCHER!G39=\"\",\"\",IF(COUNTIF(PREENCHER!$AI39:$AK39,PREENCHER!G39)=0,CONCATENATE(PREENCHER!AS39,#REF!),PREENCHER!G39))","v":""},{"$f":"IF(PREENCHER!H39=\"\",\"\",IF(COUNTIF(PREENCHER!$AI39:$AK39,PREENCHER!H39)=0,CONCATENATE(PREENCHER!AT39,#REF!),PREENCHER!H39))","v":""},{"$f":"IF(PREENCHER!I39=\"\",\"\",IF(COUNTIF(PREENCHER!$AI39:$AK39,PREENCHER!I39)=0,CONCATENATE(PREENCHER!AU39,#REF!),PREENCHER!I39))","v":""},{"$f":"IF(PREENCHER!J39=\"\",\"\",IF(COUNTIF(PREENCHER!$AI39:$AK39,PREENCHER!J39)=0,CONCATENATE(PREENCHER!AV39,#REF!),PREENCHER!J39))","v":""},{"$f":"IF(PREENCHER!K39=\"\",\"\",IF(COUNTIF(PREENCHER!$AI39:$AK39,PREENCHER!K39)=0,CONCATENATE(PREENCHER!AW39,#REF!),PREENCHER!K39))","v":""},{"$f":"IF(PREENCHER!L39=\"\",\"\",IF(COUNTIF(PREENCHER!$AI39:$AK39,PREENCHER!L39)=0,CONCATENATE(PREENCHER!AX39,#REF!),PREENCHER!L39))","v":""},{"$f":"IF(PREENCHER!M39=\"\",\"\",IF(COUNTIF(PREENCHER!$AI39:$AK39,PREENCHER!M39)=0,CONCATENATE(PREENCHER!AY39,#REF!),PREENCHER!M39))","v":""},{"$f":"IF(PREENCHER!N39=\"\",\"\",IF(COUNTIF(PREENCHER!$AI39:$AK39,PREENCHER!N39)=0,CONCATENATE(PREENCHER!AZ39,#REF!),PREENCHER!N39))","v":""},{"$f":"IF(ISERROR(ROUND(AVERAGE(E39:N39),2)),\"\",ROUND(AVERAGE(E39:N39),2))","v":""},{"$f":"IF(ISERROR(ROUND(O39*D39,2)),\"\",ROUND(O39*D39,2))","v":""},null,null,{"$f":"IF(ISERROR(MEDIAN(E39:N39)),\"\",MEDIAN(E39:N39))","v":""},{"$f":"IF(ISERROR(STDEV(E39:N39)),\"\",STDEV(E39:N39))","v":""},{"$f":"IF(ISERROR(T39/O39),\"\",T39/O39)","v":""}]
[{"$f":"IF(PREENCHER!A40=\"\",\"\",PREENCHER!A40)","v":""},{"$f":"IF(PREENCHER!B40=\"\",\"\",PREENCHER!B40)","v":""},{"$f":"IF(PREENCHER!C40=\"\",\"\",PREENCHER!C40)","v":""},{"$f":"IF(PREENCHER!D40=\"\",\"\",PREENCHER!D40)","v":""},{"$f":"IF(PREENCHER!E40=\"\",\"\",IF(COUNTIF(PREENCHER!$AI40:$AK40,PREENCHER!E40)=0,CONCATENATE(PREENCHER!AQ40,#REF!),PREENCHER!E40))","v":""},{"$f":"IF(PREENCHER!F40=\"\",\"\",IF(COUNTIF(PREENCHER!$AI40:$AK40,PREENCHER!F40)=0,CONCATENATE(PREENCHER!AR40,#REF!),PREENCHER!F40))","v":""},{"$f":"IF(PREENCHER!G40=\"\",\"\",IF(COUNTIF(PREENCHER!$AI40:$AK40,PREENCHER!G40)=0,CONCATENATE(PREENCHER!AS40,#REF!),PREENCHER!G40))","v":""},{"$f":"IF(PREENCHER!H40=\"\",\"\",IF(COUNTIF(PREENCHER!$AI40:$AK40,PREENCHER!H40)=0,CONCATENATE(PREENCHER!AT40,#REF!),PREENCHER!H40))","v":""},{"$f":"IF(PREENCHER!I40=\"\",\"\",IF(COUNTIF(PREENCHER!$AI40:$AK40,PREENCHER!I40)=0,CONCATENATE(PREENCHER!AU40,#REF!),PREENCHER!I40))","v":""},{"$f":"IF(PREENCHER!J40=\"\",\"\",IF(COUNTIF(PREENCHER!$AI40:$AK40,PREENCHER!J40)=0,CONCATENATE(PREENCHER!AV40,#REF!),PREENCHER!J40))","v":""},{"$f":"IF(PREENCHER!K40=\"\",\"\",IF(COUNTIF(PREENCHER!$AI40:$AK40,PREENCHER!K40)=0,CONCATENATE(PREENCHER!AW40,#REF!),PREENCHER!K40))","v":""},{"$f":"IF(PREENCHER!L40=\"\",\"\",IF(COUNTIF(PREENCHER!$AI40:$AK40,PREENCHER!L40)=0,CONCATENATE(PREENCHER!AX40,#REF!),PREENCHER!L40))","v":""},{"$f":"IF(PREENCHER!M40=\"\",\"\",IF(COUNTIF(PREENCHER!$AI40:$AK40,PREENCHER!M40)=0,CONCATENATE(PREENCHER!AY40,#REF!),PREENCHER!M40))","v":""},{"$f":"IF(PREENCHER!N40=\"\",\"\",IF(COUNTIF(PREENCHER!$AI40:$AK40,PREENCHER!N40)=0,CONCATENATE(PREENCHER!AZ40,#REF!),PREENCHER!N40))","v":""},{"$f":"IF(ISERROR(ROUND(AVERAGE(E40:N40),2)),\"\",ROUND(AVERAGE(E40:N40),2))","v":""},{"$f":"IF(ISERROR(ROUND(O40*D40,2)),\"\",ROUND(O40*D40,2))","v":""},null,null,{"$f":"IF(ISERROR(MEDIAN(E40:N40)),\"\",MEDIAN(E40:N40))","v":""},{"$f":"IF(ISERROR(STDEV(E40:N40)),\"\",STDEV(E40:N40))","v":""},{"$f":"IF(ISERROR(T40/O40),\"\",T40/O40)","v":""}]
[{"$f":"IF(PREENCHER!A41=\"\",\"\",PREENCHER!A41)","v":""},{"$f":"IF(PREENCHER!B41=\"\",\"\",PREENCHER!B41)","v":""},{"$f":"IF(PREENCHER!C41=\"\",\"\",PREENCHER!C41)","v":""},{"$f":"IF(PREENCHER!D41=\"\",\"\",PREENCHER!D41)","v":""},{"$f":"IF(PREENCHER!E41=\"\",\"\",IF(COUNTIF(PREENCHER!$AI41:$AK41,PREENCHER!E41)=0,CONCATENATE(PREENCHER!AQ41,#REF!),PREENCHER!E41))","v":""},{"$f":"IF(PREENCHER!F41=\"\",\"\",IF(COUNTIF(PREENCHER!$AI41:$AK41,PREENCHER!F41)=0,CONCATENATE(PREENCHER!AR41,#REF!),PREENCHER!F41))","v":""},{"$f":"IF(PREENCHER!G41=\"\",\"\",IF(COUNTIF(PREENCHER!$AI41:$AK41,PREENCHER!G41)=0,CONCATENATE(PREENCHER!AS41,#REF!),PREENCHER!G41))","v":""},{"$f":"IF(PREENCHER!H41=\"\",\"\",IF(COUNTIF(PREENCHER!$AI41:$AK41,PREENCHER!H41)=0,CONCATENATE(PREENCHER!AT41,#REF!),PREENCHER!H41))","v":""},{"$f":"IF(PREENCHER!I41=\"\",\"\",IF(COUNTIF(PREENCHER!$AI41:$AK41,PREENCHER!I41)=0,CONCATENATE(PREENCHER!AU41,#REF!),PREENCHER!I41))","v":""},{"$f":"IF(PREENCHER!J41=\"\",\"\",IF(COUNTIF(PREENCHER!$AI41:$AK41,PREENCHER!J41)=0,CONCATENATE(PREENCHER!AV41,#REF!),PREENCHER!J41))","v":""},{"$f":"IF(PREENCHER!K41=\"\",\"\",IF(COUNTIF(PREENCHER!$AI41:$AK41,PREENCHER!K41)=0,CONCATENATE(PREENCHER!AW41,#REF!),PREENCHER!K41))","v":""},{"$f":"IF(PREENCHER!L41=\"\",\"\",IF(COUNTIF(PREENCHER!$AI41:$AK41,PREENCHER!L41)=0,CONCATENATE(PREENCHER!AX41,#REF!),PREENCHER!L41))","v":""},{"$f":"IF(PREENCHER!M41=\"\",\"\",IF(COUNTIF(PREENCHER!$AI41:$AK41,PREENCHER!M41)=0,CONCATENATE(PREENCHER!AY41,#REF!),PREENCHER!M41))","v":""},{"$f":"IF(PREENCHER!N41=\"\",\"\",IF(COUNTIF(PREENCHER!$AI41:$AK41,PREENCHER!N41)=0,CONCATENATE(PREENCHER!AZ41,#REF!),PREENCHER!N41))","v":""},{"$f":"IF(ISERROR(ROUND(AVERAGE(E41:N41),2)),\"\",ROUND(AVERAGE(E41:N41),2))","v":""},{"$f":"IF(ISERROR(ROUND(O41*D41,2)),\"\",ROUND(O41*D41,2))","v":""},null,null,{"$f":"IF(ISERROR(MEDIAN(E41:N41)),\"\",MEDIAN(E41:N41))","v":""},{"$f":"IF(ISERROR(STDEV(E41:N41)),\"\",STDEV(E41:N41))","v":""},{"$f":"IF(ISERROR(T41/O41),\"\",T41/O41)","v":""}]
[{"$f":"IF(PREENCHER!A42=\"\",\"\",PREENCHER!A42)","v":""},{"$f":"IF(PREENCHER!B42=\"\",\"\",PREENCHER!B42)","v":""},{"$f":"IF(PREENCHER!C42=\"\",\"\",PREENCHER!C42)","v":""},{"$f":"IF(PREENCHER!D42=\"\",\"\",PREENCHER!D42)","v":""},{"$f":"IF(PREENCHER!E42=\"\",\"\",IF(COUNTIF(PREENCHER!$AI42:$AK42,PREENCHER!E42)=0,CONCATENATE(PREENCHER!AQ42,#REF!),PREENCHER!E42))","v":""},{"$f":"IF(PREENCHER!F42=\"\",\"\",IF(COUNTIF(PREENCHER!$AI42:$AK42,PREENCHER!F42)=0,CONCATENATE(PREENCHER!AR42,#REF!),PREENCHER!F42))","v":""},{"$f":"IF(PREENCHER!G42=\"\",\"\",IF(COUNTIF(PREENCHER!$AI42:$AK42,PREENCHER!G42)=0,CONCATENATE(PREENCHER!AS42,#REF!),PREENCHER!G42))","v":""},{"$f":"IF(PREENCHER!H42=\"\",\"\",IF(COUNTIF(PREENCHER!$AI42:$AK42,PREENCHER!H42)=0,CONCATENATE(PREENCHER!AT42,#REF!),PREENCHER!H42))","v":""},{"$f":"IF(PREENCHER!I42=\"\",\"\",IF(COUNTIF(PREENCHER!$AI42:$AK42,PREENCHER!I42)=0,CONCATENATE(PREENCHER!AU42,#REF!),PREENCHER!I42))","v":""},{"$f":"IF(PREENCHER!J42=\"\",\"\",IF(COUNTIF(PREENCHER!$AI42:$AK42,PREENCHER!J42)=0,CONCATENATE(PREENCHER!AV42,#REF!),PREENCHER!J42))","v":""},{"$f":"IF(PREENCHER!K42=\"\",\"\",IF(COUNTIF(PREENCHER!$AI42:$AK42,PREENCHER!K42)=0,CONCATENATE(PREENCHER!AW42,#REF!),PREENCHER!K42))","v":""},{"$f":"IF(PREENCHER!L42=\"\",\"\",IF(COUNTIF(PREENCHER!$AI42:$AK42,PREENCHER!L42)=0,CONCATENATE(PREENCHER!AX42,#REF!),PREENCHER!L42))","v":""},{"$f":"IF(PREENCHER!M42=\"\",\"\",IF(COUNTIF(PREENCHER!$AI42:$AK42,PREENCHER!M42)=0,CONCATENATE(PREENCHER!AY42,#REF!),PREENCHER!M42))","v":""},{"$f":"IF(PREENCHER!N42=\"\",\"\",IF(COUNTIF(PREENCHER!$AI42:$AK42,PREENCHER!N42)=0,CONCATENATE(PREENCHER!AZ42,#REF!),PREENCHER!N42))","v":""},{"$f":"IF(ISERROR(ROUND(AVERAGE(E42:N42),2)),\"\",ROUND(AVERAGE(E42:N42),2))","v":""},{"$f":"IF(ISERROR(ROUND(O42*D42,2)),\"\",ROUND(O42*D42,2))","v":""},null,null,{"$f":"IF(ISERROR(MEDIAN(E42:N42)),\"\",MEDIAN(E42:N42))","v":""},{"$f":"IF(ISERROR(STDEV(E42:N42)),\"\",STDEV(E42:N42))","v":""},{"$f":"IF(ISERROR(T42/O42),\"\",T42/O42)","v":""}]
[{"$f":"IF(PREENCHER!A43=\"\",\"\",PREENCHER!A43)","v":""},{"$f":"IF(PREENCHER!B43=\"\",\"\",PREENCHER!B43)","v":""},{"$f":"IF(PREENCHER!C43=\"\",\"\",PREENCHER!C43)","v":""},{"$f":"IF(PREENCHER!D43=\"\",\"\",PREENCHER!D43)","v":""},{"$f":"IF(PREENCHER!E43=\"\",\"\",IF(COUNTIF(PREENCHER!$AI43:$AK43,PREENCHER!E43)=0,CONCATENATE(PREENCHER!AQ43,#REF!),PREENCHER!E43))","v":""},{"$f":"IF(PREENCHER!F43=\"\",\"\",IF(COUNTIF(PREENCHER!$AI43:$AK43,PREENCHER!F43)=0,CONCATENATE(PREENCHER!AR43,#REF!),PREENCHER!F43))","v":""},{"$f":"IF(PREENCHER!G43=\"\",\"\",IF(COUNTIF(PREENCHER!$AI43:$AK43,PREENCHER!G43)=0,CONCATENATE(PREENCHER!AS43,#REF!),PREENCHER!G43))","v":""},{"$f":"IF(PREENCHER!H43=\"\",\"\",IF(COUNTIF(PREENCHER!$AI43:$AK43,PREENCHER!H43)=0,CONCATENATE(PREENCHER!AT43,#REF!),PREENCHER!H43))","v":""},{"$f":"IF(PREENCHER!I43=\"\",\"\",IF(COUNTIF(PREENCHER!$AI43:$AK43,PREENCHER!I43)=0,CONCATENATE(PREENCHER!AU43,#REF!),PREENCHER!I43))","v":""},{"$f":"IF(PREENCHER!J43=\"\",\"\",IF(COUNTIF(PREENCHER!$AI43:$AK43,PREENCHER!J43)=0,CONCATENATE(PREENCHER!AV43,#REF!),PREENCHER!J43))","v":""},{"$f":"IF(PREENCHER!K43=\"\",\"\",IF(COUNTIF(PREENCHER!$AI43:$AK43,PREENCHER!K43)=0,CONCATENATE(PREENCHER!AW43,#REF!),PREENCHER!K43))","v":""},{"$f":"IF(PREENCHER!L43=\"\",\"\",IF(COUNTIF(PREENCHER!$AI43:$AK43,PREENCHER!L43)=0,CONCATENATE(PREENCHER!AX43,#REF!),PREENCHER!L43))","v":""},{"$f":"IF(PREENCHER!M43=\"\",\"\",IF(COUNTIF(PREENCHER!$AI43:$AK43,PREENCHER!M43)=0,CONCATENATE(PREENCHER!AY43,#REF!),PREENCHER!M43))","v":""},{"$f":"IF(PREENCHER!N43=\"\",\"\",IF(COUNTIF(PREENCHER!$AI43:$AK43,PREENCHER!N43)=0,CONCATENATE(PREENCHER!AZ43,#REF!),PREENCHER!N43))","v":""},{"$f":"IF(ISERROR(ROUND(AVERAGE(E43:N43),2)),\"\",ROUND(AVERAGE(E43:N43),2))","v":""},{"$f":"IF(ISERROR(ROUND(O43*D43,2)),\"\",ROUND(O43*D43,2))","v":""},null,null,{"$f":"IF(ISERROR(MEDIAN(E43:N43)),\"\",MEDIAN(E43:N43))","v":""},{"$f":"IF(ISERROR(STDEV(E43:N43)),\"\",STDEV(E43:N43))","v":""},{"$f":"IF(ISERROR(T43/O43),\"\",T43/O43)","v":""}]
[{"$f":"IF(PREENCHER!A44=\"\",\"\",PREENCHER!A44)","v":""},{"$f":"IF(PREENCHER!B44=\"\",\"\",PREENCHER!B44)","v":""},{"$f":"IF(PREENCHER!C44=\"\",\"\",PREENCHER!C44)","v":""},{"$f":"IF(PREENCHER!D44=\"\",\"\",PREENCHER!D44)","v":""},{"$f":"IF(PREENCHER!E44=\"\",\"\",IF(COUNTIF(PREENCHER!$AI44:$AK44,PREENCHER!E44)=0,CONCATENATE(PREENCHER!AQ44,#REF!),PREENCHER!E44))","v":""},{"$f":"IF(PREENCHER!F44=\"\",\"\",IF(COUNTIF(PREENCHER!$AI44:$AK44,PREENCHER!F44)=0,CONCATENATE(PREENCHER!AR44,#REF!),PREENCHER!F44))","v":""},{"$f":"IF(PREENCHER!G44=\"\",\"\",IF(COUNTIF(PREENCHER!$AI44:$AK44,PREENCHER!G44)=0,CONCATENATE(PREENCHER!AS44,#REF!),PREENCHER!G44))","v":""},{"$f":"IF(PREENCHER!H44=\"\",\"\",IF(COUNTIF(PREENCHER!$AI44:$AK44,PREENCHER!H44)=0,CONCATENATE(PREENCHER!AT44,#REF!),PREENCHER!H44))","v":""},{"$f":"IF(PREENCHER!I44=\"\",\"\",IF(COUNTIF(PREENCHER!$AI44:$AK44,PREENCHER!I44)=0,CONCATENATE(PREENCHER!AU44,#REF!),PREENCHER!I44))","v":""},{"$f":"IF(PREENCHER!J44=\"\",\"\",IF(COUNTIF(PREENCHER!$AI44:$AK44,PREENCHER!J44)=0,CONCATENATE(PREENCHER!AV44,#REF!),PREENCHER!J44))","v":""},{"$f":"IF(PREENCHER!K44=\"\",\"\",IF(COUNTIF(PREENCHER!$AI44:$AK44,PREENCHER!K44)=0,CONCATENATE(PREENCHER!AW44,#REF!),PREENCHER!K44))","v":""},{"$f":"IF(PREENCHER!L44=\"\",\"\",IF(COUNTIF(PREENCHER!$AI44:$AK44,PREENCHER!L44)=0,CONCATENATE(PREENCHER!AX44,#REF!),PREENCHER!L44))","v":""},{"$f":"IF(PREENCHER!M44=\"\",\"\",IF(COUNTIF(PREENCHER!$AI44:$AK44,PREENCHER!M44)=0,CONCATENATE(PREENCHER!AY44,#REF!),PREENCHER!M44))","v":""},{"$f":"IF(PREENCHER!N44=\"\",\"\",IF(COUNTIF(PREENCHER!$AI44:$AK44,PREENCHER!N44)=0,CONCATENATE(PREENCHER!AZ44,#REF!),PREENCHER!N44))","v":""},{"$f":"IF(ISERROR(ROUND(AVERAGE(E44:N44),2)),\"\",ROUND(AVERAGE(E44:N44),2))","v":""},{"$f":"IF(ISERROR(ROUND(O44*D44,2)),\"\",ROUND(O44*D44,2))","v":""},null,null,{"$f":"IF(ISERROR(MEDIAN(E44:N44)),\"\",MEDIAN(E44:N44))","v":""},{"$f":"IF(ISERROR(STDEV(E44:N44)),\"\",STDEV(E44:N44))","v":""},{"$f":"IF(ISERROR(T44/O44),\"\",T44/O44)","v":""}]
[{"$f":"IF(PREENCHER!A45=\"\",\"\",PREENCHER!A45)","v":""},{"$f":"IF(PREENCHER!B45=\"\",\"\",PREENCHER!B45)","v":""},{"$f":"IF(PREENCHER!C45=\"\",\"\",PREENCHER!C45)","v":""},{"$f":"IF(PREENCHER!D45=\"\",\"\",PREENCHER!D45)","v":""},{"$f":"IF(PREENCHER!E45=\"\",\"\",IF(COUNTIF(PREENCHER!$AI45:$AK45,PREENCHER!E45)=0,CONCATENATE(PREENCHER!AQ45,#REF!),PREENCHER!E45))","v":""},{"$f":"IF(PREENCHER!F45=\"\",\"\",IF(COUNTIF(PREENCHER!$AI45:$AK45,PREENCHER!F45)=0,CONCATENATE(PREENCHER!AR45,#REF!),PREENCHER!F45))","v":""},{"$f":"IF(PREENCHER!G45=\"\",\"\",IF(COUNTIF(PREENCHER!$AI45:$AK45,PREENCHER!G45)=0,CONCATENATE(PREENCHER!AS45,#REF!),PREENCHER!G45))","v":""},{"$f":"IF(PREENCHER!H45=\"\",\"\",IF(COUNTIF(PREENCHER!$AI45:$AK45,PREENCHER!H45)=0,CONCATENATE(PREENCHER!AT45,#REF!),PREENCHER!H45))","v":""},{"$f":"IF(PREENCHER!I45=\"\",\"\",IF(COUNTIF(PREENCHER!$AI45:$AK45,PREENCHER!I45)=0,CONCATENATE(PREENCHER!AU45,#REF!),PREENCHER!I45))","v":""},{"$f":"IF(PREENCHER!J45=\"\",\"\",IF(COUNTIF(PREENCHER!$AI45:$AK45,PREENCHER!J45)=0,CONCATENATE(PREENCHER!AV45,#REF!),PREENCHER!J45))","v":""},{"$f":"IF(PREENCHER!K45=\"\",\"\",IF(COUNTIF(PREENCHER!$AI45:$AK45,PREENCHER!K45)=0,CONCATENATE(PREENCHER!AW45,#REF!),PREENCHER!K45))","v":""},{"$f":"IF(PREENCHER!L45=\"\",\"\",IF(COUNTIF(PREENCHER!$AI45:$AK45,PREENCHER!L45)=0,CONCATENATE(PREENCHER!AX45,#REF!),PREENCHER!L45))","v":""},{"$f":"IF(PREENCHER!M45=\"\",\"\",IF(COUNTIF(PREENCHER!$AI45:$AK45,PREENCHER!M45)=0,CONCATENATE(PREENCHER!AY45,#REF!),PREENCHER!M45))","v":""},{"$f":"IF(PREENCHER!N45=\"\",\"\",IF(COUNTIF(PREENCHER!$AI45:$AK45,PREENCHER!N45)=0,CONCATENATE(PREENCHER!AZ45,#REF!),PREENCHER!N45))","v":""},{"$f":"IF(ISERROR(ROUND(AVERAGE(E45:N45),2)),\"\",ROUND(AVERAGE(E45:N45),2))","v":""},{"$f":"IF(ISERROR(ROUND(O45*D45,2)),\"\",ROUND(O45*D45,2))","v":""},null,null,{"$f":"IF(ISERROR(MEDIAN(E45:N45)),\"\",MEDIAN(E45:N45))","v":""},{"$f":"IF(ISERROR(STDEV(E45:N45)),\"\",STDEV(E45:N45))","v":""},{"$f":"IF(ISERROR(T45/O45),\"\",T45/O45)","v":""}]
[{"$f":"IF(PREENCHER!A46=\"\",\"\",PREENCHER!A46)","v":""},{"$f":"IF(PREENCHER!B46=\"\",\"\",PREENCHER!B46)","v":""},{"$f":"IF(PREENCHER!C46=\"\",\"\",PREENCHER!C46)","v":""},{"$f":"IF(PREENCHER!D46=\"\",\"\",PREENCHER!D46)","v":""},{"$f":"IF(PREENCHER!E46=\"\",\"\",IF(COUNTIF(PREENCHER!$AI46:$AK46,PREENCHER!E46)=0,CONCATENATE(PREENCHER!AQ46,#REF!),PREENCHER!E46))","v":""},{"$f":"IF(PREENCHER!F46=\"\",\"\",IF(COUNTIF(PREENCHER!$AI46:$AK46,PREENCHER!F46)=0,CONCATENATE(PREENCHER!AR46,#REF!),PREENCHER!F46))","v":""},{"$f":"IF(PREENCHER!G46=\"\",\"\",IF(COUNTIF(PREENCHER!$AI46:$AK46,PREENCHER!G46)=0,CONCATENATE(PREENCHER!AS46,#REF!),PREENCHER!G46))","v":""},{"$f":"IF(PREENCHER!H46=\"\",\"\",IF(COUNTIF(PREENCHER!$AI46:$AK46,PREENCHER!H46)=0,CONCATENATE(PREENCHER!AT46,#REF!),PREENCHER!H46))","v":""},{"$f":"IF(PREENCHER!I46=\"\",\"\",IF(COUNTIF(PREENCHER!$AI46:$AK46,PREENCHER!I46)=0,CONCATENATE(PREENCHER!AU46,#REF!),PREENCHER!I46))","v":""},{"$f":"IF(PREENCHER!J46=\"\",\"\",IF(COUNTIF(PREENCHER!$AI46:$AK46,PREENCHER!J46)=0,CONCATENATE(PREENCHER!AV46,#REF!),PREENCHER!J46))","v":""},{"$f":"IF(PREENCHER!K46=\"\",\"\",IF(COUNTIF(PREENCHER!$AI46:$AK46,PREENCHER!K46)=0,CONCATENATE(PREENCHER!AW46,#REF!),PREENCHER!K46))","v":""},{"$f":"IF(PREENCHER!L46=\"\",\"\",IF(COUNTIF(PREENCHER!$AI46:$AK46,PREENCHER!L46)=0,CONCATENATE(PREENCHER!AX46,#REF!),PREENCHER!L46))","v":""},{"$f":"IF(PREENCHER!M46=\"\",\"\",IF(COUNTIF(PREENCHER!$AI46:$AK46,PREENCHER!M46)=0,CONCATENATE(PREENCHER!AY46,#REF!),PREENCHER!M46))","v":""},{"$f":"IF(PREENCHER!N46=\"\",\"\",IF(COUNTIF(PREENCHER!$AI46:$AK46,PREENCHER!N46)=0,CONCATENATE(PREENCHER!AZ46,#REF!),PREENCHER!N46))","v":""},{"$f":"IF(ISERROR(ROUND(AVERAGE(E46:N46),2)),\"\",ROUND(AVERAGE(E46:N46),2))","v":""},{"$f":"IF(ISERROR(ROUND(O46*D46,2)),\"\",ROUND(O46*D46,2))","v":""},null,null,{"$f":"IF(ISERROR(MEDIAN(E46:N46)),\"\",MEDIAN(E46:N46))","v":""},{"$f":"IF(ISERROR(STDEV(E46:N46)),\"\",STDEV(E46:N46))","v":""},{"$f":"IF(ISERROR(T46/O46),\"\",T46/O46)","v":""}]
[{"$f":"IF(PREENCHER!A47=\"\",\"\",PREENCHER!A47)","v":""},{"$f":"IF(PREENCHER!B47=\"\",\"\",PREENCHER!B47)","v":""},{"$f":"IF(PREENCHER!C47=\"\",\"\",PREENCHER!C47)","v":""},{"$f":"IF(PREENCHER!D47=\"\",\"\",PREENCHER!D47)","v":""},{"$f":"IF(PREENCHER!E47=\"\",\"\",IF(COUNTIF(PREENCHER!$AI47:$AK47,PREENCHER!E47)=0,CONCATENATE(PREENCHER!AQ47,#REF!),PREENCHER!E47))","v":""},{"$f":"IF(PREENCHER!F47=\"\",\"\",IF(COUNTIF(PREENCHER!$AI47:$AK47,PREENCHER!F47)=0,CONCATENATE(PREENCHER!AR47,#REF!),PREENCHER!F47))","v":""},{"$f":"IF(PREENCHER!G47=\"\",\"\",IF(COUNTIF(PREENCHER!$AI47:$AK47,PREENCHER!G47)=0,CONCATENATE(PREENCHER!AS47,#REF!),PREENCHER!G47))","v":""},{"$f":"IF(PREENCHER!H47=\"\",\"\",IF(COUNTIF(PREENCHER!$AI47:$AK47,PREENCHER!H47)=0,CONCATENATE(PREENCHER!AT47,#REF!),PREENCHER!H47))","v":""},{"$f":"IF(PREENCHER!I47=\"\",\"\",IF(COUNTIF(PREENCHER!$AI47:$AK47,PREENCHER!I47)=0,CONCATENATE(PREENCHER!AU47,#REF!),PREENCHER!I47))","v":""},{"$f":"IF(PREENCHER!J47=\"\",\"\",IF(COUNTIF(PREENCHER!$AI47:$AK47,PREENCHER!J47)=0,CONCATENATE(PREENCHER!AV47,#REF!),PREENCHER!J47))","v":""},{"$f":"IF(PREENCHER!K47=\"\",\"\",IF(COUNTIF(PREENCHER!$AI47:$AK47,PREENCHER!K47)=0,CONCATENATE(PREENCHER!AW47,#REF!),PREENCHER!K47))","v":""},{"$f":"IF(PREENCHER!L47=\"\",\"\",IF(COUNTIF(PREENCHER!$AI47:$AK47,PREENCHER!L47)=0,CONCATENATE(PREENCHER!AX47,#REF!),PREENCHER!L47))","v":""},{"$f":"IF(PREENCHER!M47=\"\",\"\",IF(COUNTIF(PREENCHER!$AI47:$AK47,PREENCHER!M47)=0,CONCATENATE(PREENCHER!AY47,#REF!),PREENCHER!M47))","v":""},{"$f":"IF(PREENCHER!N47=\"\",\"\",IF(COUNTIF(PREENCHER!$AI47:$AK47,PREENCHER!N47)=0,CONCATENATE(PREENCHER!AZ47,#REF!),PREENCHER!N47))","v":""},{"$f":"IF(ISERROR(ROUND(AVERAGE(E47:N47),2)),\"\",ROUND(AVERAGE(E47:N47),2))","v":""},{"$f":"IF(ISERROR(ROUND(O47*D47,2)),\"\",ROUND(O47*D47,2))","v":""},null,null,{"$f":"IF(ISERROR(MEDIAN(E47:N47)),\"\",MEDIAN(E47:N47))","v":""},{"$f":"IF(ISERROR(STDEV(E47:N47)),\"\",STDEV(E47:N47))","v":""},{"$f":"IF(ISERROR(T47/O47),\"\",T47/O47)","v":""}]
[{"$f":"IF(PREENCHER!A48=\"\",\"\",PREENCHER!A48)","v":""},{"$f":"IF(PREENCHER!B48=\"\",\"\",PREENCHER!B48)","v":""},{"$f":"IF(PREENCHER!C48=\"\",\"\",PREENCHER!C48)","v":""},{"$f":"IF(PREENCHER!D48=\"\",\"\",PREENCHER!D48)","v":""},{"$f":"IF(PREENCHER!E48=\"\",\"\",IF(COUNTIF(PREENCHER!$AI48:$AK48,PREENCHER!E48)=0,CONCATENATE(PREENCHER!AQ48,#REF!),PREENCHER!E48))","v":""},{"$f":"IF(PREENCHER!F48=\"\",\"\",IF(COUNTIF(PREENCHER!$AI48:$AK48,PREENCHER!F48)=0,CONCATENATE(PREENCHER!AR48,#REF!),PREENCHER!F48))","v":""},{"$f":"IF(PREENCHER!G48=\"\",\"\",IF(COUNTIF(PREENCHER!$AI48:$AK48,PREENCHER!G48)=0,CONCATENATE(PREENCHER!AS48,#REF!),PREENCHER!G48))","v":""},{"$f":"IF(PREENCHER!H48=\"\",\"\",IF(COUNTIF(PREENCHER!$AI48:$AK48,PREENCHER!H48)=0,CONCATENATE(PREENCHER!AT48,#REF!),PREENCHER!H48))","v":""},{"$f":"IF(PREENCHER!I48=\"\",\"\",IF(COUNTIF(PREENCHER!$AI48:$AK48,PREENCHER!I48)=0,CONCATENATE(PREENCHER!AU48,#REF!),PREENCHER!I48))","v":""},{"$f":"IF(PREENCHER!J48=\"\",\"\",IF(COUNTIF(PREENCHER!$AI48:$AK48,PREENCHER!J48)=0,CONCATENATE(PREENCHER!AV48,#REF!),PREENCHER!J48))","v":""},{"$f":"IF(PREENCHER!K48=\"\",\"\",IF(COUNTIF(PREENCHER!$AI48:$AK48,PREENCHER!K48)=0,CONCATENATE(PREENCHER!AW48,#REF!),PREENCHER!K48))","v":""},{"$f":"IF(PREENCHER!L48=\"\",\"\",IF(COUNTIF(PREENCHER!$AI48:$AK48,PREENCHER!L48)=0,CONCATENATE(PREENCHER!AX48,#REF!),PREENCHER!L48))","v":""},{"$f":"IF(PREENCHER!M48=\"\",\"\",IF(COUNTIF(PREENCHER!$AI48:$AK48,PREENCHER!M48)=0,CONCATENATE(PREENCHER!AY48,#REF!),PREENCHER!M48))","v":""},{"$f":"IF(PREENCHER!N48=\"\",\"\",IF(COUNTIF(PREENCHER!$AI48:$AK48,PREENCHER!N48)=0,CONCATENATE(PREENCHER!AZ48,#REF!),PREENCHER!N48))","v":""},{"$f":"IF(ISERROR(ROUND(AVERAGE(E48:N48),2)),\"\",ROUND(AVERAGE(E48:N48),2))","v":""},{"$f":"IF(ISERROR(ROUND(O48*D48,2)),\"\",ROUND(O48*D48,2))","v":""},null,null,{"$f":"IF(ISERROR(MEDIAN(E48:N48)),\"\",MEDIAN(E48:N48))","v":""},{"$f":"IF(ISERROR(STDEV(E48:N48)),\"\",STDEV(E48:N48))","v":""},{"$f":"IF(ISERROR(T48/O48),\"\",T48/O48)","v":""}]
[{"$f":"IF(PREENCHER!A49=\"\",\"\",PREENCHER!A49)","v":""},{"$f":"IF(PREENCHER!B49=\"\",\"\",PREENCHER!B49)","v":""},{"$f":"IF(PREENCHER!C49=\"\",\"\",PREENCHER!C49)","v":""},{"$f":"IF(PREENCHER!D49=\"\",\"\",PREENCHER!D49)","v":""},{"$f":"IF(PREENCHER!E49=\"\",\"\",IF(COUNTIF(PREENCHER!$AI49:$AK49,PREENCHER!E49)=0,CONCATENATE(PREENCHER!AQ49,#REF!),PREENCHER!E49))","v":""},{"$f":"IF(PREENCHER!F49=\"\",\"\",IF(COUNTIF(PREENCHER!$AI49:$AK49,PREENCHER!F49)=0,CONCATENATE(PREENCHER!AR49,#REF!),PREENCHER!F49))","v":""},{"$f":"IF(PREENCHER!G49=\"\",\"\",IF(COUNTIF(PREENCHER!$AI49:$AK49,PREENCHER!G49)=0,CONCATENATE(PREENCHER!AS49,#REF!),PREENCHER!G49))","v":""},{"$f":"IF(PREENCHER!H49=\"\",\"\",IF(COUNTIF(PREENCHER!$AI49:$AK49,PREENCHER!H49)=0,CONCATENATE(PREENCHER!AT49,#REF!),PREENCHER!H49))","v":""},{"$f":"IF(PREENCHER!I49=\"\",\"\",IF(COUNTIF(PREENCHER!$AI49:$AK49,PREENCHER!I49)=0,CONCATENATE(PREENCHER!AU49,#REF!),PREENCHER!I49))","v":""},{"$f":"IF(PREENCHER!J49=\"\",\"\",IF(COUNTIF(PREENCHER!$AI49:$AK49,PREENCHER!J49)=0,CONCATENATE(PREENCHER!AV49,#REF!),PREENCHER!J49))","v":""},{"$f":"IF(PREENCHER!K49=\"\",\"\",IF(COUNTIF(PREENCHER!$AI49:$AK49,PREENCHER!K49)=0,CONCATENATE(PREENCHER!AW49,#REF!),PREENCHER!K49))","v":""},{"$f":"IF(PREENCHER!L49=\"\",\"\",IF(COUNTIF(PREENCHER!$AI49:$AK49,PREENCHER!L49)=0,CONCATENATE(PREENCHER!AX49,#REF!),PREENCHER!L49))","v":""},{"$f":"IF(PREENCHER!M49=\"\",\"\",IF(COUNTIF(PREENCHER!$AI49:$AK49,PREENCHER!M49)=0,CONCATENATE(PREENCHER!AY49,#REF!),PREENCHER!M49))","v":""},{"$f":"IF(PREENCHER!N49=\"\",\"\",IF(COUNTIF(PREENCHER!$AI49:$AK49,PREENCHER!N49)=0,CONCATENATE(PREENCHER!AZ49,#REF!),PREENCHER!N49))","v":""},{"$f":"IF(ISERROR(ROUND(AVERAGE(E49:N49),2)),\"\",ROUND(AVERAGE(E49:N49),2))","v":""},{"$f":"IF(ISERROR(ROUND(O49*D49,2)),\"\",ROUND(O49*D49,2))","v":""},null,null,{"$f":"IF(ISERROR(MEDIAN(E49:N49)),\"\",MEDIAN(E49:N49))","v":""},{"$f":"IF(ISERROR(STDEV(E49:N49)),\"\",STDEV(E49:N49))","v":""},{"$f":"IF(ISERROR(T49/O49),\"\",T49/O49)","v":""}]
[{"$f":"IF(PREENCHER!A50=\"\",\"\",PREENCHER!A50)","v":""},{"$f":"IF(PREENCHER!B50=\"\",\"\",PREENCHER!B50)","v":""},{"$f":"IF(PREENCHER!C50=\"\",\"\",PREENCHER!C50)","v":""},{"$f":"IF(PREENCHER!D50=\"\",\"\",PREENCHER!D50)","v":""},{"$f":"IF(PREENCHER!E50=\"\",\"\",IF(COUNTIF(PREENCHER!$AI50:$AK50,PREENCHER!E50)=0,CONCATENATE(PREENCHER!AQ50,#REF!),PREENCHER!E50))","v":""},{"$f":"IF(PREENCHER!F50=\"\",\"\",IF(COUNTIF(PREENCHER!$AI50:$AK50,PREENCHER!F50)=0,CONCATENATE(PREENCHER!AR50,#REF!),PREENCHER!F50))","v":""},{"$f":"IF(PREENCHER!G50=\"\",\"\",IF(COUNTIF(PREENCHER!$AI50:$AK50,PREENCHER!G50)=0,CONCATENATE(PREENCHER!AS50,#REF!),PREENCHER!G50))","v":""},{"$f":"IF(PREENCHER!H50=\"\",\"\",IF(COUNTIF(PREENCHER!$AI50:$AK50,PREENCHER!H50)=0,CONCATENATE(PREENCHER!AT50,#REF!),PREENCHER!H50))","v":""},{"$f":"IF(PREENCHER!I50=\"\",\"\",IF(COUNTIF(PREENCHER!$AI50:$AK50,PREENCHER!I50)=0,CONCATENATE(PREENCHER!AU50,#REF!),PREENCHER!I50))","v":""},{"$f":"IF(PREENCHER!J50=\"\",\"\",IF(COUNTIF(PREENCHER!$AI50:$AK50,PREENCHER!J50)=0,CONCATENATE(PREENCHER!AV50,#REF!),PREENCHER!J50))","v":""},{"$f":"IF(PREENCHER!K50=\"\",\"\",IF(COUNTIF(PREENCHER!$AI50:$AK50,PREENCHER!K50)=0,CONCATENATE(PREENCHER!AW50,#REF!),PREENCHER!K50))","v":""},{"$f":"IF(PREENCHER!L50=\"\",\"\",IF(COUNTIF(PREENCHER!$AI50:$AK50,PREENCHER!L50)=0,CONCATENATE(PREENCHER!AX50,#REF!),PREENCHER!L50))","v":""},{"$f":"IF(PREENCHER!M50=\"\",\"\",IF(COUNTIF(PREENCHER!$AI50:$AK50,PREENCHER!M50)=0,CONCATENATE(PREENCHER!AY50,#REF!),PREENCHER!M50))","v":""},{"$f":"IF(PREENCHER!N50=\"\",\"\",IF(COUNTIF(PREENCHER!$AI50:$AK50,PREENCHER!N50)=0,CONCATENATE(PREENCHER!AZ50,#REF!),PREENCHER!N50))","v":""},{"$f":"IF(ISERROR(ROUND(AVERAGE(E50:N50),2)),\"\",ROUND(AVERAGE(E50:N50),2))","v":""},{"$f":"IF(ISERROR(ROUND(O50*D50,2)),\"\",ROUND(O50*D50,2))","v":""},null,null,{"$f":"IF(ISERROR(MEDIAN(E50:N50)),\"\",MEDIAN(E50:N50))","v":""},{"$f":"IF(ISERROR(STDEV(E50:N50)),\"\",STDEV(E50:N50))","v":""},{"$f":"IF(ISERROR(T50/O50),\"\",T50/O50)","v":""}]
[{"$f":"IF(PREENCHER!A51=\"\",\"\",PREENCHER!A51)","v":""},{"$f":"IF(PREENCHER!B51=\"\",\"\",PREENCHER!B51)","v":""},{"$f":"IF(PREENCHER!C51=\"\",\"\",PREENCHER!C51)","v":""},{"$f":"IF(PREENCHER!D51=\"\",\"\",PREENCHER!D51)","v":""},{"$f":"IF(PREENCHER!E51=\"\",\"\",IF(COUNTIF(PREENCHER!$AI51:$AK51,PREENCHER!E51)=0,CONCATENATE(PREENCHER!AQ51,#REF!),PREENCHER!E51))","v":""},{"$f":"IF(PREENCHER!F51=\"\",\"\",IF(COUNTIF(PREENCHER!$AI51:$AK51,PREENCHER!F51)=0,CONCATENATE(PREENCHER!AR51,#REF!),PREENCHER!F51))","v":""},{"$f":"IF(PREENCHER!G51=\"\",\"\",IF(COUNTIF(PREENCHER!$AI51:$AK51,PREENCHER!G51)=0,CONCATENATE(PREENCHER!AS51,#REF!),PREENCHER!G51))","v":""},{"$f":"IF(PREENCHER!H51=\"\",\"\",IF(COUNTIF(PREENCHER!$AI51:$AK51,PREENCHER!H51)=0,CONCATENATE(PREENCHER!AT51,#REF!),PREENCHER!H51))","v":""},{"$f":"IF(PREENCHER!I51=\"\",\"\",IF(COUNTIF(PREENCHER!$AI51:$AK51,PREENCHER!I51)=0,CONCATENATE(PREENCHER!AU51,#REF!),PREENCHER!I51))","v":""},{"$f":"IF(PREENCHER!J51=\"\",\"\",IF(COUNTIF(PREENCHER!$AI51:$AK51,PREENCHER!J51)=0,CONCATENATE(PREENCHER!AV51,#REF!),PREENCHER!J51))","v":""},{"$f":"IF(PREENCHER!K51=\"\",\"\",IF(COUNTIF(PREENCHER!$AI51:$AK51,PREENCHER!K51)=0,CONCATENATE(PREENCHER!AW51,#REF!),PREENCHER!K51))","v":""},{"$f":"IF(PREENCHER!L51=\"\",\"\",IF(COUNTIF(PREENCHER!$AI51:$AK51,PREENCHER!L51)=0,CONCATENATE(PREENCHER!AX51,#REF!),PREENCHER!L51))","v":""},{"$f":"IF(PREENCHER!M51=\"\",\"\",IF(COUNTIF(PREENCHER!$AI51:$AK51,PREENCHER!M51)=0,CONCATENATE(PREENCHER!AY51,#REF!),PREENCHER!M51))","v":""},{"$f":"IF(PREENCHER!N51=\"\",\"\",IF(COUNTIF(PREENCHER!$AI51:$AK51,PREENCHER!N51)=0,CONCATENATE(PREENCHER!AZ51,#REF!),PREENCHER!N51))","v":""},{"$f":"IF(ISERROR(ROUND(AVERAGE(E51:N51),2)),\"\",ROUND(AVERAGE(E51:N51),2))","v":""},{"$f":"IF(ISERROR(ROUND(O51*D51,2)),\"\",ROUND(O51*D51,2))","v":""},null,null,{"$f":"IF(ISERROR(MEDIAN(E51:N51)),\"\",MEDIAN(E51:N51))","v":""},{"$f":"IF(ISERROR(STDEV(E51:N51)),\"\",STDEV(E51:N51))","v":""},{"$f":"IF(ISERROR(T51/O51),\"\",T51/O51)","v":""}]
[{"$f":"IF(PREENCHER!A52=\"\",\"\",PREENCHER!A52)","v":""},{"$f":"IF(PREENCHER!B52=\"\",\"\",PREENCHER!B52)","v":""},{"$f":"IF(PREENCHER!C52=\"\",\"\",PREENCHER!C52)","v":""},{"$f":"IF(PREENCHER!D52=\"\",\"\",PREENCHER!D52)","v":""},{"$f":"IF(PREENCHER!E52=\"\",\"\",IF(COUNTIF(PREENCHER!$AI52:$AK52,PREENCHER!E52)=0,CONCATENATE(PREENCHER!AQ52,#REF!),PREENCHER!E52))","v":""},{"$f":"IF(PREENCHER!F52=\"\",\"\",IF(COUNTIF(PREENCHER!$AI52:$AK52,PREENCHER!F52)=0,CONCATENATE(PREENCHER!AR52,#REF!),PREENCHER!F52))","v":""},{"$f":"IF(PREENCHER!G52=\"\",\"\",IF(COUNTIF(PREENCHER!$AI52:$AK52,PREENCHER!G52)=0,CONCATENATE(PREENCHER!AS52,#REF!),PREENCHER!G52))","v":""},{"$f":"IF(PREENCHER!H52=\"\",\"\",IF(COUNTIF(PREENCHER!$AI52:$AK52,PREENCHER!H52)=0,CONCATENATE(PREENCHER!AT52,#REF!),PREENCHER!H52))","v":""},{"$f":"IF(PREENCHER!I52=\"\",\"\",IF(COUNTIF(PREENCHER!$AI52:$AK52,PREENCHER!I52)=0,CONCATENATE(PREENCHER!AU52,#REF!),PREENCHER!I52))","v":""},{"$f":"IF(PREENCHER!J52=\"\",\"\",IF(COUNTIF(PREENCHER!$AI52:$AK52,PREENCHER!J52)=0,CONCATENATE(PREENCHER!AV52,#REF!),PREENCHER!J52))","v":""},{"$f":"IF(PREENCHER!K52=\"\",\"\",IF(COUNTIF(PREENCHER!$AI52:$AK52,PREENCHER!K52)=0,CONCATENATE(PREENCHER!AW52,#REF!),PREENCHER!K52))","v":""},{"$f":"IF(PREENCHER!L52=\"\",\"\",IF(COUNTIF(PREENCHER!$AI52:$AK52,PREENCHER!L52)=0,CONCATENATE(PREENCHER!AX52,#REF!),PREENCHER!L52))","v":""},{"$f":"IF(PREENCHER!M52=\"\",\"\",IF(COUNTIF(PREENCHER!$AI52:$AK52,PREENCHER!M52)=0,CONCATENATE(PREENCHER!AY52,#REF!),PREENCHER!M52))","v":""},{"$f":"IF(PREENCHER!N52=\"\",\"\",IF(COUNTIF(PREENCHER!$AI52:$AK52,PREENCHER!N52)=0,CONCATENATE(PREENCHER!AZ52,#REF!),PREENCHER!N52))","v":""},{"$f":"IF(ISERROR(ROUND(AVERAGE(E52:N52),2)),\"\",ROUND(AVERAGE(E52:N52),2))","v":""},{"$f":"IF(ISERROR(ROUND(O52*D52,2)),\"\",ROUND(O52*D52,2))","v":""},null,null,{"$f":"IF(ISERROR(MEDIAN(E52:N52)),\"\",MEDIAN(E52:N52))","v":""},{"$f":"IF(ISERROR(STDEV(E52:N52)),\"\",STDEV(E52:N52))","v":""},{"$f":"IF(ISERROR(T52/O52),\"\",T52/O52)","v":""}]
[{"$f":"IF(PREENCHER!A53=\"\",\"\",PREENCHER!A53)","v":""},{"$f":"IF(PREENCHER!B53=\"\",\"\",PREENCHER!B53)","v":""},{"$f":"IF(PREENCHER!C53=\"\",\"\",PREENCHER!C53)","v":""},{"$f":"IF(PREENCHER!D53=\"\",\"\",PREENCHER!D53)","v":""},{"$f":"IF(PREENCHER!E53=\"\",\"\",IF(COUNTIF(PREENCHER!$AI53:$AK53,PREENCHER!E53)=0,CONCATENATE(PREENCHER!AQ53,#REF!),PREENCHER!E53))","v":""},{"$f":"IF(PREENCHER!F53=\"\",\"\",IF(COUNTIF(PREENCHER!$AI53:$AK53,PREENCHER!F53)=0,CONCATENATE(PREENCHER!AR53,#REF!),PREENCHER!F53))","v":""},{"$f":"IF(PREENCHER!G53=\"\",\"\",IF(COUNTIF(PREENCHER!$AI53:$AK53,PREENCHER!G53)=0,CONCATENATE(PREENCHER!AS53,#REF!),PREENCHER!G53))","v":""},{"$f":"IF(PREENCHER!H53=\"\",\"\",IF(COUNTIF(PREENCHER!$AI53:$AK53,PREENCHER!H53)=0,CONCATENATE(PREENCHER!AT53,#REF!),PREENCHER!H53))","v":""},{"$f":"IF(PREENCHER!I53=\"\",\"\",IF(COUNTIF(PREENCHER!$AI53:$AK53,PREENCHER!I53)=0,CONCATENATE(PREENCHER!AU53,#REF!),PREENCHER!I53))","v":""},{"$f":"IF(PREENCHER!J53=\"\",\"\",IF(COUNTIF(PREENCHER!$AI53:$AK53,PREENCHER!J53)=0,CONCATENATE(PREENCHER!AV53,#REF!),PREENCHER!J53))","v":""},{"$f":"IF(PREENCHER!K53=\"\",\"\",IF(COUNTIF(PREENCHER!$AI53:$AK53,PREENCHER!K53)=0,CONCATENATE(PREENCHER!AW53,#REF!),PREENCHER!K53))","v":""},{"$f":"IF(PREENCHER!L53=\"\",\"\",IF(COUNTIF(PREENCHER!$AI53:$AK53,PREENCHER!L53)=0,CONCATENATE(PREENCHER!AX53,#REF!),PREENCHER!L53))","v":""},{"$f":"IF(PREENCHER!M53=\"\",\"\",IF(COUNTIF(PREENCHER!$AI53:$AK53,PREENCHER!M53)=0,CONCATENATE(PREENCHER!AY53,#REF!),PREENCHER!M53))","v":""},{"$f":"IF(PREENCHER!N53=\"\",\"\",IF(COUNTIF(PREENCHER!$AI53:$AK53,PREENCHER!N53)=0,CONCATENATE(PREENCHER!AZ53,#REF!),PREENCHER!N53))","v":""},{"$f":"IF(ISERROR(ROUND(AVERAGE(E53:N53),2)),\"\",ROUND(AVERAGE(E53:N53),2))","v":""},{"$f":"IF(ISERROR(ROUND(O53*D53,2)),\"\",ROUND(O53*D53,2))","v":""},null,null,{"$f":"IF(ISERROR(MEDIAN(E53:N53)),\"\",MEDIAN(E53:N53))","v":""},{"$f":"IF(ISERROR(STDEV(E53:N53)),\"\",STDEV(E53:N53))","v":""},{"$f":"IF(ISERROR(T53/O53),\"\",T53/O53)","v":""}]
[{"$f":"IF(PREENCHER!A54=\"\",\"\",PREENCHER!A54)","v":""},{"$f":"IF(PREENCHER!B54=\"\",\"\",PREENCHER!B54)","v":""},{"$f":"IF(PREENCHER!C54=\"\",\"\",PREENCHER!C54)","v":""},{"$f":"IF(PREENCHER!D54=\"\",\"\",PREENCHER!D54)","v":""},{"$f":"IF(PREENCHER!E54=\"\",\"\",IF(COUNTIF(PREENCHER!$AI54:$AK54,PREENCHER!E54)=0,CONCATENATE(PREENCHER!AQ54,#REF!),PREENCHER!E54))","v":""},{"$f":"IF(PREENCHER!F54=\"\",\"\",IF(COUNTIF(PREENCHER!$AI54:$AK54,PREENCHER!F54)=0,CONCATENATE(PREENCHER!AR54,#REF!),PREENCHER!F54))","v":""},{"$f":"IF(PREENCHER!G54=\"\",\"\",IF(COUNTIF(PREENCHER!$AI54:$AK54,PREENCHER!G54)=0,CONCATENATE(PREENCHER!AS54,#REF!),PREENCHER!G54))","v":""},{"$f":"IF(PREENCHER!H54=\"\",\"\",IF(COUNTIF(PREENCHER!$AI54:$AK54,PREENCHER!H54)=0,CONCATENATE(PREENCHER!AT54,#REF!),PREENCHER!H54))","v":""},{"$f":"IF(PREENCHER!I54=\"\",\"\",IF(COUNTIF(PREENCHER!$AI54:$AK54,PREENCHER!I54)=0,CONCATENATE(PREENCHER!AU54,#REF!),PREENCHER!I54))","v":""},{"$f":"IF(PREENCHER!J54=\"\",\"\",IF(COUNTIF(PREENCHER!$AI54:$AK54,PREENCHER!J54)=0,CONCATENATE(PREENCHER!AV54,#REF!),PREENCHER!J54))","v":""},{"$f":"IF(PREENCHER!K54=\"\",\"\",IF(COUNTIF(PREENCHER!$AI54:$AK54,PREENCHER!K54)=0,CONCATENATE(PREENCHER!AW54,#REF!),PREENCHER!K54))","v":""},{"$f":"IF(PREENCHER!L54=\"\",\"\",IF(COUNTIF(PREENCHER!$AI54:$AK54,PREENCHER!L54)=0,CONCATENATE(PREENCHER!AX54,#REF!),PREENCHER!L54))","v":""},{"$f":"IF(PREENCHER!M54=\"\",\"\",IF(COUNTIF(PREENCHER!$AI54:$AK54,PREENCHER!M54)=0,CONCATENATE(PREENCHER!AY54,#REF!),PREENCHER!M54))","v":""},{"$f":"IF(PREENCHER!N54=\"\",\"\",IF(COUNTIF(PREENCHER!$AI54:$AK54,PREENCHER!N54)=0,CONCATENATE(PREENCHER!AZ54,#REF!),PREENCHER!N54))","v":""},{"$f":"IF(ISERROR(ROUND(AVERAGE(E54:N54),2)),\"\",ROUND(AVERAGE(E54:N54),2))","v":""},{"$f":"IF(ISERROR(ROUND(O54*D54,2)),\"\",ROUND(O54*D54,2))","v":""},null,null,{"$f":"IF(ISERROR(MEDIAN(E54:N54)),\"\",MEDIAN(E54:N54))","v":""},{"$f":"IF(ISERROR(STDEV(E54:N54)),\"\",STDEV(E54:N54))","v":""},{"$f":"IF(ISERROR(T54/O54),\"\",T54/O54)","v":""}]
[{"$f":"IF(PREENCHER!A55=\"\",\"\",PREENCHER!A55)","v":""},{"$f":"IF(PREENCHER!B55=\"\",\"\",PREENCHER!B55)","v":""},{"$f":"IF(PREENCHER!C55=\"\",\"\",PREENCHER!C55)","v":""},{"$f":"IF(PREENCHER!D55=\"\",\"\",PREENCHER!D55)","v":""},{"$f":"IF(PREENCHER!E55=\"\",\"\",IF(COUNTIF(PREENCHER!$AI55:$AK55,PREENCHER!E55)=0,CONCATENATE(PREENCHER!AQ55,#REF!),PREENCHER!E55))","v":""},{"$f":"IF(PREENCHER!F55=\"\",\"\",IF(COUNTIF(PREENCHER!$AI55:$AK55,PREENCHER!F55)=0,CONCATENATE(PREENCHER!AR55,#REF!),PREENCHER!F55))","v":""},{"$f":"IF(PREENCHER!G55=\"\",\"\",IF(COUNTIF(PREENCHER!$AI55:$AK55,PREENCHER!G55)=0,CONCATENATE(PREENCHER!AS55,#REF!),PREENCHER!G55))","v":""},{"$f":"IF(PREENCHER!H55=\"\",\"\",IF(COUNTIF(PREENCHER!$AI55:$AK55,PREENCHER!H55)=0,CONCATENATE(PREENCHER!AT55,#REF!),PREENCHER!H55))","v":""},{"$f":"IF(PREENCHER!I55=\"\",\"\",IF(COUNTIF(PREENCHER!$AI55:$AK55,PREENCHER!I55)=0,CONCATENATE(PREENCHER!AU55,#REF!),PREENCHER!I55))","v":""},{"$f":"IF(PREENCHER!J55=\"\",\"\",IF(COUNTIF(PREENCHER!$AI55:$AK55,PREENCHER!J55)=0,CONCATENATE(PREENCHER!AV55,#REF!),PREENCHER!J55))","v":""},{"$f":"IF(PREENCHER!K55=\"\",\"\",IF(COUNTIF(PREENCHER!$AI55:$AK55,PREENCHER!K55)=0,CONCATENATE(PREENCHER!AW55,#REF!),PREENCHER!K55))","v":""},{"$f":"IF(PREENCHER!L55=\"\",\"\",IF(COUNTIF(PREENCHER!$AI55:$AK55,PREENCHER!L55)=0,CONCATENATE(PREENCHER!AX55,#REF!),PREENCHER!L55))","v":""},{"$f":"IF(PREENCHER!M55=\"\",\"\",IF(COUNTIF(PREENCHER!$AI55:$AK55,PREENCHER!M55)=0,CONCATENATE(PREENCHER!AY55,#REF!),PREENCHER!M55))","v":""},{"$f":"IF(PREENCHER!N55=\"\",\"\",IF(COUNTIF(PREENCHER!$AI55:$AK55,PREENCHER!N55)=0,CONCATENATE(PREENCHER!AZ55,#REF!),PREENCHER!N55))","v":""},{"$f":"IF(ISERROR(ROUND(AVERAGE(E55:N55),2)),\"\",ROUND(AVERAGE(E55:N55),2))","v":""},{"$f":"IF(ISERROR(ROUND(O55*D55,2)),\"\",ROUND(O55*D55,2))","v":""},null,null,{"$f":"IF(ISERROR(MEDIAN(E55:N55)),\"\",MEDIAN(E55:N55))","v":""},{"$f":"IF(ISERROR(STDEV(E55:N55)),\"\",STDEV(E55:N55))","v":""},{"$f":"IF(ISERROR(T55/O55),\"\",T55/O55)","v":""}]
[{"$f":"IF(PREENCHER!A56=\"\",\"\",PREENCHER!A56)","v":""},{"$f":"IF(PREENCHER!B56=\"\",\"\",PREENCHER!B56)","v":""},{"$f":"IF(PREENCHER!C56=\"\",\"\",PREENCHER!C56)","v":""},{"$f":"IF(PREENCHER!D56=\"\",\"\",PREENCHER!D56)","v":""},{"$f":"IF(PREENCHER!E56=\"\",\"\",IF(COUNTIF(PREENCHER!$AI56:$AK56,PREENCHER!E56)=0,CONCATENATE(PREENCHER!AQ56,#REF!),PREENCHER!E56))","v":""},{"$f":"IF(PREENCHER!F56=\"\",\"\",IF(COUNTIF(PREENCHER!$AI56:$AK56,PREENCHER!F56)=0,CONCATENATE(PREENCHER!AR56,#REF!),PREENCHER!F56))","v":""},{"$f":"IF(PREENCHER!G56=\"\",\"\",IF(COUNTIF(PREENCHER!$AI56:$AK56,PREENCHER!G56)=0,CONCATENATE(PREENCHER!AS56,#REF!),PREENCHER!G56))","v":""},{"$f":"IF(PREENCHER!H56=\"\",\"\",IF(COUNTIF(PREENCHER!$AI56:$AK56,PREENCHER!H56)=0,CONCATENATE(PREENCHER!AT56,#REF!),PREENCHER!H56))","v":""},{"$f":"IF(PREENCHER!I56=\"\",\"\",IF(COUNTIF(PREENCHER!$AI56:$AK56,PREENCHER!I56)=0,CONCATENATE(PREENCHER!AU56,#REF!),PREENCHER!I56))","v":""},{"$f":"IF(PREENCHER!J56=\"\",\"\",IF(COUNTIF(PREENCHER!$AI56:$AK56,PREENCHER!J56)=0,CONCATENATE(PREENCHER!AV56,#REF!),PREENCHER!J56))","v":""},{"$f":"IF(PREENCHER!K56=\"\",\"\",IF(COUNTIF(PREENCHER!$AI56:$AK56,PREENCHER!K56)=0,CONCATENATE(PREENCHER!AW56,#REF!),PREENCHER!K56))","v":""},{"$f":"IF(PREENCHER!L56=\"\",\"\",IF(COUNTIF(PREENCHER!$AI56:$AK56,PREENCHER!L56)=0,CONCATENATE(PREENCHER!AX56,#REF!),PREENCHER!L56))","v":""},{"$f":"IF(PREENCHER!M56=\"\",\"\",IF(COUNTIF(PREENCHER!$AI56:$AK56,PREENCHER!M56)=0,CONCATENATE(PREENCHER!AY56,#REF!),PREENCHER!M56))","v":""},{"$f":"IF(PREENCHER!N56=\"\",\"\",IF(COUNTIF(PREENCHER!$AI56:$AK56,PREENCHER!N56)=0,CONCATENATE(PREENCHER!AZ56,#REF!),PREENCHER!N56))","v":""},{"$f":"IF(ISERROR(ROUND(AVERAGE(E56:N56),2)),\"\",ROUND(AVERAGE(E56:N56),2))","v":""},{"$f":"IF(ISERROR(ROUND(O56*D56,2)),\"\",ROUND(O56*D56,2))","v":""},null,null,{"$f":"IF(ISERROR(MEDIAN(E56:N56)),\"\",MEDIAN(E56:N56))","v":""},{"$f":"IF(ISERROR(STDEV(E56:N56)),\"\",STDEV(E56:N56))","v":""},{"$f":"IF(ISERROR(T56/O56),\"\",T56/O56)","v":""}]
[{"$f":"IF(PREENCHER!A57=\"\",\"\",PREENCHER!A57)","v":""},{"$f":"IF(PREENCHER!B57=\"\",\"\",PREENCHER!B57)","v":""},{"$f":"IF(PREENCHER!C57=\"\",\"\",PREENCHER!C57)","v":""},{"$f":"IF(PREENCHER!D57=\"\",\"\",PREENCHER!D57)","v":""},{"$f":"IF(PREENCHER!E57=\"\",\"\",IF(COUNTIF(PREENCHER!$AI57:$AK57,PREENCHER!E57)=0,CONCATENATE(PREENCHER!AQ57,#REF!),PREENCHER!E57))","v":""},{"$f":"IF(PREENCHER!F57=\"\",\"\",IF(COUNTIF(PREENCHER!$AI57:$AK57,PREENCHER!F57)=0,CONCATENATE(PREENCHER!AR57,#REF!),PREENCHER!F57))","v":""},{"$f":"IF(PREENCHER!G57=\"\",\"\",IF(COUNTIF(PREENCHER!$AI57:$AK57,PREENCHER!G57)=0,CONCATENATE(PREENCHER!AS57,#REF!),PREENCHER!G57))","v":""},{"$f":"IF(PREENCHER!H57=\"\",\"\",IF(COUNTIF(PREENCHER!$AI57:$AK57,PREENCHER!H57)=0,CONCATENATE(PREENCHER!AT57,#REF!),PREENCHER!H57))","v":""},{"$f":"IF(PREENCHER!I57=\"\",\"\",IF(COUNTIF(PREENCHER!$AI57:$AK57,PREENCHER!I57)=0,CONCATENATE(PREENCHER!AU57,#REF!),PREENCHER!I57))","v":""},{"$f":"IF(PREENCHER!J57=\"\",\"\",IF(COUNTIF(PREENCHER!$AI57:$AK57,PREENCHER!J57)=0,CONCATENATE(PREENCHER!AV57,#REF!),PREENCHER!J57))","v":""},{"$f":"IF(PREENCHER!K57=\"\",\"\",IF(COUNTIF(PREENCHER!$AI57:$AK57,PREENCHER!K57)=0,CONCATENATE(PREENCHER!AW57,#REF!),PREENCHER!K57))","v":""},{"$f":"IF(PREENCHER!L57=\"\",\"\",IF(COUNTIF(PREENCHER!$AI57:$AK57,PREENCHER!L57)=0,CONCATENATE(PREENCHER!AX57,#REF!),PREENCHER!L57))","v":""},{"$f":"IF(PREENCHER!M57=\"\",\"\",IF(COUNTIF(PREENCHER!$AI57:$AK57,PREENCHER!M57)=0,CONCATENATE(PREENCHER!AY57,#REF!),PREENCHER!M57))","v":""},{"$f":"IF(PREENCHER!N57=\"\",\"\",IF(COUNTIF(PREENCHER!$AI57:$AK57,PREENCHER!N57)=0,CONCATENATE(PREENCHER!AZ57,#REF!),PREENCHER!N57))","v":""},{"$f":"IF(ISERROR(ROUND(AVERAGE(E57:N57),2)),\"\",ROUND(AVERAGE(E57:N57),2))","v":""},{"$f":"IF(ISERROR(ROUND(O57*D57,2)),\"\",ROUND(O57*D57,2))","v":""},null,null,{"$f":"IF(ISERROR(MEDIAN(E57:N57)),\"\",MEDIAN(E57:N57))","v":""},{"$f":"IF(ISERROR(STDEV(E57:N57)),\"\",STDEV(E57:N57))","v":""},{"$f":"IF(ISERROR(T57/O57),\"\",T57/O57)","v":""}]
[{"$f":"IF(PREENCHER!A58=\"\",\"\",PREENCHER!A58)","v":""},{"$f":"IF(PREENCHER!B58=\"\",\"\",PREENCHER!B58)","v":""},{"$f":"IF(PREENCHER!C58=\"\",\"\",PREENCHER!C58)","v":""},{"$f":"IF(PREENCHER!D58=\"\",\"\",PREENCHER!D58)","v":""},{"$f":"IF(PREENCHER!E58=\"\",\"\",IF(COUNTIF(PREENCHER!$AI58:$AK58,PREENCHER!E58)=0,CONCATENATE(PREENCHER!AQ58,#REF!),PREENCHER!E58))","v":""},{"$f":"IF(PREENCHER!F58=\"\",\"\",IF(COUNTIF(PREENCHER!$AI58:$AK58,PREENCHER!F58)=0,CONCATENATE(PREENCHER!AR58,#REF!),PREENCHER!F58))","v":""},{"$f":"IF(PREENCHER!G58=\"\",\"\",IF(COUNTIF(PREENCHER!$AI58:$AK58,PREENCHER!G58)=0,CONCATENATE(PREENCHER!AS58,#REF!),PREENCHER!G58))","v":""},{"$f":"IF(PREENCHER!H58=\"\",\"\",IF(COUNTIF(PREENCHER!$AI58:$AK58,PREENCHER!H58)=0,CONCATENATE(PREENCHER!AT58,#REF!),PREENCHER!H58))","v":""},{"$f":"IF(PREENCHER!I58=\"\",\"\",IF(COUNTIF(PREENCHER!$AI58:$AK58,PREENCHER!I58)=0,CONCATENATE(PREENCHER!AU58,#REF!),PREENCHER!I58))","v":""},{"$f":"IF(PREENCHER!J58=\"\",\"\",IF(COUNTIF(PREENCHER!$AI58:$AK58,PREENCHER!J58)=0,CONCATENATE(PREENCHER!AV58,#REF!),PREENCHER!J58))","v":""},{"$f":"IF(PREENCHER!K58=\"\",\"\",IF(COUNTIF(PREENCHER!$AI58:$AK58,PREENCHER!K58)=0,CONCATENATE(PREENCHER!AW58,#REF!),PREENCHER!K58))","v":""},{"$f":"IF(PREENCHER!L58=\"\",\"\",IF(COUNTIF(PREENCHER!$AI58:$AK58,PREENCHER!L58)=0,CONCATENATE(PREENCHER!AX58,#REF!),PREENCHER!L58))","v":""},{"$f":"IF(PREENCHER!M58=\"\",\"\",IF(COUNTIF(PREENCHER!$AI58:$AK58,PREENCHER!M58)=0,CONCATENATE(PREENCHER!AY58,#REF!),PREENCHER!M58))","v":""},{"$f":"IF(PREENCHER!N58=\"\",\"\",IF(COUNTIF(PREENCHER!$AI58:$AK58,PREENCHER!N58)=0,CONCATENATE(PREENCHER!AZ58,#REF!),PREENCHER!N58))","v":""},{"$f":"IF(ISERROR(ROUND(AVERAGE(E58:N58),2)),\"\",ROUND(AVERAGE(E58:N58),2))","v":""},{"$f":"IF(ISERROR(ROUND(O58*D58,2)),\"\",ROUND(O58*D58,2))","v":""},null,null,{"$f":"IF(ISERROR(MEDIAN(E58:N58)),\"\",MEDIAN(E58:N58))","v":""},{"$f":"IF(ISERROR(STDEV(E58:N58)),\"\",STDEV(E58:N58))","v":""},{"$f":"IF(ISERROR(T58/O58),\"\",T58/O58)","v":""}]
[{"$f":"IF(PREENCHER!A59=\"\",\"\",PREENCHER!A59)","v":""},{"$f":"IF(PREENCHER!B59=\"\",\"\",PREENCHER!B59)","v":""},{"$f":"IF(PREENCHER!C59=\"\",\"\",PREENCHER!C59)","v":""},{"$f":"IF(PREENCHER!D59=\"\",\"\",PREENCHER!D59)","v":""},{"$f":"IF(PREENCHER!E59=\"\",\"\",IF(COUNTIF(PREENCHER!$AI59:$AK59,PREENCHER!E59)=0,CONCATENATE(PREENCHER!AQ59,#REF!),PREENCHER!E59))","v":""},{"$f":"IF(PREENCHER!F59=\"\",\"\",IF(COUNTIF(PREENCHER!$AI59:$AK59,PREENCHER!F59)=0,CONCATENATE(PREENCHER!AR59,#REF!),PREENCHER!F59))","v":""},{"$f":"IF(PREENCHER!G59=\"\",\"\",IF(COUNTIF(PREENCHER!$AI59:$AK59,PREENCHER!G59)=0,CONCATENATE(PREENCHER!AS59,#REF!),PREENCHER!G59))","v":""},{"$f":"IF(PREENCHER!H59=\"\",\"\",IF(COUNTIF(PREENCHER!$AI59:$AK59,PREENCHER!H59)=0,CONCATENATE(PREENCHER!AT59,#REF!),PREENCHER!H59))","v":""},{"$f":"IF(PREENCHER!I59=\"\",\"\",IF(COUNTIF(PREENCHER!$AI59:$AK59,PREENCHER!I59)=0,CONCATENATE(PREENCHER!AU59,#REF!),PREENCHER!I59))","v":""},{"$f":"IF(PREENCHER!J59=\"\",\"\",IF(COUNTIF(PREENCHER!$AI59:$AK59,PREENCHER!J59)=0,CONCATENATE(PREENCHER!AV59,#REF!),PREENCHER!J59))","v":""},{"$f":"IF(PREENCHER!K59=\"\",\"\",IF(COUNTIF(PREENCHER!$AI59:$AK59,PREENCHER!K59)=0,CONCATENATE(PREENCHER!AW59,#REF!),PREENCHER!K59))","v":""},{"$f":"IF(PREENCHER!L59=\"\",\"\",IF(COUNTIF(PREENCHER!$AI59:$AK59,PREENCHER!L59)=0,CONCATENATE(PREENCHER!AX59,#REF!),PREENCHER!L59))","v":""},{"$f":"IF(PREENCHER!M59=\"\",\"\",IF(COUNTIF(PREENCHER!$AI59:$AK59,PREENCHER!M59)=0,CONCATENATE(PREENCHER!AY59,#REF!),PREENCHER!M59))","v":""},{"$f":"IF(PREENCHER!N59=\"\",\"\",IF(COUNTIF(PREENCHER!$AI59:$AK59,PREENCHER!N59)=0,CONCATENATE(PREENCHER!AZ59,#REF!),PREENCHER!N59))","v":""},{"$f":"IF(ISERROR(ROUND(AVERAGE(E59:N59),2)),\"\",ROUND(AVERAGE(E59:N59),2))","v":""},{"$f":"IF(ISERROR(ROUND(O59*D59,2)),\"\",ROUND(O59*D59,2))","v":""},null,null,{"$f":"IF(ISERROR(MEDIAN(E59:N59)),\"\",MEDIAN(E59:N59))","v":""},{"$f":"IF(ISERROR(STDEV(E59:N59)),\"\",STDEV(E59:N59))","v":""},{"$f":"IF(ISERROR(T59/O59),\"\",T59/O59)","v":""}]
[{"$f":"IF(PREENCHER!A60=\"\",\"\",PREENCHER!A60)","v":""},{"$f":"IF(PREENCHER!B60=\"\",\"\",PREENCHER!B60)","v":""},{"$f":"IF(PREENCHER!C60=\"\",\"\",PREENCHER!C60)","v":""},{"$f":"IF(PREENCHER!D60=\"\",\"\",PREENCHER!D60)","v":""},{"$f":"IF(PREENCHER!E60=\"\",\"\",IF(COUNTIF(PREENCHER!$AI60:$AK60,PREENCHER!E60)=0,CONCATENATE(PREENCHER!AQ60,#REF!),PREENCHER!E60))","v":""},{"$f":"IF(PREENCHER!F60=\"\",\"\",IF(COUNTIF(PREENCHER!$AI60:$AK60,PREENCHER!F60)=0,CONCATENATE(PREENCHER!AR60,#REF!),PREENCHER!F60))","v":""},{"$f":"IF(PREENCHER!G60=\"\",\"\",IF(COUNTIF(PREENCHER!$AI60:$AK60,PREENCHER!G60)=0,CONCATENATE(PREENCHER!AS60,#REF!),PREENCHER!G60))","v":""},{"$f":"IF(PREENCHER!H60=\"\",\"\",IF(COUNTIF(PREENCHER!$AI60:$AK60,PREENCHER!H60)=0,CONCATENATE(PREENCHER!AT60,#REF!),PREENCHER!H60))","v":""},{"$f":"IF(PREENCHER!I60=\"\",\"\",IF(COUNTIF(PREENCHER!$AI60:$AK60,PREENCHER!I60)=0,CONCATENATE(PREENCHER!AU60,#REF!),PREENCHER!I60))","v":""},{"$f":"IF(PREENCHER!J60=\"\",\"\",IF(COUNTIF(PREENCHER!$AI60:$AK60,PREENCHER!J60)=0,CONCATENATE(PREENCHER!AV60,#REF!),PREENCHER!J60))","v":""},{"$f":"IF(PREENCHER!K60=\"\",\"\",IF(COUNTIF(PREENCHER!$AI60:$AK60,PREENCHER!K60)=0,CONCATENATE(PREENCHER!AW60,#REF!),PREENCHER!K60))","v":""},{"$f":"IF(PREENCHER!L60=\"\",\"\",IF(COUNTIF(PREENCHER!$AI60:$AK60,PREENCHER!L60)=0,CONCATENATE(PREENCHER!AX60,#REF!),PREENCHER!L60))","v":""},{"$f":"IF(PREENCHER!M60=\"\",\"\",IF(COUNTIF(PREENCHER!$AI60:$AK60,PREENCHER!M60)=0,CONCATENATE(PREENCHER!AY60,#REF!),PREENCHER!M60))","v":""},{"$f":"IF(PREENCHER!N60=\"\",\"\",IF(COUNTIF(PREENCHER!$AI60:$AK60,PREENCHER!N60)=0,CONCATENATE(PREENCHER!AZ60,#REF!),PREENCHER!N60))","v":""},{"$f":"IF(ISERROR(ROUND(AVERAGE(E60:N60),2)),\"\",ROUND(AVERAGE(E60:N60),2))","v":""},{"$f":"IF(ISERROR(ROUND(O60*D60,2)),\"\",ROUND(O60*D60,2))","v":""},null,null,{"$f":"IF(ISERROR(MEDIAN(E60:N60)),\"\",MEDIAN(E60:N60))","v":""},{"$f":"IF(ISERROR(STDEV(E60:N60)),\"\",STDEV(E60:N60))","v":""},{"$f":"IF(ISERROR(T60/O60),\"\",T60/O60)","v":""}]
[{"$f":"IF(PREENCHER!A61=\"\",\"\",PREENCHER!A61)","v":""},{"$f":"IF(PREENCHER!B61=\"\",\"\",PREENCHER!B61)","v":""},{"$f":"IF(PREENCHER!C61=\"\",\"\",PREENCHER!C61)","v":""},{"$f":"IF(PREENCHER!D61=\"\",\"\",PREENCHER!D61)","v":""},{"$f":"IF(PREENCHER!E61=\"\",\"\",IF(COUNTIF(PREENCHER!$AI61:$AK61,PREENCHER!E61)=0,CONCATENATE(PREENCHER!AQ61,#REF!),PREENCHER!E61))","v":""},{"$f":"IF(PREENCHER!F61=\"\",\"\",IF(COUNTIF(PREENCHER!$AI61:$AK61,PREENCHER!F61)=0,CONCATENATE(PREENCHER!AR61,#REF!),PREENCHER!F61))","v":""},{"$f":"IF(PREENCHER!G61=\"\",\"\",IF(COUNTIF(PREENCHER!$AI61:$AK61,PREENCHER!G61)=0,CONCATENATE(PREENCHER!AS61,#REF!),PREENCHER!G61))","v":""},{"$f":"IF(PREENCHER!H61=\"\",\"\",IF(COUNTIF(PREENCHER!$AI61:$AK61,PREENCHER!H61)=0,CONCATENATE(PREENCHER!AT61,#REF!),PREENCHER!H61))","v":""},{"$f":"IF(PREENCHER!I61=\"\",\"\",IF(COUNTIF(PREENCHER!$AI61:$AK61,PREENCHER!I61)=0,CONCATENATE(PREENCHER!AU61,#REF!),PREENCHER!I61))","v":""},{"$f":"IF(PREENCHER!J61=\"\",\"\",IF(COUNTIF(PREENCHER!$AI61:$AK61,PREENCHER!J61)=0,CONCATENATE(PREENCHER!AV61,#REF!),PREENCHER!J61))","v":""},{"$f":"IF(PREENCHER!K61=\"\",\"\",IF(COUNTIF(PREENCHER!$AI61:$AK61,PREENCHER!K61)=0,CONCATENATE(PREENCHER!AW61,#REF!),PREENCHER!K61))","v":""},{"$f":"IF(PREENCHER!L61=\"\",\"\",IF(COUNTIF(PREENCHER!$AI61:$AK61,PREENCHER!L61)=0,CONCATENATE(PREENCHER!AX61,#REF!),PREENCHER!L61))","v":""},{"$f":"IF(PREENCHER!M61=\"\",\"\",IF(COUNTIF(PREENCHER!$AI61:$AK61,PREENCHER!M61)=0,CONCATENATE(PREENCHER!AY61,#REF!),PREENCHER!M61))","v":""},{"$f":"IF(PREENCHER!N61=\"\",\"\",IF(COUNTIF(PREENCHER!$AI61:$AK61,PREENCHER!N61)=0,CONCATENATE(PREENCHER!AZ61,#REF!),PREENCHER!N61))","v":""},{"$f":"IF(ISERROR(ROUND(AVERAGE(E61:N61),2)),\"\",ROUND(AVERAGE(E61:N61),2))","v":""},{"$f":"IF(ISERROR(ROUND(O61*D61,2)),\"\",ROUND(O61*D61,2))","v":""},null,null,{"$f":"IF(ISERROR(MEDIAN(E61:N61)),\"\",MEDIAN(E61:N61))","v":""},{"$f":"IF(ISERROR(STDEV(E61:N61)),\"\",STDEV(E61:N61))","v":""},{"$f":"IF(ISERROR(T61/O61),\"\",T61/O61)","v":""}]
[{"$f":"IF(PREENCHER!A62=\"\",\"\",PREENCHER!A62)","v":""},{"$f":"IF(PREENCHER!B62=\"\",\"\",PREENCHER!B62)","v":""},{"$f":"IF(PREENCHER!C62=\"\",\"\",PREENCHER!C62)","v":""},{"$f":"IF(PREENCHER!D62=\"\",\"\",PREENCHER!D62)","v":""},{"$f":"IF(PREENCHER!E62=\"\",\"\",IF(COUNTIF(PREENCHER!$AI62:$AK62,PREENCHER!E62)=0,CONCATENATE(PREENCHER!AQ62,#REF!),PREENCHER!E62))","v":""},{"$f":"IF(PREENCHER!F62=\"\",\"\",IF(COUNTIF(PREENCHER!$AI62:$AK62,PREENCHER!F62)=0,CONCATENATE(PREENCHER!AR62,#REF!),PREENCHER!F62))","v":""},{"$f":"IF(PREENCHER!G62=\"\",\"\",IF(COUNTIF(PREENCHER!$AI62:$AK62,PREENCHER!G62)=0,CONCATENATE(PREENCHER!AS62,#REF!),PREENCHER!G62))","v":""},{"$f":"IF(PREENCHER!H62=\"\",\"\",IF(COUNTIF(PREENCHER!$AI62:$AK62,PREENCHER!H62)=0,CONCATENATE(PREENCHER!AT62,#REF!),PREENCHER!H62))","v":""},{"$f":"IF(PREENCHER!I62=\"\",\"\",IF(COUNTIF(PREENCHER!$AI62:$AK62,PREENCHER!I62)=0,CONCATENATE(PREENCHER!AU62,#REF!),PREENCHER!I62))","v":""},{"$f":"IF(PREENCHER!J62=\"\",\"\",IF(COUNTIF(PREENCHER!$AI62:$AK62,PREENCHER!J62)=0,CONCATENATE(PREENCHER!AV62,#REF!),PREENCHER!J62))","v":""},{"$f":"IF(PREENCHER!K62=\"\",\"\",IF(COUNTIF(PREENCHER!$AI62:$AK62,PREENCHER!K62)=0,CONCATENATE(PREENCHER!AW62,#REF!),PREENCHER!K62))","v":""},{"$f":"IF(PREENCHER!L62=\"\",\"\",IF(COUNTIF(PREENCHER!$AI62:$AK62,PREENCHER!L62)=0,CONCATENATE(PREENCHER!AX62,#REF!),PREENCHER!L62))","v":""},{"$f":"IF(PREENCHER!M62=\"\",\"\",IF(COUNTIF(PREENCHER!$AI62:$AK62,PREENCHER!M62)=0,CONCATENATE(PREENCHER!AY62,#REF!),PREENCHER!M62))","v":""},{"$f":"IF(PREENCHER!N62=\"\",\"\",IF(COUNTIF(PREENCHER!$AI62:$AK62,PREENCHER!N62)=0,CONCATENATE(PREENCHER!AZ62,#REF!),PREENCHER!N62))","v":""},{"$f":"IF(ISERROR(ROUND(AVERAGE(E62:N62),2)),\"\",ROUND(AVERAGE(E62:N62),2))","v":""},{"$f":"IF(ISERROR(ROUND(O62*D62,2)),\"\",ROUND(O62*D62,2))","v":""},null,null,{"$f":"IF(ISERROR(MEDIAN(E62:N62)),\"\",MEDIAN(E62:N62))","v":""},{"$f":"IF(ISERROR(STDEV(E62:N62)),\"\",STDEV(E62:N62))","v":""},{"$f":"IF(ISERROR(T62/O62),\"\",T62/O62)","v":""}]
[{"$f":"IF(PREENCHER!A63=\"\",\"\",PREENCHER!A63)","v":""},{"$f":"IF(PREENCHER!B63=\"\",\"\",PREENCHER!B63)","v":""},{"$f":"IF(PREENCHER!C63=\"\",\"\",PREENCHER!C63)","v":""},{"$f":"IF(PREENCHER!D63=\"\",\"\",PREENCHER!D63)","v":""},{"$f":"IF(PREENCHER!E63=\"\",\"\",IF(COUNTIF(PREENCHER!$AI63:$AK63,PREENCHER!E63)=0,CONCATENATE(PREENCHER!AQ63,#REF!),PREENCHER!E63))","v":""},{"$f":"IF(PREENCHER!F63=\"\",\"\",IF(COUNTIF(PREENCHER!$AI63:$AK63,PREENCHER!F63)=0,CONCATENATE(PREENCHER!AR63,#REF!),PREENCHER!F63))","v":""},{"$f":"IF(PREENCHER!G63=\"\",\"\",IF(COUNTIF(PREENCHER!$AI63:$AK63,PREENCHER!G63)=0,CONCATENATE(PREENCHER!AS63,#REF!),PREENCHER!G63))","v":""},{"$f":"IF(PREENCHER!H63=\"\",\"\",IF(COUNTIF(PREENCHER!$AI63:$AK63,PREENCHER!H63)=0,CONCATENATE(PREENCHER!AT63,#REF!),PREENCHER!H63))","v":""},{"$f":"IF(PREENCHER!I63=\"\",\"\",IF(COUNTIF(PREENCHER!$AI63:$AK63,PREENCHER!I63)=0,CONCATENATE(PREENCHER!AU63,#REF!),PREENCHER!I63))","v":""},{"$f":"IF(PREENCHER!J63=\"\",\"\",IF(COUNTIF(PREENCHER!$AI63:$AK63,PREENCHER!J63)=0,CONCATENATE(PREENCHER!AV63,#REF!),PREENCHER!J63))","v":""},{"$f":"IF(PREENCHER!K63=\"\",\"\",IF(COUNTIF(PREENCHER!$AI63:$AK63,PREENCHER!K63)=0,CONCATENATE(PREENCHER!AW63,#REF!),PREENCHER!K63))","v":""},{"$f":"IF(PREENCHER!L63=\"\",\"\",IF(COUNTIF(PREENCHER!$AI63:$AK63,PREENCHER!L63)=0,CONCATENATE(PREENCHER!AX63,#REF!),PREENCHER!L63))","v":""},{"$f":"IF(PREENCHER!M63=\"\",\"\",IF(COUNTIF(PREENCHER!$AI63:$AK63,PREENCHER!M63)=0,CONCATENATE(PREENCHER!AY63,#REF!),PREENCHER!M63))","v":""},{"$f":"IF(PREENCHER!N63=\"\",\"\",IF(COUNTIF(PREENCHER!$AI63:$AK63,PREENCHER!N63)=0,CONCATENATE(PREENCHER!AZ63,#REF!),PREENCHER!N63))","v":""},{"$f":"IF(ISERROR(ROUND(AVERAGE(E63:N63),2)),\"\",ROUND(AVERAGE(E63:N63),2))","v":""},{"$f":"IF(ISERROR(ROUND(O63*D63,2)),\"\",ROUND(O63*D63,2))","v":""},null,null,{"$f":"IF(ISERROR(MEDIAN(E63:N63)),\"\",MEDIAN(E63:N63))","v":""},{"$f":"IF(ISERROR(STDEV(E63:N63)),\"\",STDEV(E63:N63))","v":""},{"$f":"IF(ISERROR(T63/O63),\"\",T63/O63)","v":""}]
[{"$f":"IF(PREENCHER!A64=\"\",\"\",PREENCHER!A64)","v":""},{"$f":"IF(PREENCHER!B64=\"\",\"\",PREENCHER!B64)","v":""},{"$f":"IF(PREENCHER!C64=\"\",\"\",PREENCHER!C64)","v":""},{"$f":"IF(PREENCHER!D64=\"\",\"\",PREENCHER!D64)","v":""},{"$f":"IF(PREENCHER!E64=\"\",\"\",IF(COUNTIF(PREENCHER!$AI64:$AK64,PREENCHER!E64)=0,CONCATENATE(PREENCHER!AQ64,#REF!),PREENCHER!E64))","v":""},{"$f":"IF(PREENCHER!F64=\"\",\"\",IF(COUNTIF(PREENCHER!$AI64:$AK64,PREENCHER!F64)=0,CONCATENATE(PREENCHER!AR64,#REF!),PREENCHER!F64))","v":""},{"$f":"IF(PREENCHER!G64=\"\",\"\",IF(COUNTIF(PREENCHER!$AI64:$AK64,PREENCHER!G64)=0,CONCATENATE(PREENCHER!AS64,#REF!),PREENCHER!G64))","v":""},{"$f":"IF(PREENCHER!H64=\"\",\"\",IF(COUNTIF(PREENCHER!$AI64:$AK64,PREENCHER!H64)=0,CONCATENATE(PREENCHER!AT64,#REF!),PREENCHER!H64))","v":""},{"$f":"IF(PREENCHER!I64=\"\",\"\",IF(COUNTIF(PREENCHER!$AI64:$AK64,PREENCHER!I64)=0,CONCATENATE(PREENCHER!AU64,#REF!),PREENCHER!I64))","v":""},{"$f":"IF(PREENCHER!J64=\"\",\"\",IF(COUNTIF(PREENCHER!$AI64:$AK64,PREENCHER!J64)=0,CONCATENATE(PREENCHER!AV64,#REF!),PREENCHER!J64))","v":""},{"$f":"IF(PREENCHER!K64=\"\",\"\",IF(COUNTIF(PREENCHER!$AI64:$AK64,PREENCHER!K64)=0,CONCATENATE(PREENCHER!AW64,#REF!),PREENCHER!K64))","v":""},{"$f":"IF(PREENCHER!L64=\"\",\"\",IF(COUNTIF(PREENCHER!$AI64:$AK64,PREENCHER!L64)=0,CONCATENATE(PREENCHER!AX64,#REF!),PREENCHER!L64))","v":""},{"$f":"IF(PREENCHER!M64=\"\",\"\",IF(COUNTIF(PREENCHER!$AI64:$AK64,PREENCHER!M64)=0,CONCATENATE(PREENCHER!AY64,#REF!),PREENCHER!M64))","v":""},{"$f":"IF(PREENCHER!N64=\"\",\"\",IF(COUNTIF(PREENCHER!$AI64:$AK64,PREENCHER!N64)=0,CONCATENATE(PREENCHER!AZ64,#REF!),PREENCHER!N64))","v":""},{"$f":"IF(ISERROR(ROUND(AVERAGE(E64:N64),2)),\"\",ROUND(AVERAGE(E64:N64),2))","v":""},{"$f":"IF(ISERROR(ROUND(O64*D64,2)),\"\",ROUND(O64*D64,2))","v":""},null,null,{"$f":"IF(ISERROR(MEDIAN(E64:N64)),\"\",MEDIAN(E64:N64))","v":""},{"$f":"IF(ISERROR(STDEV(E64:N64)),\"\",STDEV(E64:N64))","v":""},{"$f":"IF(ISERROR(T64/O64),\"\",T64/O64)","v":""}]
[{"$f":"IF(PREENCHER!A65=\"\",\"\",PREENCHER!A65)","v":""},{"$f":"IF(PREENCHER!B65=\"\",\"\",PREENCHER!B65)","v":""},{"$f":"IF(PREENCHER!C65=\"\",\"\",PREENCHER!C65)","v":""},{"$f":"IF(PREENCHER!D65=\"\",\"\",PREENCHER!D65)","v":""},{"$f":"IF(PREENCHER!E65=\"\",\"\",IF(COUNTIF(PREENCHER!$AI65:$AK65,PREENCHER!E65)=0,CONCATENATE(PREENCHER!AQ65,#REF!),PREENCHER!E65))","v":""},{"$f":"IF(PREENCHER!F65=\"\",\"\",IF(COUNTIF(PREENCHER!$AI65:$AK65,PREENCHER!F65)=0,CONCATENATE(PREENCHER!AR65,#REF!),PREENCHER!F65))","v":""},{"$f":"IF(PREENCHER!G65=\"\",\"\",IF(COUNTIF(PREENCHER!$AI65:$AK65,PREENCHER!G65)=0,CONCATENATE(PREENCHER!AS65,#REF!),PREENCHER!G65))","v":""},{"$f":"IF(PREENCHER!H65=\"\",\"\",IF(COUNTIF(PREENCHER!$AI65:$AK65,PREENCHER!H65)=0,CONCATENATE(PREENCHER!AT65,#REF!),PREENCHER!H65))","v":""},{"$f":"IF(PREENCHER!I65=\"\",\"\",IF(COUNTIF(PREENCHER!$AI65:$AK65,PREENCHER!I65)=0,CONCATENATE(PREENCHER!AU65,#REF!),PREENCHER!I65))","v":""},{"$f":"IF(PREENCHER!J65=\"\",\"\",IF(COUNTIF(PREENCHER!$AI65:$AK65,PREENCHER!J65)=0,CONCATENATE(PREENCHER!AV65,#REF!),PREENCHER!J65))","v":""},{"$f":"IF(PREENCHER!K65=\"\",\"\",IF(COUNTIF(PREENCHER!$AI65:$AK65,PREENCHER!K65)=0,CONCATENATE(PREENCHER!AW65,#REF!),PREENCHER!K65))","v":""},{"$f":"IF(PREENCHER!L65=\"\",\"\",IF(COUNTIF(PREENCHER!$AI65:$AK65,PREENCHER!L65)=0,CONCATENATE(PREENCHER!AX65,#REF!),PREENCHER!L65))","v":""},{"$f":"IF(PREENCHER!M65=\"\",\"\",IF(COUNTIF(PREENCHER!$AI65:$AK65,PREENCHER!M65)=0,CONCATENATE(PREENCHER!AY65,#REF!),PREENCHER!M65))","v":""},{"$f":"IF(PREENCHER!N65=\"\",\"\",IF(COUNTIF(PREENCHER!$AI65:$AK65,PREENCHER!N65)=0,CONCATENATE(PREENCHER!AZ65,#REF!),PREENCHER!N65))","v":""},{"$f":"IF(ISERROR(ROUND(AVERAGE(E65:N65),2)),\"\",ROUND(AVERAGE(E65:N65),2))","v":""},{"$f":"IF(ISERROR(ROUND(O65*D65,2)),\"\",ROUND(O65*D65,2))","v":""},null,null,{"$f":"IF(ISERROR(MEDIAN(E65:N65)),\"\",MEDIAN(E65:N65))","v":""},{"$f":"IF(ISERROR(STDEV(E65:N65)),\"\",STDEV(E65:N65))","v":""},{"$f":"IF(ISERROR(T65/O65),\"\",T65/O65)","v":""}]
[{"$f":"IF(PREENCHER!A66=\"\",\"\",PREENCHER!A66)","v":""},{"$f":"IF(PREENCHER!B66=\"\",\"\",PREENCHER!B66)","v":""},{"$f":"IF(PREENCHER!C66=\"\",\"\",PREENCHER!C66)","v":""},{"$f":"IF(PREENCHER!D66=\"\",\"\",PREENCHER!D66)","v":""},{"$f":"IF(PREENCHER!E66=\"\",\"\",IF(COUNTIF(PREENCHER!$AI66:$AK66,PREENCHER!E66)=0,CONCATENATE(PREENCHER!AQ66,#REF!),PREENCHER!E66))","v":""},{"$f":"IF(PREENCHER!F66=\"\",\"\",IF(COUNTIF(PREENCHER!$AI66:$AK66,PREENCHER!F66)=0,CONCATENATE(PREENCHER!AR66,#REF!),PREENCHER!F66))","v":""},{"$f":"IF(PREENCHER!G66=\"\",\"\",IF(COUNTIF(PREENCHER!$AI66:$AK66,PREENCHER!G66)=0,CONCATENATE(PREENCHER!AS66,#REF!),PREENCHER!G66))","v":""},{"$f":"IF(PREENCHER!H66=\"\",\"\",IF(COUNTIF(PREENCHER!$AI66:$AK66,PREENCHER!H66)=0,CONCATENATE(PREENCHER!AT66,#REF!),PREENCHER!H66))","v":""},{"$f":"IF(PREENCHER!I66=\"\",\"\",IF(COUNTIF(PREENCHER!$AI66:$AK66,PREENCHER!I66)=0,CONCATENATE(PREENCHER!AU66,#REF!),PREENCHER!I66))","v":""},{"$f":"IF(PREENCHER!J66=\"\",\"\",IF(COUNTIF(PREENCHER!$AI66:$AK66,PREENCHER!J66)=0,CONCATENATE(PREENCHER!AV66,#REF!),PREENCHER!J66))","v":""},{"$f":"IF(PREENCHER!K66=\"\",\"\",IF(COUNTIF(PREENCHER!$AI66:$AK66,PREENCHER!K66)=0,CONCATENATE(PREENCHER!AW66,#REF!),PREENCHER!K66))","v":""},{"$f":"IF(PREENCHER!L66=\"\",\"\",IF(COUNTIF(PREENCHER!$AI66:$AK66,PREENCHER!L66)=0,CONCATENATE(PREENCHER!AX66,#REF!),PREENCHER!L66))","v":""},{"$f":"IF(PREENCHER!M66=\"\",\"\",IF(COUNTIF(PREENCHER!$AI66:$AK66,PREENCHER!M66)=0,CONCATENATE(PREENCHER!AY66,#REF!),PREENCHER!M66))","v":""},{"$f":"IF(PREENCHER!N66=\"\",\"\",IF(COUNTIF(PREENCHER!$AI66:$AK66,PREENCHER!N66)=0,CONCATENATE(PREENCHER!AZ66,#REF!),PREENCHER!N66))","v":""},{"$f":"IF(ISERROR(ROUND(AVERAGE(E66:N66),2)),\"\",ROUND(AVERAGE(E66:N66),2))","v":""},{"$f":"IF(ISERROR(ROUND(O66*D66,2)),\"\",ROUND(O66*D66,2))","v":""},null,null,{"$f":"IF(ISERROR(MEDIAN(E66:N66)),\"\",MEDIAN(E66:N66))","v":""},{"$f":"IF(ISERROR(STDEV(E66:N66)),\"\",STDEV(E66:N66))","v":""},{"$f":"IF(ISERROR(T66/O66),\"\",T66/O66)","v":""}]
[{"$f":"IF(PREENCHER!A67=\"\",\"\",PREENCHER!A67)","v":""},{"$f":"IF(PREENCHER!B67=\"\",\"\",PREENCHER!B67)","v":""},{"$f":"IF(PREENCHER!C67=\"\",\"\",PREENCHER!C67)","v":""},{"$f":"IF(PREENCHER!D67=\"\",\"\",PREENCHER!D67)","v":""},{"$f":"IF(PREENCHER!E67=\"\",\"\",IF(COUNTIF(PREENCHER!$AI67:$AK67,PREENCHER!E67)=0,CONCATENATE(PREENCHER!AQ67,#REF!),PREENCHER!E67))","v":""},{"$f":"IF(PREENCHER!F67=\"\",\"\",IF(COUNTIF(PREENCHER!$AI67:$AK67,PREENCHER!F67)=0,CONCATENATE(PREENCHER!AR67,#REF!),PREENCHER!F67))","v":""},{"$f":"IF(PREENCHER!G67=\"\",\"\",IF(COUNTIF(PREENCHER!$AI67:$AK67,PREENCHER!G67)=0,CONCATENATE(PREENCHER!AS67,#REF!),PREENCHER!G67))","v":""},{"$f":"IF(PREENCHER!H67=\"\",\"\",IF(COUNTIF(PREENCHER!$AI67:$AK67,PREENCHER!H67)=0,CONCATENATE(PREENCHER!AT67,#REF!),PREENCHER!H67))","v":""},{"$f":"IF(PREENCHER!I67=\"\",\"\",IF(COUNTIF(PREENCHER!$AI67:$AK67,PREENCHER!I67)=0,CONCATENATE(PREENCHER!AU67,#REF!),PREENCHER!I67))","v":""},{"$f":"IF(PREENCHER!J67=\"\",\"\",IF(COUNTIF(PREENCHER!$AI67:$AK67,PREENCHER!J67)=0,CONCATENATE(PREENCHER!AV67,#REF!),PREENCHER!J67))","v":""},{"$f":"IF(PREENCHER!K67=\"\",\"\",IF(COUNTIF(PREENCHER!$AI67:$AK67,PREENCHER!K67)=0,CONCATENATE(PREENCHER!AW67,#REF!),PREENCHER!K67))","v":""},{"$f":"IF(PREENCHER!L67=\"\",\"\",IF(COUNTIF(PREENCHER!$AI67:$AK67,PREENCHER!L67)=0,CONCATENATE(PREENCHER!AX67,#REF!),PREENCHER!L67))","v":""},{"$f":"IF(PREENCHER!M67=\"\",\"\",IF(COUNTIF(PREENCHER!$AI67:$AK67,PREENCHER!M67)=0,CONCATENATE(PREENCHER!AY67,#REF!),PREENCHER!M67))","v":""},{"$f":"IF(PREENCHER!N67=\"\",\"\",IF(COUNTIF(PREENCHER!$AI67:$AK67,PREENCHER!N67)=0,CONCATENATE(PREENCHER!AZ67,#REF!),PREENCHER!N67))","v":""},{"$f":"IF(ISERROR(ROUND(AVERAGE(E67:N67),2)),\"\",ROUND(AVERAGE(E67:N67),2))","v":""},{"$f":"IF(ISERROR(ROUND(O67*D67,2)),\"\",ROUND(O67*D67,2))","v":""},null,null,{"$f":"IF(ISERROR(MEDIAN(E67:N67)),\"\",MEDIAN(E67:N67))","v":""},{"$f":"IF(ISERROR(STDEV(E67:N67)),\"\",STDEV(E67:N67))","v":""},{"$f":"IF(ISERROR(T67/O67),\"\",T67/O67)","v":""}]
["VALOR GLOBAL",null,null,null,null,null,null,null,null,null,null,null,null,null,null,{"$f":"IF(SUM(P8:P67)=0,\"\",SUM(P8:P67))","v":""}]